{"text_format":"2","workbook":"xlsx","n_sheets":6,"sheets":["Price Schedule LOT 2","1. SMK Pemenang","2. SMK Tanjung","3. SMK Gangga","4. SMK Kayangan ","Rab"],"not_rendered":{"charts":0,"images":0,"macros":0,"external_links":1,"defined_names":14,"comments":0,"pivot_tables":0},"unopened":[],"bounds":{"document_bytes":16777216,"sheet_cells":100000,"run_cost":"one","rows_first":2000,"rows_last":500,"rows_between":2000,"halvings":0,"cell_chars":16384,"cell_head_chars":4096},"cells_cut":0,"cells_raw":0,"read":"whole","date_system":"1900"}

{"sheet":"Price Schedule LOT 2","index":0,"n_rows":39,"n_cols":4,"rows_kept":39,"cut":false,"hidden":false,"merged":[[23,0,23,1],[3,1,3,3],[6,0,6,3],[8,0,8,3],[13,0,14,0],[13,2,14,3],[27,1,27,3],[28,1,28,3],[29,1,29,3],[30,1,30,3],[31,1,31,3]]}
["FORM F: Price Schedule Form",null,null,"LOT 2"]
[]
["Name of Bidder:","[Insert Name of Bidder]","Date:","Select date"]
["ITB reference:","[Insert ITB Reference Number]"]
[]
[]
["The Bidder is required to prepare the Price Schedule following the below format. The Price Schedule must include a detailed cost breakdown of all goods and related services to be provided. Separate figures must be provided for each functional grouping or category, if any."]
[]
["Any estimates for cost-reimbursable items, such as travel of experts and out-of-pocket expenses, should be listed separately."]
[]
[null,null,null,"Currency of the Bid: [Insert Currency]"]
["Price Schedule - Bill of Quantities"]
[]
["NO","SUB PROJECT","AMOUNT PRICE"]
[]
[]
[1,"SMK NEGERI 1 PEMENANG"]
[2,"SMK NEGERI 1 TANJUNG"]
[3,"SMK NEGERI 1 GANGGA"]
[4,"SMK NEGERI 1 KAYANGAN"]
[]
[null,"DISCOUNT…...% (Note No. 5)"]
[]
["TOTAL AMOUNT "]
[]
["Note:"]
[]
["1.","UNDP, during evaluation stage, shall ensure that the content of said bills of quantities is unaltered and that it remains identical to that of the original bills of quantities.  In case of any discrepancy between the priced BoQ submitted by the bidder and the original bills of quantities, as posted by UNDP, the UNDP version shall prevail.  "]
["2.","In case of any alteration (change, addition, modification or deletion) in the original BoQ, then this may cause rejection of the bid.  "]
["3.","Bidders shall quote reasonable bid prices with an acceptable margin of deviation in comparison to the real local market prices at the time of bids preparation. "]
["4.","In case of unbalanced pricing (i.e. despite an acceptable total evaluated price, the price of one or more BoQ line items is significantly over or understated). UNDP may have the right to reject the unbalanced bid if it determines that the lack of balance does pose an unacceptable Risk to UNDP. "]
["5. ","If a single bidder is the winner for more than one lot, a discount will be requested given the  efficiency in the operational and overhead costs"]
[]
["Name of Bidder: ",null,"________________________________________________"]
["Authorised signature: ",null,"________________________________________________"]
["Name of authorised signatory:",null,"________________________________________________"]
["Functional Title:",null,"________________________________________________"]
[]
["NOTE: All bids must be exclusive of VAT and other applicable indirect taxes"]

{"sheet":"1. SMK Pemenang","index":1,"n_rows":1552,"n_cols":16,"rows_kept":1552,"cut":false,"hidden":false,"merged":[[11,1,12,1],[11,2,12,11],[11,12,12,13],[11,14,12,14],[11,15,12,15],[2,1,2,15],[4,1,4,15],[5,1,5,15],[7,1,7,15],[9,1,9,15]]}
[]
[]
[null,"BILL OF QUANTITY"]
[]
[null,"Consulting Service for the Design and Construction Supervision for School and Medical Buildings in Lombok "]
[null,"Programme for Earthquake and Tsunami Infrastructure"]
[]
[null,"LOT 2 : SCHOOL FACILITIES"]
[]
[null,"SMK NEGERI 1 PEMENANG, DISTRICT OF NORTH LOMBOK"]
[]
[null,"NO","WORK ITEM",{"$nulls":9},"VOLUME",null,"UNIT PRICE","TOTAL AMOUNT"]
[]
[]
[null,"A","PREPARATION WORK"]
[null,1,"Name Board Of Project Size 1,2 x 0.8 M",{"$nulls":9},1,"Pcs"]
[null,2,"Project Office",{"$nulls":9},12,"M2"]
[null,3,"Material and Equipment Warehouse",{"$nulls":9},12,"M2"]
[null,4,"Documentation (Drone)",{"$nulls":9},1,"Ls"]
[null,5,"Reporting (Shop Drawing, Asbuilt Drawing)",{"$nulls":9},1,"Ls"]
[null,6,"Electricity and water  For project",{"$nulls":9},9,"month"]
[null,7,"HSE ( Health, Safety, and Environment )"]
[null,null,"a. OHS (Occupational Health and Safety)",{"$nulls":9},1,"Ls"]
[null,null,"b. Level of  Air Pollution",{"$nulls":9},2,"Point"]
[null,null,"c. Level of  Vibration During the Project",{"$nulls":9},2,"Point"]
[null,null,"d. Level of  Ground Water Pollution",{"$nulls":9},2,"Point"]
[null,null,"e. Level of  Surface Water Polution",{"$nulls":9},2,"Point"]
[null,null,"f. Reporting Documents ",{"$nulls":9},1,"Ls"]
[]
[null,"V.","CLASS D BUILDING "]
[]
[null,"B","STRUCTURAL WORKS"]
[null,"B.1","SOIL AND FOUNDATION WORKS"]
[null,1,"cleaning Field",{"$nulls":9},400,"M2"]
[null,2,"Safety Fence, t = 2 m",{"$nulls":9},58,"M"]
[null,3,"Bouwplank/ Marking Board",{"$nulls":9},108,"M"]
[null,4,"Termite",{"$nulls":9},400,"M2"]
[null,5,"Soil Excavation Work",{"$nulls":9},432.45600000000002,"M3"]
[null,6,"Soil back Filling",{"$nulls":9},144.15200000000002,"M3"]
[null,7,"Soil Filling on building",{"$nulls":9},12.202999999999999,"M3"]
[null,8,"Lean Concrete Under Fondation",{"$nulls":9},12.202999999999999,"M3"]
[null,9,"Stone foundation (Aastamping)",{"$nulls":9},32.25,"M3"]
[null,10,"Stone Masonry ",{"$nulls":9},92.71875,"M3"]
[]
[null,11," Foot Plate"]
[null,null,"-","Concrete",{"$nulls":8},15.876000000000001,"M3"]
[null,null,"-","Deformed Bar",{"$nulls":8},3746.7360000000003,"Kg"]
[null,null,"-","formwork Foundations",{"$nulls":8},52.914708000000005,"M2"]
[]
[null,12," column Pedestal"]
[null,null,"-","Concrete",{"$nulls":8},3.5831249999999999,"M3"]
[null,null,"-","Deformed Bar",{"$nulls":8},820.53562499999998,"Kg"]
[null,null,"-","formwork column",{"$nulls":8},38.036249999999995,"M2"]
[]
[null,"B.2","CONCRETE WORKS"]
[null,1," Tie Beam SL-01"]
[null,null,"-","Concrete",{"$nulls":8},15.387749999999999,"M3"]
[null,null,"-","Deformed Bar",{"$nulls":8},3277.5907499999998,"Kg"]
[null,null,"-","Formwork Tie Beam",{"$nulls":8},205.16487074999998,"M2"]
[]
[null,2," Column K-01"]
[null,null,"-","Concrete",{"$nulls":8},14.7735,"M3"]
[null,null,"-","Deformed Bar",{"$nulls":8},2526.2685000000001,"Kg"]
[null,null,"-","formwork column",{"$nulls":8},98.494924499999996,"M2"]
[]
[null,3," Column K-02"]
[null,null,"-","Concrete",{"$nulls":8},0.2475,"M3"]
[null,null,"-","Deformed Bar",{"$nulls":8},56.677500000000002,"Kg"]
[null,null,"-","formwork column",{"$nulls":8},2.4750000000000001,"M2"]
[]
[null,4," Column K-03"]
[null,null,"-","Concrete",{"$nulls":8},0.55687500000000001,"M3"]
[null,null,"-","Deformed Bar",{"$nulls":8},116.386875,"Kg"]
[null,null,"-","formwork column",{"$nulls":8},7.4248143750000004,"M2"]
[]
[null,5," Ring beams RB-01"]
[null,null,"-","Concrete",{"$nulls":8},6.6262499999999998,"M3"]
[null,null,"-","Deformed Bar",{"$nulls":8},1159.59375,"Kg"]
[null,null,"-","formwork Beam",{"$nulls":8},110.43970875000001,"M2"]
[]
[null,6,"roof Work"]
[null,null,"-"," light steel truss",{"$nulls":8},783.57320000000004,"M2"]
[]
[null,7,"Concrete Flat Roof"]
[null,null,"-","Concrete",{"$nulls":8},2,"M3"]
[null,null,"-","Deformed Bar",{"$nulls":8},330,"Kg"]
[null,null,"-","formwork Plat",{"$nulls":8},20,"M2"]
[]
[null,"C","ARCHITECTURAL WORKS"]
[null,1,"Light concrete under floor T 120 mm"]
[null,"a","-","Concrete",{"$nulls":8},38.105749999999993,"M3"]
[null,"b","-","Wiremash M-6 (1 Layer)",{"$nulls":8},381.0575,"M2"]
[null,"c","-","Sand Filling",{"$nulls":8},27.852249999999998,"M2"]
[]
[null,3,"Waterproofing"]
[null,"a","membrame waterproofing",{"$nulls":9},21.6,"M²"]
[]
[null,4,"Protection Concrete T 50 mm"]
[null,"a","Concrete",{"$nulls":9},2.5920000000000001,"M³"]
[null,"b","wiremesh M-4",{"$nulls":9},21.6,"M²"]
[]
[null,2,"roof Work"]
[null,"b"," roof coverings",{"$nulls":9},783.57320000000004,"M2"]
[null,"c","Top Roofing",{"$nulls":9},40.174999999999997,"M"]
[null,"d","Roof Facia",{"$nulls":9},80.349999999999994,"M"]
[]
[null,3,"light brick wall (AAC block)"]
[null,"a","Hebel wall t.10",{"$nulls":9},209.77010000000004,"M2"]
[]
[null,4,"Plaster Works"]
[null,"a","Plastering",{"$nulls":9},419.54020000000008,"M2"]
[null,"b","Neat Plaster",{"$nulls":9},419.54020000000008,"M2"]
[]
[null,5,"Door and Window Frameworks"]
[null,"a","Door Frame AD-01 + Assesories",{"$nulls":9},1,"Pcs"]
[null,"b","Door Frame AD-03 + Assesories",{"$nulls":9},2,"Pcs"]
[null,"c","Door Frame AD-04 + Assesories",{"$nulls":9},5,"Pcs"]
[null,"d","Door Frame AD-05 + Assesories",{"$nulls":9},12,"Pcs"]
[null,"e","Window Frame AW-02 + Assesories",{"$nulls":9},16,"Pcs"]
[null,"f","Bouvenligh Frame  BV-01 + Assesories",{"$nulls":9},4,"Pcs"]
[]
[null,6,"Specialities Works"]
[null,"a","Variations grille / louvre",{"$nulls":9},40.629999999999995,"M2"]
[null,"b","Installation GRC facia acessories",{"$nulls":9},77.992000000000004,"M2"]
[]
[null,7,"Ceilling Works"]
[null,"a"," Gypsum ceiling + Frame",{"$nulls":9},168.35759999999999,"M2"]
[null,"b"," Ceiling GRC + Frame",{"$nulls":9},80.900250000000014,"M2"]
[]
[null,8,"Floor and Wall Works"]
[null,"a","Ceramic 60/60",{"$nulls":9},168.35759999999999,"M2"]
[null,"b","Ceramic Anti Slip  60/60 ",{"$nulls":9},80.900250000000014,"M2"]
[null,"c","Ceramic 25/25",{"$nulls":9},17.356250000000003,"M2"]
[null,"d","Ceramic wall",{"$nulls":9},60.211800000000011,"M2"]
[null,"e","Wall Base Plint",{"$nulls":9},103.92,"M"]
[]
[null,9,"Painting Works"]
[null,"a","Interior Wall Painting Works ",{"$nulls":9},209.77010000000004,"M2"]
[null,"b","exterior wall painting works- Wheatershield",{"$nulls":9},209.77010000000004,"M2"]
[null,"c","Ceiling Painting Works",{"$nulls":9},249.25785000000002,"M2"]
[]
[null,10,"Sanitary Works"]
[null,"a"," Squatting closet",{"$nulls":9},3,"Unit"]
[null,"b"," Sitting closet",{"$nulls":9},1,"Unit"]
[null,"c"," Sink",{"$nulls":9},2,"Unit"]
[null,"d"," floor Drain",{"$nulls":9},5,"Unit"]
[null,"e"," Water faucet",{"$nulls":9},4,"Unit"]
[null,"f"," Handrail",{"$nulls":9},2,"Unit"]
[]
[null,11,"step at terrace"]
[null,"a","-","Concrete",{"$nulls":8},3.24,"M3"]
[]
[null,12,"Lantel Beam"]
[null,"a","-","Concrete",{"$nulls":8},1.6199999999999999,"M3"]
[null,"b","-","Deformed Bar",{"$nulls":8},302.94,"Kg"]
[null,"c","-","formwork",{"$nulls":8},37.384740000000001,"M2"]
[]
[null,"VI.","CLASS E BUILDING "]
[]
[null,"B","STRUCTURAL WORKS"]
[null,"B.1","SOIL AND FOUNDATION WORKS"]
[null,1,"cleaning Field",{"$nulls":9},265.10000000000002,"M2"]
[null,2,"Safety Fence, t = 2m",{"$nulls":9},41.1,"M"]
[null,3," Bouwplank/ Marking Board",{"$nulls":9},78.2,"M"]
[null,4,"Termite",{"$nulls":9},265.10000000000002,"M2"]
[null,5,"Soil Excavation Work",{"$nulls":9},323.51600000000008,"M3"]
[null,6,"Soil back Filling",{"$nulls":9},107.8386666666667,"M3"]
[null,7,"Soil Filling on building",{"$nulls":9},9.1415000000000006,"M3"]
[null,8,"Lean Concrete Under Fondation",{"$nulls":9},9.1415000000000006,"M3"]
[null,9,"Stone foundation (Aastamping)",{"$nulls":9},27.439999999999994,"M3"]
[null,10," Stone Masonry ",{"$nulls":9},78.89,"M3"]
[]
[null,11," Foot Plate"]
[null,"a","-","Concrete",{"$nulls":8},9.7199999999999989,"M3"]
[null,"b","-","Deformed Bar",{"$nulls":8},2293.9199999999996,"Kg"]
[null,"c","-","formwork Foundations",{"$nulls":8},32.39676,"M2"]
[]
[null,12," column Pedestal"]
[null,"a","-","Concrete",{"$nulls":8},2.0958749999999999,"M3"]
[null,"b","-","Deformed Bar",{"$nulls":8},479.955375,"Kg"]
[null,"c","-","formwork column",{"$nulls":8},20.958749999999998,"M2"]
[]
[null,"B.2","CONCRETE WORKS"]
[null,1," Tie Beam SL-01"]
[null,"a","-","Concrete",{"$nulls":8},10.309499999999998,"M3"]
[null,"b","-","Deformed Bar",{"$nulls":8},2195.9234999999994,"Kg"]
[null,"c","-","Formwork Tie Beam",{"$nulls":8},137.45656349999999,"M2"]
[]
[null,2," Column K-01"]
[null,"a","-","Concrete",{"$nulls":8},8.1404999999999994,"M3"]
[null,"b","-","Deformed Bar",{"$nulls":8},1392.0255,"Kg"]
[null,"c","-","formwork column",{"$nulls":8},54.272713499999995,"M2"]
[]
[null,3," Column K-02"]
[null,"a","-","Concrete",{"$nulls":8},0.2475,"M3"]
[null,"b","-","Deformed Bar",{"$nulls":8},56.677500000000002,"Kg"]
[null,"c","-","formwork column",{"$nulls":8},2.4750000000000001,"M2"]
[]
[null,4," Column K-03"]
[null,"a","-","Concrete",{"$nulls":8},1.11375,"M3"]
[null,"b","-","Deformed Bar",{"$nulls":8},232.77375000000001,"Kg"]
[null,"c","-","formwork column",{"$nulls":8},14.849628750000001,"M2"]
[]
[null,5," Ring beams RB-01"]
[null,"a","-","Concrete",{"$nulls":8},5.4922500000000003,"M3"]
[null,"b","-","Deformed Bar",{"$nulls":8},961.14375000000007,"Kg"]
[null,"c","-","formwork Beam",{"$nulls":8},91.539330750000019,"M2"]
[]
[null,6,"roof Work"]
[null,"a","-"," light steel truss",{"$nulls":8},783.57320000000004,"M2"]
[]
[null,7,"Concrete Flat Roof"]
[null,"a","-","Concrete",{"$nulls":8},5.5815000000000001,"M3"]
[null,"b","-","Deformed Bar",{"$nulls":8},920.94749999999999,"Kg"]
[null,"c","-","formwork",{"$nulls":8},55.814999999999998,"M2"]
[]
[null,9,"Disable Ramp Works"]
[null,"a","Beam Sloof"]
[null,null,"-","Concrete",{"$nulls":8},0.20999999999999996,"M3"]
[null,null,"-","Deformed Bar",{"$nulls":8},44.72999999999999,"M2"]
[null,null,"-","formwork",{"$nulls":8},2.7999299999999994,"M2"]
[null,"b","Floor Slab"]
[null,null,"-","Concrete",{"$nulls":8},1.0380719999999999,"M3"]
[null,null,"-","Wiremash M-6 (1layer)",{"$nulls":8},8.650599999999999,"M2"]
[null,null,"-","Sand Filling",{"$nulls":8},0.43252999999999997,"M3"]
[null,"c","Disable Parking"]
[null,null,"-","Concrete",{"$nulls":8},2.4,"M3"]
[null,null,"-","Wiremash M-6 (1layer)",{"$nulls":8},20,"M2"]
[null,null,"-","Sand Filling",{"$nulls":8},1,"M3"]
[]
[null,"C","ARCHITECTURAL WORKS"]
[null,1,"Light concrete under floor T 120 mm"]
[null,"a","-","Concrete",{"$nulls":8},23.929500000000001,"M3"]
[null,"b","-","Wiremash M-6 (1 Layer)",{"$nulls":8},239.29500000000002,"M2"]
[null,"c","-","Sand Filling",{"$nulls":8},11.96475,"M3"]
[]
[null,3,"Waterproofing"]
[null,"a","membrame waterproofing",{"$nulls":9},54.9,"M²"]
[]
[null,4,"Protection Concrete T 50 mm"]
[null,"a","Concrete",{"$nulls":9},6.5879999999999992,"M³"]
[null,"b","wiremesh M-4",{"$nulls":9},54.9,"M²"]
[]
[null,2,"roof Work"]
[null,"b"," roof coverings",{"$nulls":9},783.57320000000004,"M2"]
[null,"c","Top Roofing",{"$nulls":9},40.174999999999997,"M"]
[null,"d"," Roof Facia",{"$nulls":9},80.349999999999994,"M"]
[]
[null,1,"light brick wall (AAC block)"]
[null,"a"," Hebel wall t.10",{"$nulls":9},238.53764000000001,"M2"]
[]
[null,2,"Plaster Works"]
[null,"a"," Plastering",{"$nulls":9},477.07528000000002,"M2"]
[null,"b","Neat Plaster",{"$nulls":9},477.07528000000002,"M2"]
[]
[null,3,"Door and Window Frameworks"]
[null,"a","Door Frame AD-01 + Assesories",{"$nulls":9},4,"Pcs"]
[null,"b","Door Frame AD-03 + Assesories",{"$nulls":9},2,"Pcs"]
[null,"c","Door Frame AD-04 + Assesories",{"$nulls":9},1,"Pcs"]
[null,"d","Door Frame AD-05 + Assesories",{"$nulls":9},5,"Pcs"]
[null,"e","Window Frame AW-02 + Assesories",{"$nulls":9},8,"Pcs"]
[null,"f"," Bouvenligh Frame  BV-01 + Assesories",{"$nulls":9},9,"Pcs"]
[]
[null,4,"Specialities Works"]
[null,"a"," Variations grille / louvre",{"$nulls":9},40.629999999999995,"M2"]
[null,"b"," Installation GRC facia acessories",{"$nulls":9},69.396000000000001,"M2"]
[]
[null,5,"Ceilling Works"]
[null,"a"," Gypsum ceiling + Frame",{"$nulls":9},44.319999999999993,"M2"]
[null,"b"," Ceiling GRC + Frame",{"$nulls":9},86.690500000000014,"M2"]
[]
[null,6,"Floor and Wall Works"]
[null,"a"," Ceramic 60/60",{"$nulls":9},44.319999999999993,"M2"]
[null,"b","Ceramic Anti Slip  60/60 ",{"$nulls":9},86.690500000000014,"M2"]
[null,"c"," Ceramic 25/25",{"$nulls":9},35.6,"M2"]
[null,"d"," Ceramic wall 25/50",{"$nulls":9},43.680999999999997,"M2"]
[null,"e","Wall Base Plint",{"$nulls":9},123.52000000000001,"M"]
[]
[null,7,"Painting Works"]
[null,"a","Interior Wall Painting Works ",{"$nulls":9},238.53764000000001,"M2"]
[null,"b","exterior wall painting works- Wheatershield",{"$nulls":9},238.53764000000001,"M2"]
[null,"c","Ceiling Painting Works",{"$nulls":9},131.01050000000001,"M2"]
[]
[null,8,"Sanitary Works"]
[null,"a"," Squatting closet",{"$nulls":9},5,"Unit"]
[null,"b"," Sitting closet",{"$nulls":9},2,"Unit"]
[null,"c"," Sink",{"$nulls":9},4,"Unit"]
[null,"d"," floor Drain",{"$nulls":9},9,"Unit"]
[null,"e"," Water faucet",{"$nulls":9},7,"Unit"]
[null,"f"," Handrail",{"$nulls":9},4,"Unit"]
[null,"g"," urinal",{"$nulls":9},3,"Unit"]
[]
[null,9,"step at terrace"]
[null,"a","-","Concrete",{"$nulls":8},1.08,"M3"]
[]
[null,10,"Lantel Beam"]
[null,"a","-","Concrete",{"$nulls":8},0.80999999999999994,"M3"]
[null,"b","-","Deformed Bar",{"$nulls":8},302.94,"Kg"]
[null,"c","-","formwork column",{"$nulls":8},37.384740000000001,"M2"]
[]
[null,"VII.","ADMINISTRATION BUILDING "]
[]
[null,"B","STRUCTURAL WORKS"]
[null,"B1","SOIL AND FOUNDATION WORKS"]
[null,1,"cleaning Field",{"$nulls":9},484,"M2"]
[null,2,"Safety Fence, t = 2m",{"$nulls":9},63,"M"]
[null,3," Bouwplank/ Marking Board",{"$nulls":9},118,"M"]
[null,4," Termite",{"$nulls":9},484,"M2"]
[null,5,"Soil Excavation Work",{"$nulls":9},432.04,"M3"]
[null,6,"Soil back Filling",{"$nulls":9},144.01333333333335,"M3"]
[null,7,"Soil Filling on building",{"$nulls":9},12.697000000000003,"M3"]
[null,8,"Lean Concrete Under Fondation",{"$nulls":9},12.697000000000003,"M3"]
[null,9,"Stone foundation (Aastamping)",{"$nulls":9},31.6,"M3"]
[null,10," Stone Masonry ",{"$nulls":9},131.1,"M3"]
[]
[null,"B.2","CONCRETE WORKS"]
[null,1," Foot Plate"]
[null,"a","-","Concrete",{"$nulls":8},18,"M3"]
[null,"b","-","Deformed Bar",{"$nulls":8},4248,"Kg"]
[null,"c","-","formwork Foundations",{"$nulls":8},59.994,"M2"]
[]
[null,1," Foot Plate FP 3"]
[null,"a","-","Concrete",{"$nulls":8},2.3760000000000003,"M3"]
[null,"b","-","Deformed Bar",{"$nulls":8},544.10400000000004,"Kg"]
[null,"c","-","formwork Foundations",{"$nulls":8},23.760000000000005,"M2"]
[]
[null,2," Column Pedestal FP 1"]
[null,"a","-","Concrete",{"$nulls":8},6.8737499999999994,"M3"]
[null,"b","-","Deformed Bar",{"$nulls":8},1574.0887499999999,"Kg"]
[null,"c","-","formwork column",{"$nulls":8},68.737499999999997,"M2"]
[]
[null,3," Column Pedestal FP 2"]
[null,"a","-","Concrete",{"$nulls":8},0.43874999999999997,"M3"]
[null,"b","-","Deformed Bar",{"$nulls":8},100.47375,"Kg"]
[null,"c","-","formwork column",{"$nulls":8},4.3874999999999993,"M2"]
[]
[null,4," Column Pedestal FP 3"]
[null,null,"-","Concrete",{"$nulls":8},0.10968749999999999,"M3"]
[null,"b","-","Deformed Bar",{"$nulls":8},25.118437499999999,"Kg"]
[null,"c","-","formwork column",{"$nulls":8},1.0968749999999998,"M2"]
[]
[null,5," Tie Beam SL-01"]
[null,"a","-","Concrete",{"$nulls":8},16.976249999999997,"M3"]
[null,"b","-","Deformed Bar",{"$nulls":8},3615.9412499999994,"Kg"]
[null,"c","-","Formwork Tie Beam",{"$nulls":8},226.34434124999996,"M2"]
[]
[null,6," Column K-01"]
[null,"a","-","Concrete",{"$nulls":8},9.9495000000000005,"M3"]
[null,"b","-","Deformed Bar",{"$nulls":8},1701.3645000000001,"Kg"]
[null,"c","-","formwork column",{"$nulls":8},66.333316499999995,"M2"]
[]
[null,7," Column K-01"]
[null,"a","-","Concrete",{"$nulls":8},3.4649999999999999,"M3"]
[null,"b","-","Deformed Bar",{"$nulls":8},592.51499999999999,"Kg"]
[null,"c","-","formwork column",{"$nulls":8},23.101154999999999,"M2"]
[]
[null,8," Column K-02"]
[null,"a","-","Concrete",{"$nulls":8},0.90449999999999997,"M3"]
[null,"b","-","Deformed Bar",{"$nulls":8},207.13049999999998,"Kg"]
[null,"c","-","formwork column",{"$nulls":8},9.0449999999999999,"M2"]
[]
[null,9," Column K-03"]
[null,"a","-","Concrete",{"$nulls":8},0.22612499999999999,"M3"]
[null,"b","-","Deformed Bar",{"$nulls":8},47.260124999999995,"Kg"]
[null,"c","-","formwork column",{"$nulls":8},3.0149246249999999,"M2"]
[]
[null,10," Ring beams RB-01"]
[null,"a","-","Concrete",{"$nulls":8},8.8762499999999989,"M3"]
[null,"b","-","Deformed Bar",{"$nulls":8},1553.3437499999998,"Kg"]
[null,"c","-","formwork Beam",{"$nulls":8},147.94045875,"M2"]
[]
[null,11,"roof Work"]
[null,"a","-"," light steel truss",{"$nulls":8},1251.8476049999999,"M2"]
[]
[null,12,"Disable Ramp Works"]
[null,"a","Beam Sloof"]
[null,null,"-","Concrete",{"$nulls":8},0.20999999999999996,"M3"]
[null,null,"-","Deformed Bar",{"$nulls":8},44.72999999999999,"M2"]
[null,null,"-","formwork",{"$nulls":8},2.7999299999999994,"M2"]
[null,"b","Floor Slab"]
[null,null,"-","Concrete",{"$nulls":8},1.0380719999999999,"M3"]
[null,null,"-","Wiremash M-6 (1layer)",{"$nulls":8},8.650599999999999,"M2"]
[null,null,"-","Sand Filling",{"$nulls":8},0.43252999999999997]
[null,"c","Beam Sloof"]
[null,null,"-","Concrete",{"$nulls":8},2.4,"M3"]
[null,null,"-","Wiremash M-6 (1layer)",{"$nulls":8},20,"M2"]
[null,null,"-","Sand Filling",{"$nulls":8},1,"M3"]
[]
[null,"C","ARCHITECTURAL WORKS"]
[null,1,"Light concrete under floor T 120 mm"]
[null,"a","-","Concrete",{"$nulls":8},47.577249999999999,"M3"]
[null,"b","-","Sand Filling",{"$nulls":8},23.788625,"M3"]
[null,"c","-","Wiremash M-6 (1 Layer)",{"$nulls":8},475.77249999999998,"M2"]
[]
[null,2,"roof Work"]
[null,"a","Alumunium Foil",{"$nulls":9},1251.8476049999999,"M2"]
[null,"b"," roof coverings",{"$nulls":9},1251.8476049999999,"M2"]
[null,"c","Top Roofing",{"$nulls":9},60.695,"M"]
[null,"d"," Roof Facia",{"$nulls":9},60.695,"M"]
[]
[null,1,"light brick wall (AAC block)"]
[null,"a"," Hebel wall t.10",{"$nulls":9},275.43899999999996,"M2"]
[]
[null,2,"Plaster Works"]
[null,"a"," Plastering",{"$nulls":9},550.87799999999993,"M2"]
[null,"b","Neat Plaster",{"$nulls":9},550.87799999999993,"M2"]
[]
[null,3,"Door and Window Frameworks"]
[null,"a","Door Frame AD-01 + Assesories",{"$nulls":9},10,"Pcs"]
[null,"b","Door Frame AD-04 + Assesories",{"$nulls":9},1,"Pcs"]
[null,"c","Window Frame AW-02 + Assesories",{"$nulls":9},18,"Pcs"]
[null,null," Bouvenligh Frame  BV-01 + Assesories",{"$nulls":9},2,"Pcs"]
[]
[null,4,"Specialities Works"]
[null,"a"," Variations grille / louvre",{"$nulls":9},40.629999999999995,"M2"]
[null,"b"," Installation GRC facia acessories",{"$nulls":9},81.156000000000006,"M2"]
[]
[null,5,"Ceilling Works"]
[null,"a"," Gypsum ceiling + Frame",{"$nulls":9},371.625,"M2"]
[null,"b"," Ceiling GRC + Frame",{"$nulls":9},119.1725,"M2"]
[]
[null,6,"Floor and Wall Works"]
[null,"a"," Ceramic 60/60",{"$nulls":9},371.625,"M2"]
[null,"b","Ceramic Anti Slip  60/60 ",{"$nulls":9},119.1725,"M2"]
[null,"c"," Ceramic 25/25",{"$nulls":9},3.11375,"M2"]
[null,"d"," Ceramic wall 25/50",{"$nulls":9},14.8,"M2"]
[null,"e","Wall Base Plint t 10",{"$nulls":9},157.91999999999999,"M"]
[]
[null,7,"Painting Works"]
[null,"a","Interior Wall Painting Works ",{"$nulls":9},275.43899999999996,"M2"]
[null,"b","exterior wall painting works- Wheatershield",{"$nulls":9},275.43899999999996,"M2"]
[null,"c","Ceiling Painting Works",{"$nulls":9},377.57499999999999,"M2"]
[]
[null,8,"Sanitary Works"]
[null,"a"," Sitting closet",{"$nulls":9},1,"Unit"]
[null,"b"," Sink",{"$nulls":9},1,"Unit"]
[null,"c"," floor Drain",{"$nulls":9},1,"Unit"]
[null,"d"," Water faucet",{"$nulls":9},1,"Unit"]
[null,"e"," Handrail",{"$nulls":9},1,"Unit"]
[]
[null,9,"step at terrace"]
[null,null,"-","Concrete",{"$nulls":8},17.0535,"M3"]
[]
[null,10,"Lantel Beam"]
[null,"a","-","Concrete",{"$nulls":8},1.98,"M3"]
[null,"b","-","Deformed Bar",{"$nulls":8},370.26,"Kg"]
[null,"c","-","formwork",{"$nulls":8},45.692460000000004,"M2"]
[]
[null,"VIII."," RPS ONLINE BUSINESS DEVELOPMENT"]
[]
[null,"B","STRUCTURAL WORKS"]
[null,"B1","SOIL AND FOUNDATION WORKS"]
[null,1,"cleaning Field",{"$nulls":9},330,"M2"]
[null,2,"Safety Fence, t = 2m",{"$nulls":9},49,"M"]
[null,3," Bouwplank/ Marking Board",{"$nulls":9},90,"M"]
[null,4," Termite",{"$nulls":9},330,"M2"]
[null,null,"Soil Excavation Work",{"$nulls":9},661.12000000000012,"M3"]
[null,6,"Soil back Filling",{"$nulls":9},220.37333333333336,"M3"]
[null,7,"Soil Filling on building",{"$nulls":9},20.680000000000003,"M3"]
[null,8,"Lean Concrete Under Fondation",{"$nulls":9},20.680000000000003,"M3"]
[null,9,"Stone foundation (Aastamping)",{"$nulls":9},270.40000000000009,"M3"]
[null,10," Stone Masonry ",{"$nulls":9},198.95,"M3"]
[]
[null,"B.2","CONCRETE WORKS"]
[null,1," Foot Plate"]
[null,"a","-","Concrete",{"$nulls":8},12.96,"M3"]
[null,"b","-","Deformed Bar",{"$nulls":8},3058.5600000000004,"Kg"]
[null,"c","-","formwork Foundations",{"$nulls":8},43.195680000000003,"M2"]
[]
[null,null," Column Pedestal FP 1"]
[null,"a","-","Concrete",{"$nulls":8},5.7037499999999994,"M3"]
[null,"b","-","Deformed Bar",{"$nulls":8},975.34124999999995,"Kg"]
[null,"c","-","formwork column",{"$nulls":8},38.026901249999995,"M2"]
[]
[null,3," Column Pedestal FP 2"]
[null,"a","-","Concrete",{"$nulls":8},7.3124999999999996E-2,"M3"]
[null,"b","-","Deformed Bar",{"$nulls":8},16.745625,"Kg"]
[null,"c","-","formwork column",{"$nulls":8},0.73124999999999996,"M2"]
[]
[null,4," Column Pedestal FP 3"]
[null,"a","-","Concrete",{"$nulls":8},0.10968749999999999,"M3"]
[null,"b","-","Deformed Bar",{"$nulls":8},22.924687499999997,"Kg"]
[null,"c","-","formwork column",{"$nulls":8},1.4624634374999999,"M2"]
[]
[null,5," Tie Beam SL-01"]
[null,"a","-","Concrete",{"$nulls":8},11.598749999999999,"M3"]
[null,"b","-","Deformed Bar",{"$nulls":8},2470.5337499999996,"Kg"]
[null,"c","-","Formwork Tie Beam",{"$nulls":8},154.64613374999999,"M2"]
[]
[null,6," Column K-01"]
[null,"a","-","Concrete",{"$nulls":8},11.7585,"M3"]
[null,"b","-","Deformed Bar",{"$nulls":8},2010.7034999999998,"Kg"]
[null,"c","-","formwork column",{"$nulls":8},78.393919499999996,"M2"]
[]
[null,7," Column K-02"]
[null,"a","-","Concrete",{"$nulls":8},0.15075,"M3"]
[null,"b","-","Deformed Bar",{"$nulls":8},34.521749999999997,"Kg"]
[null,"c","-","formwork column",{"$nulls":8},1.5074999999999998,"M2"]
[]
[null,8," Column K-03"]
[null,"a","-","Concrete",{"$nulls":8},0.22612499999999999,"M3"]
[null,"b","-","Deformed Bar",{"$nulls":8},47.260124999999995,"Kg"]
[null,"c","-","formwork column",{"$nulls":8},3.0149246249999999,"M2"]
[]
[null,9," Ring beams RB-01"]
[null,"a","-","Concrete",{"$nulls":8},7.0987499999999999,"M3"]
[null,"b","-","Deformed Bar",{"$nulls":8},1242.28125,"Kg"]
[null,"c","-","formwork Beam",{"$nulls":8},118.31486625000001,"M2"]
[]
[null,10,"roof Work"]
[null,null,"-"," light steel truss",{"$nulls":8},658.8877,"M2"]
[]
[null,12,"Ramp"]
[null,null,"-","Concrete",{"$nulls":8},0.97200000000000009,"M3"]
[null,null,"-","Wiremash M-6 (1layer)",{"$nulls":8},8.1000000000000014,"M2"]
[null,null,"-","Sand Filling",{"$nulls":8},0.40500000000000008,"M3"]
[]
[null,"C","ARCHITECTURAL WORKS"]
[null,1,"Light concrete under floor T 120 mm"]
[null,"a","Concrete",{"$nulls":9},32.387250000000002,"M3"]
[null,"b","Sand Filling",{"$nulls":9},16.193625000000001,"M2"]
[null,"c","Wiremash M-6 (1 Layer)",{"$nulls":9},323.8725,"M2"]
[]
[null,2,"roof Work"]
[null,"a","Alumunium Foil",{"$nulls":9},658.8877,"M2"]
[null,"b"," roof coverings",{"$nulls":9},658.8877,"M2"]
[null,"c","Top Roofing",{"$nulls":9},20.399000000000001,"M"]
[null,"d"," Roof Facia",{"$nulls":9},20.399000000000001,"M"]
[]
[null,3,"light brick wall (AAC block)"]
[null,"a"," Hebel wall t.10",{"$nulls":9},237.69200000000001,"M2"]
[]
[null,4,"Plaster Works"]
[null,"a"," Transram",{"$nulls":9},67.2,"M2"]
[null,"b"," Plastering",{"$nulls":9},475.38400000000001,"M2"]
[null,"c","Neat Plaster",{"$nulls":9},475.38400000000001,"M2"]
[]
[null,5,"Door and Window Frameworks"]
[null,"a","Door Frame AD-01 + Assesories",{"$nulls":9},2,"Pcs"]
[null,"b","Door Frame AD-04 + Assesories",{"$nulls":9},1,"Pcs"]
[null,"c","Window Frame AW-01 + Assesories",{"$nulls":9},16,"Pcs"]
[null,"d","Door Frame AD2 + Assesories",{"$nulls":9},2,"Pcs"]
[null,"e","rolling door"]
[]
[null,4,"Specialities Works"]
[null,"a"," Variations grille / louvre",{"$nulls":9},40.629999999999995,"M2"]
[null,"b"," Installation GRC facia acessories",{"$nulls":9},39.277999999999999,"M2"]
[]
[null,5,"Ceilling Works"]
[null,"a"," Gypsum ceiling + Frame",{"$nulls":9},156.95999999999998,"M2"]
[null,"b"," Ceiling GRC + Frame",{"$nulls":9},60,"M2"]
[]
[null,6,"Floor and Wall Works"]
[null,"a"," Ceramic 60/60",{"$nulls":9},156.95999999999998,"M2"]
[null,"b","Ceramic Anti Slip  60/60 ",{"$nulls":9},116,"M2"]
[null,"c"," Ceramic 25/25",{"$nulls":9},60,"M2"]
[null,"d"," Ceramic wall 25/50",{"$nulls":9},7.1999999999999993,"M2"]
[null,"e"," Plint Ceramic t 10",{"$nulls":9},74.7,"M"]
[]
[null,7,"Painting Works"]
[null,"a","Interior Wall Painting Works ",{"$nulls":9},237.69200000000001,"M2"]
[null,"b","exterior wall painting works- Wheatershield",{"$nulls":9},237.69200000000001,"M2"]
[null,"c","Ceiling Painting Works",{"$nulls":9},216.95999999999998,"M2"]
[]
[null,8,"Sanitary Works"]
[null,"a"," Squatting closet",{"$nulls":9},1,"Unit"]
[null,"b"," Sink",{"$nulls":9},1,"Unit"]
[null,"c"," floor Drain",{"$nulls":9},1,"Unit"]
[null,"d"," Door ralling Goods Transporters",{"$nulls":9},1,"Unit"]
[null,"e"," Water faucet",{"$nulls":9},1,"Unit"]
[]
[null,9,"step at terrace"]
[null,"a","-","Concrete",{"$nulls":8},1.08,"M3"]
[]
[null,10,"Lantel Beam"]
[null,"a","-","Concrete",{"$nulls":8},0.67499999999999993,"M3"]
[null,"b","-","Deformed Bar",{"$nulls":8},126.22499999999999,"Kg"]
[null,"c","-","formwork",{"$nulls":8},15.576974999999999,"M2"]
[]
[null,"IX.","RPS  TOURISM"]
[]
[null,"B","STRUCTURAL WORKS"]
[null,"B.1","SOIL AND FOUNDATION WORKS"]
[null,1,"cleaning Field",{"$nulls":9},384,"M2"]
[null,2,"Safety Fence, t = 2m",{"$nulls":9},52,"M"]
[null,3," Bouwplank/ Marking Board",{"$nulls":9},96,"M"]
[null,4," Termite",{"$nulls":9},384,"M2"]
[null,5,"Soil Excavation Work",{"$nulls":9},661.12000000000012]
[null,6,"Soil back Filling",{"$nulls":9},220.37333333333336,"M3"]
[null,7,"Soil Filling on building",{"$nulls":9},20.680000000000003,"M3"]
[null,8,"Lean Concrete Under Fondation",{"$nulls":9},20.680000000000003,"M3"]
[null,9,"Stone foundation (Aastamping)",{"$nulls":9},270.40000000000009,"M3"]
[null,10," Stone Masonry ",{"$nulls":9},198.95,"M3"]
[]
[null,"B.2","CONCRETE WORKS"]
[null,1," Foot Plate"]
[null,"a","-","Concrete",{"$nulls":8},12.96,"M3"]
[null,"b","-","Deformed Bar",{"$nulls":8},3058.5600000000004,"Kg"]
[null,"c","-","formwork Foundations",{"$nulls":8},43.195680000000003,"M2"]
[]
[null,2," Column Pedestal FP 1"]
[null,"a","-","Concrete",{"$nulls":8},5.7037499999999994,"M3"]
[null,"b","-","Deformed Bar",{"$nulls":8},975.34124999999995,"Kg"]
[null,"c","-","formwork column",{"$nulls":8},38.026901249999995,"M2"]
[]
[null,3," Column Pedestal FP 2"]
[null,"a","-","Concrete",{"$nulls":8},7.3124999999999996E-2,"M3"]
[null,"b","-","Deformed Bar",{"$nulls":8},16.745625,"Kg"]
[null,"c","-","formwork column",{"$nulls":8},0.73124999999999996,"M2"]
[]
[null,4," Column Pedestal FP 3"]
[null,"a","-","Concrete",{"$nulls":8},0.10968749999999999,"M3"]
[null,"b","-","Deformed Bar",{"$nulls":8},22.924687499999997,"Kg"]
[null,"c","-","formwork column",{"$nulls":8},1.4624634374999999,"M2"]
[]
[null,5," Tie Beam SL-01"]
[null,"a","-","Concrete",{"$nulls":8},11.598749999999999,"M3"]
[null,"b","-","Deformed Bar",{"$nulls":8},2470.5337499999996,"Kg"]
[null,"c","-","Formwork Tie Beam",{"$nulls":8},154.64613374999999,"M2"]
[]
[null,6," Column K-01"]
[null,"a","-","Concrete",{"$nulls":8},11.7585,"M3"]
[null,"b","-","Deformed Bar",{"$nulls":8},2010.7034999999998,"Kg"]
[null,"c","-","formwork column",{"$nulls":8},78.393919499999996,"M2"]
[]
[null,7," Column K-02"]
[null,"a","-","Concrete",{"$nulls":8},0.15075,"M3"]
[null,"b","-","Deformed Bar",{"$nulls":8},34.521749999999997,"Kg"]
[null,"c","-","formwork column",{"$nulls":8},1.5074999999999998,"M2"]
[]
[null,8," Column K-03"]
[null,"a","-","Concrete",{"$nulls":8},0.22612499999999999,"M3"]
[null,"b","-","Deformed Bar",{"$nulls":8},47.260124999999995,"Kg"]
[null,"c","-","formwork column",{"$nulls":8},3.0149246249999999,"M2"]
[]
[null,9," Ring beams RB-01"]
[null,"a","-","Concrete",{"$nulls":8},7.0987499999999999,"M3"]
[null,"b","-","Deformed Bar",{"$nulls":8},1242.28125,"Kg"]
[null,"c","-","formwork Beam",{"$nulls":8},118.31486625000001,"M2"]
[]
[null,10,"roof Work"]
[null,"a","-"," light steel truss",{"$nulls":8},658.8877,"M2"]
[]
[null,12,"Ramp"]
[null,"b","-","Concrete",{"$nulls":8},0.97200000000000009,"M3"]
[null,"c","-","Wiremash M-6 (1layer)",{"$nulls":8},8.1000000000000014,"M2"]
[null,"d","-","Sand Filling",{"$nulls":8},0.40500000000000008,"M3"]
[]
[null,"C","ARCHITECTURAL WORKS"]
[null,1,"Light concrete under floor T 120 mm"]
[null,"a","-","Concrete",{"$nulls":8},32.387250000000002,"M3"]
[null,"b","-","Sand Filling",{"$nulls":8},16.193625000000001,"M3"]
[null,"c","-","Wiremash M-6 (1 Layer)",{"$nulls":8},323.8725,"M2"]
[]
[null,2,"roof Work"]
[null,"a","Alumunium Foil",{"$nulls":9},658.8877,"M2"]
[null,"b"," roof coverings",{"$nulls":9},658.8877,"M2"]
[null,"c","Top Roofing",{"$nulls":9},20.399000000000001,"M"]
[null,"d"," Roof Facia",{"$nulls":9},20.399000000000001,"M"]
[]
[null,3,"light brick wall (AAC block)"]
[null,null," Hebel wall t.10",{"$nulls":9},250.50199999999995,"M2"]
[]
[null,4,"Plaster Works"]
[null,"a"," Plastering",{"$nulls":9},501.00399999999991,"M2"]
[null,"b","Neat Plaster",{"$nulls":9},501.00399999999991,"M2"]
[]
[null,5,"Door and Window Frameworks"]
[null,"a","Door Frame AD-01 + Assesories",{"$nulls":9},2,"Pcs"]
[null,"b","Door Frame AD-04 + Assesories",{"$nulls":9},1,"Pcs"]
[null,"c","Window Frame AW-01 + Assesories",{"$nulls":9},16,"Pcs"]
[null,"d","Door Frame AD2 + Assesories",{"$nulls":9},2,"Pcs"]
[]
[null,6,"Specialities Works"]
[null,"a"," Variations grille / louvre",{"$nulls":9},8,"M2"]
[null,"b"," Installation GRC facia acessories",{"$nulls":9},39.277999999999999,"M2"]
[]
[null,7,"Ceilling Works"]
[null,"a"," Gypsum ceiling + Frame",{"$nulls":9},156.95999999999998,"M2"]
[null,"b"," Ceiling GRC + Frame",{"$nulls":9},60,"M2"]
[]
[null,8,"Floor and Wall Works"]
[null,"a"," Ceramic 60/60",{"$nulls":9},156.95999999999998,"M2"]
[null,"b","Ceramic Anti Slip  60/60 ",{"$nulls":9},116,"M2"]
[null,"c"," Ceramic 25/25",{"$nulls":9},2.6999999999999997,"M2"]
[null,"d"," Ceramic wall 25/50",{"$nulls":9},13.8,"M2"]
[null,"e","Transram",{"$nulls":9},16.5,"M2"]
[null,"f","Wall Base Plint t 10",{"$nulls":9},74.7,"M"]
[]
[null,9,"Painting Works"]
[null,"a","Interior Wall Painting Works ",{"$nulls":9},250.50199999999995,"M2"]
[null,"b","exterior wall painting works- Wheatershield",{"$nulls":9},250.50199999999995,"M2"]
[null,"c","Ceiling Painting Works",{"$nulls":9},216.95999999999998,"M2"]
[]
[null,10,"Sanitary Works"]
[null,"a"," Squatting closet",{"$nulls":9},1,"Unit"]
[null,"b"," Sink",{"$nulls":9},1,"Unit"]
[null,"c"," floor Drain",{"$nulls":9},1,"Unit"]
[null,"d"," Door ralling Goods Transporters",{"$nulls":9},1,"Unit"]
[null,"e"," Water faucet",{"$nulls":9},1,"Unit"]
[null,"f"," urinal",{"$nulls":9},2,"Unit"]
[]
[null,11,"step at terrace"]
[null,"a","-","Concrete",{"$nulls":8},1.08,"M3"]
[]
[null,12,"Lantel Beam"]
[null,"a","-","Concrete",{"$nulls":8},0.67499999999999993,"M3"]
[null,"b","-","Deformed Bar",{"$nulls":8},126.22499999999999,"Kg"]
[null,"c","-","formwork",{"$nulls":8},15.576974999999999,"M2"]
[]
[null,"X.","MUSHOLLA BUILDING"]
[]
[null,"B","STRUCTURAL WORKS"]
[null,"A","SOIL AND FOUNDATION WORKS"]
[null,1,"cleaning Field",{"$nulls":9},140.625,"M2"]
[null,2,"Safety Fence, t = 2m",{"$nulls":9},31.75,"M"]
[null,3," Bouwplank/ Marking Board",{"$nulls":9},55.5,"M"]
[null,4," Termite",{"$nulls":9},140.625,"M2"]
[null,5,"Soil Excavation Work",{"$nulls":9},167.3888,"M3"]
[null,6,"Soil back Filling",{"$nulls":9},55.796266666666668,"M3"]
[null,7,"Soil Filling on building",{"$nulls":9},5.1859999999999999,"M3"]
[null,8,"Lean Concrete Under Fondation",{"$nulls":9},5.1859999999999999,"M3"]
[null,9,"Stone foundation (Aastamping)",{"$nulls":9},16.687999999999999,"M3"]
[null,10," Stone Masonry ",{"$nulls":9},47.977999999999994,"M3"]
[]
[null,"B","CONCRETE WORKS"]
[null,1," Foot Plate"]
[null,"a","-","Concrete",{"$nulls":8},3.8879999999999999,"M3"]
[null,"b","-","Deformed Bar",{"$nulls":8},917.56799999999998,"Kg"]
[null,"c","-","formwork Foundations",{"$nulls":8},12.958704000000001,"M2"]
[]
[null,2," Column Pedestal FP 3"]
[null,"a","-","Concrete",{"$nulls":8},0.43874999999999997,"M3"]
[null,"b","-","Deformed Bar",{"$nulls":8},91.69874999999999,"Kg"]
[null,"c","-","formwork column",{"$nulls":8},5.8498537499999994,"M2"]
[]
[null,3," Tie Beam SL-01"]
[null,"a","-","Concrete",{"$nulls":8},6.6518999999999995,"M3"]
[null,"b","-","Deformed Bar",{"$nulls":8},1416.8546999999999,"Kg"]
[null,"c","-","Formwork Tie Beam",{"$nulls":8},88.689782699999995,"M2"]
[]
[null,4," Column K-04"]
[null,"a","-","Concrete",{"$nulls":8},1.6080000000000005,"M3"]
[null,"b","-","Deformed Bar",{"$nulls":8},234.76800000000009,"Kg"]
[null,"c","-","formwork column",{"$nulls":8},16.080000000000005,"M2"]
[]
[null,5," Column K-03"]
[null,"a","-","Concrete",{"$nulls":8},0.75374999999999992,"M3"]
[null,"b","-","Deformed Bar",{"$nulls":8},157.53374999999997,"Kg"]
[null,"c","-","formwork column",{"$nulls":8},10.049748749999999,"M2"]
[]
[null,6," Ring beams RB-01"]
[null,"a","-","Concrete",{"$nulls":8},2.6999999999999997,"M3"]
[null,"b","-","Deformed Bar",{"$nulls":8},472.49999999999994,"Kg"]
[null,"c","-","formwork Beam",{"$nulls":8},45.000900000000001,"M2"]
[]
[null,7,"roof Work"]
[null,null,"-"," light steel truss",{"$nulls":8},179.47,"M2"]
[]
[null,"C","ARCHITECTURAL WORKS"]
[null,1,"Light concrete under floor T 120 mm"]
[null,"a","-","Concrete",{"$nulls":8},14.326000000000001,"M3"]
[null,"b","-","Sand Filling",{"$nulls":8},7.1630000000000003,"M3"]
[null,"c","-","Wiremash M-6 (1 Layer)",{"$nulls":8},143.26,"M2"]
[]
[null,2,"roof Work"]
[null,"a","Alumunium Foil",{"$nulls":9},179.47,"M2"]
[null,"b"," roof coverings",{"$nulls":9},179.47,"M2"]
[null,"c","Top Roofing",{"$nulls":9},27.4,"M"]
[null,"d"," Roof Facia",{"$nulls":9},27.4,"M"]
[]
[null,3,"light brick wall (AAC block)"]
[null,"a"," Hebel wall t.10",{"$nulls":9},138.34089999999998,"M2"]
[]
[null,2,"Plaster Works"]
[null,"a"," Plastering",{"$nulls":9},276.68179999999995,"M2"]
[null,"b","Neat Plaster",{"$nulls":9},276.68179999999995,"M2"]
[]
[null,3,"Door and Window Frameworks"]
[null,"a","Door Frame AD-01 + Assesories",{"$nulls":9},2,"Pcs"]
[null,"b","Window Frame AW-01 + Assesories",{"$nulls":9},3,"Pcs"]
[]
[null,4,"Specialities Works"]
[null,"a"," Variations grille / louvre",{"$nulls":9},8,"M2"]
[null,"b"," Installation GRC facia acessories",{"$nulls":9},141.50125,"M2"]
[]
[null,5,"Ceilling Works"]
[null,"a"," Gypsum ceiling + Frame",{"$nulls":9},84,"M2"]
[null,"b"," Ceiling GRC + Frame",{"$nulls":9},53.963749999999997,"M2"]
[]
[null,6,"Floor and Wall Works"]
[null,"a"," Ceramic 60/60",{"$nulls":9},84,"M2"]
[null,"b","Ceramic Anti Slip  60/60 ",{"$nulls":9},53.963749999999997,"M2"]
[null,"c"," Ceramic 25/25",{"$nulls":9},48,"M2"]
[null,"d","Wall Base Plint t 10",{"$nulls":9},46,"M"]
[]
[null,7,"Painting Works"]
[null,"a","Interior Wall Painting Works ",{"$nulls":9},138.34089999999998,"M2"]
[null,"b","exterior wall painting works- Wheatershield",{"$nulls":9},138.34089999999998,"M2"]
[null,"c","Ceiling Painting Works",{"$nulls":9},137.96375,"M2"]
[]
[null,8,"Sanitary Works"]
[null,"a"," floor Drain",{"$nulls":9},2,"Unit"]
[null,"b"," Water faucet",{"$nulls":9},12,"Unit"]
[]
[null,9,"step at terrace"]
[null,"a","-","Concrete",{"$nulls":8},1.62,"M3"]
[]
[null,10,"Lantel Beam"]
[null,"a","-","Concrete",{"$nulls":8},0.54,"M3"]
[null,"b","-","Deformed Bar",{"$nulls":8},100.98,"Kg"]
[null,"c","-","formwork",{"$nulls":8},12.461580000000001,"M2"]
[]
[null,"XI.","RPS TATA BOGA "]
[]
[null,"B","STRUCTURAL WORKS"]
[null,"B.1","SOIL AND FOUNDATION WORKS"]
[null,1,"cleaning Field",{"$nulls":9},330,"M2"]
[null,2,"Safety Fence, t = 2m",{"$nulls":9},49,"M"]
[null,3," Bouwplank/ Marking Board",{"$nulls":9},90,"M"]
[null,4," Termite",{"$nulls":9},330,"M3"]
[null,5,"Soil Excavation Work",{"$nulls":9},361.5,"M3"]
[null,6,"Soil back Filling",{"$nulls":9},120.5,"M3"]
[null,7,"Soil Filling on building",{"$nulls":9},10.957500000000001,"M3"]
[null,8,"Lean Concrete Under Fondation",{"$nulls":9},10.957500000000001,"M3"]
[null,9,"Stone foundation (Aastamping)",{"$nulls":9},61.6,"M3"]
[null,10," Stone Masonry ",{"$nulls":9},92,"M3"]
[]
[null,"B.2","CONCRETE WORKS"]
[null,1," Foot Plate"]
[null,"a","-","Concrete",{"$nulls":8},11.34,"M3"]
[null,"b","-","Deformed Bar",{"$nulls":8},2676.24,"Kg"]
[null,"c","-","formwork Foundations",{"$nulls":8},37.796219999999998,"M2"]
[]
[null,2," Column Pedestal FP 1"]
[null,"a","-","Concrete",{"$nulls":8},5.7037499999999994,"M3"]
[null,"b","-","Deformed Bar",{"$nulls":8},975.34124999999995,"Kg"]
[null,"c","-","formwork column",{"$nulls":8},38.026901249999995,"M2"]
[]
[null,3," Tie Beam SL-01"]
[null,"a","-","Concrete",{"$nulls":8},9.0337499999999977,"M3"]
[null,"b","-","Deformed Bar",{"$nulls":8},1924.1887499999996,"Kg"]
[null,"c","-","Formwork Tie Beam",{"$nulls":8},120.44698874999997,"M2"]
[]
[null,4," Column K-01"]
[null,"a","-","Concrete",{"$nulls":8},11.456999999999999,"M3"]
[null,"b","-","Deformed Bar",{"$nulls":8},1959.1469999999999,"Kg"]
[null,"c","-","formwork column",{"$nulls":8},76.383818999999988,"M2"]
[]
[null,5," Column K-02"]
[null,"a","-","Concrete",{"$nulls":8},0.15075,"M3"]
[null,"b","-","Deformed Bar",{"$nulls":8},34.521749999999997,"Kg"]
[null,"c","-","formwork column",{"$nulls":8},1.5074999999999998,"M2"]
[]
[null,6," Column K-03"]
[null,"a","-","Concrete",{"$nulls":8},0.22612499999999999,"M3"]
[null,"b","-","Deformed Bar",{"$nulls":8},47.260124999999995,"Kg"]
[null,"c","-","formwork column",{"$nulls":8},3.0149246249999999,"M2"]
[]
[null,7," Ring beams RB-01"]
[null,"a","-","Concrete",{"$nulls":8},7.0987499999999999,"M3"]
[null,"b","-","Deformed Bar",{"$nulls":8},1512.0337500000001,"Kg"]
[null,"c","-","formwork Beam",{"$nulls":8},94.647633749999997,"M2"]
[]
[null,8,"roof Work"]
[null,null,"-"," light steel truss",{"$nulls":8},658.8877,"M2"]
[]
[null,10,"Ramp"]
[null,"a","-","Concrete",{"$nulls":8},0.97200000000000009,"M3"]
[null,"b","-","Wiremash M-6 (1layer)",{"$nulls":8},8.1000000000000014,"M2"]
[null,"c","-","Sand Filling",{"$nulls":8},0.40500000000000008,"M3"]
[]
[null,"C","ARCHITECTURAL WORKS"]
[null,1,"Light concrete under floor T 120 mm"]
[null,"a","-","Concrete",{"$nulls":8},32.387250000000002,"M3"]
[null,"b","-","Sand Filling",{"$nulls":8},16.193625000000001,"M3"]
[null,"c","-","Wiremash M-6 (1 Layer)",{"$nulls":8},323.8725,"M2"]
[]
[null,2,"roof Work"]
[null,"a","Alumunium Foil",{"$nulls":9},658.8877,"M2"]
[null,"b"," roof coverings",{"$nulls":9},658.8877,"M2"]
[null,"c","Top Roofing",{"$nulls":9},20.399000000000001,"M"]
[null,"d"," Roof Facia",{"$nulls":9},20.399000000000001,"M"]
[]
[null,3,"light brick wall (AAC block)"]
[null,"a"," Hebel wall t.10",{"$nulls":9},188.81849999999997,"M2"]
[]
[null,2,"Plaster Works"]
[null,"e","Transram",{"$nulls":9},9.4513999999999996,"M2"]
[null,"a"," Plastering",{"$nulls":9},377.63699999999994,"M2"]
[null,"b","Neat Plaster",{"$nulls":9},377.63699999999994,"M2"]
[]
[null,3,"Door and Window Frameworks"]
[null,"a","Door Frame AD-01 + Assesories",{"$nulls":9},2,"Pcs"]
[null,"b","Door Frame AD-04 + Assesories",{"$nulls":9},1,"Pcs"]
[null,"c","Window Frame AW-01 + Assesories",{"$nulls":9},16,"Pcs"]
[null,"d","Door Frame AD2 + Assesories",{"$nulls":9},2,"Pcs"]
[null,"e","Rolling Door",{"$nulls":9},1,"Pcs"]
[]
[null,4,"Specialities Works"]
[null,"a"," Variations grille / louvre",{"$nulls":9},8,"M2"]
[null,"b"," Installation GRC facia acessories",{"$nulls":9},39.277999999999999,"M2"]
[]
[null,5,"Ceilling Works"]
[null,"a"," Gypsum ceiling + Frame",{"$nulls":9},216.27999999999997,"M2"]
[null,"b"," Ceiling GRC + Frame",{"$nulls":9},60,"M2"]
[]
[null,6,"Floor and Wall Works"]
[null,"a"," Ceramic 60/60",{"$nulls":9},216.27999999999997,"M2"]
[null,"b","Ceramic Anti Slip  60/60 ",{"$nulls":9},60,"M2"]
[null,"c"," Ceramic 25/25",{"$nulls":9},2.6313999999999997,"M2"]
[null,"d"," Ceramic wall 25/50",{"$nulls":9},6.82,"M2"]
[null,"f","Wall Base Plint t 10",{"$nulls":9},114,"M"]
[]
[null,7,"Painting Works"]
[null,"a","Interior Wall Painting Works ",{"$nulls":9},188.81849999999997,"M2"]
[null,"b","exterior wall painting works- Wheatershield",{"$nulls":9},188.81849999999997,"M2"]
[null,"c","Ceiling Painting Works",{"$nulls":9},276.27999999999997,"M2"]
[]
[null,8,"Sanitary Works"]
[null,"a"," Squatting closet",{"$nulls":9},1,"Unit"]
[null,"b"," Sink",{"$nulls":9},1,"Unit"]
[null,"c"," floor Drain",{"$nulls":9},1,"Unit"]
[null,"e"," Water faucet",{"$nulls":9},1,"Unit"]
[]
[null,9,"step at terrace"]
[null,"a","-","Concrete",{"$nulls":8},1.08,"M3"]
[]
[null,10,"Lantel Beam"]
[null,"a","-","Concrete",{"$nulls":8},0.67499999999999993,"M3"]
[null,"b","-","Deformed Bar",{"$nulls":8},126.22499999999999,"Kg"]
[null,"c","-","formwork",{"$nulls":8},15.576974999999999,"M2"]
[]
[null,"XII.","LABORATORY"]
[]
[null,"B","STRUCTURAL WORKS"]
[null,"A","SOIL AND FOUNDATION WORKS"]
[null,1,"cleaning Field",{"$nulls":9},132,"M2"]
[null,2,"Safety Fence, t = 2m",{"$nulls":9},31,"M"]
[null,3," Bouwplank/ Marking Board",{"$nulls":9},54,"M"]
[null,4," Termite",{"$nulls":9},132,"M2"]
[null,5,"Soil Excavation Work",{"$nulls":9},141.74,"M3"]
[null,6,"Soil back Filling",{"$nulls":9},47.24666666666667,"M3"]
[null,7,"Soil Filling on building",{"$nulls":9},3.5640000000000005,"M3"]
[null,8,"Lean Concrete Under Fondation",{"$nulls":9},3.5640000000000005,"M3"]
[null,9,"Stone foundation (Aastamping)",{"$nulls":9},10.200000000000001,"M3"]
[null,10," Stone Masonry ",{"$nulls":9},29.324999999999996,"M3"]
[]
[null,"B","CONCRETE WORKS"]
[null,1," Foot Plate"]
[null,"a","-","Concrete",{"$nulls":8},6.1560000000000006,"M3"]
[null,"b","-","Deformed Bar",{"$nulls":8},1452.816,"Kg"]
[null,"c","-","formwork Foundations",{"$nulls":8},20.517948000000004,"M2"]
[]
[null,2," Column Pedestal FP 2"]
[null,"a","-","Concrete",{"$nulls":8},0.6946874999999999,"M3"]
[null,"b","-","Deformed Bar",{"$nulls":8},17.776125,"Kg"]
[null,"c","-","formwork column",{"$nulls":8},0.77625,"M2"]
[]
[null,3," Tie Beam SL-01"]
[null,"a","-","Concrete",{"$nulls":8},5.1750000000000007,"M3"]
[null,"b","-","Deformed Bar",{"$nulls":8},1102.2750000000001,"Kg"]
[null,"c","-","Formwork Tie Beam",{"$nulls":8},68.998275000000007,"M2"]
[]
[null,4," Column K-01"]
[null,"a","-","Concrete",{"$nulls":8},5.7284999999999995,"M3"]
[null,"b","-","Deformed Bar",{"$nulls":8},979.57349999999997,"Kg"]
[null,"c","-","formwork column",{"$nulls":8},38.191909499999994,"M2"]
[]
[null,5," Ring beams RB-01"]
[null,"a","-","Concrete",{"$nulls":8},2.79,"M3"]
[null,"b","-","Deformed Bar",{"$nulls":8},488.25,"Kg"]
[null,"c","-","formwork Beam",{"$nulls":8},46.500930000000004,"M2"]
[]
[null,6,"roof Work"]
[null,"a","-"," light steel truss",{"$nulls":8},263.45260000000002,"M2"]
[]
[null,"C","ARCHITECTURAL WORKS"]
[null,1,"Light concrete under floor T 120 mm"]
[null,"a","-","Concrete",{"$nulls":8},12.857250000000001,"M3"]
[null,"b","-","Sand Filling",{"$nulls":8},6.4286250000000003,"M3"]
[null,"c","-","Wiremash M-6 (1 Layer)",{"$nulls":8},128.57249999999999,"M2"]
[]
[null,2,"roof Work"]
[null,"a","-","Alumunium Foil",{"$nulls":8},263.45260000000002,"M2"]
[null,"b","-"," roof coverings",{"$nulls":8},263.45260000000002,"M2"]
[null,"c","-","Top Roofing",{"$nulls":8},14.2,"M"]
[null,"d","-"," Roof Facia",{"$nulls":8},14.2,"M"]
[]
[null,3,"light brick wall (AAC block)"]
[null,"a"," Hebel wall t.10",{"$nulls":9},88.62879999999997,"M2"]
[]
[null,4,"Plaster Works"]
[null,"a"," Plastering",{"$nulls":9},177.25759999999994,"M2"]
[null,"b","Neat Plaster",{"$nulls":9},177.25759999999994,"M2"]
[]
[null,5,"Door and Window Frameworks"]
[null,"a","Door Frame AD-01 + Assesories",{"$nulls":9},2,"Pcs"]
[null,"b","Window Frame AW-01 + Assesories",{"$nulls":9},6,"Pcs"]
[]
[null,6,"Specialities Works"]
[null,"a"," Variations grille / louvre",{"$nulls":9},8,"M2"]
[null,"b"," Installation GRC facia acessories",{"$nulls":9},37.106000000000002,"M2"]
[]
[null,7,"Ceilling Works"]
[null,"a"," Gypsum ceiling + Frame",{"$nulls":9},132,"M2"]
[null,"b"," Ceiling GRC + Frame",{"$nulls":9},24,"M2"]
[]
[null,8,"Floor and Wall Works"]
[null,"a"," Ceramic 60/60",{"$nulls":9},132,"M2"]
[null,"b","Ceramic Anti Slip  60/60 ",{"$nulls":9},24,"M2"]
[null,"c","Wall Base Plint t 10",{"$nulls":9},58.81,"M"]
[]
[null,9,"Painting Works"]
[null,"a","Interior Wall Painting Works ",{"$nulls":9},88.62879999999997,"M2"]
[null,"b","exterior wall painting works- Wheatershield",{"$nulls":9},88.62879999999997,"M2"]
[null,"c","Ceiling Painting Works",{"$nulls":9},156,"M2"]
[]
[null,10,"step at terrace"]
[null,null,"-","Concrete",{"$nulls":8},1.62,"M2"]
[]
[null,11,"Lantel Beam"]
[null,"a","-","Concrete",{"$nulls":8},0.54,"M3"]
[null,"b","-","Deformed Bar",{"$nulls":8},100.98,"Kg"]
[null,"c","-","formwork Beam",{"$nulls":8},12.461580000000001,"M2"]
[]
[null,"XIII.","RPS HOSPITALITY"]
[]
[null,"B","STRUCTURAL WORKS"]
[null,"B.1","SOIL AND FOUNDATION WORKS"]
[null,1,"cleaning Field",{"$nulls":9},330,"M²"]
[null,2,"Safety Fence, t = 2m",{"$nulls":9},49,"M¹"]
[null,3," Bouwplank/ Marking Board",{"$nulls":9},90,"M¹"]
[null,4," Termite",{"$nulls":9},330,"M²"]
[null,5,"Soil Excavation Work",{"$nulls":9},494.31025000000011,"M³"]
[null,6,"Soil back Filling",{"$nulls":9},164.77008333333336,"M³"]
[null,7,"Soil Filling on building",{"$nulls":9},14.933500000000002,"M³"]
[null,8,"Lean Concrete Under Fondation",{"$nulls":9},14.933500000000002,"M³"]
[null,5,"Stone foundation (Aastamping)",{"$nulls":9},45.2,"M³"]
[null,6," Stone Masonry ",{"$nulls":9},129.94999999999999,"M³"]
[]
[null,"B.2","CONCRETE WORKS"]
[null,1," Foot Plate"]
[null,"a","-","Concrete",{"$nulls":8},13.932,"M³"]
[null,"b","-","Deformed Bar",{"$nulls":8},3287.9520000000002,"Kg"]
[null,"c","-","formwork Foundations",{"$nulls":8},46.435356000000006,"M²"]
[]
[null,2," Column Pedestal FP 1"]
[null,"a","-","Concrete",{"$nulls":8},5.9962499999999999,"M³"]
[null,"b","-","Deformed Bar",{"$nulls":8},1025.3587499999999,"Kg"]
[null,"c","-","formwork column",{"$nulls":8},39.97699875,"M²"]
[]
[null,3," Column Pedestal FP 2"]
[null,"a","-","Concrete",{"$nulls":8},0.14624999999999999,"M³"]
[null,"b","-","Deformed Bar",{"$nulls":8},33.491250000000001,"Kg"]
[null,"c","-","formwork column",{"$nulls":8},1.4624999999999999,"M²"]
[]
[null,5," Tie Beam SL-01"]
[null,"a","-","Concrete",{"$nulls":8},11.688750000000001,"M³"]
[null,"b","-","Deformed Bar",{"$nulls":8},2442.94875,"Kg"]
[null,"c","-","Formwork Tie Beam",{"$nulls":8},155.84610375,"M²"]
[]
[null,4," Column K-01"]
[null,"a","-","Concrete",{"$nulls":8},14.652000000000001,"M³"]
[null,"b","-","Deformed Bar",{"$nulls":8},2505.4920000000002,"Kg"]
[null,"c","-","formwork column",{"$nulls":8},97.684884000000011,"M²"]
[]
[null,5," Column K-02"]
[null,"a","-","Concrete",{"$nulls":8},0.39600000000000002,"M³"]
[null,"b","-","Deformed Bar",{"$nulls":8},90.683999999999997,"Kg"]
[null,"c","-","formwork column",{"$nulls":8},3.96,"M²"]
[]
[null,6," Column K-03"]
[null,"a","-","Concrete",{"$nulls":8},0.29700000000000004,"M³"]
[null,"b","-","Deformed Bar",{"$nulls":8},62.073000000000008,"Kg"]
[null,"c","-","formwork column",{"$nulls":8},3.9599010000000008,"M²"]
[]
[null,7," Ring beams RB-01"]
[null,"a","-","Concrete",{"$nulls":8},7.098749999999999,"M³"]
[null,"b","-","Deformed Bar",{"$nulls":8},1242.2812499999998,"Kg"]
[null,"c","-","formwork Beam",{"$nulls":8},118.31486624999999,"M²"]
[]
[null,8,"Lantel Beam"]
[null,"a","-","Concrete",{"$nulls":8},1.4849999999999997,"M³"]
[null,"b","-","Deformed Bar",{"$nulls":8},302.94,"Kg"]
[null,"c","-","formwork Beam",{"$nulls":8},37.384740000000001,"M²"]
[]
[null,9,"roof Work"]
[null,null," light steel truss",{"$nulls":9},692.51199999999994,"M²"]
[]
[null,"C","ARCHITECTURAL WORKS"]
[null,1,"Light concrete under floor T 120 mm"]
[null,"a","-","Sir. Sand Filling",{"$nulls":8},16.193625000000001,"M³"]
[null,"b","-","Concrete",{"$nulls":8},32.387250000000002,"M³"]
[null,"c","-","Wiremash M-6 (1 Layer)",{"$nulls":8},16.193625000000001,"M²"]
[]
[null,2,"roof Work"]
[null,"a","Alumunium Foil",{"$nulls":9},692.51199999999994,"M²"]
[null,"b"," roof coverings",{"$nulls":9},692.51199999999994,"M²"]
[null,"c","Top Roofing",{"$nulls":9},32.299999999999997,"M¹"]
[null,"d"," Roof Facia",{"$nulls":9},64.599999999999994,"M¹"]
[]
[null,3," Ramp"]
[null,"a","-","Concrete",{"$nulls":8},0.99208799999999997,"M³"]
[]
[null,3,"step at terrace"]
[null,"a","-","Concrete",{"$nulls":8},0.09,"M³"]
[]
[null,4,"light brick wall (AAC block)"]
[null,null," Hebel wall t.10",{"$nulls":9},366.50170000000014,"M²"]
[]
[null,5,"Plaster Works"]
[null,"a"," Plastering",{"$nulls":9},733.00340000000028,"M²"]
[null,"b","Neat Plaster",{"$nulls":9},733.00340000000028,"M²"]
[]
[null,6,"Door and Window Frameworks"]
[null,"a","Door Frame AD-01 + Assesories",{"$nulls":9},2,"Pcs"]
[null,"b","Door Frame AD-02 + Assesories",{"$nulls":9},2,"Pcs"]
[null,"c","Door Frame AD-04 + Assesories",{"$nulls":9},1,"Pcs"]
[null,"d","Window Frame AW-01 + Assesories",{"$nulls":9},15,"Pcs"]
[null,"e"," Bouvenligh Frame  BV-01 + Assesories",{"$nulls":9},2,"Pcs"]
[null,"f"," RD-01 + Assesories",{"$nulls":9},1,"Pcs"]
[]
[null,7,"Specialities Works"]
[null,"a"," Variations grille / louvre",{"$nulls":9},60.230000000000004,"M²"]
[null,"b"," Installation GRC facia acessories",{"$nulls":9},52.447200000000002,"M²"]
[]
[null,8,"Ceilling Works"]
[null,"a"," Gypsum ceiling + Frame",{"$nulls":9},99.427499999999995,"M²"]
[null,"b"," Ceiling GRC + Frame",{"$nulls":9},60.835000000000001,"M²"]
[]
[null,9,"Floor and Wall Works"]
[null,"a"," Ceramic 60/60",{"$nulls":9},99.427499999999995,"M²"]
[null,"b","Ceramic Anti Slip  60/60 ",{"$nulls":9},58.134999999999998,"M²"]
[null,"c"," Ceramic 25/25",{"$nulls":9},2.6999999999999997,"M²"]
[null,"d"," Ceramic Wall 25/50",{"$nulls":9},11.888,"M²"]
[null,"e","Wall Base Plint",{"$nulls":9},177.61599999999999,"M¹"]
[]
[null,10,"Painting Works"]
[null,"a","Interior Wall Painting Works ",{"$nulls":9},366.50170000000014,"M²"]
[null,"b","exterior wall painting works- Wheatershield",{"$nulls":9},366.50170000000014,"M²"]
[null,"c","Ceiling Painting Works",{"$nulls":9},160.26249999999999,"M²"]
[]
[null,11,"Sanitary Works"]
[null,"a"," Squatting closet",{"$nulls":9},1,"Unit"]
[null,"b"," Sink",{"$nulls":9},1,"Unit"]
[null,"c"," floor Drain",{"$nulls":9},1,"Unit"]
[null,"d"," Water faucet",{"$nulls":9},1,"Unit"]
[]
[null,"XIV.","LABORATORY AND LIBRARY"]
[]
[null,"B","STRUCTURAL WORKS"]
[null,"A","SOIL AND FOUNDATION WORKS"]
[null,1,"cleaning Field",{"$nulls":9},264,"M²"]
[null,2,"Safety Fence, t = 2m",{"$nulls":9},43,"M¹"]
[null,3," Bouwplank/ Marking Board",{"$nulls":9},78,"M¹"]
[null,4," Termite",{"$nulls":9},264,"M²"]
[null,5,"Soil Excavation Work",{"$nulls":9},115.72275000000002,"M3"]
[null,6,"Soil back Filling",{"$nulls":9},68.366250000000008,"M³"]
[null,7,"Soil Filling on building",{"$nulls":9},5.7285000000000013,"M³"]
[null,8,"Lean Concrete Under Fondation",{"$nulls":9},32.188500000000005,"M³"]
[null,9,"Stone foundation (Aastamping)",{"$nulls":9},11.760000000000002,"M³"]
[null,10," Stone Masonry ",{"$nulls":9},33.809999999999995,"M³"]
[]
[null,"B","CONCRETE WORKS"]
[null,1," Foot Plate"]
[null,"a","-","Concrete",{"$nulls":8},10.692,"M³"]
[null,"b","-","Deformed Bar",{"$nulls":8},2523.3119999999999,"Kg"]
[null,"c","-","formwork Foundations",{"$nulls":8},35.636436000000003,"M²"]
[]
[null,2," Column Pedestal FP 1"]
[null,"a","-","Concrete",{"$nulls":8},4.8262499999999999,"M³"]
[null,"b","-","Deformed Bar",{"$nulls":8},825.28874999999994,"Kg"]
[null,"c","-","formwork column",{"$nulls":8},32.17660875,"M²"]
[]
[null,3," Tie Beam SL-01"]
[null,"a","-","Concrete",{"$nulls":8},9.8550000000000004,"M³"]
[null,"b","-","Deformed Bar",{"$nulls":8},2099.1150000000002,"Kg"]
[null,"c","-","Formwork Tie Beam",{"$nulls":8},131.396715,"M²"]
[]
[null,4," Column K-01"]
[null,"a","-","Concrete",{"$nulls":8},9.8010000000000002,"M³"]
[null,"b","-","Deformed Bar",{"$nulls":8},1675.971,"Kg"]
[null,"c","-","formwork column",{"$nulls":8},65.343266999999997,"M²"]
[]
[null,5," Ring beams RB-01"]
[null,"a","-","Concrete",{"$nulls":8},5.2649999999999997,"M³"]
[null,"b","-","Deformed Bar",{"$nulls":8},921.375,"Kg"]
[null,"c","-","formwork Beam",{"$nulls":8},87.751755000000003,"M²"]
[]
[null,6,"Lantel Beam"]
[null,"a","-","Concrete",{"$nulls":8},0.54,"M³"]
[null,"b","-","Deformed Bar",{"$nulls":8},100.98,"Kg"]
[null,"c","-","formwork Beam",{"$nulls":8},12.461580000000001,"M²"]
[]
[null,7,"roof Work"]
[null,null," light steel truss",{"$nulls":9},544.75584000000003,"M²"]
[]
[null,"C","ARCHITECTURAL WORKS"]
[null,1,"Light concrete under floor T 120 mm"]
[null,"a","-","Sir. Sand Filling",{"$nulls":8},12.938625,"M³"]
[null,"b","-","Concrete",{"$nulls":8},25.87725,"M³"]
[null,"c","-","Wiremash M-6 (1 Layer)",{"$nulls":8},258.77249999999998,"M²"]
[]
[null,2,"roof Work"]
[null,"a","Alumunium Floor",{"$nulls":9},544.75584000000003,"M²"]
[null,"b","Roof coverings",{"$nulls":9},544.75584000000003,"M²"]
[null,"c","Top Roofing",{"$nulls":9},26.16,"M¹"]
[null,"d"," Roof Facia",{"$nulls":9},52.32,"M¹"]
[]
[null,3," Ramp"]
[null,"a","-","Concrete",{"$nulls":8},0.99208799999999997,"M³"]
[]
[null,4,"step at terrace"]
[null,null,"-","Concrete",{"$nulls":8},0.54,"M³"]
[]
[null,5,"light brick wall (AAC block)"]
[null,"a"," Hebel wall t.10",{"$nulls":9},147.42600000000002,"M²"]
[]
[null,6,"Plaster Works"]
[null,"a"," Plastering",{"$nulls":9},294.85200000000003,"M²"]
[null,"b","Neat Plaster",{"$nulls":9},294.85200000000003,"M²"]
[]
[null,7,"Door and Window Frameworks"]
[null,"a","Door Frame AD-01 + Assesories",{"$nulls":9},4,"Pcs"]
[null,"b","Window Frame AW-01 + Assesories",{"$nulls":9},12,"Pcs"]
[]
[null,7,"Specialities Works"]
[null,"a"," Variations grille / louvre",{"$nulls":9},60.230000000000004,"M²"]
[null,"b"," Installation GRC facia acessories",{"$nulls":9},52.447200000000002,"M²"]
[]
[null,9,"Ceilling Works"]
[null,"a"," Gypsum ceiling + Frame",{"$nulls":9},209.74499999999998,"M²"]
[null,"b"," Ceiling GRC + Frame",{"$nulls":9},46.488749999999996,"M²"]
[]
[null,10,"Floor and Wall Works"]
[null,"a"," Ceramic 60/60",{"$nulls":9},209.74499999999998,"M²"]
[null,"b","Ceramic Anti Slip  60/60 ",{"$nulls":9},46.488749999999996,"M²"]
[null,"c","Wall Base Plint",{"$nulls":9},106.96,"M¹"]
[]
[null,11,"Painting Works"]
[null,"a","Interior Wall Painting Works ",{"$nulls":9},147.42600000000002,"M²"]
[null,"b","exterior wall painting works- Wheatershield",{"$nulls":9},147.42600000000002,"M²"]
[null,"c","Ceiling Painting Works",{"$nulls":9},256.23374999999999,"M²"]
[]
[null,"XV","TPS 3R"]
[]
[null,"B","STRUCTURAL WORKS"]
[null,"A","SOIL AND FOUNDATION WORKS"]
[null,1,"cleaning Field",{"$nulls":9},64.17,"M²"]
[null,2,"Safety Fence, t = 2m",{"$nulls":9},8,"M¹"]
[null,3," Bouwplank/ Marking Board",{"$nulls":9},40,"M¹"]
[null,4," Termite",{"$nulls":9},64.17,"M²"]
[null,5,"Soil Excavation Work",{"$nulls":9},11.4,"M³"]
[null,6,"Soil back Filling",{"$nulls":9},24.334400000000002,"M³"]
[null,7,"Lean Concrete Under Fondation",{"$nulls":9},0.47,"M³"]
[]
[null,8," Foot Plate"]
[null,"a","-Concrete",{"$nulls":9},1.3679999999999999,"M³"]
[null,"b","-Deformed Bar",{"$nulls":9},322.84799999999996,"Kg"]
[null,"c","-Formwork Foundations",{"$nulls":9},4.5595439999999998,"M²"]
[]
[null,9," column Pedestal"]
[null,"a","-Concrete",{"$nulls":9},1.7527499999999998,"M³"]
[null,"b","-Deformed Bar",{"$nulls":9},401.37974999999994,"Kg"]
[null,"c","-Formwork Foundations",{"$nulls":9},17.527499999999996,"M²"]
[]
[null,"B","CONCRETE WORKS"]
[null,1," Tie Beam SL-01"]
[null,"a","-Concrete",{"$nulls":9},2.7090000000000001,"M³"]
[null,"b","-Deformed Bar",{"$nulls":9},577.01700000000005,"Kg"]
[null,"c","-Tie Beam Formwork",{"$nulls":9},36.119097000000004,"M²"]
[]
[null,2," Column K-01 (15X20)"]
[null,"a","-Concrete",{"$nulls":9},1.1069999999999998,"M³"]
[null,"b","-Deformed Bar",{"$nulls":9},189.29699999999997,"Kg"]
[null,"c","-Column Formwork",{"$nulls":9},7.3803689999999982,"M²"]
[]
[null,3," Column K-01 (15X15)"]
[null,"a","-Concrete",{"$nulls":9},0.65,"M³"]
[null,"b","-Deformed Bar",{"$nulls":9},110.42,"Kg"]
[null,"c","-Column Formwork",{"$nulls":9},4.3099999999999996,"M²"]
[]
[null,3," Ring beams RB-01"]
[null,"a","-Concrete",{"$nulls":9},2.4750000000000001,"M³"]
[null,"b","-Deformed Bar",{"$nulls":9},433.125,"Kg"]
[null,"c","-Formwork Beam",{"$nulls":9},41.250825000000006,"M²"]
[]
[null,4,"roof Work"]
[null,"a"," Lightweight steel truss",{"$nulls":9},103.91800000000001,"M²"]
[]
[null,"C","ARCHITECTURAL WORKS"]
[]
[null,1,"Light concrete under floor T 120 mm"]
[null,"a","- sand Filling",{"$nulls":9},3.2085000000000004,"M³"]
[null,"b","-Concrete",{"$nulls":9},6.1750000000000007,"M³"]
[null,"c","- Wiremesh M-6 (1 Layer)",{"$nulls":9},61.75,"M²"]
[]
[null,2,"roof Work"]
[null,"b","Roof Coverings",{"$nulls":9},103.91800000000001,"M²"]
[null,"c","Top Roofing",{"$nulls":9},11.6,"M¹"]
[null,"d"," GRC Roof Facia",{"$nulls":9},42.78,"M¹"]
[]
[null,3,"Lantel Beam"]
[null,"a","-Concrete",{"$nulls":9},0.11999000000000001,"M³"]
[null,"b","-Deformed Bar",{"$nulls":9},302.94,"Kg"]
[null,"c","-Formwork",{"$nulls":9},37.384740000000001,"M²"]
[]
[null,4,"light brick wall (AAC block)"]
[null,"a"," Hebel wall t.10",{"$nulls":9},75.06,"M²"]
[]
[null,4,"Plaster Works"]
[null,"a"," Plastering",{"$nulls":9},150.12,"M²"]
[null,"b","Neat Plaster",{"$nulls":9},150.12,"M²"]
[]
[null,5,"Door and Window Frameworks"]
[null,"a","Door Frame AD-01 + Assesories",{"$nulls":9},2,"Pcs"]
[null,"b","PVC Door for Toilet",{"$nulls":9},1,"Pcs"]
[null,"c","Window Frame AW-01 + Assesories",{"$nulls":9},1,"Pcs"]
[null,"d"," Glass Block",{"$nulls":9},1,"M2"]
[]
[null,6,"Ceilling Works"]
[null,"a"," Gypsum ceiling + Frame",{"$nulls":9},10.5,"M²"]
[]
[null,7,"Floor and Wall Works"]
[null,"a"," Ceramic 30/30",{"$nulls":9},10.5,"M²"]
[null,"b"," Ceramic 25/25",{"$nulls":9},14.04,"M²"]
[null,"c","Trasram",{"$nulls":9},14.04,"M²"]
[]
[null,8,"Painting Works"]
[null,"a","Interior Wall Painting Works ",{"$nulls":9},75.06,"M²"]
[null,"b","exterior wall painting works- Wheatershield",{"$nulls":9},75.06,"M²"]
[null,"c","Ceiling Painting Works",{"$nulls":9},10.5,"M²"]
[]
[null,9,"Sanitary Works"]
[null,"a"," Squatting closet",{"$nulls":9},1,"Unit"]
[null,"b"," Water faucet",{"$nulls":9},2,"Unit"]
[null,"c"," floor Drain",{"$nulls":9},2,"Unit"]
[]
[null,10," Ramp"]
[null,"a","-Concrete",{"$nulls":9},0.69541200000000003,"M³"]
[]
[null,11," Iron Doors 80 x 270",{"$nulls":9},2,"Pcs"]
[null,12," Grill channel 15 x 175",{"$nulls":9},2,"Pcs"]
[]
[null,"VIII","ELECTRICAL WORKS"]
[null,"A","INSTALLATION OF ELECTRICAL PANEL"]
[null,1,"Main Panel"]
[null,null,"a. Installation of Main Panel",{"$nulls":9},1,"Unit"]
[null,null,"b. Installation of Panel Sub Distribution",{"$nulls":9},11,"Unit"]
[null,null,"c. Grounding system lengkap box control dan electrode rod (5 Ohm, Max)",{"$nulls":9},1,"ls"]
[]
[null,2,"Installation of Cable"]
[null,null,"a","(From PLN to M-DP)"]
[null,null," -","cable NYY  4 x 16 mm2 ",{"$nulls":8},50,"m"]
[null,null," -","cable NYA  1 x 16 mm2 ",{"$nulls":8},50,"m"]
[null,null,"b","(From  M-DP to LP-SMKM-PG1 )"]
[null,null," -","cable NYY  4 x 6 mm2 ",{"$nulls":8},12,"m"]
[null,null," -","cable NYA  1 x 6 mm2 ",{"$nulls":8},12,"m"]
[null,null,"c","(From  M-DP to LP-SMKM-PG2 )"]
[null,null," -","cable NYY  4 x 4 mm2 ",{"$nulls":8},56,"m"]
[null,null," -","cable NYA  1 x 6 mm2 ",{"$nulls":8},56,"m"]
[null,null,"d","(From  M-DP to LP-SMKM-PG3 )"]
[null,null," -","cable NYY  4 x 4 mm2 ",{"$nulls":8},40,"m"]
[null,null," -","cable NYA  1 x 6 mm2 ",{"$nulls":8},40,"m"]
[null,null,"e","(From  M-DP to LP-SMKM-PG4 )"]
[null,null," -","cable NYY  4 x 4 mm2 ",{"$nulls":8},56,"m"]
[null,null," -","cable NYA  1 x 6 mm2 ",{"$nulls":8},56,"m"]
[null,null,"f","(From  M-DP to LP-SMKM-PG5 )"]
[null,null," -","cable NYY  4 x 4 mm2 ",{"$nulls":8},65,"m"]
[null,null," -","cable NYA  1 x 6 mm2 ",{"$nulls":8},65,"m"]
[null,null,"g","(From  M-DP to LP-SMKM-PG6 )"]
[null,null," -","cable NYY  4 x 4 mm2 ",{"$nulls":8},70,"m"]
[null,null," -","cable NYA  1 x 6 mm2 ",{"$nulls":8},70,"m"]
[null,null,"h","(From  M-DP to LP-SMKM-PG7 )"]
[null,null," -","cable NYY  4 x 4 mm2 ",{"$nulls":8},75,"m"]
[null,null," -","cable NYA  1 x 6 mm2 ",{"$nulls":8},75,"m"]
[null,null,"i","(From  M-DP to LP-SMKM-PG8 )"]
[null,null," -","cable NYY  4 x 4 mm2 ",{"$nulls":8},12,"m"]
[null,null," -","cable NYA  1 x 6 mm2 ",{"$nulls":8},12,"m"]
[null,null,"j","(From  M-DP to LP-SMKM-PG9 )"]
[null,null," -","cable NYY  4 x 4 mm2 ",{"$nulls":8},56,"m"]
[null,null," -","cable NYA  1 x 6 mm2 ",{"$nulls":8},56,"m"]
[null,null,"k","(From  M-DP to LP-SMKM-PG10 )"]
[null,null," -","cable NYY  4 x 4 mm2 ",{"$nulls":8},40,"m"]
[null,null," -","cable NYA  1 x 6 mm2 ",{"$nulls":8},40,"m"]
[null,null,"l","(From  M-DP to LP-SMKM-PG11 )"]
[null,null," -","cable NYY  4 x 4 mm2 ",{"$nulls":8},56,"m"]
[null,null," -","cable NYA  1 x 6 mm2 ",{"$nulls":8},56,"m"]
[null,null,"m","(From  M-DP to LP-SMKM-PG12 )"]
[null,null," -","cable NYY  4 x 4 mm2 ",{"$nulls":8},60,"m"]
[null,null," -","cable NYA  1 x 6 mm2 ",{"$nulls":8},60,"m"]
[null,null,"n","(From  M-DP to LP-SMKM-PG13 )"]
[null,null," -","cable NYY  4 x 4 mm2 ",{"$nulls":8},65,"m"]
[null,null," -","cable NYA  1 x 6 mm2 ",{"$nulls":8},65,"m"]
[null,null,"o","(From  M-DP to LP-SMKM-PG14 )"]
[null,null," -","cable NYY  4 x 4 mm2 ",{"$nulls":8},70,"m"]
[null,null," -","cable NYA  1 x 6 mm2 ",{"$nulls":8},70,"m"]
[null,null,"i.","Accessories\n",{"$nulls":8},1,"ls"]
[]
[null,"B","INSTALLATION OF LIGHTNING SYSTEM"]
[null,null,1,"From Panel PP-SMKN-PG-1"]
[null,null,"-","Down light LED bulb 13 Watt",{"$nulls":8},8,"set"]
[null,null,"-","Linght RM LED TL 2 x 18 W / 220 V, Office, complete",{"$nulls":8},22,"set"]
[null,null,"-","Switch (1 gang)  220 V, inbow",{"$nulls":8},8,"set"]
[null,null,"-","Switch (2 gang)  220 V, inbow",{"$nulls":8},12,"set"]
[null,null,"-","Soctot 10 A / 220 V, inbow",{"$nulls":8},9,"set"]
[null,null,"-","Soctot AC 13A / 220 V,2P+E, inbow",{"$nulls":8},5,"set"]
[]
[null,null,2,"From Panel PP-SMKN-PG-2"]
[null,null,"-","Down light LED bulb 13 Watt",{"$nulls":8},12,"set"]
[null,null,"-","Linght RM LED TL 2 x 18 W / 220 V, Office, complete",{"$nulls":8},24,"set"]
[null,null,"-","Switch (1 gang)  220 V, inbow",{"$nulls":8},8,"set"]
[null,null,"-","Switch (2 gang)  220 V, inbow",{"$nulls":8},12,"set"]
[null,null,"-","Soctot 10 A / 220 V, inbow",{"$nulls":8},9,"set"]
[]
[null,null,3,"From Panel PP-SMKN-PG-3"]
[null,null,"-","Down light LED bulb 13 Watt",{"$nulls":8},12,"set"]
[null,null,"-","Linght RM LED TL 2 x 18 W / 220 V, Office, complete",{"$nulls":8},24,"set"]
[null,null,"-","Switch (1 gang)  220 V, inbow",{"$nulls":8},8,"set"]
[null,null,"-","Switch (2 gang)  220 V, inbow",{"$nulls":8},12,"set"]
[null,null,"-","Soctot 10 A / 220 V, inbow",{"$nulls":8},9,"set"]
[]
[null,null,4,"From Panel PP-SMKN-PG-4"]
[null,null,"-","Down light LED bulb 13 Watt",{"$nulls":8},12,"set"]
[null,null,"-","Linght RM LED TL 2 x 18 W / 220 V, Office, complete",{"$nulls":8},24,"set"]
[null,null,"-","Switch (1 gang)  220 V, inbow",{"$nulls":8},8,"set"]
[null,null,"-","Switch (2 gang)  220 V, inbow",{"$nulls":8},12,"set"]
[null,null,"-","Soctot 10 A / 220 V, inbow",{"$nulls":8},9,"set"]
[]
[null,null,5,"From Panel PP-SMKN-PG-5"]
[null,null,"-","Down light LED bulb 13 Watt",{"$nulls":8},12,"set"]
[null,null,"-","Linght RM LED TL 2 x 18 W / 220 V, Office, complete",{"$nulls":8},24,"set"]
[null,null,"-","Switch (1 gang)  220 V, inbow",{"$nulls":8},8,"set"]
[null,null,"-","Switch (2 gang)  220 V, inbow",{"$nulls":8},12,"set"]
[null,null,"-","Soctot 10 A / 220 V, inbow",{"$nulls":8},9,"set"]
[]
[null,null,6,"From Panel PP-SMKN-PG-6"]
[null,null,"-","Down light LED bulb 13 Watt",{"$nulls":8},6,"set"]
[null,null,"-","Baret circulair 20 Watt",{"$nulls":8},6,"set"]
[null,null,"-","Linght RM LED TL 2 x 18 W / 220 V, Office, complete",{"$nulls":8},30,"set"]
[null,null,"-","Switch (1 gang)  220 V, inbow",{"$nulls":8},8,"set"]
[null,null,"-","Switch (2 gang)  220 V, inbow",{"$nulls":8},14,"set"]
[null,null,"-","Soctot 10 A / 220 V, inbow",{"$nulls":8},9,"set"]
[]
[null,null,7,"From Panel PP-SMKN-PG-7"]
[null,null,"-","Down light LED bulb 13 Watt",{"$nulls":8},6,"set"]
[null,null,"-","Baret circulair 20 Watt",{"$nulls":8},6,"set"]
[null,null,"-","Linght RM LED TL 2 x 18 W / 220 V, Office, complete",{"$nulls":8},30,"set"]
[null,null,"-","Switch (1 gang)  220 V, inbow",{"$nulls":8},8,"set"]
[null,null,"-","Switch (2 gang)  220 V, inbow",{"$nulls":8},14,"set"]
[null,null,"-","Soctot 10 A / 220 V, inbow",{"$nulls":8},9,"set"]
[]
[null,null,8,"From Panel PP-SMKN-PG-8"]
[null,null,"-","Down light LED bulb 13 Watt",{"$nulls":8},6,"set"]
[null,null,"-","Baret circulair 20 Watt",{"$nulls":8},6,"set"]
[null,null,"-","Linght RM LED TL 2 x 18 W / 220 V, Office, complete",{"$nulls":8},30,"set"]
[null,null,"-","Switch (1 gang)  220 V, inbow",{"$nulls":8},8,"set"]
[null,null,"-","Switch (2 gang)  220 V, inbow",{"$nulls":8},14,"set"]
[null,null,"-","Soctot 10 A / 220 V, inbow",{"$nulls":8},9,"set"]
[]
[null,null,12,"From Panel PP-SMKN-PG-12"]
[null,null,"-","Down light LED bulb 13 Watt",{"$nulls":8},2,"set"]
[null,null,"-","Baret circulair 20 Watt",{"$nulls":8},6,"set"]
[null,null,"-","Linght RM LED TL 2 x 18 W / 220 V, Office, complete",{"$nulls":8},6,"set"]
[null,null,"-","Switch (1 gang)  220 V, inbow",{"$nulls":8},4,"set"]
[null,null,"-","Switch (2 gang)  220 V, inbow",{"$nulls":8},6,"set"]
[null,null,"-","Soctot 10 A / 220 V, inbow",{"$nulls":8},1,"set"]
[]
[null,null,13,"From Panel PP-SMKN-PG-13"]
[null,null,"-","Down light LED bulb 13 Watt",{"$nulls":8},13,"set"]
[null,null,"-","Linght RM LED TL 2 x 18 W / 220 V, Office, complete",{"$nulls":8},6,"set"]
[null,null,"-","Switch (1 gang)  220 V, inbow",{"$nulls":8},4,"set"]
[null,null,"-","Switch (2 gang)  220 V, inbow",{"$nulls":8},10,"set"]
[null,null,"-","Soctot 10 A / 220 V, inbow",{"$nulls":8},2,"set"]
[]
[null,null,14,"From Panel PP-SMKN-PG-14\\"]
[null,null,"-","Down light LED bulb 13 Watt",{"$nulls":8},5,"set"]
[null,null,"-","Baret circulair 20 Watt",{"$nulls":8},3,"set"]
[null,null,"-","Linght RM LED TL 2 x 18 W / 220 V, Office, complete",{"$nulls":8},4,"set"]
[null,null,"-","Switch (1 gang)  220 V, inbow",{"$nulls":8},4,"set"]
[null,null,"-","Switch (2 gang)  220 V, inbow",{"$nulls":8},4,"set"]
[null,null,"-","Soctot 10 A / 220 V, inbow",{"$nulls":8},3,"set"]
[]
[]
[null,"C","INSTALLATION OF AIR CONDITIONING"]
[null,1,"From Panel PP-SMKN-GG-1"]
[null,null,"a. AC Point",{"$nulls":9},10,"Point"]
[null,null,"b. Socket outlet AC",{"$nulls":9},10,"Set"]
[]
[null,"D","LIGHTNING PROTECTION",{"$nulls":9},1,"set"]
[]
[null,"E","FIRE EXTINGUISER",{"$nulls":9},4,"set"]
[]
[null,"F","CONNECTION PLN 6600 VA",{"$nulls":9},1,"unit"]
[]
[null,"IX","MECHANICAL WORKS"]
[null,null,1,"Installation of Water Supply"]
[null,null,"A","ADMINISTRATION BUILDING"]
[null,null,1,"Instalation of pipe PVC classPVC AW  1/2\"",{"$nulls":8},4,"m'"]
[null,null,2,"Instalation of pipe PVC classPVC AW 3/4\"",{"$nulls":8},8,"m'"]
[null,null,3,"Reservoir Tank, Capasity 1 M³",{"$nulls":8},1,"unit"]
[]
[null,null,"B","TOILET TPS3R"]
[null,null,1,"Instalation of pipe PVC classPVC AW  1/2\"",{"$nulls":8},8,"m'"]
[null,null,2,"Instalation of pipe PVC classPVC AW 1 1/2\"",{"$nulls":8},20,"m'"]
[null,null,3,"Reservoir Tank, Capasity 1 M³",{"$nulls":8},1,"unit"]
[]
[null,null,"C","TOILET TEACHER CLASSROOM D"]
[null,null,1,"Instalation of pipe PVC classPVC AW  1/2\"",{"$nulls":8},8,"m'"]
[null,null,2,"Instalation of pipe PVC classPVC AW 1 1/2\"",{"$nulls":8},20,"m'"]
[null,null,3,"Reservoir Tank, Capasity 1 M³",{"$nulls":8},1,"unit"]
[]
[null,null,"D","TOILET STUDENT CLASSROOM E"]
[null,null,1,"Instalation of pipe PVC classPVC AW  1/2\"",{"$nulls":8},12,"m'"]
[null,null,2,"Instalation of pipe PVC classPVC AW 2\"",{"$nulls":8},24,"m'"]
[null,null,3,"Reservoir Tank, Capasity 1 M³",{"$nulls":8},1,"unit"]
[]
[null,null,"E","MUSHOLA"]
[null,null,1,"Instalation of pipe PVC classPVC AW  1/2\"",{"$nulls":8},4,"m'"]
[null,null,2,"Instalation of pipe PVC classPVC AW 3/4\"",{"$nulls":8},8,"m'"]
[null,null,3,"Reservoir Tank, Capasity 1 M³",{"$nulls":8},1,"unit"]
[]
[null,null,"F","TRANSMITION SYSTEM"]
[null,null,1,"Transfer Pump",{"$nulls":8},2,"unit"]
[null,null,2,"Instalation of pipe PVC class D 1 1/2\"",{"$nulls":8},210,"m'"]
[]
[null,null,2,"Installation of Waste Water"]
[null,null,"A","ADMINISTRATION BUILDING"]
[null,null,1,"Instalation of pipe PVC class D  1 1/2\"",{"$nulls":8},4,"m'"]
[null,null,2,"Instalation of pipe PVC class D 3\"",{"$nulls":8},4,"m'"]
[null,null,3,"Instalation of pipe PVC class AW 2\"",{"$nulls":8},32,"m'"]
[null,null,4,"Transfer pump",{"$nulls":8},1,"unit"]
[]
[null,null,"B","TOILET TPS3R"]
[null,null,1,"Instalation of pipe PVC class D 1 1/2\"",{"$nulls":8},16,"m'"]
[null,null,2,"Instalation of pipe PVC class D 2\"",{"$nulls":8},4,"m'"]
[null,null,3,"Instalation of pipe PVC class D 3\"",{"$nulls":8},12,"m'"]
[null,null,4,"Instalation of pipe PVC class D 4\"",{"$nulls":8},72,"m'"]
[]
[null,null,"C","TOILET STUDENT CLASSROOM D"]
[null,null,1,"Instalation of pipe PVC class D 1 1/2\"",{"$nulls":8},8,"m'"]
[null,null,2,"Instalation of pipe PVC class D 3\"",{"$nulls":8},8,"m'"]
[]
[null,null,"D","TOILET TEACHER CLASSROOM E"]
[null,null,1,"Instalation of pipe PVC class D 1 1/2\"",{"$nulls":8},16,"m'"]
[null,null,2,"Instalation of pipe PVC class D 3\"",{"$nulls":8},4,"m'"]
[null,null,3,"Instalation of pipe PVC AW 2\"",{"$nulls":8},68,"m'"]
[null,null,4,"Transfer pump",{"$nulls":8},1,"unit"]
[]
[null,null,"E","STP SYSTEM"]
[null,null,1,"STP capasity 40 mpd",{"$nulls":8},1,"unit"]

{"sheet":"2. SMK Tanjung","index":2,"n_rows":1690,"n_cols":11,"rows_kept":1690,"cut":false,"hidden":false,"merged":[[9,1,9,10],[10,1,11,1],[10,2,11,6],[10,7,11,8],[10,9,11,9],[10,10,11,10]]}
[]
[null,"BILL OF QUANTITY"]
[]
[null,"Consulting Service for the Design and Construction Supervision for School and Medical Buildings in Lombok "]
[null,"Programme for Earthquake and Tsunami Infrastructure"]
[]
[null,"LOT 2 : SCHOOL FACILITIES"]
[]
[null,"SMK NEGERI 1 TANJUNG, DISTRICT OF NORTH LOMBOK"]
[]
[null,"No","WORK ITEM",{"$nulls":4},"VOLUME",null,"UNIT PRICE","TOTAL AMOUNT"]
[]
[]
[null,"I","PREPARATION WORK"]
[null,1,"Name Board Of Project Size 1,2 x 0.8 M",{"$nulls":4},1,"Pcs"]
[null,2,"Direction Keet (Project Office)",{"$nulls":4},12,"M²"]
[null,3,"Warehouse of Materials and Tools",{"$nulls":4},12,"M²"]
[null,4,"Documentation (Drone)",{"$nulls":4},1,"Ls"]
[null,5,"Reporting (Shop Drawing, Asbuilt Drawing)",{"$nulls":4},1,"Ls"]
[null,6,"Electricity and water  For project",{"$nulls":4},9,"month"]
[null,7,"HSE ( Health, Safety, and Environment )"]
[null,null,"a. OHS (Occupational Health and Safety)",{"$nulls":4},1,"Ls"]
[null,null,"b. Level of  Air Pollution",{"$nulls":4},2,"Point"]
[null,null,"c. Level of  Vibration During the Project",{"$nulls":4},2,"Point"]
[null,null,"d. Level of  Ground Water Pollution",{"$nulls":4},2,"Point"]
[null,null,"e. Level of  Surface Water Polution",{"$nulls":4},2,"Point"]
[null,null,"f. Reporting Documents ",{"$nulls":4},1,"Ls"]
[]
[null,"II","TEACHER ROOM BUILDING"]
[]
[null,"B","STRUCTURAL WORKS"]
[null,"B.1","SOIL AND FOUNDATION WORKS"]
[null,1,"Field Cleaning",{"$nulls":4},407,"M²"]
[null,2,"Safety Fence t. 2m",{"$nulls":4},54,"M¹"]
[null,3,"Bowplang / Marking",{"$nulls":4},104,"M¹"]
[null,4,"Anti Termite",{"$nulls":4},407,"M²"]
[null,5,"Soil Excavation Work",{"$nulls":4},396.44575000000003,"M³"]
[null,6,"Soil back Filling",{"$nulls":4},132.14858333333333,"M³"]
[null,7,"Soil Filling on building",{"$nulls":4},11.721500000000002,"M³"]
[null,8,"Lean Concrete Under Fondation",{"$nulls":4},11.721500000000002,"M³"]
[null,9,"Stone Foundation (Aastamping)",{"$nulls":4},31.000000000000004,"M³"]
[null,10,"Stone Masonry",{"$nulls":4},89.125,"M³"]
[]
[null,11,"Footplate Foundation FP1"]
[null,null,"concrete",{"$nulls":4},16.919999999999998,"M³"]
[null,null,"deformed bar",{"$nulls":4},3993.1199999999994,"Kg"]
[null,null,"Formwork",{"$nulls":4},56.394359999999999,"M²"]
[]
[null,12,"Pedestal Column FP1 "]
[null,null,"Concrete",{"$nulls":4},7.0852499999999994,"M³"]
[null,null,"deformed bar",{"$nulls":4},1211.5777499999999,"Kg"]
[null,null,"formwork",{"$nulls":4},47.237361749999998,"M²"]
[]
[null,"B.2","CONCRETE WORKS"]
[null,1,"Tie Beam SL-01"]
[null,null,"Concrete",{"$nulls":4},14.759999999999998,"M³"]
[null,null,"deformed bar",{"$nulls":4},3143.8799999999997,"Kg"]
[null,null,"Formwork Tie Beam",{"$nulls":4},196.79507999999998,"M²"]
[]
[null,2,"Column K-01"]
[null,null,"Concrete",{"$nulls":4},6.633,"M³"]
[null,null,"deformed bar",{"$nulls":4},1134.2429999999999,"Kg"]
[null,null,"formwork column",{"$nulls":4},44.222211000000001,"M²"]
[]
[null,3,"Ring beams RB-01"]
[null,null,"Concrete",{"$nulls":4},6.9749999999999996,"M³"]
[null,null,"deformed bar",{"$nulls":4},1220.625,"Kg"]
[null,null,"formwork Beam",{"$nulls":4},116.252325,"M²"]
[]
[null,4,"Roof Work"]
[null,"a","Lightweight steel truss",{"$nulls":4},782.95155,"M²"]
[]
[null,"C","ARCHITECTURAL WORKS"]
[null,1,"Roof Work"]
[null,"a","Alumunium Foil",{"$nulls":4},782.95155,"M²"]
[null,"b","Roof coverings",{"$nulls":4},782.95155,"M²"]
[null,"c","Top roofing",{"$nulls":4},39.174999999999997,"M¹"]
[null,"d","Roof Facia",{"$nulls":4},78.349999999999994,"M¹"]
[]
[null,2,"Light concrete under floor T 120 mm"]
[null,"a","Sand Filling",{"$nulls":4},19.991125,"M³"]
[null,"b","Concrete",{"$nulls":4},39.982250000000001,"M³"]
[null,"c","Wiremesh M-6 (1 Layer)",{"$nulls":4},399.82249999999999,"M²"]
[]
[null,3,"Beams Latei"]
[null,"a","Concrete",{"$nulls":4},1.2506000000000002,"M³"]
[null,"b","deformed bar",{"$nulls":4},233.86220000000003,"Kg"]
[null,"c","formwork",{"$nulls":4},28.860096200000005,"M²"]
[]
[null,4,"Step  at terrace"]
[null,null,"Concrete",{"$nulls":4},1.08,"M³"]
[]
[null,5,"Light Brick Wall (AAC block)"]
[null,null,"Hebel wall t.10",{"$nulls":4},182.19460000000004,"M²"]
[]
[null,6,"Plaster works"]
[null,"a","Plastering",{"$nulls":4},364.38920000000007,"M²"]
[null,"b","Neat Plastering",{"$nulls":4},364.38920000000007,"M²"]
[]
[null,7,"Door and Windows Frame Works"]
[null,"a","Door Door Frame AD-01 + Assesories",{"$nulls":4},6,"Pcs"]
[null,"b","Door Door Frame AD-04 + Assesories",{"$nulls":4},1,"Pcs"]
[null,"c","Window Window Frame AW-02 + Assesories",{"$nulls":4},18,"Pcs"]
[]
[null,8,"Specialities Works"]
[null,"a"," Installation GRC facia acessories",{"$nulls":4},154.3212,"M²"]
[]
[null,9,"Ceilling Works"]
[null,"a","Gypsum ceiling + Frame",{"$nulls":4},320.83624999999995,"M²"]
[null,"b"," Ceiling GRC + Frame",{"$nulls":4},74.14139999999999,"M²"]
[]
[null,10,"Floor and Wall Works"]
[null,"a"," Ceramic 60/60",{"$nulls":4},320.83624999999995,"M²"]
[null,"b","Ceramic Anti Slip 60/60",{"$nulls":4},71.290849999999992,"M²"]
[null,"c"," ceramic 25/25",{"$nulls":4},2.8505500000000001,"M²"]
[null,"d"," Ceramic wall 25/50",{"$nulls":4},12.646000000000001,"M²"]
[null,"e"," Ceramic Plint 10/60",{"$nulls":4},6.3230000000000004,"M¹"]
[]
[null,11,"Painting Works"]
[null,"a","Interior Wall Painting Works ",{"$nulls":4},182.19460000000004,"M²"]
[null,"b","exterior wall painting works- Wheatershield",{"$nulls":4},182.19460000000004,"M²"]
[null,"c","Ceiling Painting Works",{"$nulls":4},394.97764999999993,"M²"]
[]
[null,12,"Sanitary Works"]
[null,"a"," Sitting closet",{"$nulls":4},1,"Unit"]
[null,"b"," Sink",{"$nulls":4},1,"Unit"]
[null,"c"," floor Drain",{"$nulls":4},1,"Unit"]
[null,"d","wall Fawcett",{"$nulls":4},1,"Unit"]
[]
[null,"III","CLASS A BUILDING "]
[]
[null,"B","STRUCTURAL WORKS"]
[null,"A","SOIL AND FOUNDATION WORKS"]
[null,1,"cleaning Field",{"$nulls":4},350,"M²"]
[null,2,"Security Fence Project, t = 2m",{"$nulls":4},51,"M¹"]
[null,3," bouwplank",{"$nulls":4},98,"M¹"]
[null,4,"Termite",{"$nulls":4},350,"M²"]
[null,5,"Soil Excavation Work",{"$nulls":4},374.4615,"M³"]
[null,6,"Soil back Filling",{"$nulls":4},124.8205,"M³"]
[null,7,"Soil Filling on building",{"$nulls":4},11.251000000000003,"M³"]
[null,8,"Lean Concrete Under Fondation",{"$nulls":4},11.251000000000003,"M³"]
[null,9,"Stone foundation (Aastamping)",{"$nulls":4},32.159999999999997,"M³"]
[null,10,"Stone Masonry",{"$nulls":4},92.46,"M³"]
[]
[null,11," Foot Plate"]
[null,"a","Concrete",{"$nulls":4},13.68,"M³"]
[null,"b","deformed bar",{"$nulls":4},3228.48,"Kg"]
[null,"c","formwork Foundations",{"$nulls":4},45.595440000000004,"M²"]
[]
[null,12,"Column Pedestal FP1"]
[null,"a","Concrete",{"$nulls":4},5.7284999999999995,"M³"]
[null,"b","deformed bar",{"$nulls":4},979.57349999999997,"Kg"]
[null,"c","formwork column",{"$nulls":4},38.191909499999994,"M²"]
[]
[null,"B","CONCRETE WORKS"]
[null,1," Tie Beam SL-01"]
[null,"a","Concrete",{"$nulls":4},13.238999999999999,"M³"]
[null,"b","deformed bar",{"$nulls":4},2819.9069999999997,"Kg"]
[null,"c","Formwork Tie Beam",{"$nulls":4},176.51558699999998,"M²"]
[]
[null,2," Column K-01"]
[null,"a","Concrete",{"$nulls":4},10.853999999999999,"M³"]
[null,"b","deformed bar",{"$nulls":4},1856.0339999999999,"Kg"]
[null,"c","formwork column",{"$nulls":4},72.363617999999988,"M²"]
[]
[null,3,"Column K-02"]
[null,"a","Concrete",{"$nulls":4},0.75374999999999992,"M³"]
[null,"b","deformed bar",{"$nulls":4},172.60874999999999,"Kg"]
[null,"c","formwork column",{"$nulls":4},7.5374999999999996,"M²"]
[]
[null,4,"Column K-03"]
[null,"a","Concrete",{"$nulls":4},1.3567499999999999,"M³"]
[null,"b","deformed bar",{"$nulls":4},283.56074999999998,"Kg"]
[null,"c","formwork column",{"$nulls":4},18.089547749999998,"M²"]
[]
[null,5,"Ring beams RB-01"]
[null,"a","Concrete",{"$nulls":4},6.3967500000000008,"M³"]
[null,"b","deformed bar",{"$nulls":4},1119.4312500000001,"Kg"]
[null,"c","formwork Beam",{"$nulls":4},106.61463225000003,"M²"]
[]
[null,2,"Concrete Flat roof"]
[null,"a","Concrete",{"$nulls":4},5.9039999999999999,"M³"]
[null,"b","deformed bar",{"$nulls":4},826.56,"Kg"]
[null,"c","formwork",{"$nulls":4},49.198031999999998,"M²"]
[]
[null,6,"Roof Work"]
[null,"a"," Lightweight steel horses",{"$nulls":4},539.61599999999999,"M²"]
[]
[null,"C","ARCHITECTURAL WORKS"]
[null,1,"Roof Work"]
[null,"b"," roof coverings",{"$nulls":4},539.61599999999999,"M²"]
[null,"c"," Top Roofing",{"$nulls":4},29.2,"M¹"]
[null,"d"," Roof Facia",{"$nulls":4},58.4,"M¹"]
[]
[null,1,"Light concrete under floor T 120 mm"]
[null,"a","Sand Filling",{"$nulls":4},17.163625,"M³"]
[null,"b","Concrete",{"$nulls":4},34.327249999999999,"M³"]
[null,"c","Wiremesh M-6 (1 Layer)",{"$nulls":4},343.27249999999998,"M²"]
[]
[null,3,"Waterproofing"]
[null,"a","membrame waterproofing",{"$nulls":4},48,"M²"]
[]
[null,4,"Protection Concrete T 50 mm"]
[null,"a","Concrete",{"$nulls":4},2.4000000000000004,"M²"]
[null,"b","wiremesh M-4",{"$nulls":4},48,"M²"]
[]
[null,3,"Latei Beams"]
[null,"a","Concrete",{"$nulls":4},1.6672499999999999,"M³"]
[null,"b","deformed bar",{"$nulls":4},311.77574999999996,"Kg"]
[null,"c","formwork",{"$nulls":4},38.475128249999997,"M²"]
[]
[null,4," Step  at terrace"]
[null,"a","Concrete",{"$nulls":4},1.4040000000000001,"M³"]
[]
[null,5,"Light Brick Wall (AAC block)"]
[null,"a"," Hebel wall t.10",{"$nulls":4},259.96291999999994,"M²"]
[]
[null,6,"Plaster works"]
[null,"a"," Plastering",{"$nulls":4},519.92583999999988,"M²"]
[null,"b","Neat Plastering",{"$nulls":4},519.92583999999988,"M²"]
[]
[null,7,"Door and Windows Frame Works"]
[null,"a","Door Frame AD-01 + Assesories",{"$nulls":4},6,"Pcs"]
[null,"b","Door Frame AD-03 + Assesories",{"$nulls":4},2,"Pcs"]
[null,"c","Door Frame AD-04 + Assesories",{"$nulls":4},2,"Pcs"]
[null,"d","Door Frame AD-05 + Assesories",{"$nulls":4},6,"Pcs"]
[null,"e","Window Frame AW-02 + Assesories",{"$nulls":4},12,"Pcs"]
[null,"f","Boveligh Frame BV-01 + Assesories",{"$nulls":4},8,"Pcs"]
[]
[null,8,"Specialities Works"]
[null,"a"," Installation GRC facia acessories",{"$nulls":4},143.34309999999999,"M²"]
[]
[null,9,"Ceilling Works"]
[null,"a"," Gypsum ceiling + Frame",{"$nulls":4},208.41749999999999,"M²"]
[null,"b"," Ceiling GRC + Frame",{"$nulls":4},105.54374999999997,"M²"]
[]
[null,10,"Floor and Wall Works"]
[null,"a"," Ceramic 60/60",{"$nulls":4},208.41749999999999,"M²"]
[null,"b","Ceramic Anti Slip 60/60",{"$nulls":4},63.693750000000001,"M²"]
[null,"c"," ceramic 25/25",{"$nulls":4},41.849999999999994,"M²"]
[null,"d"," Ceramic Wall 25/50",{"$nulls":4},139.53791999999999,"M²"]
[null,"e","Wall Base Plint",{"$nulls":4},129.756,"M¹"]
[]
[null,11,"Painting Works"]
[null,"a","Interior Wall Painting Works ",{"$nulls":4},259.96291999999994,"M²"]
[null,"b","exterior wall painting works- Wheatershield",{"$nulls":4},259.96291999999994,"M²"]
[null,"c","Ceiling Painting Works",{"$nulls":4},313.96124999999995,"M²"]
[]
[null,12,"Sanitary Works"]
[null,"a"," Squatting closet",{"$nulls":4},6,"Unit"]
[null,"b"," Sitting closet",{"$nulls":4},2,"Unit"]
[null,"c"," urinal",{"$nulls":4},2,"Unit"]
[null,"d"," Sink",{"$nulls":4},4,"Unit"]
[null,"e"," floor Drain",{"$nulls":4},8,"Unit"]
[null,"f"," Water faucet",{"$nulls":4},6,"Unit"]
[null,"g"," Disability Handrail length 1m",{"$nulls":4},2,"Unit"]
[null,"h"," 304 SS handrail Ø50mm",{"$nulls":4},2,"Unit"]
[]
[null,"IV","CLASS B BUILDING "]
[]
[null,"B","STRUCTURAL WORKS"]
[null,"A","SOIL & FOUNDATION WORKS"]
[null,1,"cleaning Field",{"$nulls":4},560,"M²"]
[null,2,"Security Fence Project, t = 2m",{"$nulls":4},72,"M¹"]
[null,3," bouwplank",{"$nulls":4},140,"M¹"]
[null,4," Termite",{"$nulls":4},350,"M²"]
[null,5,"Soil Excavation Work",{"$nulls":4},489.17700000000002,"M³"]
[null,6,"Soil back Filling",{"$nulls":4},163.059,"M³"]
[null,7,"Soil Filling on building",{"$nulls":4},14.631499999999997,"M³"]
[null,8,"Lean Concrete Under Fondation",{"$nulls":4},14.631499999999997,"M³"]
[null,9,"Stone foundation (Aastamping)",{"$nulls":4},40.949999999999996,"M³"]
[null,10,"Stone Masonry",{"$nulls":4},117.73124999999999,"M³"]
[]
[null,11," Foot Plate"]
[null,"a","Concrete",{"$nulls":4},18.72,"M³"]
[null,"b","deformed bar",{"$nulls":4},4417.92,"Kg"]
[null,"c","Formwork Tie Beam",{"$nulls":4},62.39376,"M²"]
[]
[null,12," Column Pedestal FP1"]
[null,"a","Concrete",{"$nulls":4},7.8389999999999995,"M³"]
[null,"b","deformed bar",{"$nulls":4},1340.4689999999998,"Kg"]
[null,"c","formwork column",{"$nulls":4},52.262612999999995,"M²"]
[]
[null,"B","CONCRETE WORKS"]
[null,1," Tie Beam SL-01"]
[null,"a","Concrete",{"$nulls":4},17.268750000000001,"M³"]
[null,"b","deformed bar",{"$nulls":4},3678.2437500000001,"Kg"]
[null,"c","Formwork Tie Beam",{"$nulls":4},230.24424375000001,"M²"]
[]
[null,2," Column K-01"]
[null,"a","Concrete",{"$nulls":4},14.170499999999999,"M³"]
[null,"b","deformed bar",{"$nulls":4},2423.1554999999998,"Kg"]
[null,"c","formwork column",{"$nulls":4},94.474723499999996,"M²"]
[]
[null,3," Column K-03"]
[null,"a","Concrete",{"$nulls":4},9.8819999999999979,"M³"]
[null,"b","deformed bar",{"$nulls":4},330.820875,"Kg"]
[null,"c","formwork column",{"$nulls":4},21.104472375,"M²"]
[]
[null,4," Ring beams RB-01"]
[null,"a","Concrete",{"$nulls":4},9.6322499999999973,"M³"]
[null,"b","deformed bar",{"$nulls":4},1685.6437499999995,"Kg"]
[null,"c","formwork Beam",{"$nulls":4},160.54071074999996,"M²"]
[]
[null,5,"Concrete Flat Roof (x2 unit)"]
[null,"a","Concrete",{"$nulls":4},5.4239999999999995,"M³"]
[null,"b","deformed bar",{"$nulls":4},759.3599999999999,"Kg"]
[null,"c","formwork",{"$nulls":4},45.198191999999999,"M²"]
[]
[null,5,"Roof Work"]
[null,"a"," Lightweight steel horses",{"$nulls":4},979.70600999999999,"M²"]
[]
[null,"C","ARCHITECTURAL WORKS"]
[null,1,"Roof Work"]
[null,"b"," roof coverings",{"$nulls":4},979.70600999999999,"M²"]
[null,"c"," Top Roofing",{"$nulls":4},50.195,"M¹"]
[null,"d"," Roof Facia",{"$nulls":4},100.39,"M¹"]
[]
[null,2,"Light concrete under floor T 120 mm"]
[null,"a","Sand Filling",{"$nulls":4},24.821999999999999,"M³"]
[null,"b","Concrete",{"$nulls":4},53.48,"M³"]
[null,"c","Wiremesh M-6 (1 Layer)",{"$nulls":4},534.79999999999995,"M²"]
[]
[null,3,"Waterproofing"]
[null,"a","membrame waterproofing",{"$nulls":4},48,"M²"]
[]
[null,4,"Protection Concrete T 50 mm"]
[null,"a","Concrete",{"$nulls":4},2.4,"M²"]
[null,"b","wiremesh M-4",{"$nulls":4},48,"M²"]
[]
[null,5,"Latei Beams"]
[null,"a","Concrete",{"$nulls":4},2.4952500000000004,"M³"]
[null,"b","deformed bar",{"$nulls":4},466.61175000000009,"Kg"]
[null,"c","formwork",{"$nulls":4},57.582884250000014,"M²"]
[]
[null,6," Step  at terrace"]
[null,"a","Concrete",{"$nulls":4},1.7280000000000002,"M³"]
[]
[null,7,"Light Brick Wall (AAC block)"]
[null,"a"," Hebel wall t.10",{"$nulls":4},254.56114999999994,"M²"]
[]
[null,8,"Plaster works"]
[null,"a"," Plastering",{"$nulls":4},509.12229999999988,"M²"]
[null,"b","Neat Plastering",{"$nulls":4},509.12229999999988,"M²"]
[]
[null,9,"Door and Windows Frame Works"]
[null,"a","Door Frame AD-01 + Assesories",{"$nulls":4},10,"Pcs"]
[null,"b","Door Frame AD-03 + Assesories",{"$nulls":4},2,"Pcs"]
[null,"c","Door Frame AD-04 + Assesories",{"$nulls":4},2,"Pcs"]
[null,"d","Door Frame AD-05 + Assesories",{"$nulls":4},5,"Pcs"]
[null,"e","Window Frame AW-02 + Assesories",{"$nulls":4},22,"Pcs"]
[null,"f","Boveligh Frame BV-01 + Assesories",{"$nulls":4},12,"Pcs"]
[]
[null,10,"Specialities Works"]
[null,"a"," Variations grille / louvre",{"$nulls":4},51.449999999999996,"M²"]
[null,"b"," Installation GRC facia acessories",{"$nulls":4},112.56979999999999,"M²"]
[]
[null,11,"Ceilling Works"]
[null,"a"," Gypsum ceiling + Frame",{"$nulls":4},301.44,"M²"]
[null,"b"," Ceiling GRC + Frame",{"$nulls":4},144.80100000000002,"M²"]
[null,"c"," Ceramic 60/60",{"$nulls":4},301.44,"M²"]
[]
[null,12,"Floor and Wall Works"]
[null,"a","Ceramic Anti Slip 60/60",{"$nulls":4},107.14874999999999,"M²"]
[null,"b"," ceramic 25/25",{"$nulls":4},37.652249999999995,"M²"]
[null,"c"," Ceramic Wall 25/50",{"$nulls":4},130.06540000000001,"M²"]
[null,"d","Wall Base Plint",{"$nulls":4},203.02199999999999,"M¹"]
[]
[null,13,"Painting Works"]
[null,"a","Interior Wall Painting Works ",{"$nulls":4},254.56114999999994,"M²"]
[null,"b","exterior wall painting works- Wheatershield",{"$nulls":4},254.56114999999994,"M²"]
[null,"c","Ceiling Painting Works",{"$nulls":4},446.24099999999999,"M²"]
[]
[null,14,"Sanitary Works"]
[null,"a"," Squatting closet",{"$nulls":4},5,"Unit"]
[null,"b"," Sitting closet",{"$nulls":4},2,"Unit"]
[null,"c"," urinal",{"$nulls":4},2,"Unit"]
[null,"d"," Sink",{"$nulls":4},4,"Unit"]
[null,"e"," floor Drain",{"$nulls":4},7,"Unit"]
[null,"f"," Water faucet",{"$nulls":4},5,"Unit"]
[null,"g"," Disability Handrail length 1m",{"$nulls":4},2,"Unit"]
[null,"h"," 304 SS handrail Ø50mm",{"$nulls":4},2,"Unit"]
[]
[]
[null,"V","CLASS D BUILDING "]
[]
[null,"B","STRUCTURAL WORKS"]
[null,"A","SOIL & FOUNDATION WORKS"]
[null,1,"cleaning Field",{"$nulls":4},180,"M²"]
[null,2,"Security Fence Project, t = 2m",{"$nulls":4},34,"M¹"]
[null,3," bouwplank",{"$nulls":4},64,"M¹"]
[null,4," Termite",{"$nulls":4},180,"M²"]
[null,5,"Soil Excavation Work",{"$nulls":4},305.20074999999997,"M³"]
[null,6,"Soil back Filling",{"$nulls":4},101.73358333333333,"M³"]
[null,7,"Soil Filling on building",{"$nulls":4},9.2815000000000012,"M³"]
[null,8,"Lean Concrete Under Fondation",{"$nulls":4},9.2815000000000012,"M³"]
[null,9,"Stone foundation (Aastamping)",{"$nulls":4},28,"M³"]
[null,10,"Stone Masonry",{"$nulls":4},80.5,"M³"]
[]
[null,11," Foot Plate"]
[null,"a","Concrete",{"$nulls":4},9.7199999999999989,"M³"]
[null,"b","deformed bar",{"$nulls":4},2293.9199999999996,"Kg"]
[null,"c","formwork Foundations",{"$nulls":4},32.39676,"M²"]
[]
[null,12," Column Pedestal FP1"]
[null,"a","Concrete",{"$nulls":4},4.0702499999999997,"M³"]
[null,"b","deformed bar",{"$nulls":4},696.01274999999998,"Kg"]
[null,"c","formwork column",{"$nulls":4},27.136356749999997,"M²"]
[]
[null,"B","CONCRETE WORKS"]
[null,1," Tie Beam SL-01"]
[null,"a","Concrete",{"$nulls":4},7.1999999999999993,"M³"]
[null,"b","deformed bar",{"$nulls":4},1533.6,"Kg"]
[null,"c","Formwork Tie Beam",{"$nulls":4},95.997599999999991,"M²"]
[]
[null,2," Column K-01"]
[null,"a","Concrete",{"$nulls":4},8.1404999999999994,"M³"]
[null,"b","deformed bar",{"$nulls":4},1392.0255,"Kg"]
[null,"c","formwork column",{"$nulls":4},54.272713499999995,"M²"]
[]
[null,3," Ring beams RB-01"]
[null,"a","Concrete",{"$nulls":4},5.04,"M³"]
[null,"b","deformed bar",{"$nulls":4},882,"Kg"]
[null,"c","formwork Beam",{"$nulls":4},84.001680000000007,"M²"]
[]
[null,4,"Roof Work"]
[null,"a"," Lightweight steel horses",{"$nulls":4},348.49039999999997,"M²"]
[]
[null,"C","ARCHITECTURAL WORKS"]
[null,1,"Roof Work"]
[null,"b"," roof coverings",{"$nulls":4},348.49039999999997,"M²"]
[null,"c"," Top Roofing",{"$nulls":4},20.2,"M¹"]
[null,"d"," Roof Facia",{"$nulls":4},40.4,"M¹"]
[]
[null,2,"Light concrete under floor T 120 mm"]
[null,"a","-"," Sand Filling",null,null,null,8.791125000000001,"M³"]
[null,"b","-","Concrete",null,null,null,17.582250000000002,"M³"]
[null,"c","-","Wiremesh M-6 (1 Layer)",null,null,null,175.82250000000002,"M²"]
[]
[null,3,"Latei Beams"]
[null,"a","-","Concrete",null,null,null,0.80999999999999994,"M³"]
[null,"b","-","deformed bar",null,null,null,151.47,"Kg"]
[null,"c","-","formwork",null,null,null,18.69237,"M²"]
[]
[null,4," Step  at terrace"]
[null,null,"-","Concrete",null,null,null,1.08,"M³"]
[]
[null,4,"Light Brick Wall (AAC block)"]
[null,null," Hebel wall t.10",{"$nulls":4},96.10299999999998,"M²"]
[]
[null,6,"Plaster works"]
[null,"a"," Plastering",{"$nulls":4},192.20599999999996,"M²"]
[null,"b","Neat Plastering",{"$nulls":4},192.20599999999996,"M²"]
[]
[null,7,"Door and Windows Frame Works"]
[null,"a","Door Frame AD-01 + Assesories",{"$nulls":4},4,"Pcs"]
[null,"b","Window Frame AW-02 + Assesories",{"$nulls":4},8,"Pcs"]
[]
[null,8,"Specialities Works"]
[null,"a"," Variations grille / louvre",{"$nulls":4},51.449999999999996,"M²"]
[null,"b"," Installation GRC facia acessories",{"$nulls":4},68.769799999999989,"M²"]
[]
[null,9,"Ceilling Works"]
[null,"a"," Gypsum ceiling + Frame",{"$nulls":4},138.94499999999999,"M²"]
[null,"b"," Ceiling GRC + Frame",{"$nulls":4},21.643874999999998,"M²"]
[]
[null,10,"Floor and Wall Works"]
[null,"a"," Ceramic 60/60",{"$nulls":4},138.94499999999999,"M²"]
[null,"b","Ceramic Anti Slip 60/60",{"$nulls":4},21.643874999999998,"M²"]
[null,"c","Wall Base Plint",{"$nulls":4},76.919999999999987,"M¹"]
[]
[null,11,"Painting Works"]
[null,"a","Interior Wall Painting Works ",{"$nulls":4},96.10299999999998,"M²"]
[null,"b","exterior wall painting works- Wheatershield",{"$nulls":4},96.10299999999998,"M²"]
[null,"c","Ceiling Painting Works",{"$nulls":4},160.588875,"M²"]
[]
[]
[null,"VI","RPS TATA BOGA BUILDING "]
[]
[null,"B","STRUCTURAL WORKS"]
[null,"A","SOIL & FOUNDATION WORKS"]
[null,1,"cleaning Field",{"$nulls":4},330,"M²"]
[null,2,"Security Fence Project, t = 2m",{"$nulls":4},47,"M¹"]
[null,3," bouwplank",{"$nulls":4},90,"M¹"]
[null,4," Termite",{"$nulls":4},330,"M²"]
[null,5,"Soil Excavation Work",{"$nulls":4},431.3877500000001,"M³"]
[null,6,"Soil back Filling",{"$nulls":4},143.7959166666667,"M³"]
[null,7,"Soil Filling on building",{"$nulls":4},13.095500000000001,"M³"]
[null,8,"Lean Concrete Under Fondation",{"$nulls":4},13.095500000000001,"M³"]
[null,9,"Stone foundation (Aastamping)",{"$nulls":4},39.200000000000003,"M³"]
[null,10,"Stone Masonry",{"$nulls":4},112.69999999999999,"M³"]
[]
[null,11," Foot Plate"]
[null,"a","Concrete",{"$nulls":4},14.04,"M³"]
[null,"b","deformed bar",{"$nulls":4},3313.4399999999996,"Kg"]
[null,"c","formwork Foundations",{"$nulls":4},46.795319999999997,"M²"]
[]
[null,12," Column Pedestal FP1"]
[null,"a","Concrete",{"$nulls":4},5.7284999999999995,"M³"]
[null,"b","deformed bar",{"$nulls":4},979.57349999999997,"Kg"]
[null,"c","formwork column",{"$nulls":4},38.191909499999994,"M²"]
[]
[null,13," Column Pedestal FP2"]
[null,"a","Concrete",{"$nulls":4},7.5374999999999998E-2,"M³"]
[null,"b","deformed bar",{"$nulls":4},17.260874999999999,"Kg"]
[null,"c","formwork column",{"$nulls":4},0.75374999999999992,"M²"]
[]
[null,"B","CONCRETE WORKS"]
[null,1," Tie Beam SL-01"]
[null,"a","Concrete",{"$nulls":4},11.688750000000001,"M³"]
[null,"b","deformed bar",{"$nulls":4},2489.7037500000001,"Kg"]
[null,"c","Formwork Tie Beam",{"$nulls":4},155.84610375,"M²"]
[]
[null,2," Column K-01"]
[null,"a","Concrete",{"$nulls":4},15.444000000000001,"M³"]
[null,"b","deformed bar",{"$nulls":4},2640.924,"Kg"]
[null,"c","formwork column",{"$nulls":4},102.965148,"M²"]
[]
[null,3," Column K-02"]
[null,"a","Concrete",{"$nulls":4},0.19800000000000001,"M³"]
[null,"b","deformed bar",{"$nulls":4},45.341999999999999,"Kg"]
[null,"c","formwork column",{"$nulls":4},1.98,"M²"]
[]
[null,4," Column K-03"]
[null,"a","Concrete",{"$nulls":4},0.29700000000000004,"M³"]
[null,"b","deformed bar",{"$nulls":4},62.073000000000008,"Kg"]
[null,"c","formwork column",{"$nulls":4},3.9599010000000008,"M²"]
[]
[null,5," Ring beams RB-01"]
[null,"a","Concrete",{"$nulls":4},7.098749999999999,"M³"]
[null,"b","deformed bar",{"$nulls":4},1242.2812499999998,"Kg"]
[null,"c","formwork Beam",{"$nulls":4},118.31486624999999,"M²"]
[]
[null,6,"Roof Work"]
[null,"a"," Lightweight steel horses",{"$nulls":4},692.51199999999994,"M²"]
[]
[null,"C","ARCHITECTURAL WORKS"]
[null,1,"Roof Work"]
[null,"a","Alumunium Foil",{"$nulls":4},692.51199999999994,"M2"]
[null,"b"," roof coverings",{"$nulls":4},692.51199999999994,"M²"]
[null,"c"," Top Roofing",{"$nulls":4},32.299999999999997,"M¹"]
[null,"d"," Roof Facia",{"$nulls":4},64.599999999999994,"M¹"]
[]
[null,2,"Light concrete under floor T 120 mm"]
[null,"a","-"," Sand Filling",null,null,null,16.193625000000001,"M³"]
[null,"b","-","Concrete",null,null,null,32.387250000000002,"M³"]
[null,"c","-","Wiremesh M-6 (1 Layer)",null,null,null,323.8725,"M²"]
[]
[null,3,"Latei Beams"]
[null,"a","-","Concrete",null,null,null,1.4624999999999997,"M³"]
[null,"b","-","deformed bar",null,null,null,273.48749999999995,"Kg"]
[null,"c","-","formwork",null,null,null,33.750112499999993,"M²"]
[]
[null,4," Step  at terrace"]
[null,null,"-","Concrete",null,null,null,1.08,"M³"]
[]
[null,5,"ramp"]
[null,null,"-","Concrete",null,null,null,0.95904,"M³"]
[]
[null,6,"Light Brick Wall (AAC block)"]
[null,null," Hebel wall t.10",{"$nulls":4},262.94880000000006,"M²"]
[]
[null,7,"Plaster works"]
[null,null," Plastering",{"$nulls":4},525.89760000000012,"M²"]
[null,null,"Neat Plastering",{"$nulls":4},525.89760000000012,"M²"]
[]
[null,8,"Door and Windows Frame Works"]
[null,"a","Door Frame AD-01 + Assesories",{"$nulls":4},2,"Pcs"]
[null,"b","Door Frame AD-03 + Assesories",{"$nulls":4},2,"Pcs"]
[null,"c","Door Frame AD-04 + Assesories",{"$nulls":4},1,"Pcs"]
[null,"d","Window Frame AW-01 + Assesories",{"$nulls":4},16,"Pcs"]
[null,"e","Boveligh Frame BV-01 + Assesories",{"$nulls":4},2,"Pcs"]
[null,"f","Rolling Door",{"$nulls":4},1,"Pcs"]
[]
[null,9,"Specialities Works"]
[null,"a"," Variations grille / louvre",{"$nulls":4},60.25,"M²"]
[null,"b"," Installation GRC facia acessories",{"$nulls":4},52.465399999999995,"M²"]
[]
[null,10,"Ceilling Works"]
[null,"a"," Gypsum ceiling + Frame",{"$nulls":4},258.72749999999996,"M²"]
[null,"b"," Ceiling GRC + Frame",{"$nulls":4},60.666499999999999,"M²"]
[]
[null,11,"Floor and Wall Works"]
[null,"a"," Ceramic 60/60",{"$nulls":4},258.72749999999996,"M²"]
[null,"b","Ceramic Anti Slip 60/60",{"$nulls":4},55.512499999999989,"M²"]
[null,"c"," ceramic 25/25",{"$nulls":4},2.7239999999999998,"M²"]
[null,"d"," Ceramic Wall 25/50",{"$nulls":4},12.087999999999999,"M²"]
[null,"e","Wall Base Plint",{"$nulls":4},79.606000000000009,"M¹"]
[]
[null,2,"Painting Works"]
[null,"a","Interior Wall Painting Works ",{"$nulls":4},262.94880000000006,"M²"]
[null,"b","exterior wall painting works- Wheatershield",{"$nulls":4},262.94880000000006,"M²"]
[null,"c","Ceiling Painting Works",{"$nulls":4},319.39399999999995,"M²"]
[]
[null,3,"Sanitary Works"]
[null,"a"," Squatting closet",{"$nulls":4},1,"Unit"]
[null,"b"," Sink",{"$nulls":4},1,"Unit"]
[null,"c"," floor Drain",{"$nulls":4},1,"Unit"]
[null,"d"," Water faucet",{"$nulls":4},1,"Unit"]
[]
[null,"VII","RPS BUSINESS AND MOTORCYCLES BUILDING "]
[]
[null,"B","STRUCTURAL WORKS"]
[null,"A","SOIL & FOUNDATION WORKS"]
[null,1,"cleaning Field",{"$nulls":4},330,"M²"]
[null,2,"Security Fence Project, t = 2m",{"$nulls":4},47,"M¹"]
[null,3," bouwplank",{"$nulls":4},90,"M¹"]
[null,4," Termite",{"$nulls":4},330,"M²"]
[null,5,"Soil Excavation Work",{"$nulls":4},483.83225000000004,"M³"]
[null,6,"Soil back Filling",{"$nulls":4},161.27741666666668,"M³"]
[null,7,"Soil Filling on building",{"$nulls":4},14.764500000000002,"M³"]
[null,8,"Lean Concrete Under Fondation",{"$nulls":4},14.764500000000002,"M³"]
[null,9,"Stone foundation (Aastamping)",{"$nulls":4},45.2,"M³"]
[null,10,"Stone Masonry",{"$nulls":4},129.94999999999999,"M³"]
[]
[null,11," Foot Plate"]
[null,"a","Concrete",{"$nulls":4},14.76,"M³"]
[null,"b","deformed bar",{"$nulls":4},3483.36,"Kg"]
[null,"c","formwork Foundations",{"$nulls":4},49.195080000000004,"M²"]
[]
[null,12," Column Pedestal FP1"]
[null,"a","Concrete",{"$nulls":4},5.57775,"M³"]
[null,"b","deformed bar",{"$nulls":4},953.79525000000001,"Kg"]
[null,"c","formwork column",{"$nulls":4},37.186859249999998,"M²"]
[]
[null,13," Column Pedestal FP2"]
[null,"a","Concrete",{"$nulls":4},0.30149999999999999,"M³"]
[null,"b","deformed bar",{"$nulls":4},69.043499999999995,"Kg"]
[null,"c","formwork column",{"$nulls":4},3.0149999999999997,"M²"]
[]
[null,"B","CONCRETE WORKS"]
[null,1," Tie Beam SL-01"]
[null,"a","Concrete",{"$nulls":4},11.688750000000001,"M³"]
[null,"b","deformed bar",{"$nulls":4},2489.7037500000001,"Kg"]
[null,"c","Formwork Tie Beam",{"$nulls":4},155.84610375,"M²"]
[]
[null,2," Column K-01"]
[null,"a","Concrete",{"$nulls":4},14.652000000000001,"M³"]
[null,"b","deformed bar",{"$nulls":4},2505.4920000000002,"Kg"]
[null,"c","formwork column",{"$nulls":4},97.684884000000011,"M²"]
[]
[null,1," Column K-02"]
[null,"a","Concrete",{"$nulls":4},0.79200000000000004,"M³"]
[null,"b","deformed bar",{"$nulls":4},181.36799999999999,"Kg"]
[null,"c","formwork column",{"$nulls":4},7.92,"M²"]
[]
[null,3," Column K-03"]
[null,"a","Concrete",{"$nulls":4},0.29700000000000004,"M³"]
[null,"b","deformed bar",{"$nulls":4},62.073000000000008,"Kg"]
[null,"c","formwork column",{"$nulls":4},3.9599010000000008,"M²"]
[]
[null,4," Ring beams RB-01"]
[null,"a","Concrete",{"$nulls":4},7.5037500000000001,"M³"]
[null,"b","deformed bar",{"$nulls":4},1313.15625,"Kg"]
[null,"c","formwork Beam",{"$nulls":4},125.06500125000001,"M²"]
[]
[null,5,"Roof Work"]
[null,"a"," Lightweight steel horses",{"$nulls":4},692.51199999999994,"M²"]
[]
[null,"C","ARCHITECTURAL WORKS"]
[null,1,"Roof Work"]
[null,"a","Alumunium Foil",{"$nulls":4},692.51199999999994,"M²"]
[null,"b"," roof coverings",{"$nulls":4},692.51199999999994,"M²"]
[null,"c"," Top Roofing",{"$nulls":4},32.299999999999997,"M¹"]
[null,"d"," Roof Facia",{"$nulls":4},64.599999999999994,"M¹"]
[]
[null,2,"Light concrete under floor T 120 mm"]
[null,"a"," Sand Filling",{"$nulls":4},16.193625000000001,"M³"]
[null,"b","Concrete",{"$nulls":4},32.387250000000002,"M³"]
[null,"c","Wiremesh M-6 (1 Layer)",{"$nulls":4},323.8725,"M²"]
[]
[null,3,"Latei Beams"]
[null,"a","Concrete",{"$nulls":4},1.4849999999999999,"M³"]
[null,"b","deformed bar",{"$nulls":4},277.69499999999999,"Kg"]
[null,"c","formwork",{"$nulls":4},34.269345000000001,"M²"]
[]
[null,4," Step  at terrace"]
[null,"a","Concrete",{"$nulls":4},1.08,"M³"]
[]
[null,5,"Light Brick Wall (AAC block)"]
[null,"a"," Hebel wall t.10",{"$nulls":4},345.52640000000008,"M²"]
[]
[null,6,"Plaster works"]
[null,"a"," Plastering",{"$nulls":4},691.05280000000016,"M²"]
[null,"b","Neat Plastering",{"$nulls":4},691.05280000000016,"M²"]
[]
[null,7,"Door and Windows Frame Works"]
[null,"a","Door Frame AD-01 + Assesories",{"$nulls":4},3,"Pcs"]
[null,"b","Door Frame AD-03 + Assesories",{"$nulls":4},3,"Pcs"]
[null,"c","Door Frame AD-04 + Assesories",{"$nulls":4},1,"Pcs"]
[null,"d","Window Frame AW-01 + Assesories",{"$nulls":4},15,"Pcs"]
[null,"e","Boveligh Frame BV-01 + Assesories",{"$nulls":4},2,"Pcs"]
[null,"f","Rolling Door",{"$nulls":4},1,"Pcs"]
[]
[null,8,"Specialities Works"]
[null,"a","Variations grille / louvre",{"$nulls":4},60.25,"M²"]
[null,"b"," Installation GRC facia acessories",{"$nulls":4},52.465399999999995,"M²"]
[]
[null,9,"Ceilling Works"]
[null,"a"," Gypsum ceiling + Frame",{"$nulls":4},256.07249999999993,"M²"]
[null,"b"," Ceiling GRC + Frame",{"$nulls":4},60.738750000000003,"M²"]
[]
[null,10,"Floor and Wall Works"]
[null,"a","Ceramic 60/60",{"$nulls":4},94.072499999999934,"M²"]
[null,"b","Ceramic Anti Slip 60/60",{"$nulls":4},55.608750000000001,"M²"]
[null,"c","ceramic 25/25",{"$nulls":4},2.6999999999999997,"M²"]
[null,"d","Ceramic Wall 25/50",{"$nulls":4},11.938000000000001,"M²"]
[null,"e","Wall Base Plint",{"$nulls":4},142.67000000000002,"M¹"]
[null,"f","Floor Hardener",{"$nulls":4},162,"M²"]
[]
[null,10,"Painting Works"]
[null,"b","Interior Wall Painting Works ",{"$nulls":4},345.52640000000008,"M²"]
[null,"c","exterior wall painting works- Wheatershield",{"$nulls":4},345.52640000000008,"M²"]
[null,"d","Ceiling Painting Works",{"$nulls":4},123.19700000000002,"M²"]
[]
[null,11,"Sanitary Works"]
[null,"a"," Squatting closet",{"$nulls":4},1,"Unit"]
[null,"b"," Sink",{"$nulls":4},1,"Unit"]
[null,"c"," floor Drain",{"$nulls":4},1,"Unit"]
[null,"d"," Water faucet",{"$nulls":4},1,"Unit"]
[]
[null,"VIII","RPS COMMUNICATION DESIGN BUILDING"]
[]
[null,"B","STRUCTURAL WORKS"]
[null,"B.1","SOIL & FOUNDATION WORKS"]
[null,1,"cleaning Field",{"$nulls":4},330,"M²"]
[null,2,"Security Fence Project, t = 2m",{"$nulls":4},47,"M¹"]
[null,3," bouwplank",{"$nulls":4},90,"M¹"]
[null,4," Termite",{"$nulls":4},330,"M²"]
[null,5,"Soil Excavation Work",{"$nulls":4},445.07675000000006,"M³"]
[null,6,"Soil back Filling",{"$nulls":4},148.35891666666669,"M³"]
[null,7,"Soil Filling on building",{"$nulls":4},13.433500000000002,"M³"]
[null,8,"Lean Concrete Under Fondation",{"$nulls":4},13.433500000000002,"M³"]
[null,9,"Stone foundation (Aastamping)",{"$nulls":4},39.200000000000003,"M³"]
[null,10,"Stone Masonry",{"$nulls":4},112.69999999999999,"M³"]
[]
[null,11," Foot Plate"]
[null,"a","-","Concrete",null,null,null,15.479999999999999,"M³"]
[null,"b","-","deformed bar",null,null,null,3653.2799999999997,"Kg"]
[null,"c","-","formwork Foundations",null,null,null,51.594839999999998,"M²"]
[]
[null,12," Column Pedestal FP1"]
[null,"a","-","Concrete",null,null,null,5.57775,"M³"]
[null,"b","-","deformed bar",null,null,null,953.79525000000001,"Kg"]
[null,"c","-","formwork column",null,null,null,37.186859249999998,"M²"]
[]
[null,13," Column Pedestal FP2"]
[null,"a","-","Concrete",null,null,null,0.45224999999999999,"M³"]
[null,"b","-","deformed bar",null,null,null,103.56524999999999,"Kg"]
[null,"c","-","formwork column",null,null,null,4.5225,"M²"]
[]
[null,"B.2","CONCRETE WORKS"]
[]
[null,1," Tie Beam SL-01"]
[null,"a","-","Concrete",null,null,null,11.688750000000001,"M³"]
[null,"b","-","deformed bar",null,null,null,2489.7037500000001,"Kg"]
[null,"c","-","Formwork Tie Beam",null,null,null,155.84610375,"M²"]
[]
[null,2," Column K-01"]
[null,"a","-","Concrete",null,null,null,14.652000000000001,"M³"]
[null,"b","-","deformed bar",null,null,null,2505.4920000000002,"Kg"]
[null,"c","-","formwork column",null,null,null,97.684884000000011,"M²"]
[]
[null,1," Column K-02"]
[null,"a","-","Concrete",null,null,null,1.1880000000000002,"M³"]
[null,"b","-","deformed bar",null,null,null,272.05200000000002,"Kg"]
[null,"c","-","formwork column",null,null,null,11.880000000000003,"M²"]
[]
[null,3," Column K-03"]
[null,"a","-","Concrete",null,null,null,0.39600000000000002,"M³"]
[null,"b","-","deformed bar",null,null,null,82.76400000000001,"Kg"]
[null,"c","-","formwork column",null,null,null,5.2798680000000004,"M²"]
[]
[null,4," Ring beams RB-01"]
[null,"a","-","Concrete",null,null,null,7.5037500000000001,"M³"]
[null,"b","-","deformed bar",null,null,null,1313.15625,"Kg"]
[null,"c","-","formwork Beam",null,null,null,125.06500125000001,"M²"]
[]
[null,5,"Roof Work"]
[null,"a"," Lightweight steel horses",{"$nulls":4},692.51199999999994,"M²"]
[]
[null,"C","ARCHITECTURAL WORKS"]
[null,1,"Roof Work"]
[null,"b"," roof coverings",{"$nulls":4},692.51199999999994,"M²"]
[null,"c"," Top Roofing",{"$nulls":4},32.299999999999997,"M¹"]
[null,"d"," lisplank",{"$nulls":4},64.599999999999994,"M¹"]
[]
[null,2,"Light concrete under floor T 120 mm"]
[null,"a","-"," Sand Filling",null,null,null,16.193625000000001,"M³"]
[null,"b","-","Concrete",null,null,null,32.387250000000002,"M³"]
[null,"c","-","Wiremesh M-6 (1 Layer)",null,null,null,323.8725,"M²"]
[]
[null,2,"Latei Beams"]
[null,"a","-","Concrete",null,null,null,1.4624999999999997,"M³"]
[null,"b",null,"deformed bar",null,null,null,273.48749999999995,"Kg"]
[null,"c","-","formwork",null,null,null,33.750112499999993,"M²"]
[]
[null,3," Step  at terrace"]
[null,"a","-","Concrete",null,null,null,1.08,"M³"]
[]
[null,4,"ramp"]
[null,"a","-","Concrete",null,null,null,0.95904,"M³"]
[]
[null,5,"Light Brick Wall (AAC block)"]
[null,"a"," Hebel wall t.10",{"$nulls":4},316.63279999999997,"M²"]
[]
[null,6,"Plaster works"]
[null,"a"," Plastering",{"$nulls":4},633.26559999999995,"M²"]
[null,"b","Neat Plastering",{"$nulls":4},633.26559999999995,"M²"]
[]
[null,7,"Door and Windows Frame Works"]
[null,"a","Door Frame AD-01 + Assesories",{"$nulls":4},3,"Pcs"]
[null,"b","Door Frame AD-03 + Assesories",{"$nulls":4},2,"Pcs"]
[null,"c","Door Frame AD-04 + Assesories",{"$nulls":4},1,"Pcs"]
[null,"d","Window Frame AW-01 + Assesories",{"$nulls":4},15,"Pcs"]
[null,"e","Boveligh Frame BV-01 + Assesories",{"$nulls":4},2,"Pcs"]
[null,"f","Rolling Door",{"$nulls":4},1,"Pcs"]
[]
[null,8,"Specialities Works"]
[null,"a"," Variations grille / louvre",{"$nulls":4},60.25,"M²"]
[null,"b"," Installation GRC facia acessories",{"$nulls":4},52.467999999999996,"M²"]
[]
[null,9,"Ceilling Works"]
[null,"a"," Gypsum ceiling + Frame",{"$nulls":4},241.06499999999994,"M²"]
[null,"b"," Ceiling GRC + Frame",{"$nulls":4},60.827300000000008,"M²"]
[]
[null,10,"Floor and Wall Works"]
[null,"a"," Ceramic 60/60",{"$nulls":4},241.06499999999994,"M²"]
[null,"b","Ceramic Anti Slip 60/60",{"$nulls":4},55.697300000000006,"M²"]
[null,"c"," ceramic 25/25",{"$nulls":4},2.6999999999999997,"M²"]
[null,"d"," Ceramic Wall 25/50",{"$nulls":4},12.087999999999999,"M²"]
[null,"e","Wall Base Plint",{"$nulls":4},152.95800000000003,"M¹"]
[]
[null,11,"Painting Works"]
[null,"a","Interior Wall Painting Works ",{"$nulls":4},316.63279999999997,"M²"]
[null,"b","exterior wall painting works- Wheatershield",{"$nulls":4},316.63279999999997,"M²"]
[null,"c","Ceiling Painting Works",{"$nulls":4},301.89229999999998,"M²"]
[]
[null,12,"Sanitary Works"]
[null,"a"," Squatting closet",{"$nulls":4},1,"Unit"]
[null,"b"," Sink",{"$nulls":4},1,"Unit"]
[null,"c"," floor Drain",{"$nulls":4},1,"Unit"]
[null,"d"," Water faucet",{"$nulls":4},1,"Unit"]
[]
[null,"IX","RPS SOLAR AND WIND ENERGY BUILDING "]
[]
[null,"B","STRUCTURAL WORKS"]
[]
[null,"B.1","SOIL & FOUNDATION WORKS"]
[null,1,"cleaning Field",{"$nulls":4},330,"M²"]
[null,2,"Security Fence Project, t = 2m",{"$nulls":4},47,"M¹"]
[null,3," bouwplank",{"$nulls":4},90,"M¹"]
[null,4," Termite",{"$nulls":4},330,"M²"]
[null,5,"Soil Excavation Work",{"$nulls":4},451.91225000000009,"M³"]
[null,6,"Soil back Filling",{"$nulls":4},150.6374166666667,"M³"]
[null,7,"Soil Filling on building",{"$nulls":4},13.714500000000001,"M³"]
[null,8,"Lean Concrete Under Fondation",{"$nulls":4},13.714500000000001,"M³"]
[null,9,"Stone foundation (Aastamping)",{"$nulls":4},41,"M³"]
[null,10,"Stone Masonry",{"$nulls":4},117.875,"M³"]
[]
[null,11," Foot Plate"]
[null,"a",null,"Concrete",null,null,null,14.76,"M³"]
[null,"b","-","deformed bar",null,null,null,3483.36,"Kg"]
[null,"c","-","formwork Foundations",null,null,null,49.195080000000004,"M²"]
[]
[null,12," Column Pedestal FP1"]
[null,"a","-","Concrete",null,null,null,5.57775,"M³"]
[null,"b","-","deformed bar",null,null,null,953.79525000000001,"Kg"]
[null,"c","-","formwork column",null,null,null,37.186859249999998,"M²"]
[]
[null,13," Column Pedestal FP2"]
[null,"a","-","Concrete",null,null,null,0.30149999999999999,"M³"]
[null,"b","-","deformed bar",null,null,null,69.043499999999995,"Kg"]
[null,"c","-","formwork column",null,null,null,3.0149999999999997,"M²"]
[]
[null,"B.2","CONCRETE WORKS"]
[null,1," Tie Beam SL-01"]
[null,"a","-","Concrete",null,null,null,11.688750000000001,"M³"]
[null,"b","-","deformed bar",null,null,null,2489.7037500000001,"Kg"]
[null,"c","-","Formwork Tie Beam",null,null,null,155.84610375,"M²"]
[]
[null,2," Column K-01"]
[null,"a","-","Concrete",null,null,null,14.652000000000001,"M³"]
[null,"b","-","deformed bar",null,null,null,2505.4920000000002,"Kg"]
[null,"c","-","formwork column",null,null,null,97.684884000000011,"M²"]
[]
[null,1," Column K-02"]
[null,"a","-","Concrete",null,null,null,0.79200000000000004,"M³"]
[null,"b","-","deformed bar",null,null,null,181.36799999999999,"Kg"]
[null,"c","-","formwork column",null,null,null,7.92,"M²"]
[]
[null,3," Column K-03"]
[null,"a","-","Concrete",null,null,null,0.39600000000000002,"M³"]
[null,"b","-","deformed bar",null,null,null,82.76400000000001,"Kg"]
[null,"c","-","formwork column",null,null,null,5.2798680000000004,"M²"]
[]
[null,4," Ring beams RB-01"]
[null,"a","-","Concrete",null,null,null,7.098749999999999,"M³"]
[null,"b","-","deformed bar",null,null,null,1242.2812499999998,"Kg"]
[null,"c","-","formwork Beam",null,null,null,118.31486624999999,"M²"]
[]
[null,5,"Roof Work"]
[null,"a"," Lightweight steel horses",{"$nulls":4},692.51199999999994,"M²"]
[]
[null,"C","ARCHITECTURAL WORKS"]
[null,1,"Roof Work"]
[null,"a","Alumunium Foil",{"$nulls":4},692.51199999999994,"M2"]
[null,"b"," roof coverings",{"$nulls":4},692.51199999999994,"M²"]
[null,"c"," Top Roofing",{"$nulls":4},32.299999999999997,"M¹"]
[null,"d"," Roof Facia",{"$nulls":4},64.599999999999994,"M¹"]
[]
[null,3,"Light concrete under floor T 120 mm"]
[null,"a","-"," Sand Filling",null,null,null,16.193625000000001,"M³"]
[null,"b","-","Concrete",null,null,null,32.387250000000002,"M³"]
[null,"c","-","Wiremesh M-6 (1 Layer)",null,null,null,323.8725,"M²"]
[]
[null,4,"Latei Beams"]
[null,"a","-","Concrete",null,null,null,1.4849999999999997,"M³"]
[null,"b","-","deformed bar",null,null,null,277.69499999999994,"Kg"]
[null,"c","-","formwork",null,null,null,34.269344999999994,"M²"]
[]
[null,5," Step  at terrace"]
[null,null,"-","Concrete",null,null,null,1.08,"M³"]
[]
[null,6,"ramp"]
[null,null,"-","Concrete",null,null,null,0.95904,"M³"]
[]
[null,7,"Light Brick Wall (AAC block)"]
[null,null," Hebel wall t.10",{"$nulls":4},289.18060000000003,"M²"]
[]
[null,8,"Plaster works"]
[null,"a"," Plastering",{"$nulls":4},578.36120000000005,"M²"]
[null,"b","Neat Plastering",{"$nulls":4},578.36120000000005,"M²"]
[]
[null,9,"Door and Windows Frame Works"]
[null,"a","Door Frame AD-01 + Assesories",{"$nulls":4},2,"Pcs"]
[null,"b","Door Frame AD-03 + Assesories",{"$nulls":4},2,"Pcs"]
[null,"c","Door Frame AD-04 + Assesories",{"$nulls":4},1,"Pcs"]
[null,"d","Window Frame AW-01 + Assesories",{"$nulls":4},16,"Pcs"]
[null,"e","Boveligh Frame BV-01 + Assesories",{"$nulls":4},2,"Pcs"]
[null,"f","Rolling Door",{"$nulls":4},1,"Pcs"]
[]
[null,10,"Specialities Works"]
[null,"a"," Variations grille / louvre",{"$nulls":4},60.25,"M²"]
[null,"b"," Installation GRC facia acessories",{"$nulls":4},52.447200000000002,"M²"]
[]
[null,11,"Ceilling Works"]
[null,"a"," Gypsum ceiling + Frame",{"$nulls":4},257.39999999999998,"M²"]
[null,"b"," Ceiling GRC + Frame",{"$nulls":4},60.45,"M²"]
[]
[null,12,"Floor and Wall Works"]
[null,"a"," Ceramic 60/60",{"$nulls":4},257.39999999999998,"M²"]
[null,"b","Ceramic Anti Slip 60/60",{"$nulls":4},57.75,"M²"]
[null,"c"," ceramic 25/25",{"$nulls":4},2.6999999999999997,"M²"]
[null,"d"," Ceramic Wall 25/50",{"$nulls":4},5.8879999999999999,"M²"]
[null,"e","Wall Base Plint",{"$nulls":4},138.22,"M¹"]
[]
[null,13,"Painting Works"]
[null,"b","Interior Wall Painting Works ",{"$nulls":4},289.18060000000003,"M²"]
[null,"c","exterior wall painting works- Wheatershield",{"$nulls":4},289.18060000000003,"M²"]
[null,"d","Ceiling Painting Works",{"$nulls":4},317.84999999999997,"M²"]
[]
[null,14,"Sanitary Works"]
[null,"a"," Squatting closet",{"$nulls":4},1,"Unit"]
[null,"b"," Sink",{"$nulls":4},1,"Unit"]
[null,"c"," floor Drain",{"$nulls":4},1,"Unit"]
[null,"d"," Water faucet",{"$nulls":4},1,"Unit"]
[]
[null,"X","RPS HOSPITALITY BUILDING "]
[]
[null,"B","STRUCTURAL WORKS"]
[null,"B.1 ","SOIL & FOUNDATION WORKS"]
[null,1,"cleaning Field",{"$nulls":4},330,"M²"]
[null,2,"Security Fence Project, t = 2m",{"$nulls":4},47,"M¹"]
[null,3," bouwplank",{"$nulls":4},90,"M¹"]
[null,4," Termite",{"$nulls":4},330,"M²"]
[null,5,"Soil Excavation Work",{"$nulls":4},417.71674999999999,"M³"]
[null,6,"Soil back Filling",{"$nulls":4},139.23891666666665,"M³"]
[null,7,"Soil Filling on building",{"$nulls":4},14.933500000000002,"M³"]
[null,8,"Lean Concrete Under Fondation",{"$nulls":4},14.933500000000002,"M³"]
[null,9,"Stone foundation (Aastamping)",{"$nulls":4},45.2,"M³"]
[null,10,"Stone Masonry",{"$nulls":4},129.94999999999999,"M³"]
[]
[null,11," Foot Plate"]
[null,"a","-","Concrete",null,null,null,15.479999999999999,"M³"]
[null,"b","-","deformed bar",null,null,null,3653.2799999999997,"Kg"]
[null,"c","-","formwork Foundations",null,null,null,51.594839999999998,"M²"]
[]
[null,12," Column Pedestal FP1"]
[null,"a","-","Concrete",null,null,null,6.1807499999999997,"M³"]
[null,"b","-","deformed bar",null,null,null,1056.90825,"Kg"]
[null,"c","-","formwork column",null,null,null,41.207060249999998,"M²"]
[]
[null,13," Column Pedestal FP2"]
[null,"a","-","Concrete",null,null,null,0.15075,"M³"]
[null,"b","-","deformed bar",null,null,null,34.521749999999997,"Kg"]
[null,"c","-","formwork column",null,null,null,1.5074999999999998,"M²"]
[]
[null,"B.2","CONCRETE WORKS"]
[null,1," Tie Beam SL-01"]
[null,"a","-","Concrete",null,null,null,11.688750000000001,"M³"]
[null,"b","-","deformed bar",null,null,null,2489.7037500000001,"Kg"]
[null,"c","-","Formwork Tie Beam",null,null,null,155.84610375,"M²"]
[]
[null,2," Column K-01"]
[null,"a","-","Concrete",null,null,null,16.236000000000001,"M³"]
[null,"b","-","deformed bar",null,null,null,2776.3560000000002,"Kg"]
[null,"c","-","formwork column",null,null,null,108.245412,"M²"]
[]
[null,1," Column K-02"]
[null,"a","-","Concrete",null,null,null,0.39600000000000002,"M³"]
[null,"b","-","deformed bar",null,null,null,90.683999999999997,"Kg"]
[null,"c","-","formwork column",null,null,null,3.96,"M²"]
[]
[null,3," Column K-03"]
[null,"a","-","Concrete",null,null,null,0.29700000000000004,"M³"]
[null,"b","-","deformed bar",null,null,null,62.073000000000008,"Kg"]
[null,"c","-","formwork column",null,null,null,3.9599010000000008,"M²"]
[]
[null,4," Ring beams RB-01"]
[null,"a","-","Concrete",null,null,null,7.098749999999999,"M³"]
[null,"b","-","deformed bar",null,null,null,1242.2812499999998,"Kg"]
[null,"c","-","formwork Beam",null,null,null,118.31486624999999,"M²"]
[]
[null,5,"Roof Work"]
[null,"a"," Lightweight steel horses",{"$nulls":4},692.51199999999994,"M²"]
[]
[null,"C","ARCHITECTURAL WORKS"]
[null,1,"Roof Work"]
[null,"a","Alumunium Foil",{"$nulls":4},692.51199999999994,"M²"]
[null,"b"," roof coverings",{"$nulls":4},692.51199999999994,"M²"]
[null,"c"," Top Roofing",{"$nulls":4},32.299999999999997,"M¹"]
[null,"d"," Roof Facia",{"$nulls":4},64.599999999999994,"M¹"]
[]
[null,2,"Light concrete under floor T 120 mm"]
[null,"a","-"," Sand Filling",null,null,null,16.193625000000001,"M³"]
[null,"b","-","Concrete",null,null,null,32.387250000000002,"M³"]
[null,"c","-","Wiremesh M-6 (1 Layer)",null,null,null,323.8725,"M²"]
[]
[null,3,"Latei Beams"]
[null,"a","-","Concrete",null,null,null,1.5524999999999998,"M³"]
[null,"b","-","deformed bar",null,null,null,290.31749999999994,"Kg"]
[null,"c","-","formwork",null,null,null,35.827042499999997,"M²"]
[]
[null,4," Step  at terrace"]
[null,"a","-","Concrete",null,null,null,1.08,"M³"]
[]
[null,5,"ramp"]
[null,null,"-","Concrete",null,null,null,0.95904,"M³"]
[]
[null,6,"Light Brick Wall (AAC block)"]
[null,"a"," Hebel wall t.10",{"$nulls":4},343.4618000000001,"M²"]
[]
[null,7,"Plaster works"]
[null,"a"," Plastering",{"$nulls":4},686.92360000000019,"M²"]
[null,"b","Neat Plastering",{"$nulls":4},686.92360000000019,"M²"]
[]
[null,8,"Door and Windows Frame Works"]
[null,"a","Door Frame AD-01 + Assesories",{"$nulls":4},4,"Pcs"]
[null,"b","Door Frame AD-03 + Assesories",{"$nulls":4},2,"Pcs"]
[null,"c","Door Frame AD-04 + Assesories",{"$nulls":4},1,"Pcs"]
[null,"d","Window Frame AW-01 + Assesories",{"$nulls":4},14,"Pcs"]
[null,"e","Boveligh Frame BV-01 + Assesories",{"$nulls":4},2,"Pcs"]
[null,"f","Rolling Door",{"$nulls":4},1,"Pcs"]
[]
[null,9,"Specialities Works"]
[null,"a"," Variations grille / louvre",{"$nulls":4},60.25,"M²"]
[null,"b"," Installation GRC facia acessories",{"$nulls":4},52.467999999999996,"M²"]
[]
[null,10,"Ceilling Works"]
[null,"a"," Gypsum ceiling + Frame",{"$nulls":4},254.74499999999995,"M²"]
[null,"b"," Ceiling GRC + Frame",{"$nulls":4},60.835000000000001,"M²"]
[]
[null,11,"Floor and Wall Works"]
[null,"a"," Ceramic 60/60",{"$nulls":4},254.74499999999995,"M²"]
[null,"b","Ceramic Anti Slip 60/60",{"$nulls":4},254.74499999999995,"M²"]
[null,"c"," ceramic 25/25",{"$nulls":4},2.6999999999999997,"M²"]
[null,"d"," Ceramic Wall 25/50",{"$nulls":4},12.087999999999999,"M²"]
[null,"e","Wall Base Plint",{"$nulls":4},167.053,"M¹"]
[]
[null,12,"Painting Works"]
[null,"b","Interior Wall Painting Works ",{"$nulls":4},343.4618000000001,"M²"]
[null,"c","exterior wall painting works- Wheatershield",{"$nulls":4},343.4618000000001,"M²"]
[null,"d","Ceiling Painting Works",{"$nulls":4},315.57999999999993,"M²"]
[]
[null,13,"Sanitary Works"]
[null,"a"," Squatting closet",{"$nulls":4},1,"Unit"]
[null,"b"," Sink",{"$nulls":4},1,"Unit"]
[null,"c"," floor Drain",{"$nulls":4},1,"Unit"]
[null,"d"," Water faucet",{"$nulls":4},1,"Unit"]
[]
[null,"XI","LABORATORY BUILDING "]
[]
[null,"B","STRUCTURAL WORKS"]
[null,"B.1","SOIL & FOUNDATION WORKS"]
[null,1,"cleaning Field",{"$nulls":4},132,"M²"]
[null,2,"Security Fence Project, t = 2m",{"$nulls":4},29,"M¹"]
[null,3," bouwplank",{"$nulls":4},54,"M¹"]
[null,4," Termite",{"$nulls":4},132,"M²"]
[null,5,"Soil Excavation Work",{"$nulls":4},142.54275000000001,"M³"]
[null,6,"Soil back Filling",{"$nulls":4},47.514250000000004,"M³"]
[null,7,"Soil Filling on building",{"$nulls":4},4.1555,"M³"]
[null,8,"Lean Concrete Under Fondation",{"$nulls":4},4.1555,"M³"]
[null,9,"Stone foundation (Aastamping)",{"$nulls":4},10.200000000000001,"M³"]
[null,10,"Stone Masonry",{"$nulls":4},29.324999999999996,"M³"]
[]
[null,11," Foot Plate"]
[null,"a","Concrete",{"$nulls":4},6.84,"M³"]
[null,"b","deformed bar",{"$nulls":4},1614.24,"Kg"]
[null,"c","formwork Foundations",{"$nulls":4},22.797720000000002,"M²"]
[]
[null,12," Column Pedestal FP1"]
[null,"a","Concrete",{"$nulls":4},2.8642499999999997,"M³"]
[null,"b","deformed bar",{"$nulls":4},489.78674999999998,"Kg"]
[null,"c","formwork column",{"$nulls":4},19.095954749999997,"M²"]
[]
[null,"B.2","CONCRETE WORKS"]
[]
[null,1," Tie Beam SL-01"]
[null,"a","Concrete",{"$nulls":4},5.1750000000000007,"M³"]
[null,"b","deformed bar",{"$nulls":4},1102.2750000000001,"Kg"]
[null,"c","Formwork Tie Beam",{"$nulls":4},68.998275000000007,"M²"]
[]
[null,2," Column K-01"]
[null,"a","Concrete",{"$nulls":4},5.7284999999999995,"M³"]
[null,"b","deformed bar",{"$nulls":4},979.57349999999997,"Kg"]
[null,"c","formwork column",{"$nulls":4},38.191909499999994,"M²"]
[]
[null,3," Ring beams RB-01"]
[null,"a","Concrete",{"$nulls":4},2.8800000000000003,"M³"]
[null,"b","deformed bar",{"$nulls":4},504.00000000000006,"Kg"]
[null,"c","formwork Beam",{"$nulls":4},48.000960000000013,"M²"]
[]
[null,4,"Roof Work"]
[null,"a"," Lightweight steel horses",{"$nulls":4},294.86784,"M²"]
[]
[null,"C","ARCHITECTURAL WORKS"]
[]
[null,1,"Roof Work"]
[null,"a","Alumunium Foil",{"$nulls":4},294.86784,"M²"]
[null,"b"," roof coverings",{"$nulls":4},294.86784,"M²"]
[null,"c"," Top Roofing",{"$nulls":4},14.16,"M¹"]
[null,"d"," Roof Facia",{"$nulls":4},28.32,"M¹"]
[]
[null,2,"Light concrete under floor T 120 mm"]
[null,"a","-"," Sand Filling",null,null,null,16.193625000000001,"M³"]
[null,"b","-","Concrete",null,null,null,32.387250000000002,"M³"]
[null,"c","-","Wiremesh M-6 (1 Layer)",null,null,null,323.8725,"M²"]
[]
[null,3,"Latei Beams"]
[null,"a","Concrete",{"$nulls":4},0.54,"M³"]
[null,"b","deformed bar",{"$nulls":4},100.98,"Kg"]
[null,"c","formwork",{"$nulls":4},12.461580000000001,"M²"]
[]
[null,4," Step  at terrace"]
[null,"a","-","Concrete",null,null,null,1.08,"M³"]
[]
[null,5,"Light Brick Wall (AAC block)"]
[null,"a"," Hebel wall t.10",{"$nulls":4},92.631299999999996,"M²"]
[]
[null,6,"Plaster works"]
[null,"a"," Plastering",{"$nulls":4},185.26259999999999,"M²"]
[null,"b","Neat Plastering",{"$nulls":4},185.26259999999999,"M²"]
[]
[null,7,"Door and Windows Frame Works"]
[null,"a","Door Frame AD-01 + Assesories",{"$nulls":4},2,"Pcs"]
[null,"b","Window Frame AW-02 + Assesories",{"$nulls":4},6,"Pcs"]
[null,"c"," Variations grille / louvre",{"$nulls":4},45.2,"M²"]
[]
[null,8,"Ceilling Works"]
[null,"a"," Gypsum ceiling + Frame",{"$nulls":4},104.87249999999999,"M²"]
[null,"b"," Ceiling GRC + Frame",{"$nulls":4},23.388750000000002,"M²"]
[]
[null,9,"Specialities Works"]
[null,null," Installation GRC facia acessories",{"$nulls":4},66.763199999999998,"M²"]
[]
[null,10,"Floor and Wall Works"]
[null,"a"," Ceramic 60/60",{"$nulls":4},104.87249999999999,"M²"]
[null,"b","Ceramic Anti Slip 60/60",{"$nulls":4},104.87249999999999,"M²"]
[null,"c","Wall Base Plint",{"$nulls":4},48.441999999999993,"M¹"]
[]
[null,11,"Painting Works"]
[null,"a","Interior Wall Painting Works ",{"$nulls":4},92.631299999999996,"M²"]
[null,"b","exterior wall painting works- Wheatershield",{"$nulls":4},92.631299999999996,"M²"]
[null,"c","Ceiling Painting Works",{"$nulls":4},128.26124999999999,"M²"]
[]
[null,"XII","LIBRARY AND LABORATORY BUILDING"]
[]
[null,"B","STRUCTURAL WORKS"]
[null,"A","SOIL & FOUNDATION WORKS"]
[null,1,"cleaning Field",{"$nulls":4},264,"M²"]
[null,2,"Security Fence Project, t = 2m",{"$nulls":4},41,"M¹"]
[null,3," bouwplank",{"$nulls":4},78,"M¹"]
[null,4," Termite",{"$nulls":4},264,"M²"]
[null,5,"Soil Excavation Work",{"$nulls":4},258.85424999999998,"M³"]
[null,6,"Soil back Filling",{"$nulls":4},86.284749999999988,"M³"]
[null,7,"Soil Filling on building",{"$nulls":4},7.5885000000000016,"M³"]
[null,8,"Lean Concrete Under Fondation",{"$nulls":4},7.5885000000000016,"M³"]
[null,9,"Stone foundation (Aastamping)",{"$nulls":4},19.200000000000003,"M³"]
[null,10,"Stone Masonry",{"$nulls":4},55.199999999999996,"M³"]
[]
[null,11," Foot Plate"]
[null,"a","-","Concrete",null,null,null,11.879999999999999,"M³"]
[null,"b","-","deformed bar",null,null,null,2803.68,"Kg"]
[null,"c","-","formwork Foundations",null,null,null,39.596040000000002,"M²"]
[]
[null,12," Column Pedestal FP1"]
[null,"a","-","Concrete",null,null,null,4.9747500000000002,"M³"]
[null,"b","-","deformed bar",null,null,null,850.68225000000007,"Kg"]
[null,"c","-","formwork column",null,null,null,33.166658249999998,"M²"]
[]
[null,"B","CONCRETE WORKS"]
[null,1," Tie Beam SL-01"]
[null,"a","-","Concrete",null,null,null,9.8550000000000004,"M³"]
[null,"b","-","deformed bar",null,null,null,2099.1150000000002,"Kg"]
[null,"c","-","Formwork Tie Beam",null,null,null,131.396715,"M²"]
[]
[null,2," Column K-01"]
[null,"a","-","Concrete",null,null,null,9.9495000000000005,"M³"]
[null,"b","-","deformed bar",null,null,null,1701.3645000000001,"Kg"]
[null,"c","-","formwork column",null,null,null,66.333316499999995,"M²"]
[]
[null,3," Ring beams RB-01"]
[null,"a","-","Concrete",null,null,null,5.2649999999999997,"M³"]
[null,"b","-","deformed bar",null,null,null,921.375,"Kg"]
[null,"c","-","formwork Beam",null,null,null,87.751755000000003,"M²"]
[]
[null,4,"Roof Work"]
[null,"a"," Lightweight steel horses",{"$nulls":4},544.75584000000003,"M²"]
[]
[null,"C","ARCHITECTURAL WORKS"]
[null,1,"Roof Work"]
[null,"a","Alumunium Foil",{"$nulls":4},544.75584000000003,"M²"]
[null,"b"," roof coverings",{"$nulls":4},544.75584000000003,"M²"]
[null,"c"," Top Roofing",{"$nulls":4},26.16,"M¹"]
[null,"d"," Roof Facia",{"$nulls":4},52.32,"M¹"]
[]
[null,2,"Light concrete under floor T 120 mm"]
[null,"a","-"," Sand Filling",null,null,null,12.938625,"M³"]
[null,"b","-","Concrete",null,null,null,25.87725,"M³"]
[null,"c","-","Wiremesh M-6 (1 Layer)",null,null,null,258.77249999999998,"M²"]
[]
[null,3,"Latei Beams"]
[null,"a","-","Concrete",null,null,null,1.08,"M³"]
[null,"b","-","deformed bar",null,null,null,201.96,"Kg"]
[null,"c","-","formwork",null,null,null,24.923160000000003,"M²"]
[]
[null,4," Step  at terrace"]
[null,null,"-","Concrete",null,null,null,1.08,"M³"]
[]
[null,5,"Light Brick Wall (AAC block)"]
[null,null,"Plaster works"]
[null,null," Hebel wall t.10",{"$nulls":4},152.18430000000001,"M²"]
[null,null," Plastering",{"$nulls":4},304.36860000000001,"M²"]
[null,null,"Neat Plastering",{"$nulls":4},304.36860000000001,"M²"]
[]
[null,6,"Door and Windows Frame Works"]
[null,null,"Door Frame AD-01 + Assesories",{"$nulls":4},4,"Pcs"]
[null,null,"Window Frame AW-02 + Assesories",{"$nulls":4},12,"Pcs"]
[null,null,"Variations grille / louvre",{"$nulls":4},45.2,"M²"]
[]
[null,7,"Ceilling Works"]
[null,null," Gypsum ceiling + Frame",{"$nulls":4},209.74499999999998,"M²"]
[null,null," Ceiling GRC + Frame",{"$nulls":4},46.488749999999996,"M²"]
[]
[null,8,"Specialities Works"]
[null,null," Installation GRC facia acessories",{"$nulls":4},84.8232,"M²"]
[]
[null,9,"Floor and Wall Works"]
[null,null," Ceramic 60/60",{"$nulls":4},209.74499999999998,"M²"]
[null,null,"Ceramic Anti Slip 60/60",{"$nulls":4},209.74499999999998,"M²"]
[null,null,"Wall Base Plint",{"$nulls":4},106.94999999999999,"M¹"]
[]
[null,10,"Painting Works"]
[null,null,"Interior Wall Painting Works ",{"$nulls":4},152.18430000000001,"M²"]
[null,null,"exterior wall painting works- Wheatershield",{"$nulls":4},152.18430000000001,"M²"]
[null,null,"Ceiling Painting Works",{"$nulls":4},256.23374999999999,"M²"]
[]
[null,10,"Ramp For Disable"]
[null,"a","Beam Sloof 10x20 cm"]
[null,null,"- Concrete",{"$nulls":4},0.16799999999999998,"M3"]
[null,null,"- Deformed Bar",{"$nulls":4},62.663999999999994,"Kg"]
[null,null,"- Formwork",{"$nulls":4},3.3599999999999994,"M2"]
[null,"b","Platform"]
[null,null,"- Concrete",{"$nulls":4},0.97019999999999984,"M3"]
[null,null,"- Wiremesh M-6 (1 Layer)",{"$nulls":4},9.7019999999999982,"M2"]
[null,"c","Disable Parking"]
[null,null,"- Concrete",{"$nulls":4},1.8672500000000001,"M3"]
[null,null,"- Wiremesh M-6 (1 Layer)",{"$nulls":4},18.672499999999999,"M2"]
[null,"d","Ramp Railing ",{"$nulls":4},9,"M²"]
[]
[null,"XIII","STORAGE BUILDING"]
[]
[null,"B","STRUCTURAL WORKS"]
[null,"A","SOIL & FOUNDATION WORKS"]
[null,1,"cleaning Field",{"$nulls":4},64,"M²"]
[null,2,"Security Fence Project, t = 2m",{"$nulls":4},22,"M¹"]
[null,3," bouwplank",{"$nulls":4},40,"M¹"]
[null,4," Termite",{"$nulls":4},64,"M²"]
[null,5,"Soil Excavation Work",{"$nulls":4},79.067000000000007,"M³"]
[null,6,"Soil back Filling",{"$nulls":4},26.355666666666668,"M³"]
[null,7,"Soil Filling on building",{"$nulls":4},2.2640000000000002,"M³"]
[null,8,"Lean Concrete Under Fondation",{"$nulls":4},2.2640000000000002,"M³"]
[null,9,"Stone foundation (Aastamping)",{"$nulls":4},5,"M³"]
[null,10,"Stone Masonry",{"$nulls":4},14.375,"M³"]
[]
[null,11," Foot Plate"]
[null,null,"-","Concrete",null,null,null,4.32,"M³"]
[null,null,"-","deformed bar",null,null,null,1019.5200000000001,"Kg"]
[null,null,"-","formwork Foundations",null,null,null,14.398560000000002,"M²"]
[]
[null,12," Column Pedestal FP1"]
[null,null,"-","Concrete",null,null,null,1.8089999999999999,"M³"]
[null,null,"-","deformed bar",null,null,null,309.339,"Kg"]
[null,null,"-","formwork column",null,null,null,12.060602999999999,"M²"]
[]
[null,"B","CONCRETE WORKS"]
[null,1," Tie Beam SL-01"]
[null,null,"-","Concrete",null,null,null,3.2849999999999997,"M³"]
[null,null,"-","deformed bar",null,null,null,699.70499999999993,"Kg"]
[null,null,"-","Formwork Tie Beam",null,null,null,43.798904999999998,"M²"]
[]
[null,2," Column K-01"]
[null,null,"-","Concrete",null,null,null,3.9194999999999998,"M³"]
[null,null,"-","deformed bar",null,null,null,670.23449999999991,"Kg"]
[null,null,"-","formwork column",null,null,null,26.131306499999997,"M²"]
[]
[null,3," Ring beams RB-01"]
[null,null,"-","Concrete",null,null,null,2.16,"M³"]
[null,null,"-","deformed bar",null,null,null,378,"Kg"]
[null,null,"-","formwork Beam",null,null,null,36.000720000000008,"M²"]
[]
[null,4,"Roof Work"]
[null,"a"," Lightweight steel horses",{"$nulls":4},175.1078,"M²"]
[]
[null,"C","ARCHITECTURAL WORKS"]
[null,1,"Roof Work"]
[null,"a","Alumunium Foil",{"$nulls":4},175.1078,"M²"]
[null,"b"," roof coverings",{"$nulls":4},175.1078,"M²"]
[null,"c"," Top Roofing",{"$nulls":4},10.15,"M¹"]
[null,"d"," Roof Facia",{"$nulls":4},20.3,"M¹"]
[]
[null,2,"Light concrete under floor T 120 mm"]
[null,"a","-"," Sand Filling",null,null,null,3.0811250000000001,"M³"]
[null,"b","-","Concrete",null,null,null,6.1622500000000002,"M³"]
[null,"c","-","Wiremesh M-6 (1 Layer)",null,null,null,61.622499999999995,"M²"]
[]
[null,3,"Latei Beams"]
[null,"a","-","Concrete",null,null,null,0.27,"M³"]
[null,"b","-","deformed bar",null,null,null,50.49,"Kg"]
[null,"c","-","formwork",null,null,null,6.2307900000000007,"M²"]
[]
[null,3," Step  at terrace"]
[null,null,"-","Concrete",null,null,null,1.08,"M³"]
[]
[null,5,"Light Brick Wall (AAC block)"]
[null,null," Hebel wall t.10",{"$nulls":4},75.454300000000018,"M²"]
[]
[null,6,"Plaster works"]
[null,null," Plastering",{"$nulls":4},150.90860000000004,"M²"]
[null,null,"Neat Plastering",{"$nulls":4},150.90860000000004,"M²"]
[]
[null,7,"Door and Windows Frame Works"]
[null,null,"Door Frame AD-01 + Assesories",{"$nulls":4},2,"Pcs"]
[null,null,"Window Frame AW-02 + Assesories",{"$nulls":4},2,"Pcs"]
[]
[null,8,"Specialities Works"]
[null,null," Variations grille / louvre",{"$nulls":4},41,"M²"]
[null,null," Installation GRC facia acessories",{"$nulls":4},57.162600000000005,"M²"]
[]
[null,9,"Ceilling Works"]
[null,null," Gypsum ceiling + Frame",{"$nulls":4},61.622499999999995,"M²"]
[null,null," Ceiling GRC + Frame",{"$nulls":4},15.688750000000001,"M²"]
[]
[null,10,"Floor and Wall Works"]
[null,"a"," Ceramic 60/60",{"$nulls":4},61.622499999999995,"M²"]
[null,"b","Ceramic Anti Slip 60/60",{"$nulls":4},61.622499999999995,"M²"]
[null,"c","Wall Base Plint",{"$nulls":4},39.549999999999997,"M¹"]
[]
[null,11,"Painting Works"]
[null,"a","Interior Wall Painting Works ",{"$nulls":4},75.454300000000018,"M²"]
[null,"b","exterior wall painting works- Wheatershield",{"$nulls":4},75.454300000000018,"M²"]
[null,"c","Ceiling Painting Works",{"$nulls":4},77.311250000000001,"M²"]
[]
[null,"XIV","TPS 3R"]
[]
[null,"B","STRUCTURAL WORKS"]
[null,"B.1","SOIL & FOUNDATION WORKS"]
[null,1,"cleaning Field",{"$nulls":4},68,"M²"]
[null,2,"Security Fence Project, t = 2m",{"$nulls":4},10.5,"M¹"]
[null,3," bouwplank",{"$nulls":4},41,"M¹"]
[null,4," Termite",{"$nulls":4},68,"M²"]
[null,5," Soil excavation",{"$nulls":4},7.45,"M³"]
[null,6,"Soil Filling",{"$nulls":4},2.48,"M³"]
[null,7," Sand Filling",{"$nulls":4},0.47,"M³"]
[]
[null,8," Foot Plate"]
[null,null,"Concrete",{"$nulls":4},1.37,"M³"]
[null,null,"deformed bar",{"$nulls":4},322.85000000000002,"Kg"]
[null,null,"formwork Foundations",{"$nulls":4},4.5599999999999996,"M²"]
[]
[null,9," column Pedestal"]
[null,null,"Concrete",{"$nulls":4},2.34,"M³"]
[null,null,"deformed bar",{"$nulls":4},488.43,"Kg"]
[null,null,"formwork column",{"$nulls":4},31.16,"M²"]
[]
[null,"B.2","CONCRETE WORKS"]
[null,1," Tie Beam SL-01"]
[null,null,"Concrete",{"$nulls":4},2.82,"M³"]
[null,null,"deformed bar",{"$nulls":4},492.19,"Kg"]
[null,null,"Formwork Tie Beam",{"$nulls":4},37.5,"M²"]
[]
[null,2," Column K-01 (20X15)"]
[null,null,"Concrete",{"$nulls":4},1.48,"M³"]
[null,null,"deformed bar",{"$nulls":4},308.48,"Kg"]
[null,null,"formwork column",{"$nulls":4},19.68,"M²"]
[]
[null,3," Column K-01 (15X15)"]
[null,null,"Concrete",{"$nulls":4},0.65,"M³"]
[null,null,"deformed bar",{"$nulls":4},134.69200000000001,"Kg"]
[null,null,"formwork column",{"$nulls":4},8.61,"M²"]
[]
[null,3," Ring beams RB-01"]
[null,null,"Concrete",{"$nulls":4},2.82,"M³"]
[null,null,"deformed bar",{"$nulls":4},492.19,"Kg"]
[null,null,"formwork Beam",{"$nulls":4},37.5,"M²"]
[]
[null,4,"Roof Work"]
[null,"a"," Lightweight steel truss",{"$nulls":4},112.89,"M²"]
[]
[null,"C","ARCHITECTURAL WORKS"]
[null,1,"Roof Work"]
[null,"a","Alumunium Foil",{"$nulls":4},112.89,"M²"]
[null,"b"," roof coverings",{"$nulls":4},112.89,"M²"]
[null,"c"," Top Roofing",{"$nulls":4},10.65,"M¹"]
[null,"d"," Roof Facia",{"$nulls":4},42.5,"M¹"]
[]
[null,2,"Light concrete under floor T 120 mm"]
[null,"a"," Sand Filling",{"$nulls":4},3.2773750000000001,"M³"]
[null,"b","Concrete",{"$nulls":4},6.5547500000000003,"M³"]
[null,"c","Wiremesh M-6 (1 Layer)",{"$nulls":4},65.547499999999999,"M²"]
[]
[null,3,"Latei Beams"]
[null,"a","Concrete",{"$nulls":4},0.17,"M³"]
[null,"b","deformed bar",{"$nulls":4},31.6,"Kg"]
[null,"c","formwork",{"$nulls":4},3.9,"M²"]
[]
[null,4,"Light Brick Wall (AAC block)"]
[null,null," Hebel wall t.10",{"$nulls":4},103.12,"M²"]
[]
[null,5,"Plaster works"]
[null,"a"," Plastering",{"$nulls":4},206.24,"M²"]
[null,"b","Neat Plastering",{"$nulls":4},206.24,"M²"]
[]
[null,6,"Door and Windows Frame Works"]
[null,"a","Frame P-01 + Assesories",{"$nulls":4},2,"Pcs"]
[null,"b","PVC Door for Toilet",{"$nulls":4},1,"Pcs"]
[null,"c","Frame J-01 + Assesories",{"$nulls":4},1,"Pcs"]
[null,"d"," Glass Block",{"$nulls":4},1,"M2"]
[]
[null,7,"Ceilling Works"]
[null,"a"," Gypsum ceiling + Frame",{"$nulls":4},12,"M²"]
[]
[null,8,"Floor and Wall Works"]
[null,"a"," ceramic 30/30",{"$nulls":4},12.9,"M²"]
[null,"c"," Ceramic wall 20/25",{"$nulls":4},13.92,"M²"]
[null,"d"," Transram",{"$nulls":4},13.92,"M²"]
[]
[null,9,"Painting Works"]
[null,"a","Interior Wall Painting Works ",{"$nulls":4},103.12,"M²"]
[null,"b","exterior wall painting works- Wheatershield",{"$nulls":4},103.12,"M²"]
[null,"c","Ceiling Painting Works",{"$nulls":4},12,"M²"]
[]
[null,10,"Sanitary Works"]
[null,"a"," Squatting closet",{"$nulls":4},1,"Unit"]
[null,"b"," Water faucet",{"$nulls":4},2,"Unit"]
[null,"c"," floor Drain",{"$nulls":4},2,"Unit"]
[]
[null,11,"ramp"]
[null,"a","Concrete",{"$nulls":4},0.69541200000000003,"M³"]
[]
[null,12," Step  at terrace"]
[null,"a","Concrete",{"$nulls":4},0.27,"M³"]
[]
[null,13," Iron Doors 80 x 270",{"$nulls":4},2,"Pcs"]
[null,14," Grill channel 15 x 175",{"$nulls":4},2,"Pcs"]
[]
[null,"XV","ELECTRICAL WORKS"]
[null,"A","INSTALLATION OF ELECTRICAL PANEL"]
[null,1,"Main Panel"]
[null,null,"a. Installation of Main Panel",{"$nulls":4},1,"Unit"]
[null,null,"b. Installation of Panel Sub Distribution",{"$nulls":4},12,"Unit"]
[null,null,"c. Grounding system lengkap box control dan electrode rod (5 Ohm, Max)",{"$nulls":4},1,"Unit"]
[]
[null,2,"Installation of Cable"]
[null,null,"a.","(From PLN to M-DP)"]
[null,null," -","cable NYY  4 x35 mm2 ",null,null,null,50,"m"]
[null,null," -","cable NYA  1 x 16 mm2 ",null,null,null,50,"m"]
[null,null,"b.","(From  M-DP to LP-SMKM-TG1 )"]
[null,null," -","cable NYY  4 x 4 mm2 ",null,null,null,12,"m"]
[null,null," -","cable NYA  1 x 6 mm2 ",null,null,null,12,"m"]
[null,null,"c.","(From  M-DP to LP-SMKM-TG2 )"]
[null,null," -","cable NYY  4 x 4 mm2 ",null,null,null,56,"m"]
[null,null," -","cable NYA  1 x 6 mm2 ",null,null,null,56,"m"]
[null,null,"d.","(From  M-DP to LP-SMKM-TG3 )"]
[null,null," -","cable NYY  4 x 4 mm2 ",null,null,null,40,"m"]
[null,null," -","cable NYA  1 x 6 mm2 ",null,null,null,40,"m"]
[null,null,"e.","(From  M-DP to LP-SMKM-TG4 )"]
[null,null," -","cable NYY  4 x 4 mm2 ",null,null,null,56,"m"]
[null,null," -","cable NYA  1 x 6 mm2 ",null,null,null,56,"m"]
[null,null,"f.","(From  M-DP to LP-SMKM-TG5 )"]
[null,null," -","cable NYY  4 x 4 mm2 ",null,null,null,60,"m"]
[null,null," -","cable NYA  1 x 6 mm2 ",null,null,null,60,"m"]
[null,null,"g.","(From  M-DP to LP-SMKM-TG6 )"]
[null,null," -","cable NYY  4 x 4 mm2 ",null,null,null,65,"m"]
[null,null," -","cable NYA  1 x 6 mm2 ",null,null,null,65,"m"]
[null,null,"h.","(From  M-DP to LP-SMKM-TG7 )"]
[null,null," -","cable NYY  4 x 4 mm2 ",null,null,null,70,"m"]
[null,null," -","cable NYA  1 x 6 mm2 ",null,null,null,70,"m"]
[null,null,"i.","(From  M-DP to LP-SMKM-TG8 )"]
[null,null," -","cable NYY  4 x 4 mm2 ",null,null,null,12,"m"]
[null,null," -","cable NYA  1 x 6 mm2 ",null,null,null,12,"m"]
[null,null,"j.","(From  M-DP to LP-SMKM-TG9 )"]
[null,null," -","cable NYY  4 x 6 mm2 ",null,null,null,56,"m"]
[null,null," -","cable NYA  1 x 6 mm2 ",null,null,null,56,"m"]
[null,null,"k.","(From  M-DP to LP-SMKM-TG10 )"]
[null,null," -","cable NYY  4 x 4 mm2 ",null,null,null,40,"m"]
[null,null," -","cable NYA  1 x 6 mm2 ",null,null,null,40,"m"]
[null,null,"l.","(From  M-DP to LP-SMKM-TG11 )"]
[null,null," -","cable NYY  4 x 4 mm2 ",null,null,null,56,"m"]
[null,null," -","cable NYA  1 x 6 mm2 ",null,null,null,56,"m"]
[null,null,"m.","(From  M-DP to LP-SMKM-TG12 )"]
[null,null," -","cable NYY  4 x 4 mm2 ",null,null,null,60,"m"]
[null,null," -","cable NYA  1 x 6 mm2 ",null,null,null,60,"m"]
[null,null,"n.","(From  M-DP to LP-SMKM-TG13 )"]
[null,null," -","cable NYY  4 x 4 mm2 ",null,null,null,65,"m"]
[null,null," -","cable NYA  1 x 6 mm2 ",null,null,null,65,"m"]
[null,null,"o.","(From  M-DP to LP-SMKM-TG14 )"]
[null,null," -","cable NYY  4 x 4 mm2 ",null,null,null,65,"m"]
[null,null," -","cable NYA  1 x 6 mm2 ",null,null,null,65,"m"]
[null,null,"p.","(From  M-DP to LP-SMKM-TG15 )"]
[null,null," -","cable NYY  4 x 4 mm2 ",null,null,null,70,"m"]
[null,null," -","cable NYA  1 x 6 mm2 ",null,null,null,70,"m"]
[null,null," -","Accessories",null,null,null,1,"LS"]
[]
[null,"B","INSTALLATION OF LIGHTNING SYSTEM"]
[null,1,null,"From Panel PP-SMKN-TG-1 - PRINCIPAL/GURU"]
[null,null," -","Down light LED bulb 13 Watt",null,null,null,6,"set"]
[null,null," -","Baret circulair 20 Watt",null,null,null,6,"set"]
[null,null," -","Lamp RM LED TL 2 x 18 W / 220 V, Office, komplit",null,null,null,30,"set"]
[null,null," -","Socket 10 A / 220 V, inbow",null,null,null,9,"set"]
[null,null," -","1 Gang 1 Switch  220 V, inbow",null,null,null,8,"set"]
[null,null," -","2 Gang 1 Switch  220 V, inbow",null,null,null,14,"set"]
[]
[null,2,null,"From Panel PP-SMKN-TG-2 - CLASSROOM A"]
[null,null," -","Down light LED bulb 13 Watt",null,null,null,6,"set"]
[null,null," -","Baret circulair 20 Watt",null,null,null,6,"set"]
[null,null," -","Lamp RM LED TL 2 x 18 W / 220 V, Office, komplit",null,null,null,30,"set"]
[null,null," -","1 Gang 1 Switch  220 V, inbow",null,null,null,8,"set"]
[null,null," -","2 Gang 1 Switch  220 V, inbow",null,null,null,14,"set"]
[null,null," -","Socket 10 A / 220 V, inbow",null,null,null,9,"set"]
[]
[null,3,null,"From Panel PP-SMKN-TG-3 - RPS TATABOGA"]
[null,null," -","Down light LED bulb 13 Watt",null,null,null,6,"set"]
[null,null," -","Baret circulair 20 Watt",null,null,null,6,"set"]
[null,null," -","Lamp RM LED TL 2 x 18 W / 220 V, Office, komplit",null,null,null,30,"set"]
[null,null," -","1 Gang 1 Switch  220 V, inbow",null,null,null,8,"set"]
[null,null," -","2 Gang 1 Switch  220 V, inbow",null,null,null,14,"set"]
[null,null," -","Socket 10 A / 220 V, inbow",null,null,null,9,"U"]
[]
[null,4,null,"From Panel PP-SMKN-TG-4 - RPS BISNIS SEPEDA MOTOR"]
[null,null," -","Down light LED bulb 13 Watt",null,null,null,4,"set"]
[null,null," -","Lamp RM LED TL 2 x 18 W / 220 V, Office, komplit",null,null,null,18,"set"]
[null,null," -","1 Gang 1 Switch  220 V, inbow",null,null,null,4,"set"]
[null,null," -","2 Gang 1 Switch  220 V, inbow",null,null,null,10,"set"]
[null,null," -","Socket 10 A / 220 V, inbow",null,null,null,2,"U"]
[]
[null,5,null,"From Panel PP-SMKN-TG-5 - RPS DKV"]
[null,null," -","Down light LED bulb 13 Watt",null,null,null,4,"set"]
[null,null," -","Lamp RM LED TL 2 x 18 W / 220 V, Office, komplit",null,null,null,12,"set"]
[null,null," -","1 Gang 1 Switch  220 V, inbow",null,null,null,3,"set"]
[null,null," -","2 Gang 1 Switch  220 V, inbow",null,null,null,6,"set"]
[null,null," -","Socket 10 A / 220 V, inbow",null,null,null,2,"set"]
[]
[null,6,null,"From Panel PP-SMKN-TG-6 - LAB & PERPUSTAKAAN"]
[null,null," -","Down light LED bulb 13 Watt",null,null,null,4,"set"]
[null,null," -","Baret circulair 20 Watt",null,null,null,5,"set"]
[null,null," -","Lamp RM LED TL 2 x 18 W / 220 V, Office, komplit",null,null,null,12,"set"]
[null,null," -","1 Gang 1 Switch  220 V, inbow",null,null,null,6,"set"]
[null,null," -","2 Gang 1 Switch  220 V, inbow",null,null,null,8,"set"]
[null,null," -","Socket 10 A / 220 V, inbow",null,null,null,6,"set"]
[]
[null,7,null,"From Panel PP-SMKN-TG-7 - RPS PERHOTELAN"]
[null,null," -","Down light LED bulb 13 Watt",null,null,null,4,"set"]
[null,null," -","Baret circulair 20 Watt",null,null,null,5,"set"]
[null,null," -","Lamp RM LED TL 2 x 18 W / 220 V, Office, komplit",null,null,null,12,"set"]
[null,null," -","1 Gang 1 Switch  220 V, inbow",null,null,null,6,"set"]
[null,null," -","2 Gang 1 Switch  220 V, inbow",null,null,null,8,"set"]
[null,null," -","Socket 10 A / 220 V, inbow",null,null,null,6,"set"]
[]
[null,8,null,"From Panel PP-SMKN-TG-8 - CLASSROOM B"]
[null,null," -","Down light LED bulb 13 Watt",null,null,null,7,"set"]
[null,null," -","Baret circulair 20 Watt",null,null,null,11,"set"]
[null,null," -","Lamp RM LED TL 2 x 18 W / 220 V, Office, komplit",null,null,null,26,"set"]
[null,null," -","1 Gang 1 Switch  220 V, inbow",null,null,null,10,"set"]
[null,null," -","2 Gang 1 Switch  220 V, inbow",null,null,null,16,"set"]
[null,null," -","Socket 10 A / 220 V, inbow",null,null,null,6,"set"]
[]
[null,9,null,"From Panel PP-SMKN-TG-9 - STORAGE"]
[null,null," -","Down light LED bulb 13 Watt",null,null,null,8,"set"]
[null,null," -","Lamp RM LED TL 2 x 18 W / 220 V, Office, komplit",null,null,null,22,"set"]
[null,null," -","1 Gang 1 Switch  220 V, inbow",null,null,null,6,"set"]
[null,null," -","2 Gang 1 Switch  220 V, inbow",null,null,null,14,"set"]
[null,null," -","Socket 10 A / 220 V, inbow",null,null,null,9,"set"]
[]
[null,10,null,"From Panel PP-SMKN-TG-11 - CLASSROOM D"]
[null,null," -","Lamp RM LED TL 2 x 18 W / 220 V, Office, komplit",null,null,null,24,"set"]
[null,null," -","1 Gang 1 Switch  220 V, inbow",null,null,null,6,"set"]
[null,null," -","2 Gang 1 Switch  220 V, inbow",null,null,null,7,"set"]
[null,null," -","Socket 10 A / 220 V, inbow",null,null,null,9,"set"]
[]
[null,11,null,"From Panel PP-SMKN-TG-14 - RPS TENAGA TERBARUKAN"]
[null,null," -","Lamp RM LED TL 2 x 18 W / 220 V, Office, komplit",null,null,null,24,"set"]
[null,null," -","1 Gang 1 Switch  220 V, inbow",null,null,null,6,"set"]
[null,null," -","2 Gang 1 Switch  220 V, inbow",null,null,null,7,"set"]
[null,null," -","Socket 10 A / 220 V, inbow",null,null,null,9,"set"]
[]
[null,12,null,"From Panel PP-SMKN-TG-15 - TPS3R?"]
[null,null," -","Down light LED bulb 13 Watt",null,null,null,5,"set"]
[null,null," -","Baret circulair 20 Watt",null,null,null,3,"set"]
[null,null," -","Lamp RM LED TL 2 x 18 W / 220 V, Office, komplit",null,null,null,4,"set"]
[null,null," -","1 Gang 1 Switch  220 V, inbow",null,null,null,4,"set"]
[null,null," -","2 Gang 1 Switch  220 V, inbow",null,null,null,4,"set"]
[null,null,"-","Socket 10 A / 220 V, inbow",null,null,null,3,"set"]
[]
[null,"C","INSTALLATION OF AIR CONDITIONING"]
[null,1,"From Panel PP-SMKN-GG-1"]
[null,null,"a. AC Point",{"$nulls":4},10,"Point"]
[null,null,"b. Soctot outlet AC",{"$nulls":4},10,"Set"]
[]
[null,"D","LIGHTNING PROTECTION",{"$nulls":4},1,"set"]
[]
[null,"E","FIRE EXTINGUISER",{"$nulls":4},4,"set"]
[]
[null,"F","CONNECTION PLN 6600 VA",{"$nulls":4},1,"unit"]
[]
[null,"XVI","MECHANICAL WORKS"]
[null,null,1,"Installation of Water Supply"]
[null,null,"A","TEACHER TOILET BUILDING CLASSROOM A"]
[null,null,1,"Instalation of pipe PVC classPVC AW  1/2\"",null,null,null,12,"m'"]
[null,null,2,"Instalation of pipe PVC classPVC AW 2\"",null,null,null,32,"m'"]
[null,null,3,"Reservoir Tank, Capasity 1 M³",null,null,null,1,"unit"]
[]
[null,null,"B","STUDENT TOILET BUILDING CLASSROOM B"]
[null,null,1,"Instalation of pipe PVC classPVC AW  1/2\"",null,null,null,20,"m'"]
[null,null,2,"Instalation of pipe PVC classPVC AW 1 1/2\"",null,null,null,40,"m'"]
[null,null,3,"Reservoir Tank, Capasity 1 M³",null,null,null,2,"unit"]
[]
[null,null,"C","TOILET TPS3R"]
[null,null,1,"Instalation of pipe PVC class PVC D 1/2\"",null,null,null,10,"m'"]
[null,null,2,"Instalation of pipe PVC class PVC D 1 1/2\"",null,null,null,20,"m'"]
[null,null,3,"Reservoir Tank, Capasity 1 M³",null,null,null,1,"unit"]
[]
[null,null,"D","TRANSMITION SYSTEM"]
[null,null,1,"Transfer pump",null,null,null,2,"unit"]
[null,null,2,"Instalation of pipe PVC class PVC D 1 1/2\"",null,null,null,390,"m'"]
[]
[null,null,2,"Installation of Waste Water"]
[null,null,"A","ADMINISTRATION BUILDING"]
[null,null,1,"Instalation of pipe PVC class D  1 1/2\"",null,null,null,20,"m'"]
[null,null,2,"Instalation of pipe PVC class D 2\"",null,null,null,208,"m'"]
[null,null,3,"Instalation of pipe PVC class D 3\"",null,null,null,16,"m'"]
[null,null,4,"Instalation of pipe PVC class D  4\"",null,null,null,20,"m'"]
[null,null,5,"Transfer pump",null,null,null,1,"unit"]
[]
[null,null,"B","STUDENT TOILET BUILDING CLASSROOM B"]
[null,null,1,"Instalation of pipe PVC class D  1 1/2\"",null,null,null,32,"m'"]
[null,null,2,"Instalation of pipe PVC class D 2\"",null,null,null,224,"m'"]
[null,null,3,"Instalation of pipe PVC class D 3\"",null,null,null,28,"m'"]
[null,null,4,"Instalation of pipe PVC class D  4\"",null,null,null,72,"m'"]
[null,null,5,"Transfer pump",null,null,null,1,"unit"]
[]
[null,null,"C","TOILET TPS3R"]
[null,null,1,"Instalation of pipe PVC class D  1 1/2\"",null,null,null,20,"m'"]
[null,null,2,"Instalation of pipe PVC class D 2\"",null,null,null,4,"m'"]
[null,null,3,"Instalation of pipe PVC class D 3\"",null,null,null,12,"m'"]
[null,null,4,"Instalation of pipe PVC class D  4\"",null,null,null,28,"m'"]
[]
[null,null,"D","STP SYSTEM"]
[null,null,1,"STP Capasity 66 MPD",null,null,null,1,"unit"]

{"sheet":"3. SMK Gangga","index":3,"n_rows":933,"n_cols":13,"rows_kept":933,"cut":false,"hidden":false,"merged":[[2,1,2,12],[5,1,5,12],[11,1,12,1],[11,2,12,8],[11,9,12,10],[11,11,12,11],[11,12,12,12]]}
[]
[]
[null,"BILL OF QUANTITY"]
[]
[null,"Consulting Service for the Design and Construction Supervision for School and Medical Buildings in Lombok "]
[null,"Programme for Earthquake and Tsunami Infrastructure"]
[]
[null,"LOT 2 : SCHOOL FACILITIES"]
[]
[null,"SMK NEGERI 1 GANGGA, DISTRICT OF NORTH LOMBOK"]
[]
[null,"NO","WORK ITEM",{"$nulls":6},"VOLUME",null,"UNIT PRICE","TOTAL AMOUNT"]
[]
[]
[null,"I","PREPARATION WORKS"]
[null,1,"Nameboard Of Project",{"$nulls":6},1,"Pcs"]
[null,2,"Direction Keet/Project Office",{"$nulls":6},12,"M₂"]
[null,3,"Warehouse of Material and Tools",{"$nulls":6},12,"M₂"]
[null,4,"Documentation (Drone)",{"$nulls":6},1,"Ls"]
[null,5,"Reporting (Shop Drawing, Asbuilt Drawing)",{"$nulls":6},1,"Ls"]
[null,6,"Electricity and water  For project",{"$nulls":6},9,"month"]
[null,7,"HSE ( Health, Safety, and Environment )"]
[null,null,"a. OHS (Occupational Health and Safety)",{"$nulls":6},1,"Ls"]
[null,null,"b. Level of  Air Pollution",{"$nulls":6},2,"Point"]
[null,null,"c. Level of  Vibration During the Project",{"$nulls":6},2,"Point"]
[null,null,"d. Level of  Ground Water Pollution",{"$nulls":6},2,"Point"]
[null,null,"e. Level of  Surface Water Polution",{"$nulls":6},2,"Point"]
[null,null,"f. Reporting Documents ",{"$nulls":6},1,"Ls"]
[]
[null,"II","ADMINISTRATION BUILDING"]
[null,"B","STRUCTURAL  WORKS"]
[null,"B.1","SOIL & FOUNDATION WORKS"]
[null,1,"Field cleaning ",{"$nulls":6},1098,"M2"]
[null,2,"Safety Fencet. 2m",{"$nulls":6},95.25,"M¹"]
[null,3,"Bowplank/ Marking Board",{"$nulls":6},182.5,"M¹"]
[null,4," Termite",{"$nulls":6},792,"M2"]
[null,5,"Soil Excavation Work",{"$nulls":6},680.84500000000014,"M3"]
[null,6,"Soil Back Filling",{"$nulls":6},226.94833333333338,"M3"]
[null,7,"Soil Filling on Building",{"$nulls":6},20.038000000000004,"M3"]
[null,8," Lean Concrete under Foundation",{"$nulls":6},83.92,"M3"]
[null,9,"Stone Foundation (Aastamping)",{"$nulls":6},51.760000000000005,"M3"]
[null,10,"Stone Masonry",{"$nulls":6},144.72750000000002,"M3"]
[]
[null,11,"Foot Plate FP1"]
[null,null,"Concrete",{"$nulls":6},28.08,"M3"]
[null,null,"Deformed Bar",{"$nulls":6},6626.8799999999992,"Kg"]
[null,null,"Formwork",{"$nulls":6},93.590639999999993,"M2"]
[]
[null,12,"Foot Plate FP2"]
[null,null,"Concrete",{"$nulls":6},0.72,"M3"]
[null,null,"Deformed Bar",{"$nulls":6},169.92,"Kg"]
[null,null,"Formwork",{"$nulls":6},2.3997600000000001,"M2"]
[]
[null,13,"Foot Plate FP3"]
[null,null,"Concrete",{"$nulls":6},2.1120000000000001,"M3"]
[null,null,"Deformed Bar",{"$nulls":6},498.43200000000002,"Kg"]
[null,null,"Formwork",{"$nulls":6},7.0392960000000011,"M2"]
[]
[null,14," Column Pedestal FP1"]
[null,null,"Concrete",{"$nulls":6},11.7585,"M3"]
[null,null,"Deformed Bar",{"$nulls":6},2010.7034999999998,"Kg"]
[null,null,"Formwork",{"$nulls":6},78.393919499999996,"M2"]
[]
[null,15," Column Pedestal FP2"]
[null,null,"Concrete",{"$nulls":6},0.15075,"M3"]
[null,null,"Deformed Bar",{"$nulls":6},25.77825,"Kg"]
[null,null,"Formwork",{"$nulls":6},1.00505025,"M2"]
[]
[null,16," Column Pedestal FP3"]
[null,null,"Concrete",{"$nulls":6},0.90449999999999997,"M3"]
[null,null,"Deformed Bar",{"$nulls":6},154.6695,"Kg"]
[null,null,"Formwork",{"$nulls":6},6.0303014999999993,"M2"]
[]
[null,"B.2","CONCRETE WORKS"]
[null,1," Tie Beam SL-01"]
[null,"a","Concrete",{"$nulls":6},24.105,"M3"]
[null,"b","Deformed Bar",{"$nulls":6},5134.3649999999998,"Kg"]
[null,"c","Formwork",{"$nulls":6},321.39196500000003,"M2"]
[]
[null,2," Column K-01"]
[null,"a","Concrete",{"$nulls":6},23.759999999999998,"M3"]
[null,"b","Deformed Bar",{"$nulls":6},4062.9599999999996,"Kg"]
[null,"c","Formwork",{"$nulls":6},158.40791999999999,"M2"]
[]
[null,3," Column K-05"]
[null,"a","Concrete",{"$nulls":6},0.89100000000000001,"M3"]
[null,"b","Deformed Bar",{"$nulls":6},204.03900000000002,"Kg"]
[null,"c","Formwork",{"$nulls":6},8.91,"M2"]
[]
[null,4," Column K-03"]
[null,"a","Concrete",{"$nulls":6},1.85625,"M3"]
[null,"b","Deformed Bar",{"$nulls":6},387.95625000000001,"Kg"]
[null,"c","Formwork",{"$nulls":6},24.749381249999999,"M2"]
[]
[null,5," Ring beams RB-01"]
[null,"a","Concrete",{"$nulls":6},14.540085000000001,"M3"]
[null,"b","Deformed Bar",{"$nulls":6},2544.5148750000003,"Kg"]
[null,"c","Formwork",{"$nulls":6},242.33959669500004,"M2"]
[]
[null,6,"Roof Works"]
[null,"a","Light Steel Truss",{"$nulls":6},1312.6310000000001,"M²"]
[]
[null,8,"Ramp Disable"]
[null,"a","Beam Sloof 10x20 cm"]
[null,null,"Concrete",{"$nulls":6},168,"M3"]
[null,null,"Deformed Bar",{"$nulls":6},35784,"Kg"]
[null,null,"Formwork",{"$nulls":6},2239.944,"M2"]
[null,"b","Platform"]
[null,null,"Concrete",{"$nulls":6},1.1642399999999999,"M3"]
[null,null,"- Wiremesh M-6 (1 Layer)",{"$nulls":6},9.7019999999999982,"M2"]
[null,"c","Disable Parking"]
[null,null,"Concrete",{"$nulls":6},2.4,"M3"]
[null,null,"- Wiremesh M-6 (1 Layer)",{"$nulls":6},20,"M2"]
[null,"d","RailingRamp Disable",{"$nulls":6},3.0154999999999998,"M²"]
[]
[null,"C","ARCHITECTURAL WORKS"]
[null,1,"Light concrete under floor "]
[null,null,"Concrete",{"$nulls":6},77.957249999999988,"M3"]
[null,null,"- Wiremesh M-6 (1 Layer)",{"$nulls":6},779.57249999999988,"M2"]
[]
[null,2,"Roof Works"]
[null,"a","Alumunium Foil",{"$nulls":6},1312.6310000000001,"M²"]
[null,"c","roof coverings",{"$nulls":6},1312.6310000000001,"M²"]
[null,"d","Top Roofing",{"$nulls":6},86.6,"M¹"]
[null,"d","Roof Facia",{"$nulls":6},86.6,"M¹"]
[]
[null,2,"Concrete Flat Roof"]
[null,"a","Concrete",{"$nulls":6},5.3520000000000003,"M3"]
[null,"b","Deformed Bar",{"$nulls":6},749.28000000000009,"Kg"]
[null,"c","Formwork",{"$nulls":6},44.598216000000001,"M2"]
[]
[null,3,"Waterproofing"]
[null,"a","membrame waterproofing",{"$nulls":6},44,"M²"]
[]
[null,4,"Protection Concrete T 50 mm"]
[null,"a","Concrete",{"$nulls":6},2.2000000000000002,"M³"]
[null,"b","wiremesh M-4",{"$nulls":6},44,"M²"]
[]
[null,3,"Light brick wall (AAC block)"]
[null,"a"," Hebel wall t.10",{"$nulls":6},874.54056099999968,"M2"]
[]
[null,4,"Plaster Works"]
[null,"a"," Plastering",{"$nulls":6},1749.0811219999994,"M2"]
[null,"b","Smooth Rendering",{"$nulls":6},1749.0811219999994,"M2"]
[]
[null,5,"Door and Window Frameworks"]
[null,"a","Door Frame AD-01 + Assesories",{"$nulls":6},10,"Pcs"]
[null,"b","Door Frame AD-03 + Assesories",{"$nulls":6},2,"Pcs"]
[null,"c","Door Frame AD-04 + Assesories",{"$nulls":6},3,"Pcs"]
[null,"d","Door Frame AD-05 + Assesories",{"$nulls":6},5,"Pcs"]
[null,"e","Door Frame AD-06 + Assesories",{"$nulls":6},4,"Pcs"]
[null,"f","Window Frame AW-01 + Assesories",{"$nulls":6},32,"Pcs"]
[null,"g","Bovenligh Frame BV-01 + Assesories",{"$nulls":6},8,"Pcs"]
[]
[null,6,"Specialities Works"]
[null,"a"," Variations grille / louvre",{"$nulls":6},119.74999999999999,"M²"]
[null,"b"," Instalation Alumunium Composit Panel",{"$nulls":6},214.38549999999998,"M²"]
[]
[null,7,"Ceilling Works"]
[null,"a"," Gypsum ceiling + Frame",{"$nulls":6},576.79599999999994,"M²"]
[null,"b"," Ceiling GRC + Frame",{"$nulls":6},217.485175,"M²"]
[]
[null,8,"Floor and Wall Works"]
[null,"a"," ceramic 60/60",{"$nulls":6},576.79599999999994,"M²"]
[null,"b"," Ceramic Anti Slip 60/60",{"$nulls":6},416.43967499999997,"M²"]
[null,"c","Wall Base Plint t.10cm",{"$nulls":6},309.94499999999999,"M¹"]
[null,"d"," ceramic 25/25",{"$nulls":6},37.673500000000011,"M²"]
[null,"e"," Ceramic Wall 25/50",{"$nulls":6},122.5016,"M²"]
[]
[null,9,"Painting Works"]
[null,"a","Interior Wall Painting Works ",{"$nulls":6},836.86706099999969,"M²"]
[null,"b","exterior wall painting works- Wheatershield",{"$nulls":6},836.86706099999969,"M²"]
[null,"c","Ceiling Painting Works",{"$nulls":6},794.28117499999996,"M²"]
[]
[null,10,"Sanitary Works"]
[null,"a"," Squatting closet",{"$nulls":6},5,"Unit"]
[null,"b","Handrail",{"$nulls":6},2,"Set"]
[null,"c"," Sitting closet",{"$nulls":6},3,"Unit"]
[null,"d","Water faucet",{"$nulls":6},6,"Unit"]
[null,"e"," Sink",{"$nulls":6},5,"Unit"]
[null,"f"," floor Drain",{"$nulls":6},10,"Unit"]
[null,"g","urinal",{"$nulls":6},2,"Unit"]
[]
[null,11,"Latei Beams"]
[null,"a","Concrete",{"$nulls":6},3.2110000000000007,"M3"]
[null,"b","Deformed Bar",{"$nulls":6},600.45700000000011,"Kg"]
[null,"c","Formwork",{"$nulls":6},74.100247000000024,"M²"]
[]
[null,"III","RPS DESIGN INFORMATION & MODELING"]
[null,"B","STRUCTURAL  WORKS"]
[null,"B.1","SOIL & FOUNDATION WORKS"]
[null,1,"Field cleaning ",{"$nulls":6},330,"M2"]
[null,2,"Safety Fencet. 2m",{"$nulls":6},49,"M¹"]
[null,3,"Bowplank/ Marking Board",{"$nulls":6},90,"M¹"]
[null,4," Termite",{"$nulls":6},330,"M2"]
[null,5,"Soil Excavation Work",{"$nulls":6},496.37675000000013,"M3"]
[null,6,"Soil Back Filling",{"$nulls":6},165.45891666666671,"M3"]
[null,7,"Soil Filling on Building",{"$nulls":6},15.121000000000002,"M3"]
[null,8," Lean Concrete under Foundation",{"$nulls":6},644.42250000000001,"M3"]
[null,9,"Stone Foundation (Aastamping)",{"$nulls":6},132.10624999999999,"M3"]
[null,10,"Stone Masonry",{"$nulls":6},132.10624999999999,"M3"]
[]
[null,11,"Foot Plate FP1"]
[null,"a","Concrete",{"$nulls":6},14.76,"M3"]
[null,"b","Deformed Bar",{"$nulls":6},3483.36,"Kg"]
[null,"c","Formwork",{"$nulls":6},49.195080000000004,"M2"]
[]
[null,12,"Foot Plate FP2"]
[null,"a","Concrete",{"$nulls":6},0.72,"M3"]
[null,"b","Deformed Bar",{"$nulls":6},169.92,"Kg"]
[null,"c","Formwork",{"$nulls":6},2.3997600000000001,"M2"]
[]
[null,13," Column Pedestal FP1"]
[null,"a","Concrete",{"$nulls":6},6.1807499999999997,"M3"]
[null,"b","Deformed Bar",{"$nulls":6},1056.90825,"Kg"]
[null,"c","Formwork",{"$nulls":6},41.207060249999998,"M2"]
[]
[null,14," Column Pedestal FP2"]
[null,"a","Concrete",{"$nulls":6},0.15075,"M3"]
[null,"b","Deformed Bar",{"$nulls":6},25.77825,"Kg"]
[null,"c","Formwork",{"$nulls":6},1.00505025,"M2"]
[]
[null,"B.2","CONCRETE WORKS"]
[null,1," Tie Beam SL-01"]
[null,"a","Concrete",{"$nulls":6},10.190624999999999,"M3"]
[null,"b","Deformed Bar",{"$nulls":6},2170.6031249999996,"Kg"]
[null,"c","Formwork",{"$nulls":6},135.87160312499998,"M2"]
[]
[null,2," Column K-01"]
[null,"a","Concrete",{"$nulls":6},13.652999999999997,"M3"]
[null,"b","Deformed Bar",{"$nulls":6},2334.6629999999996,"Kg"]
[null,"c","Formwork",{"$nulls":6},91.024550999999974,"M2"]
[]
[null,3," Column K-02"]
[null,"a","Concrete",{"$nulls":6},0.36899999999999994,"M3"]
[null,"b","Deformed Bar",{"$nulls":6},84.500999999999991,"Kg"]
[null,"c","Formwork",{"$nulls":6},3.6899999999999995,"M2"]
[]
[null,4," Column K-04"]
[null,"a","Concrete",{"$nulls":6},0.27674999999999994,"M3"]
[null,"b","Deformed Bar",{"$nulls":6},40.405499999999989,"Kg"]
[null,"c","Formwork",{"$nulls":6},2.7674999999999992,"M2"]
[]
[null,5," Ring beams RB-01"]
[null,"a","Concrete",{"$nulls":6},11.688750000000001,"M3"]
[null,"b","Deformed Bar",{"$nulls":6},2045.53125,"Kg"]
[null,"c","Formwork",{"$nulls":6},194.81639625000003,"M2"]
[]
[null,6,"Roof Works"]
[null,"a","Light Steel Trus",{"$nulls":6},705.96900000000005,"M²"]
[]
[null,8,"Ramp "]
[null,"a","Concrete",{"$nulls":6},3.0155999999999996,"M3"]
[null,"b","- Wiremesh M-6 (1 Layer)",{"$nulls":6},10.052,"M2"]
[]
[null,"C","ARCHITECTURAL WORKS"]
[null,1,"Light concrete under floor "]
[null,"a","Concrete",{"$nulls":6},39.6,"M3"]
[null,"b","- Wiremesh M-6 (1 Layer)",{"$nulls":6},330,"M2"]
[]
[null,2,"Roof Works"]
[null,"a","Alumunium Foil",{"$nulls":6},705.96900000000005,"M²"]
[null,"c","roof coverings",{"$nulls":6},705.96900000000005,"M²"]
[null,"d","Top Roofing",{"$nulls":6},33,"M¹"]
[null,"d","Roof Facia",{"$nulls":6},33,"M¹"]
[null,2,"Light brick wall (AAC block)"]
[null,null," Hebel wall t.10",{"$nulls":6},325.83579999999995,"M2"]
[]
[null,3,"Plaster Works"]
[null,"a"," Plastering",{"$nulls":6},651.6715999999999,"M2"]
[null,"b","Smooth Rendering",{"$nulls":6},651.6715999999999,"M2"]
[]
[null,4,"Door and Window Frameworks"]
[null,"a","Door Frame AD-01 + Assesories",{"$nulls":6},3,"unit"]
[null,"b","Door Frame AD-02 + Assesories",{"$nulls":6},2,"unit"]
[null,"c","Door Frame AD-04 + Assesories",{"$nulls":6},1,"unit"]
[null,"d"," Sills RD + Assesories",{"$nulls":6},1,"unit"]
[null,"e","Window Frame AW-01 + Assesories",{"$nulls":6},15,"unit"]
[null,"f","Bovenligh Frame BV-01 + Assesories",{"$nulls":6},1,"unit"]
[null,"g","Rolling Door",{"$nulls":6},1,"unit"]
[]
[null,5,"Specialities Works"]
[null,"a"," Variations grille / louvre",{"$nulls":6},12.004000000000001,"M²"]
[null,"b"," Instalation Alumunium Composit Panel",{"$nulls":6},58.830750000000002,"M²"]
[]
[null,6,"Ceilling Works"]
[null,"a"," Gypsum ceiling + Frame",{"$nulls":6},257.39999999999998,"M²"]
[null,"b"," Ceiling GRC + Frame",{"$nulls":6},72.45,"M²"]
[]
[null,7,"Floor and Wall Works"]
[null,"a"," ceramic 60/60",{"$nulls":6},12.004000000000001,"M²"]
[null,"b","Ceramic Anti Slip 60/60",{"$nulls":6},76.95,"M²"]
[null,"c","Wall Base Plint t.10cm",{"$nulls":6},156.94999999999999,"M¹"]
[null,"d"," ceramic 25/25",{"$nulls":6},2.6999999999999997,"M²"]
[null,"e"," Ceramic Wall 25/50",{"$nulls":6},18.965,"M²"]
[]
[null,8,"Painting Works"]
[null,"a","Interior Wall Painting Works ",{"$nulls":6},304.91079999999994,"M²"]
[null,"b","exterior wall painting works- Wheatershield",{"$nulls":6},304.91079999999994,"M²"]
[null,"c","Ceiling Painting Works",{"$nulls":6},329.84999999999997,"M²"]
[]
[null,10,"Sanitary Works"]
[null,"a"," Squatting closet",{"$nulls":6},1,"Unit"]
[null,"b","Water faucet",{"$nulls":6},1,"Unit"]
[null,"c"," Sink",{"$nulls":6},1,"Unit"]
[null,"d"," floor Drain",{"$nulls":6},1,"Unit"]
[]
[null,11,"Latei Beams"]
[null,"a","Concrete",{"$nulls":6},1.1382150000000002,"M3"]
[null,"b","Deformed Bar",{"$nulls":6},212.84620500000003,"Kg"]
[null,"c","Formwork",{"$nulls":6},26.266587555000008,"M²"]
[]
[null,"IV","RPS POWER PLANT ENGINEERING"]
[null,"B","STRUCTURAL  WORKS"]
[null,"B.1","SOIL & FOUNDATION WORKS"]
[null,1,"Field cleaning ",{"$nulls":6},330,"M2"]
[null,2,"Safety Fencet. 2m",{"$nulls":6},49,"M¹"]
[null,3,"Bowplank/ Marking Board",{"$nulls":6},90,"M¹"]
[null,4," Termite",{"$nulls":6},330,"M2"]
[null,5,"Soil Excavation Work",{"$nulls":6},496.37675000000013,"M3"]
[null,6,"Soil Back Filling",{"$nulls":6},165.45891666666671,"M3"]
[null,7,"Soil Filling on Building",{"$nulls":6},15.121000000000002,"M3"]
[null,8," Lean Concrete under Foundation",{"$nulls":6},644.42250000000001,"M3"]
[null,9,"Stone Foundation (Aastamping)",{"$nulls":6},132.10624999999999,"M3"]
[null,10,"Stone Masonry",{"$nulls":6},132.10624999999999,"M3"]
[]
[null,11,"Foot Plate FP1"]
[null,"a","Concrete",{"$nulls":6},14.76,"M3"]
[null,"b","Deformed Bar",{"$nulls":6},3483.36,"Kg"]
[null,"c","Formwork",{"$nulls":6},49.195080000000004,"M2"]
[]
[null,12,"Foot Plate FP2"]
[null,"a","Concrete",{"$nulls":6},0.72,"M3"]
[null,"b","Deformed Bar",{"$nulls":6},169.92,"Kg"]
[null,"c","Formwork",{"$nulls":6},2.3997600000000001,"M2"]
[]
[null,13," Column Pedestal FP1"]
[null,"a","Concrete",{"$nulls":6},6.1807499999999997,"M3"]
[null,"b","Deformed Bar",{"$nulls":6},1056.90825,"Kg"]
[null,"c","Formwork",{"$nulls":6},41.207060249999998,"M2"]
[]
[null,14," Column Pedestal FP2"]
[null,"a","Concrete",{"$nulls":6},0.15075,"M3"]
[null,"b","Deformed Bar",{"$nulls":6},34.521749999999997,"Kg"]
[null,"c","Formwork",{"$nulls":6},1.5074999999999998,"M2"]
[]
[null,"B.2","CONCRETE WORKS"]
[null,1," Tie Beam SL-01"]
[null,"a","Concrete",{"$nulls":6},10.190624999999999,"M3"]
[null,"b","Deformed Bar",{"$nulls":6},2170.6031249999996,"Kg"]
[null,"c","Formwork",{"$nulls":6},135.87160312499998,"M2"]
[]
[null,2," Column K-01"]
[null,"a","Concrete",{"$nulls":6},13.652999999999997,"M3"]
[null,"b","Deformed Bar",{"$nulls":6},2334.6629999999996,"Kg"]
[null,"c","Formwork",{"$nulls":6},91.024550999999974,"M2"]
[]
[null,3," Column K-02"]
[null,"a","Concrete",{"$nulls":6},0.36899999999999994,"M3"]
[null,"b","Deformed Bar",{"$nulls":6},84.500999999999991,"Kg"]
[null,"c","Formwork",{"$nulls":6},3.6899999999999995,"M2"]
[]
[null,4," Column K-04"]
[null,"a","Concrete",{"$nulls":6},0.27674999999999994,"M3"]
[null,"b","Deformed Bar",{"$nulls":6},40.405499999999989,"Kg"]
[null,"c","Formwork",{"$nulls":6},2.7674999999999992,"M2"]
[]
[null,5," Ring beams RB-01"]
[null,"a","Concrete",{"$nulls":6},11.688750000000001,"M3"]
[null,"b","Deformed Bar",{"$nulls":6},2045.53125,"Kg"]
[null,"c","Formwork",{"$nulls":6},194.81639625000003,"M2"]
[]
[null,6,"Roof Works"]
[null,"a","Light Steel Trus",{"$nulls":6},705.96900000000005,"M²"]
[]
[null,8,"Ramp "]
[null,null,"Concrete",{"$nulls":6},3.0155999999999996,"M3"]
[null,null,"- Wiremesh M-6 (1 Layer)",{"$nulls":6},10.052,"M2"]
[]
[null,"B","ARCHITECTURAL WORKS"]
[null,1,"Light concrete under floor "]
[null,"a","Concrete",{"$nulls":6},32.387250000000002,"M3"]
[null,"b","- Wiremesh M-6 (1 Layer)",{"$nulls":6},323.8725,"M2"]
[]
[null,2,"Roof Works"]
[null,"a","Alumunium Foil",{"$nulls":6},705.96900000000005,"M²"]
[null,"c","roof coverings",{"$nulls":6},705.96900000000005,"M²"]
[null,"d","Top Roofing",{"$nulls":6},33,"M¹"]
[null,"d","Roof Facia",{"$nulls":6},33,"M¹"]
[null,2,"light brick wall (AAC block)"]
[null,"a"," Hebel wall t.10",{"$nulls":6},325.83579999999995,"M2"]
[]
[null,4,"Plaster Works"]
[null,"a"," Plastering",{"$nulls":6},651.6715999999999,"M2"]
[null,"b","Smooth Rendering",{"$nulls":6},651.6715999999999,"M2"]
[null,"c","Trassram Wall WC",{"$nulls":6},2.6999999999999997,"M²"]
[]
[null,5,"Door and Window Frameworks"]
[null,"a","Door Frame AD-01 + Assesories",{"$nulls":6},3,"Pcs"]
[null,"b","Door Frame AD-02 + Assesories",{"$nulls":6},2,"Pcs"]
[null,"c","Door Frame AD-04 + Assesories",{"$nulls":6},1,"Pcs"]
[null,"d"," Sills RD + Assesories",{"$nulls":6},1,"Pcs"]
[null,"e","Window Frame AW-01 + Assesories",{"$nulls":6},15,"Pcs"]
[null,"f","Bovenligh Frame BV-01 + Assesories",{"$nulls":6},1,"Pcs"]
[null,"g","Rolling Door",{"$nulls":6},1,"unit"]
[]
[null,6,"Specialities Works"]
[null,"a"," Variations grille / louvre",{"$nulls":6},12.004000000000001,"M²"]
[null,"b"," Instalation Alumunium Composit Panel",{"$nulls":6},58.830750000000002,"M²"]
[]
[null,7,"Ceilling Works"]
[null,null," Gypsum ceiling + Frame",{"$nulls":6},257.39999999999998,"M²"]
[null,null," Ceiling GRC + Frame",{"$nulls":6},72.45,"M²"]
[]
[null,8,"Floor and Wall Works"]
[null,"a"," ceramic 60/60",{"$nulls":6},50.894999999999996,"M²"]
[null,"b"," Ceramic Anti Slip 60/60",{"$nulls":6},32.647499999999994,"M²"]
[null,"c","Wall Base Plint t.10cm",{"$nulls":6},35.599999999999994,"M¹"]
[null,"d"," ceramic 25/25",{"$nulls":6},2.6999999999999997,"M²"]
[null,"e"," Ceramic Wall 25/50",{"$nulls":6},8.84,"M²"]
[null,"f"," floor Hardener",{"$nulls":6},41,"M²"]
[]
[null,9,"Painting Works"]
[null,"a","Interior Wall Painting Works ",{"$nulls":6},316.99579999999997,"M²"]
[null,"b","exterior wall painting works- Wheatershield",{"$nulls":6},316.99579999999997,"M²"]
[null,"c","Ceiling Painting Works",{"$nulls":6},329.84999999999997,"M²"]
[]
[null,10,"Sanitary Works"]
[null,"a"," Squatting closet",{"$nulls":6},1,"Unit"]
[null,"b","Water faucet",{"$nulls":6},1,"Unit"]
[null,"c"," Sink",{"$nulls":6},1,"Unit"]
[null,"d"," floor Drain",{"$nulls":6},1,"Unit"]
[]
[null,11,"Latei Beams"]
[null,"a","Concrete",{"$nulls":6},1.1382150000000002,"M3"]
[null,"b","Deformed Bar",{"$nulls":6},212.84620500000003,"Kg"]
[null,"c","Formwork",{"$nulls":6},26.266587555000008,"M²"]
[]
[null,"V","RPS ENGINEERING & BUSINESS OF MOTORCYCLE"]
[null,"B","STRUCTURAL  WORKS"]
[null,"B.1","SOIL & FOUNDATION WORKS"]
[null,1,"Field cleaning ",{"$nulls":6},330,"M2"]
[null,2,"Safety Fencet. 2m",{"$nulls":6},49,"M¹"]
[null,3,"Bowplank/ Marking Board",{"$nulls":6},90,"M¹"]
[null,4," Termite",{"$nulls":6},330,"M2"]
[null,5,"Soil Excavation Work",{"$nulls":6},489.53225000000009,"M3"]
[null,6,"Soil Back Filling",{"$nulls":6},163.17741666666669,"M3"]
[null,7,"Soil Filling on Building",{"$nulls":6},14.952000000000004,"M3"]
[null,8," Lean Concrete under Foundation",{"$nulls":6},690.48249999999996,"M3"]
[null,9,"Stone Foundation (Aastamping)",{"$nulls":6},131.32999999999998,"M3"]
[null,10,"Stone Masonry",{"$nulls":6},131.32999999999998,"M3"]
[]
[null,11,"Foot Plate FP1"]
[null,"a","Concrete",{"$nulls":6},13.32,"M3"]
[null,"b","Deformed Bar",{"$nulls":6},3143.52,"Kg"]
[null,"c","Formwork",{"$nulls":6},44.395560000000003,"M2"]
[]
[null,12,"Foot Plate FP2"]
[null,"a","Concrete",{"$nulls":6},1.44,"M3"]
[null,"b","Deformed Bar",{"$nulls":6},339.84,"Kg"]
[null,"c","Formwork",{"$nulls":6},4.7995200000000002,"M2"]
[]
[null,13," Column Pedestal FP1"]
[null,"a","Concrete",{"$nulls":6},5.57775,"M3"]
[null,"b","Deformed Bar",{"$nulls":6},953.79525000000001,"Kg"]
[null,"c","Formwork",{"$nulls":6},37.186859249999998,"M2"]
[]
[null,14," Column Pedestal FP2"]
[null,"a","Concrete",{"$nulls":6},0.30149999999999999,"M3"]
[null,"b","Deformed Bar",{"$nulls":6},69.043499999999995,"Kg"]
[null,"c","Formwork",{"$nulls":6},3.0149999999999997,"M2"]
[]
[null,"B.2","CONCRETE WORKS"]
[null,1," Tie Beam SL-01"]
[null,"a","Concrete",{"$nulls":6},10.190624999999999,"M3"]
[null,"b","Deformed Bar",{"$nulls":6},2170.6031249999996,"Kg"]
[null,"c","Formwork",{"$nulls":6},135.87160312499998,"M2"]
[]
[null,2," Column K-01"]
[null,"a","Concrete",{"$nulls":6},14.8185,"M3"]
[null,"b","Deformed Bar",{"$nulls":6},2533.9634999999998,"Kg"]
[null,"c","Formwork",{"$nulls":6},98.794939499999998,"M2"]
[]
[null,3," Column K-02"]
[null,"a","Concrete",{"$nulls":6},0.80100000000000005,"M3"]
[null,"b","Deformed Bar",{"$nulls":6},183.429,"Kg"]
[null,"c","Formwork",{"$nulls":6},8.01,"M2"]
[]
[null,4," Column K-04"]
[null,"a","Concrete",{"$nulls":6},0.300375,"M3"]
[null,"b","Deformed Bar",{"$nulls":6},62.778375000000004,"Kg"]
[null,"c","Formwork",{"$nulls":6},4.0048998750000004,"M2"]
[]
[null,5," Ring beams RB-01"]
[null,"a","Concrete",{"$nulls":6},7.5037500000000001,"M3"]
[null,"b","Deformed Bar",{"$nulls":6},213,"Kg"]
[null,"c","Formwork",{"$nulls":6},13.333,"M2"]
[]
[null,6,"Roof Works"]
[null,"a","Light Steel Trus",{"$nulls":6},705.96900000000005,"M²"]
[]
[null,8,"Ramp "]
[null,null,"Concrete",{"$nulls":6},2.0103999999999997,"M3"]
[null,null,"- Wiremesh M-6 (1 Layer)",{"$nulls":6},10.052,"M2"]
[]
[null,"C","ARCHITECTURAL WORKS"]
[null,1,"Light concrete under floor "]
[null,"a","Concrete",{"$nulls":6},32.387250000000002,"M3"]
[null,"b","- Wiremesh M-6 (1 Layer)",{"$nulls":6},323.8725,"M2"]
[]
[null,2,"Roof Works"]
[null,"a","Alumunium Foil",{"$nulls":6},705.96900000000005,"M²"]
[null,"c","roof coverings",{"$nulls":6},705.96900000000005,"M²"]
[null,"d","Top Roofing",{"$nulls":6},33,"M¹"]
[null,"d","Roof Facia",{"$nulls":6},33,"M¹"]
[null,2,"light brick wall (AAC block)"]
[null,"a"," Hebel wall t.10",{"$nulls":6},358.87130000000002,"M2"]
[]
[null,3,"Plaster Works"]
[null,"a"," Plastering",{"$nulls":6},717.74260000000004,"M2"]
[null,"b","Smooth Rendering",{"$nulls":6},717.74260000000004,"M2"]
[]
[null,4,"Door and Window Frameworks"]
[null,"a","Door Frame AD-01 + Assesories",{"$nulls":6},3,"Pcs"]
[null,"b","Door Frame AD-02 + Assesories",{"$nulls":6},3,"Pcs"]
[null,"c","Door Frame AD-04 + Assesories",{"$nulls":6},1,"Pcs"]
[null,"d"," Sills RD + Assesories",{"$nulls":6},1,"Pcs"]
[null,"e","Window Frame AW-01 + Assesories",{"$nulls":6},15,"Pcs"]
[null,"f","Bovenligh Frame BV-01 + Assesories",{"$nulls":6},1,"Pcs"]
[null,"g","Rolling Door",{"$nulls":6},1,"unit"]
[]
[null,5,"Specialities Works"]
[null,"a"," Variations grille / louvre",{"$nulls":6},12.004000000000001,"M²"]
[null,"b"," Instalation Alumunium Composit Panel",{"$nulls":6},58.830750000000002,"M²"]
[]
[null,6,"Ceilling Works"]
[null,"a"," Gypsum ceiling + Frame",{"$nulls":6},99.427499999999995,"M²"]
[null,"b"," Ceiling GRC + Frame",{"$nulls":6},60.45,"M²"]
[]
[null,7,"Floor and Wall Works"]
[null,"a"," ceramic 60/60",{"$nulls":6},108,"M²"]
[null,"b"," Ceramic Anti Slip 60/60",{"$nulls":6},64.95,"M²"]
[null,"c","Wall Base Plint t.10cm",{"$nulls":6},100.19999999999999,"M¹"]
[null,"d"," ceramic 25/25",{"$nulls":6},2.6999999999999997,"M²"]
[null,"e"," Ceramic Wall 25/50",{"$nulls":6},15.364999999999998,"M²"]
[null,"f"," floor Hardener",{"$nulls":6},162,"M²"]
[]
[null,8,"Painting Works"]
[null,"a","Interior Wall Painting Works ",{"$nulls":6},341.54630000000003,"M²"]
[null,"b","exterior wall painting works- Wheatershield",{"$nulls":6},341.54630000000003,"M²"]
[null,"c","Ceiling Painting Works",{"$nulls":6},159.8775,"M²"]
[]
[null,9,"Sanitary Works"]
[null,"a"," Squatting closet",{"$nulls":6},1,"Unit"]
[null,"b","Water faucet",{"$nulls":6},1,"Unit"]
[null,"c"," Sink",{"$nulls":6},1,"Unit"]
[null,"d"," floor Drain",{"$nulls":6},1,"Unit"]
[]
[null,10,"Latei Beams"]
[null,"a","Concrete",{"$nulls":6},1.1889150000000002,"M3"]
[null,"b","Deformed Bar",{"$nulls":6},222.32710500000002,"Kg"]
[null,"c","Formwork",{"$nulls":6},27.436591455000006,"M²"]
[]
[null,"VI","CLASSROOM  BUILDING A"]
[null,"B","STRUCTURAL  WORKS"]
[null,"B.1","SOIL & FOUNDATION WORKS"]
[null,1,"Field cleaning ",{"$nulls":6},310,"M2"]
[null,2,"Safety Fencet. 2m",{"$nulls":6},49,"M¹"]
[null,3,"Bowplank/ Marking Board",{"$nulls":6},90,"M¹"]
[null,4," Termite",{"$nulls":6},310,"M2"]
[null,5,"Soil Excavation Work",{"$nulls":6},320.65350000000001,"M3"]
[null,6,"Soil Back Filling",{"$nulls":6},106.8845,"M3"]
[null,7,"Soil Filling on Building",{"$nulls":6},9.7435000000000009,"M3"]
[null,8," Lean Concrete under Foundation",{"$nulls":6},38.642499999999998,"M3"]
[null,9,"Stone Foundation (Aastamping)",{"$nulls":6},26.130000000000003,"M3"]
[null,10,"Stone Masonry",{"$nulls":6},75.123749999999987,"M3"]
[]
[null,11,"Foot Plate FP1"]
[null,"a","Concrete",{"$nulls":6},12.959999999999999,"M3"]
[null,"b","Deformed Bar",{"$nulls":6},3058.56,"Kg"]
[null,"c","Formwork",{"$nulls":6},43.195679999999996,"M2"]
[]
[null,12,"Foot Plate FP2"]
[null,"a","Concrete",{"$nulls":6},0.72,"M3"]
[null,"b","Deformed Bar",{"$nulls":6},169.92,"Kg"]
[null,"c","Formwork",{"$nulls":6},2.3997600000000001,"M2"]
[]
[null,13," Column Pedestal FP1"]
[null,"a","Concrete",{"$nulls":6},5.4269999999999996,"M3"]
[null,"b","Deformed Bar",{"$nulls":6},928.01699999999994,"Kg"]
[null,"c","Formwork",{"$nulls":6},36.181808999999994,"M2"]
[]
[null,14," Column Pedestal FP2"]
[null,"a","Concrete",{"$nulls":6},0.15075,"M3"]
[null,"b","Deformed Bar",{"$nulls":6},34.521749999999997,"Kg"]
[null,"c","Formwork",{"$nulls":6},1.5074999999999998,"M2"]
[]
[null,"B.2","CONCRETE WORKS"]
[null,1," Tie Beam SL-01"]
[null,"a","Concrete",{"$nulls":6},9.5343749999999989,"M3"]
[null,"b","Deformed Bar",{"$nulls":6},2030.8218749999999,"Kg"]
[null,"c","Formwork",{"$nulls":6},127.12182187499998,"M2"]
[]
[null,2," Column K-01"]
[null,"a","Concrete",{"$nulls":6},14.418000000000001,"M3"]
[null,"b","Deformed Bar",{"$nulls":6},2465.4780000000001,"Kg"]
[null,"c","Formwork",{"$nulls":6},96.124806000000007,"M2"]
[]
[null,3," Column K-05"]
[null,"a","Concrete",{"$nulls":6},0.40050000000000002,"M3"]
[null,"b","Deformed Bar",{"$nulls":6},91.714500000000001,"Kg"]
[null,"c","Formwork",{"$nulls":6},4.0049999999999999,"M2"]
[]
[null,4," Column K-03"]
[null,"a","Concrete",{"$nulls":6},1.2015,"M3"]
[null,"b","Deformed Bar",{"$nulls":6},251.11350000000002,"Kg"]
[null,"c","Formwork",{"$nulls":6},16.019599500000002,"M2"]
[]
[null,5," Ring beams RB-01"]
[null,"a","Concrete",{"$nulls":6},6.5812499999999989,"M3"]
[null,"b","Deformed Bar",{"$nulls":6},1151.7187499999998,"Kg"]
[null,"c","Formwork",{"$nulls":6},109.68969374999999,"M2"]
[]
[null,6,"Roof Works"]
[null,"a","Light Steel Trus",{"$nulls":6},392.46957500000002,"M²"]
[]
[null,7,"Domestic Work"]
[null,"a","Concrete",{"$nulls":6},1.08,"M3"]
[]
[null,8,"Ramp Disable"]
[null,"a","Beam Sloof 10x20 cm"]
[null,null,"Concrete",{"$nulls":6},0.16799999999999998,"M3"]
[null,null,"Deformed Bar",{"$nulls":6},62.663999999999994,"Kg"]
[null,null,"Formwork",{"$nulls":6},3.3599999999999994,"M2"]
[null,"b","Platform"]
[null,null,"Concrete",{"$nulls":6},0.97019999999999984,"M3"]
[null,null,"- Wiremesh M-6 (1 Layer)",{"$nulls":6},9.7019999999999982,"M2"]
[null,"c","Disable Parking"]
[null,null,"Concrete",{"$nulls":6},1.8672500000000001,"M3"]
[null,null,"- Wiremesh M-6 (1 Layer)",{"$nulls":6},18.672499999999999,"M2"]
[null,"d","RailingRamp Disable",{"$nulls":6},3.0154999999999998,"M²"]
[]
[null,"C","ARCHITECTURAL WORKS"]
[null,1,"Light concrete under floor "]
[null,"a","Concrete",{"$nulls":6},28.699500000000004,"M3"]
[null,"b","- Wiremesh M-6 (1 Layer)",{"$nulls":6},264.47250000000003,"M2"]
[]
[null,2,"Roof Works"]
[null,"c","roof coverings",{"$nulls":6},392.46957500000002,"M²"]
[null,"d","Top Roofing",{"$nulls":6},31.25,"M¹"]
[null,"d","Roof Facia",{"$nulls":6},31.25,"M¹"]
[null,2,"Concrete Flat Roof"]
[null,"a","Concrete",{"$nulls":6},2.952,"M3"]
[null,"b","Deformed Bar",{"$nulls":6},413.28,"Kg"]
[null,"c","Formwork",{"$nulls":6},24.599015999999999,"M2"]
[]
[null,3,"Waterproofing"]
[null,"a","membrame waterproofing",{"$nulls":6},24,"M²"]
[]
[null,4,"Protection Concrete T 50 mm"]
[null,"a","Concrete",{"$nulls":6},1.2,"M³"]
[null,"b","wiremesh M-4",{"$nulls":6},24,"M²"]
[]
[null,4,"light brick wall (AAC block)"]
[null,"a"," Hebel wall t.10",{"$nulls":6},400.69002199999994,"M2"]
[]
[null,5,"Plaster Works"]
[null,"a"," Plastering",{"$nulls":6},801.38004399999988,"M2"]
[null,"b","Smooth Rendering",{"$nulls":6},801.38004399999988,"M2"]
[]
[null,6,"Door and Window Frameworks"]
[null,"a","Door Frame AD-01 + Assesories",{"$nulls":6},6,"Pcs"]
[null,"b","Door Frame AD-03 + Assesories",{"$nulls":6},1,"Pcs"]
[null,"c","Door Frame AD-04 + Assesories",{"$nulls":6},1,"Pcs"]
[null,"d","Door Frame AD-05 + Assesories",{"$nulls":6},3,"Pcs"]
[null,"e","Window Frame AW-01 + Assesories",{"$nulls":6},12,"Pcs"]
[null,"f","Bovenligh Frame BV-01 + Assesories",{"$nulls":6},5,"Pcs"]
[]
[null,7,"Specialities Works"]
[null,"a"," Variations grille / louvre",{"$nulls":6},95.899999999999991,"M²"]
[null,"b"," Instalation Alumunium Composit Panel",{"$nulls":6},56.806249999999999,"M²"]
[]
[null,8,"Ceilling Works"]
[null,"a"," Gypsum ceiling + Frame",{"$nulls":6},208.41749999999999,"M²"]
[null,"b"," Ceiling GRC + Frame",{"$nulls":6},80.932500000000005,"M²"]
[]
[null,9,"Floor and Wall Works"]
[null,"a"," ceramic 60/60",{"$nulls":6},208.41749999999999,"M²"]
[null,"b"," Ceramic Anti Slip 60/60",{"$nulls":6},67.24499999999999,"M²"]
[null,"c","Wall Base Plint t.10cm",{"$nulls":6},109.3,"M¹"]
[null,"d"," ceramic 25/25",{"$nulls":6},22.613,"M²"]
[null,"e"," Ceramic Wall 25/50",{"$nulls":6},81.94919999999999,"M²"]
[null,"f","Trassram Floor & Wall WC",{"$nulls":6},81.94919999999999,"M²"]
[null,"g"," floor Hardener",{"$nulls":6},289.35000000000002,"M²"]
[]
[null,10,"Painting Works"]
[null,"a","Interior Wall Painting Works ",{"$nulls":6},378.07702199999994,"M²"]
[null,"b","exterior wall painting works- Wheatershield",{"$nulls":6},378.07702199999994,"M²"]
[null,"c","Ceiling Painting Works",{"$nulls":6},289.35000000000002,"M²"]
[]
[null,11,"Sanitary Works"]
[null,"a","Squatting closet",{"$nulls":6},3,"Unit"]
[null,"b","Handrail",{"$nulls":6},1,"Set"]
[null,"c"," Sitting closet",{"$nulls":6},1,"Unit"]
[null,"d","Water faucet",{"$nulls":6},3,"Unit"]
[null,"e"," Sink",{"$nulls":6},2,"Unit"]
[null,"f"," floor Drain",{"$nulls":6},5,"Unit"]
[]
[null,12,"Latei Beams"]
[null,"a","Concrete",{"$nulls":6},1.2506000000000002,"M3"]
[null,"b","Deformed Bar",{"$nulls":6},233.86220000000003,"Kg"]
[null,"c","Formwork",{"$nulls":6},28.860096200000005,"M²"]
[]
[null,"VII","TPS 3R"]
[null,"B","STRUCTURAL  WORKS"]
[null,"B.1","SOIL & FOUNDATION WORKS"]
[null,1,"Field cleaning ",{"$nulls":6},64.17,"M²"]
[null,2,"Security Fence Project, t = 2m",{"$nulls":6},8,"M¹"]
[null,3," bouwplank",{"$nulls":6},40,"M¹"]
[null,4," Termite",{"$nulls":6},64.17,"M²"]
[null,5," Soil excavation",{"$nulls":6},11.4,"M³"]
[null,6,"Soil Back Filling",{"$nulls":6},24.334400000000002,"M³"]
[null,7,"Soil Filling on Building",{"$nulls":6},0.47,"M³"]
[]
[null,8,"Foot Plate"]
[null,"a","Concrete",{"$nulls":6},1.3679999999999999,"M³"]
[null,"b","Deformed Bar",{"$nulls":6},322.84799999999996,"Kg"]
[null,"c","Formwork Foundations",{"$nulls":6},4.5595439999999998,"M²"]
[]
[null,9," column Pedestal"]
[null,"a","Concrete",{"$nulls":6},1.7527499999999998,"M³"]
[null,"b","Deformed Bar",{"$nulls":6},401.37974999999994,"Kg"]
[null,"c","Formwork Foundations",{"$nulls":6},17.527499999999996,"M²"]
[]
[null,"B.2","CONCRETE WORKS"]
[]
[null,1," Tie Beam SL-01"]
[null,"a","Concrete",{"$nulls":6},2.7090000000000001,"M³"]
[null,"b","Deformed Bar",{"$nulls":6},577.01700000000005,"Kg"]
[null,"c","- Tie Beam Formwork",{"$nulls":6},36.119097000000004,"M²"]
[]
[null,2," Column K-01 (15X20)"]
[null,"a","-Concrete",{"$nulls":6},1.1069999999999998,"M³"]
[null,"b","-Deformed Bar",{"$nulls":6},189.29699999999997,"Kg"]
[null,"c","-Column Formwork",{"$nulls":6},7.3803689999999982,"M²"]
[]
[null,3," Column K-01 (15X15)"]
[null,"a","-Concrete",{"$nulls":6},0.65,"M³"]
[null,"b","-Deformed Bar",{"$nulls":6},110.42,"Kg"]
[null,"c","-Column Formwork",{"$nulls":6},4.3099999999999996,"M²"]
[]
[null,3," Ring beams RB-01"]
[null,"a","Concrete",{"$nulls":6},2.4750000000000001,"M³"]
[null,"b","Deformed Bar",{"$nulls":6},433.125,"Kg"]
[null,"c","Formwork Beam",{"$nulls":6},41.250825000000006,"M²"]
[]
[null,4,"Roof Works"]
[null,"a","Light Steel Trus",{"$nulls":6},103.91800000000001,"M²"]
[]
[null,"C","ARCHITECTURAL WORKS"]
[null,1,"Light concrete under floor "]
[null,"a","- Soil Filling on Building",{"$nulls":6},3.2085000000000004,"M³"]
[null,"b","Concrete",{"$nulls":6},6.1750000000000007,"M³"]
[null,"c","- Wiremesh M-6 (1 Layer)",{"$nulls":6},61.75,"M²"]
[]
[null,2,"Roof Works"]
[null,"c","roof coverings",{"$nulls":6},103.91800000000001,"M²"]
[null,"c","Top Roofing",{"$nulls":6},11.6,"M¹"]
[null,"d","GRC Roof Facia",{"$nulls":6},42.78,"M¹"]
[]
[null,2," Latei Beams"]
[null,"a","Concrete",{"$nulls":6},0.11999000000000001,"M³"]
[null,"b","Deformed Bar",{"$nulls":6},302.94,"Kg"]
[null,"c","Formwork",{"$nulls":6},37.384740000000001,"M²"]
[]
[null,3," Hebel wall t.10",{"$nulls":6},75.06,"M²"]
[null,null," Plastering",{"$nulls":6},150.12,"M²"]
[null,null,"Smooth Rendering",{"$nulls":6},150.12,"M²"]
[]
[null,4,"Door and Window Frameworks"]
[null,null,"Door Frame AD-01 + Assesories",{"$nulls":6},2,"Pcs"]
[null,null,"PVC Door for Toilet",{"$nulls":6},1,"Pcs"]
[null,null,"Window Frame AW-01 + Assesories",{"$nulls":6},1,"Pcs"]
[null,null," Glass Block",{"$nulls":6},1,"M2"]
[]
[null,5,"Ceilling Works"]
[null,null," Gypsum ceiling + Frame",{"$nulls":6},10.5,"M²"]
[]
[null,6,"Floor and Wall Works"]
[null,null," ceramic 30/30",{"$nulls":6},10.5,"M²"]
[null,null," Ceramic wall 20/25",{"$nulls":6},14.04,"M²"]
[null,null," Transram",{"$nulls":6},14.04,"M²"]
[]
[null,7,"Painting Works"]
[null,null,"Interior Wall Painting Works ",{"$nulls":6},75.06,"M²"]
[null,null,"exterior wall painting works- Wheatershield",{"$nulls":6},75.06,"M²"]
[null,null,"Ceiling Painting Works",{"$nulls":6},10.5,"M²"]
[]
[null,8,"Sanitary Works"]
[null,null," Squatting closet",{"$nulls":6},1,"Unit"]
[null,null," Water faucet",{"$nulls":6},2,"Unit"]
[null,null," floor Drain",{"$nulls":6},2,"Unit"]
[]
[null,9,"Ramp"]
[null,null,"Concrete",{"$nulls":6},0.69541200000000003,"M³"]
[]
[null,null," Iron Doors 80 x 270",{"$nulls":6},2,"Pcs"]
[null,null," Grill channel 15 x 175",{"$nulls":6},2,"Pcs"]
[]
[null,"VIII","ELECTRICAL WORKS"]
[null,"A","INSTALLATION OF ELECTRICAL PANEL"]
[null,1,"Main Panel"]
[null,null,"a. Installation of Main Panel",{"$nulls":6},1,"Unit"]
[null,null,"b. Installation of Panel Sub Distribution",{"$nulls":6},6,"Unit"]
[null,null,"c. Complete grounding system control box and electrode rod (5 Ohm, Max)",{"$nulls":6},1,"Set"]
[]
[null,2,"Installation of Cable"]
[null,null,"a.","(From PLN to M-DP)"]
[null,null," -","Cable NYY  4 x 16 mm²",{"$nulls":5},50,"m"]
[null,null," -","Cable NYA  1 x 16 mm²",{"$nulls":5},50,"m"]
[null,null,"b.","(From  M-DP to LP-SMKM-GG1 )"]
[null,null," -","Cable NYY  4 x 6 mm²",{"$nulls":5},12,"m"]
[null,null," -","Cable NYA  1 x 6 mm²",{"$nulls":5},12,"m"]
[null,null,"c.","(From  M-DP to LP-SMKM-GG2 )"]
[null,null," -","Cable NYY  4 x 4 mm²",{"$nulls":5},56,"m"]
[null,null," -","Cable NYA  1 x 6 mm²",{"$nulls":5},56,"m"]
[null,null,"d.","(From  M-DP to LP-SMKM-GG3 )"]
[null,null," -","Cable NYY  4 x 4 mm²",{"$nulls":5},40,"m"]
[null,null," -","Cable NYA  1 x 6 mm²",{"$nulls":5},40,"m"]
[null,null,"e.","(From  M-DP to LP-SMKM-GG4 )"]
[null,null," -","Cable NYY  4 x 4 mm²",{"$nulls":5},56,"m"]
[null,null," -","Cable NYA  1 x 6 mm²",{"$nulls":5},56,"m"]
[null,null,"f.","(From  M-DP to LP-SMKM-GG5 )"]
[null,null," -","Cable NYY  4 x 4 mm²",{"$nulls":5},60,"m"]
[null,null," -","Cable NYA  1 x 6 mm²",{"$nulls":5},60,"m"]
[null,null,"g.","(From  M-DP to LP-SMKM-GG6 )"]
[null,null," -","Cable NYY  4 x 4 mm²",{"$nulls":5},65,"m"]
[null,null," -","Cable NYA  1 x 6 mm²",{"$nulls":5},65,"m"]
[null,null,"h.","(From  M-DP to LP-SMKM-GG7 )"]
[null,null," -","Kabel NYY  4 x 4 mm²",{"$nulls":5},70,"m"]
[null,null," -","Cable NYA  1 x 6 mm²",{"$nulls":5},70,"m"]
[null,null,"i.","Accessories",{"$nulls":5},1,"LS"]
[]
[null,"B","INSTALLATION OF LIGHTNING SYSTEM"]
[null,null,1,"From Panel PP-SMKN-GG-1"]
[null,null," -","Down light LED bulb 13 Watt",{"$nulls":5},18,"set"]
[null,null," -","Baret circulair 20 Watt",{"$nulls":5},13,"set"]
[null,null," -","Linght RM LED TL 2 x 18 W / 220 V, Office, complete",{"$nulls":5},30,"set"]
[null,null," -","Switch (1 gang)  220 V, inbow",{"$nulls":5},8,"set"]
[null,null," -","Switch (2 gang)  220 V, inbow",{"$nulls":5},12,"set"]
[null,null," -","Socket 10 A / 220 V, inbow",{"$nulls":5},6,"set"]
[null,null," -","Socket AC 13A / 220 V,2P+E, inbow",{"$nulls":5},6,"set"]
[]
[null,null,2,"From Panel PP-SMKN-GG-2"]
[null,null," -","Down light LED bulb 13 Watt",{"$nulls":5},8,"set"]
[null,null," -","Baret circulair 20 Watt",{"$nulls":5},5,"set"]
[null,null," -","Linght RM LED TL 2 x 18 W / 220 V, Office, complete",{"$nulls":5},27,"set"]
[null,null," -","Switch (1 gang)  220 V, inbow",{"$nulls":5},8,"set"]
[null,null," -","Switch (2 gang)  220 V, inbow",{"$nulls":5},28,"set"]
[null,null," -","Socket 10 A / 220 V, inbow",{"$nulls":5},9,"set"]
[null,null," -","Socket AC 13A / 220 V,2P+E, inbow",{"$nulls":5},4,"set"]
[]
[null,null,3,"From Panel PP-SMKN-GG-3"]
[null,null," -","Down light LED bulb 13 Watt",{"$nulls":5},5,"set"]
[null,null," -","Linght RM LED TL 2 x 18 W / 220 V, Office, complete",{"$nulls":5},16,"set"]
[null,null," -","Switch (1 gang)  220 V, inbow",{"$nulls":5},8,"set"]
[null,null," -","Switch (2 gang)  220 V, inbow",{"$nulls":5},28,"set"]
[null,null," -","Socket 10 A / 220 V, inbow",{"$nulls":5},9,"U"]
[]
[null,null,4,"From Panel PP-SMKN-GG-4"]
[null,null," -","Down light LED bulb 13 Watt",{"$nulls":5},5,"set"]
[null,null," -","Linght RM LED TL 2 x 18 W / 220 V, Office, complete",{"$nulls":5},16,"set"]
[null,null," -","Switch (1 gang)  220 V, inbow",{"$nulls":5},8,"set"]
[null,null," -","Switch (2 gang)  220 V, inbow",{"$nulls":5},28,"set"]
[null,null," -","Socket 10 A / 220 V, inbow",{"$nulls":5},9,"set"]
[]
[null,null,5,"From Panel PP-SMKN-GG-5"]
[null,null," -","Down light LED bulb 13 Watt",{"$nulls":5},6,"set"]
[null,null," -","Baret circulair 20 Watt",{"$nulls":5},6,"set"]
[null,null," -","Linght RM LED TL 2 x 18 W / 220 V, Office, complete",{"$nulls":5},18,"set"]
[null,null," -","Switch (1 gang)  220 V, inbow",{"$nulls":5},8,"set"]
[null,null," -","Switch (2 gang)  220 V, inbow",{"$nulls":5},28,"set"]
[null,null," -","Socket 10 A / 220 V, inbow",{"$nulls":5},9,"set"]
[]
[null,null,6,"From Panel PP-SMKN-GG-7"]
[null,null," -","Down light LED bulb 13 Watt",{"$nulls":5},5,"set"]
[null,null," -","Linght RM LED TL 2 x 18 W / 220 V, Office, complete",{"$nulls":5},2,"set"]
[null,null," -","Switch (1 gang)  220 V, inbow",{"$nulls":5},3,"set"]
[null,null," -","Switch (2 gang)  220 V, inbow",{"$nulls":5},4,"set"]
[null,null," -","Socket 10 A / 220 V, inbow",{"$nulls":5},2,"set"]
[]
[null,"C","INSTALLATION OF AIR CONDITIONING"]
[null,1,"From Panel PP-SMKN-GG-1"]
[null,null,"a. AC Point",{"$nulls":6},6,"Point"]
[null,null,"b. Socket outlet AC",{"$nulls":6},6,"Set"]
[]
[null,"D","LIGHTNING PROTECTION",{"$nulls":6},2,"set"]
[]
[null,"E","FIRE EXTINGUISER",{"$nulls":6},4,"set"]
[]
[null,"F","CONNECTION PLN 6600 VA",{"$nulls":6},1,"unit"]
[]
[null,"IX","MECHANICAL WORKS"]
[null,null,1,"Installation of Water Supply"]
[null,null,"A","ADMINISTRATION BUILDING"]
[null,null,1,"Instalation of pipe PVC classPVC AW  1/2\"",{"$nulls":5},12,"m'"]
[null,null,2,"Instalation of pipe PVC classPVC AW 2\"",{"$nulls":5},24,"m'"]
[null,null,3,"Reservoir Tank, Capasity 1 M³",{"$nulls":5},1,"unit"]
[]
[null,null,"B","STUDENT TOILET BUILDING CLASSROOM A"]
[null,null,1,"Instalation of pipe PVC classPVC AW  1/2\"",{"$nulls":5},12,"m'"]
[null,null,2,"Instalation of pipe PVC classPVC AW 1 1/2\"",{"$nulls":5},24,"m'"]
[null,null,3,"Reservoir Tank, Capasity 1 M³",{"$nulls":5},2,"unit"]
[]
[null,null,"C","TRANSMITION SYSTEM"]
[null,null,1,"Transfer Pump",{"$nulls":5},2,"unit"]
[null,null,2,"Instalation of pipe PVC class D 1 1/2\"",{"$nulls":5},280,"m'"]
[]
[null,null,2,"Installation of Waste Water"]
[null,null,"A","ADMINISTRATION BUILDING"]
[null,null,1,"Instalation of pipe PVC class D  1 1/2\"",{"$nulls":5},16,"m'"]
[null,null,2,"Instalation of pipe PVC class D 2\"",{"$nulls":5},4,"m'"]
[null,null,3,"Instalation of pipe PVC class D 3\"",{"$nulls":5},8,"m'"]
[null,null,4,"Instalation of pipe PVC class D  4\"",{"$nulls":5},40,"m'"]
[]
[null,null,"B","STUDENT TOILET BUILDING CLASSROOM A"]
[null,null,1,"Instalation of pipe PVC class D 1 1/2\"",{"$nulls":5},20,"m'"]
[null,null,2,"Instalation of pipe PVC class D 3\"",{"$nulls":5},20,"m'"]
[null,null,3,"Instalation of pipe PVC classPVC AW 2\"",{"$nulls":5},124,"m'"]
[null,null,4,"Transfer pump",{"$nulls":5},1,"unit"]
[]
[null,null,"E","STP SYSTEM"]
[null,null,1,"STP Capasity 35 MPD",{"$nulls":5},1,"unit"]

{"sheet":"4. SMK Kayangan ","index":4,"n_rows":954,"n_cols":9,"rows_kept":954,"cut":false,"hidden":false,"merged":[[12,0,13,0],[12,1,13,4],[12,5,13,6],[12,7,13,7],[12,8,13,8]]}
[]
[]
["BILL OF QUANTITY"]
[]
["Consulting Service for the Design and Construction Supervision for School and Medical Buildings in Lombok "]
["Programme for Earthquake and Tsunami Infrastructure"]
[]
["LOT 2 : SCHOOL FACILITIES"]
["(STRUCTURE AND ARCHITECTURE WORKS)"]
[]
["SMK NEGERI 1 KAYANGAN, DISTRICT OF NORTH LOMBOK"]
[]
["No","WORK ITEM",null,null,null,"VOLUME",null,"UNIT PRICE","TOTAL AMOUNT"]
[]
["I","PREPARATION WORK"]
[1,"Name Board Of Project Size 1,2 x 0.8 M",null,null,null,1,"Pcs"]
[2,"Direction Keet (Project Office)",null,null,null,12,"M²"]
[3,"Warehouse of Materials and Tools",null,null,null,12,"M²"]
[4,"Documentation (Drone)",null,null,null,1,"Ls"]
[5,"Reporting (Shop Drawing, Asbuilt Drawing)",null,null,null,1,"Ls"]
[7,"Electricity and water  For project",null,null,null,9,"month"]
[8,"HSE ( Health, Safety, and Environment )"]
[null,"a. OHS (Occupational Health and Safety)",null,null,null,1,"Ls"]
[null,"b. Level of  Air Pollution",null,null,null,2,"Point"]
[null,"c. Level of  Vibration During the Project",null,null,null,2,"Point"]
[null,"d. Level of  Ground Water Pollution",null,null,null,2,"Point"]
[null,"e. Level of  Surface Water Polution",null,null,null,2,"Point"]
[null,"f. Reporting Documents ",null,null,null,1,"Ls"]
[]
["II","CLASS A BUILDING"]
[]
["B","STRUCTURAL WORKS"]
["B.1","SOIL AND FOUNDATION WORKS"]
[1,"Field Cleaning",null,null,null,270,"M²"]
[2,"Safety Fence, t = 2m",null,null,null,45,"M¹"]
[3," Bouwplank/ Marking Board",null,null,null,82,"M¹"]
[4," Termite",null,null,null,270,"M²"]
[5,"Soil Excavation Work",null,null,null,188.18110000000001,"M³"]
[6,"Soil back Filling",null,null,null,62.727033333333338,"M³"]
[7,"Soil Filling on building",null,null,null,4.0860000000000003,"M³"]
[8,"Lean Concrete Under Fondation",null,null,null,0.875,"M³"]
[9," Stone Foundation (Aastamping)",null,null,null,24.92,"M³"]
[10,"Stone Masonry",null,null,null,71.644999999999996,"M³"]
[]
[11,"Foot Plate Foundation"]
["a","Concrete K250",null,null,null,12.312000000000001,"M³"]
["b","Deformed Bar",null,null,null,2905.6320000000001,"Kg"]
["c","formwork Foundations",null,null,null,41.035896000000008,"M²"]
[]
[12,"Column Pedestal"]
["a","Concrete K250",null,null,null,2.5460000000000007,"M³"]
["b","Deformed Bar",null,null,null,435.3660000000001,"Kg"]
["c","formwork column",null,null,null,16.974182000000003,"M²"]
[]
["B.2","CONCRETE WORKS"]
[1,"Tie Beam SL-01"]
["a","Concrete K250",null,null,null,9.5343749999999989,"M³"]
["b","Deformed Bar",null,null,null,2030.8218749999999,"Kg"]
["c","Formwork Tie Beam",null,null,null,127.12182187499998,"M²"]
[]
[2," Column K-01"]
["a","Concrete K250",null,null,null,13.931999999999999,"M³"]
["b","Deformed Bar",null,null,null,2382.3719999999998,"Kg"]
["c","formwork column",null,null,null,92.884643999999994,"M²"]
[]
[3," Column K-02"]
["a","Concrete K250",null,null,null,0.38699999999999996,"M³"]
["b","Deformed Bar",null,null,null,88.62299999999999,"Kg"]
["c","formwork column",null,null,null,3.8699999999999997,"M²"]
[]
[4," Column K-03"]
["a","Concrete K250",null,null,null,1.1609999999999998,"M³"]
["b","Deformed Bar",null,null,null,242.64899999999997,"Kg"]
["c","formwork column",null,null,null,15.479612999999997,"M²"]
[]
[5,"Beams RB-01"]
["a","Concrete K250",null,null,null,6.8512499999999994,"M³"]
["b","Deformed Bar",null,null,null,1198.96875,"Kg"]
["c","formwork Beam",null,null,null,114.18978375,"M²"]
[]
[5,"Concrete flat roof"]
["a","Concrete K250",null,null,null,2.9088000000000003,"M³"]
["b","Deformed Bar",null,null,null,961.3291875000001,"M²"]
["c","formwork Beam",null,null,null,58.262375000000006,"M¹"]
[]
[6,"Light concrete under floor T 120 mm"]
["a","Concrete",null,null,null,29.330375000000004,"Kg"]
["b","Wiremesh M-6 (1 Layer)",null,null,null,300.00875000000002,"M²"]
[]
[7,"Roof Work"]
["a"," Lightweight steel truss",null,null,null,572.13120000000004,"M²"]
[]
["C","ARCHITECTURAL WORKS"]
[1,"Roof Work"]
["b"," roof coverings",null,null,null,572.13120000000004,"M²"]
["c","Top Roofing",null,null,null,29.28,"M¹"]
["d","Roof Facia",null,null,null,97.64,"M¹"]
[]
[2,"Light Brick Wall (AAC block)"]
["a"," Hebel wall",null,null,null,326.91700000000003,"M²"]
[]
[3,"Plastering works"]
["a"," Plastering (1 PC : 3 Sand)",null,null,null,653.83400000000006,"M²"]
["b","Neat Plaster ",null,null,null,653.83400000000006,"M²"]
[]
[4,"Waterproofing"]
[null,"membrame waterproofing",null,null,null,24,"M²"]
[]
[5,"Protection Concrete T 50 mm"]
[null,"Concrete",null,null,null,1.2,"M³"]
[null,"wiremesh M-4",null,null,null,24,"M²"]
[]
[5,"Door and Windows Frame Works"]
["a","Door Frame AD-01 + Assesories",null,null,null,6,"Pcs"]
["b","Door Frame AD-03 + Assesories",null,null,null,1,"Pcs"]
["c","Door Frame AD-04 + Assesories",null,null,null,1,"Pcs"]
["d","Door Frame AD-05 + Assesories",null,null,null,3,"Pcs"]
["e","Window Frame AW-02 + Assesories",null,null,null,12,"Pcs"]
["f","Bovenligh Frame BV-01 + Assesories",null,null,null,5,"Pcs"]
[]
[5,"Specialities Works"]
["a"," Variations grille / louvre",null,null,null,40.619999999999997,"M²"]
["b","Instalation GRC facia acessories",null,null,null,112.56979999999999,"M²"]
[]
[6,"Ceilling Works"]
["a"," Gypsum ceiling + Frame",null,null,null,208.41749999999999,"M²"]
["b"," Ceiling GRC + Frame",null,null,null,74.208750000000009,"M²"]
[]
[7,"Floor and Wall Works"]
["a"," ceramic 60/60",null,null,null,208.41749999999999,"M²"]
["b","Ceramic Anti Slip  60/60 ",null,null,null,51.686250000000001,"M²"]
["c"," Ceramic Floor 25/25",null,null,null,74.208750000000009,"M²"]
["d"," Ceramic Wall 25/50",null,null,null,39.92,"M²"]
["e","Wall Base Plint 10/60 cm",null,null,null,100.19999999999999,"M'"]
[]
[8,"Painting Works"]
["a","Interior Wall Painting Works ",null,null,null,326.91700000000003,"M²"]
["b","exterior wall painting works- Wheatershield",null,null,null,326.91700000000003,"M²"]
["c","Ceiling Painting Works",null,null,null,282.62625000000003,"M²"]
[]
[9,"Sanitary Works"]
["a"," Squatting closet",null,null,null,3,"Unit"]
["b"," Sitting closet",null,null,null,1,"Unit"]
["c"," Sink",null,null,null,2,"Unit"]
["d"," floor Drain",null,null,null,4,"Unit"]
["e"," Water faucet",null,null,null,3,"Unit"]
["f","Handrail",null,null,null,2,"set"]
[]
[10,"Latei  beams "]
["a","Concrete",null,null,null,1.0478000000000001,"M³"]
["b","Deformed Bar",null,null,null,195.93860000000001,"Kg"]
["c","formwork",null,null,null,24.180080600000004,"M²"]
[]
[11,"Step at terrace"]
["a","Concrete",null,null,null,1.62,"M³"]
[]
[]
["III","CLASS B BUILDING "]
[]
["B","STRUCTURAL WORKS"]
["B.1","SOIL AND FONDATION WORKS"]
[1,"Field Cleaning",null,null,null,360,"M²"]
[2,"Safety Fence, t = 2m",null,null,null,50,"M¹"]
[3," Bouwplank/ Marking Board",null,null,null,100,"M¹"]
[4," Termite",null,null,null,360,"M²"]
[5,"Soil Excavation Work",null,null,null,231.81905,"M³"]
[6,"Soil back Filling",null,null,null,77.273016666666663,"M³"]
[7,"Soil Filling on building",null,null,null,4.7655000000000012,"M³"]
[8,"Lean Concrete Under Fondation",null,null,null,0.625,"M³"]
[9," Stone Foundation (Aastamping)",null,null,null,30.4,"M³"]
[10,"Stone Masonry",null,null,null,87.4,"M³"]
[]
[11,"Foot Plate Foundation"]
["a","Concrete K250",null,null,null,15.876000000000001,"M³"]
["b","Deformed Bar",null,null,null,3746.7360000000003,"Kg"]
["c","formwork Foundations",null,null,null,52.914708000000005,"M²"]
[]
[12," column Pedestal"]
["a","Concrete K250",null,null,null,3.2830000000000008,"M³"]
["b","Deformed Bar",null,null,null,561.39300000000014,"Kg"]
["c","formwork column",null,null,null,21.887761000000005,"M²"]
[]
["B","CONCRETE WORKS"]
[1,"Tie Beam SL-01"]
["a","Concrete K250",null,null,null,11.625,"M³"]
["b","Deformed Bar",null,null,null,2476.125,"Kg"]
["c","Formwork Tie Beam",null,null,null,154.99612500000001,"M²"]
[]
[2,"Column K-01"]
["a","Concrete K250",null,null,null,18.962999999999997,"M³"]
["b","Deformed Bar",null,null,null,3242.6729999999998,"Kg"]
["c","formwork column",null,null,null,126.42632099999997,"M²"]
[]
[3," Ring beams RB-01"]
["a","Concrete K250",null,null,null,7.8299999999999992,"M³"]
["b","Deformed Bar",null,null,null,1370.2499999999998,"Kg"]
["c","formwork Beam",null,null,null,130.50261,"M²"]
[]
[4,"Roof Works"]
["a"," Lightweight steel truss",null,null,null,745.58760000000007,"M²"]
[]
["C","ARCHITECTURAL WORKS"]
[4,"Roof Works"]
["b"," roof coverings",null,null,null,745.58760000000007,"M²"]
["c","Top Roofing",null,null,null,38.200000000000003,"M¹"]
["d","Roof Facia",null,null,null,115.43600000000001,"M¹"]
[]
[1,"light concrete under floor T 120 mm"]
["a","Concrete",null,null,null,43.2,"M³"]
["b","Wiremesh M-6 (1 Layer)",null,null,null,360,"M²"]
[]
[2,"light brick wall (AAC Block)"]
["a"," Hebel wall t.10",null,null,null,341.31200000000013,"M²"]
[]
[3," Plastering Works"]
["a"," Plastering",null,null,null,682.62400000000025,"M²"]
["b"," Neat Plaster ing",null,null,null,682.62400000000025,"M²"]
[]
[4,"Door and Windows Frame Works"]
["a","Door Frame AD-01 + Assesories",null,null,null,8,"Pcs"]
["b","Window Frame AW-02 + Assesories",null,null,null,16,"Pcs"]
[]
[5,"Specialities Works"]
["a"," Variations grille / louvre",null,null,null,40.619999999999997,"M²"]
["b","Instalation GRC facia acessories",null,null,null,5.6284899999999993,"M²"]
[]
[6,"Ceilling Works"]
["a"," Gypsum ceiling + Frame",null,null,null,208.41749999999999,"M²"]
["b"," Ceiling GRC + Frame",null,null,null,51.686250000000001,"M²"]
[]
[7,"Floor and Wall Works"]
["a"," ceramic 60/60",null,null,null,208.41749999999999,"M²"]
["b","Ceramic Anti Slip  60/60 ",null,null,null,51.686250000000001,"M²"]
["c","Wall Base Plint 10/60 cm",null,null,null,133.6,"M'"]
[]
[8,"Painting Works"]
["a","Interior Wall Painting Works ",null,null,null,341.31200000000013,"M²"]
["b","exterior wall painting works- Wheatershield",null,null,null,341.31200000000013,"M²"]
["c","Ceiling Painting Works",null,null,null,260.10374999999999,"M²"]
[]
[9,"step at terrace"]
["a","Concrete",null,null,null,5.4000000000000006E-2,"M³"]
[]
[10,"Lantei  beams "]
["a","Concrete",null,null,null,1.2168000000000001,"M³"]
["b","Deformed Bar",null,null,null,227.54160000000002,"Kg"]
["c","formwork",null,null,null,28.080093600000005,"M²"]
[]
["IV","RPS BUILDING "]
[]
["B","STRUCTURAL WORKS"]
["B.!","SOIL AND FONDATION WORKS"]
[1,"Field Cleaning",null,null,null,240,"M²"]
[2,"Safety Fence, t = 2m",null,null,null,46,"M¹"]
[3," Bouwplank/ Marking Board",null,null,null,84,"M¹"]
[4," Termite",null,null,null,240,"M²"]
[5,"Soil Excavation Work",null,null,null,269.65525000000002,"M³"]
[6,"Soil back Filling",null,null,null,89.885083333333341,"M³"]
[7,"Soil Filling on building",null,null,null,4.4900000000000011,"M³"]
[8,"Lean Concrete Under Fondation",null,null,null,0.6875,"M³"]
[9," Stone Foundation (Aastamping)",null,null,null,37,"M³"]
[10,"Stone Masonry",null,null,null,106.375,"M³"]
[]
[11," Foot Plate Foundation"]
["a","Concrete K250",null,null,null,14.58,"M³"]
["b","Deformed Bar",null,null,null,3440.88,"Kg"]
["c","formwork Foundations",null,null,null,48.595140000000001,"M²"]
[]
[12," column Pedestal"]
["a","Concrete K250",null,null,null,3.015000000000001,"M³"]
["b","Deformed Bar",null,null,null,515.56500000000017,"Kg"]
["c","formwork column",null,null,null,20.101005000000008,"M²"]
[]
["B.2","CONCRETE WORKS"]
[1," Tie Beam SL-01"]
["a","Concrete K250",null,null,null,9.7499999999999982,"M³"]
["b","Deformed Bar",null,null,null,2076.7499999999995,"Kg"]
["c","Formwork Tie Beam",null,null,null,129.99674999999999,"M²"]
[]
[2," Column K-01"]
["a","Concrete K250",null,null,null,14.318999999999999,"M³"]
["b","Deformed Bar",null,null,null,2448.549,"Kg"]
["c","formwork column",null,null,null,95.464772999999994,"M²"]
[]
[3," Column K-02"]
["a","Concrete K250",null,null,null,1.5479999999999998,"M³"]
["b","Deformed Bar",null,null,null,354.49199999999996,"Kg"]
["c","formwork column",null,null,null,15.479999999999999,"M²"]
[]
[4," Column K-03"]
["a","Concrete K250",null,null,null,0.48374999999999996,"M³"]
["b","Deformed Bar",null,null,null,101.10374999999999,"Kg"]
["c","formwork column",null,null,null,6.4498387499999996,"M²"]
[]
[5," Ring beams RB-01"]
["a","Concrete K250",null,null,null,7.92,"M³"]
["b","Deformed Bar",null,null,null,1386,"Kg"]
["c","formwork Beam",null,null,null,132.00264000000001,"M²"]
[]
[6,"Roof Work"]
["a"," Lightweight steel truss",null,null,null,698.08199999999999,"M²"]
[]
["C","ARCHITECTURAL WORKS"]
[1,"Roof Work"]
["a","alumunium foil",null,null,null,698.08199999999999,"M²"]
["b"," roof coverings",null,null,null,698.08199999999999,"M²"]
["c","Top Roofing",null,null,null,33,"M¹"]
["d","Roof Facia",null,null,null,108.30799999999999,"M¹"]
[]
[2,"light concrete under floor T 120 mm"]
["a","Concrete",null,null,null,31.939500000000002,"M³"]
["b","Wiremesh M-6 (1 Layer)",null,null,null,319.39500000000004,"M²"]
[]
[3,"Light Brick Wall (AAC block)"]
["a"," Hebel wall t.10",null,null,null,317.71925000000005,"M²"]
[]
[4,"Plastering works"]
["a"," Plastering",null,null,null,635.43850000000009,"M²"]
["b","Neat Plaster ",null,null,null,635.43850000000009,"M²"]
[]
[5,"Door and Windows Frame Works"]
["a","Door Frame AD-01 + Assesories",null,null,null,2,"Pcs"]
["b","Door Frame AD-02 + Assesories",null,null,null,2,"Pcs"]
["c","Door Frame AD-04 + Assesories",null,null,null,1,"Pcs"]
["d","Frame P-04 + Assesories",null,null,null,1,"Pcs"]
["e","Window Frame AW-01 + Assesories",null,null,null,11,"Pcs"]
["f","Bovenligh Frame BV-01 + Assesories",null,null,null,1,"Pcs"]
["f","Rolling Door",null,null,null,1,"Pcs"]
[]
[6,"Specialities Works"]
["a"," Variations grille / louvre",null,null,null,59.89500000000001,"M²"]
["b","Instalation GRC facia acessories",null,null,null,112.56979999999999,"M²"]
[]
[7,"Ceilling Works"]
["a"," Gypsum ceiling + Frame",null,null,null,264.17250000000001,"M²"]
["b"," Ceiling GRC + Frame",null,null,null,55.222500000000004,"M²"]
[]
[8,"Floor and Wall Works"]
["a"," ceramic 60/60",null,null,null,150.38999999999999,"M²"]
["b","Ceramic Anti Slip  60/60 ",null,null,null,57.75,"M²"]
["c"," Ceramic Floor 25/25",null,null,null,2.6999999999999997,"M²"]
["d"," Ceramic Wall 25/50",null,null,null,11.7,"M²"]
["e"," Ceramic skirting 10/60",null,null,null,114.242,"M'"]
["f","Floor Hardener",null,null,null,54,"M²"]
[]
[9,"Painting Works"]
["a","Interior Wall Painting Works ",null,null,null,317.71925000000005,"M²"]
["b","exterior wall painting works- Wheatershield",null,null,null,317.71925000000005,"M²"]
["c","Ceiling Painting Works",null,null,null,319.39500000000004,"M²"]
[]
[10,"Sanitary Works"]
["a"," Squatting closet",null,null,null,1,"Unit"]
["b"," Sink",null,null,null,1,"Unit"]
["c"," floor Drain",null,null,null,1,"Unit"]
["d"," Water faucet",null,null,null,1,"Unit"]
[]
[11,"Lantei  beams "]
["a","Concrete",null,null,null,0.91260000000000019,"M³"]
["b","Deformed Bar",null,null,null,142.21350000000004,"Kg"]
["c","formwork",null,null,null,17.550058500000006,"M²"]
[]
[12,"step at terrace"]
["a","Concrete",null,null,null,1.08,"M³"]
[]
[13,"Ramp"]
["a","Concrete",null,null,null,0.68040000000000012,"M³"]
[]
["V","LABORATORY BUILDING "]
[]
["B","STRUCTURAL WORKS"]
["B.1","SOIL AND FONDATION WORKS"]
[1,"Field Cleaning",null,null,null,144,"M²"]
[2,"Safety Fence, t = 2m",null,null,null,33,"M¹"]
[3," Bouwplank/ Marking Board",null,null,null,58,"M¹"]
[4," Termite",null,null,null,144,"M²"]
[5,"Soil Excavation Work",null,null,null,109.96555000000001,"M³"]
[6,"Soil back Filling",null,null,null,36.655183333333333,"M³"]
[7,"Soil Filling on building",null,null,null,2.2930000000000001,"M³"]
[8,"Lean Concrete Under Fondation",null,null,null,0.6875,"M³"]
[9," Stone Foundation (Aastamping)",null,null,null,15.000000000000002,"M³"]
[10,"Stone Masonry",null,null,null,43.125,"M³"]
[]
[11," Foot Plate Foundation"]
["a","Concrete K250",null,null,null,6.1560000000000006,"M³"]
["b","Deformed Bar",null,null,null,1452.816,"Kg"]
["c","formwork Foundations",null,null,null,20.517948000000004,"M²"]
[]
[12," column Pedestal"]
["a","Concrete K250",null,null,null,1.2730000000000004,"M³"]
["b","Deformed Bar",null,null,null,217.68300000000005,"Kg"]
["c","formwork column",null,null,null,8.4870910000000013,"M²"]
[]
["B.2","CONCRETE WORKS"]
[1," Tie Beam SL-01"]
["a","Concrete K250",null,null,null,5.1974999999999998,"M³"]
["b","Deformed Bar",null,null,null,1107.0674999999999,"Kg"]
["c","Formwork Tie Beam",null,null,null,69.298267499999994,"M²"]
[]
[2," Column K-01"]
["a","Concrete K250",null,null,null,7.3529999999999989,"M³"]
["b","Deformed Bar",null,null,null,1257.3629999999998,"Kg"]
["c","formwork column",null,null,null,49.02245099999999,"M²"]
[]
[3," Column K-03"]
["a","Concrete K250",null,null,null,0.96749999999999992,"M³"]
["b","Deformed Bar",null,null,null,202.20749999999998,"Kg"]
["c","formwork column",null,null,null,12.899677499999999,"M²"]
[]
[5," Ring beams RB-01"]
["a","Concrete K250",null,null,null,3.9420000000000006,"M³"]
["b","Deformed Bar",null,null,null,689.85000000000014,"Kg"]
["c","formwork Beam",null,null,null,65.701314000000011,"M²"]
[]
[6,"concrete flat roof"]
["a","Concrete K250",null,null,null,2.9088000000000003,"M³"]
["b","Deformed Bar",null,null,null,961.3291875000001,"M²"]
["c","formwork Beam",null,null,null,58.262375000000006,"M¹"]
[]
[7,"Roof Work"]
["a"," Lightweight steel truss",null,null,null,294.65960000000001,"M²"]
[]
["C","ARCHITECTURAL WORKS"]
[1,"Roof Work"]
["a","alumunium foil",null,null,null,294.65960000000001,"M²"]
["a"," roof coverings",null,null,null,294.65960000000001,"M²"]
["b","Top Roofing",null,null,null,14.15,"M¹"]
["c","Roof Facia",null,null,null,69.948000000000008,"M¹"]
[]
[2,"light concrete under floor T 120 mm"]
["a","Concrete",null,null,null,21.454499999999999,"M³"]
["b","Wiremesh M-6 (1 Layer)",null,null,null,303.08999999999997,"M²"]
[]
[3,"Waterproofing"]
["a","membrame waterproofing",null,null,null,24,"M²"]
[]
[4,"Protection Concrete T 50 mm"]
["a","Concrete",null,null,null,1.2,"M³"]
["b","wiremesh M-4",null,null,null,24,"M²"]
[]
[5,"Light Brick Wall (AAC block)"]
["a"," Hebel wall t.10",null,null,null,233.91700000000006,"M²"]
[]
[6,"Plastering works"]
["a"," Plastering",null,null,null,467.83400000000012,"M²"]
["b","Neat Plaster ",null,null,null,467.83400000000012,"M²"]
[]
[7,"Door and Windows Frame Works"]
["a","Door Frame AD-01 + Assesories",null,null,null,2,"Pcs"]
["b","Door Frame AD-03 + Assesories",null,null,null,1,"Pcs"]
["c","Door Frame AD-04 + Assesories",null,null,null,1,"Pcs"]
["d","Door Frame AD-05 + Assesories",null,null,null,2,"Pcs"]
["e","Window Frame AW-02 + Assesories",null,null,null,6,"Pcs"]
["f","Bovenligh Frame BV-01 + Assesories",null,null,null,6,"Pcs"]
[]
[8,"Specialities Works"]
["a"," Variations grille / louvre",null,null,null,40.619999999999997,"M²"]
["b","Instalation GRC facia acessories",null,null,null,112.56979999999999,"M²"]
[]
[9,"Ceilling Works"]
["a"," Gypsum ceiling + Frame",null,null,null,314.61749999999995,"M²"]
["b"," Ceiling GRC + Frame",null,null,null,41.78,"M²"]
[]
[10,"Floor and Wall Works"]
["a"," ceramic 60/60",null,null,null,314.61749999999995,"M²"]
["b","Ceramic Anti Slip  60/60 ",null,null,null,23.107499999999998,"M²"]
["c"," Ceramic Floor 25/25",null,null,null,41.78,"M²"]
[]
[11,"Painting Works"]
["a","Interior Wall Painting Works ",null,null,null,233.91700000000006,"M²"]
["b","exterior wall painting works- Wheatershield",null,null,null,233.91700000000006,"M²"]
["c","Ceiling Painting Works",null,null,null,356.39749999999992,"M²"]
[]
[12,"Sanitary Works"]
["a"," Squatting closet",null,null,null,2,"Unit"]
["b"," Sitting closet",null,null,null,1,"Unit"]
["c"," Sink",null,null,null,2,"Unit"]
["d"," urinal",null,null,null,2,"Unit"]
["e"," floor Drain",null,null,null,3,"Unit"]
["f"," Water faucet",null,null,null,2,"Unit"]
["g","Handrail",null,null,null,2,"set"]
[]
[13,"Lantei  beams "]
["a","Concrete",null,null,null,0.55770000000000008,"M³"]
["b","Deformed Bar",null,null,null,75.847200000000015,"Kg"]
["c","formwork",null,null,null,9.3600312000000017,"M²"]
[]
[14,"step at terrace"]
["a","Concrete",null,null,null,0.54,"M³"]
[]
[]
["VI","MUSHOLLA BUILDING "]
[]
["B","STRUCTURAL WORKS"]
["B.1","SOIL AND FONDATION WORKS"]
[]
[1,"Field Cleaning",null,null,null,100,"M²"]
[2,"Safety Fence, t = 2m",null,null,null,28,"M¹"]
[3," Bouwplank/ Marking Board",null,null,null,48,"M¹"]
[4," Termite",null,null,null,100,"M²"]
[5,"Soil Excavation Work",null,null,null,130.4914,"M³"]
[6,"Soil back Filling",null,null,null,43.497133333333331,"M³"]
[7,"Soil Filling on building",null,null,null,1.5765000000000002,"M³"]
[8,"Lean Concrete Under Fondation",null,null,null,0.5625,"M³"]
[9," Stone Foundation (Aastamping)",null,null,null,19.240000000000002,"M³"]
[10,"Stone Masonry",null,null,null,55.314999999999998,"M³"]
[]
[11," Foot Plate Foundation"]
["a","Concrete K250",null,null,null,3.8879999999999999,"M³"]
["b","Deformed Bar",null,null,null,917.56799999999998,"Kg"]
["c","formwork Foundations",null,null,null,12.958704000000001,"M²"]
[]
[12," column Pedestal"]
["a","Concrete K250",null,null,null,0.80400000000000027,"M³"]
["b","Deformed Bar",null,null,null,137.48400000000004,"Kg"]
["c","formwork column",null,null,null,5.3602680000000014,"M²"]
[]
["B.2","CONCRETE WORKS"]
[1," Tie Beam SL-01"]
["a","Concrete K250",null,null,null,6.0356249999999996,"M³"]
["b","Deformed Bar",null,null,null,1285.588125,"Kg"]
["c","Formwork Tie Beam",null,null,null,80.472988125000001,"M²"]
[]
[2," Column K-04"]
["a","Concrete",null,null,null,2.0640000000000001,"M³"]
["b","Deformed Bar",null,null,null,301.34399999999999,"Kg"]
["c","formwork column",null,null,null,20.64,"M²"]
[]
[3," Column K-03"]
["a","Concrete",null,null,null,0.87074999999999991,"M³"]
["b","Deformed Bar",null,null,null,181.98674999999997,"Kg"]
["c","formwork column",null,null,null,11.609709749999999,"M²"]
[]
[4," Ring beams RB-01"]
["a","Concrete K250",null,null,null,2.6999999999999997,"M³"]
["b","Deformed Bar",null,null,null,472.49999999999994,"Kg"]
["c","formwork Beam",null,null,null,45.000900000000001,"M²"]
[]
[5,"Roof Work"]
["a"," Lightweight steel truss",null,null,null,508.37959999999993,"M²"]
[]
[]
["C","ARCHITECTURAL WORKS"]
[1,"Roof Work"]
["a","alumunium foil",null,null,null,508.37959999999993,"M²"]
["a"," roof coverings",null,null,null,508.37959999999993,"M²"]
["b","Top Roofing",null,null,null,27.4,"M¹"]
["c","Roof Facia",null,null,null,148.43199999999999,"M¹"]
[]
[1,"light concrete under floor T 120 mm"]
["a","Concrete",null,null,null,13.5724125,"M³"]
["b","Wiremesh M-6 (1 Layer)",null,null,null,135.72412499999999,"M²"]
[]
[2,"Light Brick Wall (AAC block)"]
["a"," Hebel wall t.10",null,null,null,251.13445000000002,"M²"]
[]
[3,"Plastering works"]
["a"," Plastering",null,null,null,502.26890000000003,"M²"]
["b","Neat Plaster ",null,null,null,502.26890000000003,"M²"]
[]
[4,"Door and Windows Frame Works"]
["a","Door Frame AD-01 + Assesories",null,null,null,3,"Pcs"]
["b","Window Frame AW-03 + Assesories",null,null,null,6,"Pcs"]
[]
[5,"Specialities Works"]
["a"," Variations grille / louvre",null,null,null,40.619999999999997,"M²"]
["b","Instalation GRC facia acessories",null,null,null,112.56979999999999,"M²"]
[]
[6,"Ceilling Works"]
["a"," Gypsum ceiling + Frame",null,null,null,261.51749999999998,"M²"]
["b"," Ceiling GRC + Frame",null,null,null,57.822499999999991,"M²"]
[]
[7,"Floor and Wall Works"]
["a"," ceramic 60/60",null,null,null,261.51749999999998,"M²"]
["b","Ceramic Anti Slip  60/60 ",null,null,null,39.599999999999994,"M²"]
["c"," Ceramic Floor 25/25",null,null,null,18.2225,"M²"]
["d"," Ceramic Wall 25/50",null,null,null,39.408000000000001,"M²"]
["e"," Ceramic skirting 10/60",null,null,null,34.236000000000004,"M'"]
[]
[8,"Painting Works"]
["a","Interior Wall Painting Works ",null,null,null,251.13445000000002,"M²"]
["b","exterior wall painting works- Wheatershield",null,null,null,251.13445000000002,"M²"]
["c","Ceiling Painting Works",null,null,null,319.33999999999997,"M²"]
[]
[9,"Sanitary Works"]
["a"," floor Drain",null,null,null,2,"Unit"]
["b"," Water faucet",null,null,null,8,"Unit"]
[]
[10,"Lantei  beams "]
["a","Concrete",null,null,null,0.43940000000000007,"M³"]
["b","Deformed Bar",null,null,null,82.167800000000014,"Kg"]
["c","formwork",null,null,null,10.140033800000003,"M²"]
[]
[11,"step at terrace"]
["a","Concrete",null,null,null,1.62,"M³"]
[]
["VII","TEACHER'S TOILET "]
[]
["B","STRUCTURAL WORKS"]
["B.1","SOIL AND FONDATION WORKS"]
[1,"Field Cleaning",null,null,null,55,"M²"]
[2,"Safety Fence, t = 2m",null,null,null,24,"M¹"]
[3," Bouwplank/ Marking Board",null,null,null,40,"M¹"]
[4," Termite",null,null,null,55,"M²"]
[5,"Soil Excavation Work",null,null,null,32.534500000000001,"M³"]
[6,"Soil back Filling",null,null,null,10.844833333333334,"M³"]
[7,"Soil Filling on building",null,null,null,1.4075000000000002,"M³"]
[8,"Lean Concrete Under Fondation",null,null,null,0.5625,"M³"]
[9," Stone Foundation (Aastamping)",null,null,null,3.8400000000000003,"M³"]
[10,"Stone Masonry",null,null,null,11.04,"M³"]
[]
[11," Foot Plate Foundation"]
["a","Concrete K250",null,null,null,3.24,"M³"]
["b","Deformed Bar",null,null,null,764.6400000000001,"Kg"]
["c","formwork Foundations",null,null,null,10.798920000000001,"M²"]
[]
[12,"column Pedestal"]
["a","Concrete K250",null,null,null,0.67000000000000015,"M³"]
["b","Deformed Bar",null,null,null,114.57000000000002,"Kg"]
["c","formwork column",null,null,null,4.4668900000000011,"M²"]
[]
["B.2","CONCRETE WORKS"]
[1," Tie Beam SL-01"]
["a","Concrete K250",null,null,null,2.3343750000000001,"M³"]
["b","Deformed Bar",null,null,null,497.22187500000001,"Kg"]
["c","Formwork Tie Beam",null,null,null,31.124221875,"M²"]
[]
[2," Column K-02"]
["a","Concrete K250",null,null,null,1.9349999999999998,"M³"]
["b","Deformed Bar",null,null,null,443.11499999999995,"Kg"]
["c","formwork column",null,null,null,19.349999999999998,"M²"]
[]
[3," Column K-03"]
["a","Concrete K250",null,null,null,1.6447499999999997,"M³"]
["b","Deformed Bar",null,null,null,343.75274999999993,"Kg"]
["c","formwork column",null,null,null,21.929451749999995,"M²"]
[]
[4," Ring beams RB-01"]
["a","Concrete K250",null,null,null,2.8012499999999996,"M³"]
["b","Deformed Bar",null,null,null,490.21874999999994,"Kg"]
["c","formwork Beam",null,null,null,46.688433749999994,"M²"]
[]
[5,"Concrete Flat Roof"]
["a","Concrete K250",null,null,null,6.6660000000000004,"M³"]
["b","Reinforcment Plain Bar",null,null,null,961.3291875000001,"Kg"]
["c","formwork Plat",null,null,null,58.262375000000006,"M²"]
[]
["C","ARCHITECTURAL WORKS"]
[1,"light concrete under floor T 120 mm"]
["a","Concrete",null,null,null,4.1772499999999999,"M³"]
["b","Wiremesh M-6 (1 Layer)",null,null,null,41.772500000000001,"M²"]
[]
[2,"Waterproofing"]
[null,"membrame waterproofing",null,null,null,55,"M²"]
[]
[3,"Protection Concrete T 50 mm"]
[null,"Concrete",null,null,null,2.75,"M²"]
[null,"wiremesh M-4",null,null,null,2.75,"M²"]
[]
[2,"Light Brick Wall (AAC block)"]
["a"," Hebel wall t.10",null,null,null,150.66075000000001,"M²"]
[]
[3,"Plastering works"]
["a"," Plastering",null,null,null,301.32150000000001,"M²"]
["b","Neat Plaster ",null,null,null,301.32150000000001,"M²"]
[]
[4,"Door and Windows Frame Works"]
["a","Door Frame AD-03 + Assesories",null,null,null,2,"Pcs"]
["b","Door Frame AD-04 + Assesories",null,null,null,2,"Pcs"]
["c","Door Frame AD-05 + Assesories",null,null,null,5,"Pcs"]
["d","Bovenligh Frame BV-01 + Assesories",null,null,null,15,"Pcs"]
[]
[null,"Ceilling Works"]
["e"," Ceiling GRC + Frame",null,null,null,41.772500000000001,"M²"]
[]
[5,"Floor and Wall Works"]
["a"," Ceramic Floor 25/25",null,null,null,41.772500000000001,"M²"]
["b"," Ceramic Wall 25/50",null,null,null,62.91,"M²"]
[]
[6,"Painting Works"]
["a","Interior Wall Painting Works ",null,null,null,150.66075000000001,"M²"]
["b","exterior wall painting works- Wheatershield",null,null,null,150.66075000000001,"M²"]
["c","Ceiling Painting Works",null,null,null,41.772500000000001,"M²"]
[]
[7,"Sanitary Works"]
["a"," Squatting closet",null,null,null,5,"Unit"]
["b"," Sitting closet",null,null,null,2,"Unit"]
["c"," Sink",null,null,null,4,"Unit"]
["d"," urinal",null,null,null,2,"Unit"]
["e"," floor Drain",null,null,null,10,"Unit"]
["f"," Water faucet",null,null,null,5,"Unit"]
[]
[8,"Lantei  beams "]
["a","Concrete",null,null,null,0.2535,"M³"]
["b","Deformed Bar",null,null,null,47.404499999999999,"Kg"]
["c","formwork",null,null,null,5.8500195000000001,"M²"]
[]
[9,"Ramp For Disable"]
["a","Beam Sloof 10x20 cm"]
[null,"- Concrete",null,null,null,0.16799999999999998,"M3"]
[null,"- Deformed Bar",null,null,null,62.663999999999994,"Kg"]
[null,"- Formwork",null,null,null,3.3599999999999994,"M2"]
["b","Platform"]
[null,"- Concrete",null,null,null,0.97019999999999984,"M3"]
[null,"- Wiremesh M-6 (1 Layer)",null,null,null,9.7019999999999982,"M2"]
["c","Disable Parking"]
[null,"- Concrete",null,null,null,1.8672500000000001,"M3"]
[null,"- Wiremesh M-6 (1 Layer)",null,null,null,18.672499999999999,"M2"]
["d","Ramp Railing ",null,null,null,13.660000000000002,"M²"]
[]
["VIII","TPS 3 R"]
[]
["B","STRUCTURAL WORKS"]
["B.1","SOIL AND FONDATION WORKS"]
[1,"Soil Excavation Work",null,null,null,11.4,"M³"]
[2,"Soil Filling",null,null,null,19.384,"M³"]
[3,"Sand Filling",null,null,null,0.34,"M³"]
[]
[4," Foot Plate Foundation"]
["a","Concrete K250",null,null,null,1.37,"M³"]
["b","Deformed Bar",null,null,null,216.14,"Kg"]
["c","formwork Foundations",null,null,null,5.0199999999999996,"M²"]
[]
[5," column Pedestal"]
["a","Concrete K250",null,null,null,0.26,"M³"]
["b","Deformed Bar",null,null,null,53.61,"Kg"]
["c","formwork column",null,null,null,3.42,"M²"]
[]
["B.2","CONCRETE WORKS"]
[1," Tie Beam SL-01"]
["a","Concrete K250",null,null,null,2.14,"M³"]
["b","Deformed Bar",null,null,null,455.3,"Kg"]
["c","Formwork Tie Beam",null,null,null,28.5,"M²"]
[]
[2," column K1 (15X20)"]
["a","Concrete K250",null,null,null,1.37,"M³"]
["b","Deformed Bar",null,null,null,227.77,"Kg"]
["c","formwork column",null,null,null,8.8800000000000008,"M²"]
[]
[2," column K1 (15X15)"]
["a","Concrete K250",null,null,null,0.6,"M³"]
["b","Deformed Bar",null,null,null,99.65,"Kg"]
["c","formwork column",null,null,null,3.89,"M²"]
[]
[3," Ring Beams"]
["a","Concrete K250",null,null,null,2.14,"M³"]
["b","Deformed Bar",null,null,null,374.06,"Kg"]
["c","formwork Beam",null,null,null,35.630000000000003,"M²"]
[]
[4,"Latei Beams"]
["a","Concrete",null,null,null,0.13,"M³"]
["b","Deformed Bar",null,null,null,23.54,"Kg"]
["c","formwork Beam",null,null,null,2.91,"M²"]
[]
[5,"ramp"]
["a","Concrete",null,null,null,0.9,"M³"]
[]
[6,"Roof Work"]
[null," Lightweight steel truss",null,null,null,87.56,"M²"]
[]
["C","ARCHITECTURAL WORKS"]
[1,"Roof Work"]
["b","roof coverings",null,null,null,87.56,"M²"]
["c","Top Roofing",null,null,null,11.425000000000001,"M¹"]
["d","Roof Facia",null,null,null,42.05,"M¹"]
[]
[2,"light concrete under floor"]
["a","Sand Filling",null,null,null,0.97400000000000009,"M³"]
["b","Concrete",null,null,null,1.4610000000000001,"M³"]
["c","Wiremesh M-6 (1 Layer)",null,null,null,48.7,"M²"]
[]
[3,"Light Brick Wall (AAC block)"]
["a"," Brick wall Hebel t.10",null,null,null,78.97,"M²"]
[]
[4,"Plastering works"]
["a"," Plastering",null,null,null,157.94,"M²"]
["b","Neat Plaster ",null,null,null,157.94,"M²"]
[]
[5,"Door and Windows Frame Works"]
["a","Frame P1 + Assesories",null,null,null,2,"Pcs"]
["b","PVC Door for Toilet",null,null,null,1,"Pcs"]
["c"," Sills J1 + Assesories",null,null,null,1,"Pcs"]
["d"," Glass Block",null,null,null,1,"M2"]
[]
[6,"Ceilling Works"]
["a"," Gypsum ceiling + Frame",null,null,null,9,"M²"]
[]
[7,"Floor and Wall Works"]
["a"," ceramic 30/30",null,null,null,9,"M²"]
["b"," Ceramic wall 20/25",null,null,null,12.714,"M²"]
["c"," Transram",null,null,null,12.714,"M²"]
[]
[8,"Painting Works"]
["a","Interior Wall Painting Works ",null,null,null,78.97,"M²"]
["b","exterior wall painting works- Wheatershield",null,null,null,78.97,"M²"]
["c","Ceiling Painting Works",null,null,null,9,"M²"]
[]
[9,"Sanitary Works"]
["a"," Squatting closet",null,null,null,1,"Unit"]
["b"," Water faucet",null,null,null,2,"Unit"]
["c"," floor Drain",null,null,null,2,"Unit"]
[]
[10,"ramp"]
["a","Concrete",null,null,null,0.69541200000000003,"M³"]
[]
[11," Iron Doors 80 x 270",null,null,null,2,"Pcs"]
[12," Grill channel 15 x 175",null,null,null,2,"Pcs"]
[]
["IX","ELECTRICAL WORK"]
["A","INSTALLATION OF ELECTRICAL PANEL"]
[1,"Main Panel"]
[null,"a. Installation of Main Panel",null,null,null,1,"Unit"]
[null,"b. Installation of Panel Sub Distribution",null,null,null,6,"Unit"]
[null,"c. Grounding system",null,null,null,1,"Set"]
[]
[2,"Installation of Cable"]
["a","Procurement"]
[null,"(From PLN to M-DP)"]
[null,"-","Cable NYY 4 x 6 mm2",null,null,50,"m"]
[null,"-","Cable NYA 1 x 6 mm2",null,null,50,"m"]
[null,null,"(From M-DP to LP-SMKM-KY1)"]
[null,"-","Cable NYY 4 x 4 mm2",null,null,56,"m"]
[null,"-","Cable NYA 1 x 6 mm2",null,null,56,"m"]
[null,null,"(From M-DP to LP-SMKM-KY2)"]
[null,"-","Cable NYY 4 x 4 mm2",null,null,56,"m"]
[null,"-","Cable NYA 1 x 6 mm2",null,null,56,"m"]
[null,null,"(From M-DP to LP-SMKM-KY3)"]
[null,"-","Cable NYY 4 x 4 mm2",null,null,40,"m"]
[null,"-","Cable NYA 1 x 6 mm2",null,null,40,"m"]
[null,null,"(From M-DP to LP-SMKM-KY4)"]
[null,"-","Cable NYY 4 x 4 mm2",null,null,56,"m"]
[null,"-","Cable NYA 1 x 6 mm2",null,null,56,"m"]
[null,null,"(From M-DP to LP-SMKM-KY5)"]
[null,"-","Cable NYY 4 x 4 mm2",null,null,60,"m"]
[null,"-","Cable NYA 1 x 6 mm2",null,null,60,"m"]
[null,null,"(From M-DP to LP-SMKM-KY6)"]
[null,"-","Cable NYY 4 x 4 mm2",null,null,65,"m"]
[null,"-","Cable NYA 1 x 6 mm2",null,null,65,"m"]
[null,"-","Accessories",null,null,1,"LS"]
[]
["B","INSTALLATION OF LIGHTNING SYSTEM"]
[1,"Panel PP-SMK-KY-1 - CLASSROOM A"]
[null,"-","LED down light bulb 13 Watt",null,null,6,"set"]
[null,"-","Baret circulair 20 Watt",null,null,6,"set"]
[null,"-","RM LED lights TL 2 x 18 W / 220 V, Office, complete",null,null,18,"set"]
[null,"-","1 gang 1 switch 220 V, inbow",null,null,4,"set"]
[null,"-","2 gang 1 switch 220 V, inbow",null,null,6,"set"]
[null,null,"Electric socket"]
[null,"-","Sockets 10 A / 220 V, inbow",null,null,9,"set"]
[2,"Panel PP-SMK-KY-2 - LABORATORY"]
[null,"-","LED down light bulb 13 Watt",null,null,2,"set"]
[null,"-","Baret circulair 20 Watt",null,null,6,"set"]
[null,"-","RM LED lights TL 2 x 18 W / 220 V, Office, complete",null,null,6,"set"]
[null,"-","1 gang 1 switch 220 V, inbow",null,null,3,"set"]
[null,"-","2 gang 1 switch 220 V, inbow",null,null,4,"set"]
[null,null,"Electric socket"]
[null,"-","Sockets 10 A / 220 V, inbow",null,null,1,"set"]
[3,"Panel PP-SMK-KY-3 - CLASSROOM B"]
[null,"-","LED down light bulb 13 Watt",null,null,6,"set"]
[null,"-","Baret circulair 20 Watt",null,null,6,"set"]
[null,"-","RM LED lights TL 2 x 18 W / 220 V, Office, complete",null,null,30,"set"]
[null,"-","1 gang 1 switch 220 V, inbow",null,null,8,"set"]
[null,"-","2 gang 1 switch 220 V, inbow",null,null,14,"set"]
[null,null,"Electric socket"]
[null,"-","Sockets 10 A / 220 V, inbow",null,null,9,"U"]
[4,"Panel PP-SMK-KY-4 - MOSQUE"]
[null,"-","LED down light bulb 13 Watt",null,null,13,"set"]
[null,"-","Baret circulair 20 Watt",null,null,6,"set"]
[null,"-","RM LED lights TL 2 x 18 W / 220 V, Office, complete",null,null,6,"set"]
[null,"-","1 gang 1 switch 220 V, inbow",null,null,6,"set"]
[null,"-","2 gang 1 switch 220 V, inbow",null,null,6,"set"]
[null,null,"Electric socket"]
[null,"-","Sockets 10 A / 220 V, inbow",null,null,9,"Pcs"]
[5,"Panel PP-SMK-KY-5 - RPS nautical"]
[null,"-","LED down light bulb 13 Watt",null,null,6,"set"]
[null,"-","Baret circulair 20 Watt",null,null,1,"set"]
[null,"-","RM LED lights TL 2 x 18 W / 220 V, Office, complete",null,null,31,"set"]
[null,"-","1 gang 1 switch 220 V, inbow",null,null,10,"set"]
[null,"-","2 gang 1 switch 220 V, inbow",null,null,16,"set"]
[null,"Electric socket"]
[null,"-","Sockets 10 A / 220 V, inbow",null,null,10,"set"]
[6,"Panel PP-SMK-KY-6 - TEACHERS TOILET"]
[null,"-","LED down light bulb 13 Watt",null,null,5,"set"]
[null,"-","Baret circulair 20 Watt",null,null,3,"set"]
[null,"-","RM LED lights TL 2 x 18 W / 220 V, Office, complete",null,null,4,"set"]
[null,"-","High bay LED 100 W",null,null,9,"set"]
[null,"-","1 gang 1 switch 220 V, inbow",null,null,4,"set"]
[null,"-","2 gang 1 switch 220 V, inbow",null,null,4,"set"]
[null,"Electric socket"]
[null,"-","Sockets 10 A / 220 V, inbow",null,null,3,"set"]
[]
["C","INSTALLATION OF AIR CONDITIONING"]
[1,"From Panel PP-SMKN-GG-1"]
[null,"a. AC Point",null,null,null,1,"Point"]
[null,"b. Socket outlet AC",null,null,null,1,"Set"]
[]
["D","LIGHTNING PROTECTION",null,null,null,1,"Set"]
[]
["E","FIRE EXTINGUISER",null,null,null,4,"Set"]
[]
["F","CONNECTION PLN 16500 VA",null,null,null,1,"Unit"]
[]
[]
["X","PLUMBING WORK"]
["IX","MECHANICAL WORKS"]
[null,1,"Installation of Water Supply"]
[null,"A","BUILDING TOILET CLASSROOM A"]
[null,1,"Instalation of pipe PVC classPVC AW  1/2\"",null,null,8,"m'"]
[null,2,"Instalation of pipe PVC classPVC AW 2\"",null,null,20,"m'"]
[null,3,"Reservoir Tank, Capasity 1 M³",null,null,1,"unit"]
[]
[null,"B","LABORATORY BUILDING TOILET"]
[null,1,"Instalation of pipe PVC classPVC AW  1/2\"",null,null,8,"m'"]
[null,2,"Instalation of pipe PVC classPVC AW 1 1/2\"",null,null,20,"m'"]
[null,3,"Reservoir Tank, Capasity 1 M³",null,null,1,"unit"]
[]
[null,"C","NAUTIKA TOILET"]
[null,1,"Instalation of pipe PVC classPVC AW  1/2\"",null,null,4,"m'"]
[null,2,"Instalation of pipe PVC classPVC AW 3/4\"",null,null,8,"m'"]
[null,3,"Reservoir Tank, Capasity 1 M³",null,null,1,"unit"]
[]
[null,"D","TEACHER TOILET"]
[null,1,"Instalation of pipe PVC classPVC AW  1/2\"",null,null,12,"m'"]
[null,2,"Instalation of pipe PVC classPVC AW 2\"",null,null,24,"m'"]
[null,3,"Reservoir Tank, Capasity 1 M³",null,null,1,"unit"]
[]
[null,"E","TRANSMITION SYSTEM"]
[null,1,"Transfer Pump 5 mph@ 30 m",null,null,2,"unit"]
[null,2,"Instalation of pipe PVC classPVC AW 1 1/2\"",null,null,282,"m'"]
[]
[2,"Installation of Waste Water "]
[null,"A","TEACHER TOILET"]
[null,1,"Transfer pump 6 mph@ 30 m",null,null,1,"Unit"]
[null,2,"Instalation of pipe PVC classPVC D 1 1/2\"",null,null,8,"m'"]
[null,3,"Instalation of pipe PVC classPVC D 3\"",null,null,8,"m'"]
[null,4,"Instalation of pipe PVC classPVC AW 2\"",null,null,92,"m'"]
[]
[null,"B","LABORATORY BUILDING TOILET"]
[null,1,"Instalation of pipe PVC class D  1 1/2\"",null,null,16,"m'"]
[null,2,"Instalation of pipe PVC class D 2\"",null,null,4,"m'"]
[null,3,"Instalation of pipe PVC class D 3\"",null,null,12,"m'"]
[null,4,"Instalation of pipe PVC class D  4\"",null,null,40,"m'"]
[]
[null,"C","NAUTIKA TOILET"]
[null,1,"Instalation of pipe PVC class D 1 1/2\"",null,null,4,"m'"]
[null,2,"Instalation of pipe PVC class D 3\"",null,null,4,"m'"]
[null,3,"Instalation of pipe PVC classPVC AW 2\"",null,null,88,"m'"]
[null,4,"Transfer pump 6 mph",null,null,1,"unit"]
[]
[null,"C","Instalation of pipe PVC classPVC AW 2\""]
[null,1,"Instalation of pipe PVC class D 1 1/2\"",null,null,16,"m'"]
[null,2,"Instalation of pipe PVC class D 3\"",null,null,80,"m'"]
[]
[null,"E","STP SYSTEM"]
[null,1,"STP Capasity 20 MPD",null,null,1,"unit"]

{"sheet":"Rab","index":5,"n_rows":1846,"n_cols":18,"rows_kept":1846,"cut":false,"hidden":true,"merged":[[6,1,7,1],[6,17,7,17],[6,15,7,15],[6,12,7,13],[6,2,7,11],[6,16,7,16]]}
[]
[null,{"$f":"#REF!","v":{"$error":"#REF!"}},null,null,{"$f":"#REF!","v":{"$error":"#REF!"}},{"$f":"#REF!","v":{"$error":"#REF!"}}]
[null,{"$f":"#REF!","v":{"$error":"#REF!"}},null,null,{"$f":"#REF!","v":{"$error":"#REF!"}},{"$f":"#REF!","v":{"$error":"#REF!"}}]
[null,{"$f":"#REF!","v":{"$error":"#REF!"}},null,null,{"$f":"#REF!","v":{"$error":"#REF!"}},{"$f":"#REF!","v":{"$error":"#REF!"}}]
[null,{"$f":"#REF!","v":{"$error":"#REF!"}},null,null,{"$f":"#REF!","v":{"$error":"#REF!"}}]
[]
[null,{"$f":"#REF!","v":{"$error":"#REF!"}},{"$f":"#REF!","v":{"$error":"#REF!"}},{"$nulls":9},"VOLUME",null,null,"HARGA SATUAN","JUMLAH","JUMLAH T0TAL"]
[]
[]
[null,"I.","PEKERJAAN PERSIAPAN",{"$nulls":14},{"$f":"SUM(Q11:Q17)","v":{"$error":"#REF!"}}]
[null,1,"Papan Nama Proyek",{"$nulls":9},{"$f":"#REF!","v":{"$error":"#REF!"}},{"$f":"#REF!","v":{"$error":"#REF!"}},"A.4.4.0",{"$f":"VLOOKUP(O11,#REF!:#REF!,3,)","v":{"$error":"#REF!"}},{"$f":"M11*P11","v":{"$error":"#REF!"}}]
[null,2,"Kantor Direksi Keet & gudang",{"$nulls":9},{"$f":"#REF!","v":{"$error":"#REF!"}},{"$f":"#REF!","v":{"$error":"#REF!"}},"A.1.3.0",{"$f":"VLOOKUP(O12,#REF!:#REF!,3,)","v":{"$error":"#REF!"}},{"$f":"M12*P12","v":{"$error":"#REF!"}}]
[null,3,"Gudang Bahan dan Peralatan",{"$nulls":9},{"$f":"#REF!","v":{"$error":"#REF!"}},{"$f":"#REF!","v":{"$error":"#REF!"}},"A.1.3.0",{"$f":"VLOOKUP(O13,#REF!:#REF!,3,)","v":{"$error":"#REF!"}},{"$error":"#REF!"}]
[null,4,"Dokumentasi (Drone)",{"$nulls":9},{"$f":"#REF!","v":{"$error":"#REF!"}},{"$f":"#REF!","v":{"$error":"#REF!"}},null,9000000,{"$f":"M14*P14","v":{"$error":"#REF!"}}]
[null,5,"Pelaporan ( Shop Drawing, As Built Drawing )",{"$nulls":9},{"$f":"#REF!","v":{"$error":"#REF!"}},{"$f":"#REF!","v":{"$error":"#REF!"}},null,10000000,{"$error":"#REF!"}]
[null,6,"Pengadaan K3",{"$nulls":9},{"$f":"#REF!","v":{"$error":"#REF!"}},{"$f":"#REF!","v":{"$error":"#REF!"}},null,10000000,{"$f":"P16","v":10000000}]
[null,7,"Listrik dan Air Kerja",{"$nulls":9},{"$f":"#REF!","v":{"$error":"#REF!"}},{"$f":"#REF!","v":{"$error":"#REF!"}},null,2000000,{"$error":"#REF!"}]
[]
[null,"II.","PEMBANGUNAN GEDUNG KELAS A",{"$nulls":14},{"$f":"SUM(Q21:Q84)","v":{"$error":"#REF!"}}]
[null,"A","Pekerjaan Tanah dan Pondasi"]
[null,1,"Pembersihan Lapangan",{"$nulls":9},0,{"$f":"#REF!","v":{"$error":"#REF!"}},"A.1.2.1",{"$f":"VLOOKUP(O21,#REF!:#REF!,3,)","v":{"$error":"#REF!"}},{"$error":"#REF!"}]
[null,2,"Pagar Pengaman Proyek, t = 2m",{"$nulls":9},0,{"$f":"#REF!","v":{"$error":"#REF!"}},"A.1.1.0",{"$f":"VLOOKUP(O22,#REF!:#REF!,3,)","v":{"$error":"#REF!"}},{"$error":"#REF!"}]
[null,3,"Pas. Bouwplank",{"$nulls":9},0,{"$f":"#REF!","v":{"$error":"#REF!"}},"A.1.2.0",{"$f":"VLOOKUP(O23,#REF!:#REF!,3,)","v":{"$error":"#REF!"}},{"$error":"#REF!"}]
[null,4,"Pek. Anti Rayap",{"$nulls":9},0,{"$f":"#REF!","v":{"$error":"#REF!"}},null,20000,0]
[null,5,"Pek. Galian Tanah ",{"$nulls":9},0,{"$f":"#REF!","v":{"$error":"#REF!"}},"A.1.5.0",{"$f":"VLOOKUP(O25,#REF!:#REF!,3,)","v":{"$error":"#REF!"}},{"$error":"#REF!"}]
[null,6,"Urug Tanah Kembali",{"$nulls":9},0,{"$f":"#REF!","v":{"$error":"#REF!"}},"A.1.7.0",{"$f":"VLOOKUP(O26,#REF!:#REF!,3,)","v":{"$error":"#REF!"}},{"$error":"#REF!"}]
[null,7,"Pas. Pasir Urug",{"$nulls":9},0,{"$f":"#REF!","v":{"$error":"#REF!"}},"A.1.9.0",{"$f":"VLOOKUP(O27,#REF!:#REF!,3,)","v":{"$error":"#REF!"}},{"$error":"#REF!"}]
[null,8,"Pas. Lantai Kerja",{"$nulls":9},0,{"$f":"#REF!","v":{"$error":"#REF!"}},"A.3.0.0",{"$f":"VLOOKUP(O28,#REF!:#REF!,3,)","v":{"$error":"#REF!"}},{"$error":"#REF!"}]
[null,9,"Pas. Pondasi Batu Kosong (Aastamping)",{"$nulls":9},0,{"$f":"#REF!","v":{"$error":"#REF!"}},"A.2.2.0",{"$f":"VLOOKUP(O29,#REF!:#REF!,3,)","v":{"$error":"#REF!"}},{"$error":"#REF!"}]
[null,10,"Pas. Pondasi Batu Kali",{"$nulls":9},0,{"$f":"#REF!","v":{"$error":"#REF!"}},"A.2.3.0",{"$f":"VLOOKUP(O30,#REF!:#REF!,3,)","v":{"$error":"#REF!"}},{"$error":"#REF!"}]
[null,11,"Pas. Pondasi Tapak"]
[null,null,"-","Beton",{"$nulls":8},0,{"$f":"#REF!","v":{"$error":"#REF!"}},"A.3.3.0",{"$f":"VLOOKUP(O32,#REF!:#REF!,3,)","v":{"$error":"#REF!"}},{"$error":"#REF!"}]
[null,null,"-","Pembesian",{"$nulls":8},0,{"$f":"#REF!","v":{"$error":"#REF!"}},"A.3.2.0",{"$f":"VLOOKUP(O33,#REF!:#REF!,3,)","v":{"$error":"#REF!"}},{"$error":"#REF!"}]
[null,null,"-","Bekisting Pondasi",{"$nulls":8},0,{"$f":"#REF!","v":{"$error":"#REF!"}},"A.3.4.0",{"$f":"VLOOKUP(O34,#REF!:#REF!,3,)","v":{"$error":"#REF!"}},{"$error":"#REF!"}]
[null,"B","Pekerjaan Struktur"]
[null,1,"Pas. Kolom Pedestal FP 2"]
[null,null,"-","Beton",{"$nulls":8},0,{"$f":"#REF!","v":{"$error":"#REF!"}},"A.3.3.0",{"$f":"VLOOKUP(O37,#REF!:#REF!,3,)","v":{"$error":"#REF!"}},{"$error":"#REF!"}]
[null,null,"-","Pembesian",{"$nulls":8},0,{"$f":"#REF!","v":{"$error":"#REF!"}},"A.3.2.0",{"$f":"VLOOKUP(O38,#REF!:#REF!,3,)","v":{"$error":"#REF!"}},{"$error":"#REF!"}]
[null,null,"-","Bekisting Plat",{"$nulls":8},0,{"$f":"#REF!","v":{"$error":"#REF!"}},"A.3.4.0",{"$f":"VLOOKUP(O39,#REF!:#REF!,3,)","v":{"$error":"#REF!"}},{"$error":"#REF!"}]
[null,2,"Pek. Tie Beam SL-01"]
[null,null,"-","Beton",{"$nulls":8},0,{"$f":"#REF!","v":{"$error":"#REF!"}},"A.3.3.0",{"$f":"VLOOKUP(O41,#REF!:#REF!,3,)","v":{"$error":"#REF!"}},{"$error":"#REF!"}]
[null,null,"-","Pembesian",{"$nulls":8},0,{"$f":"#REF!","v":{"$error":"#REF!"}},"A.3.2.0",{"$f":"VLOOKUP(O42,#REF!:#REF!,3,)","v":{"$error":"#REF!"}},{"$error":"#REF!"}]
[null,null,"-","Bekisting Tie Beam",{"$nulls":8},0,{"$f":"#REF!","v":{"$error":"#REF!"}},"A.3.5.0",{"$f":"VLOOKUP(O43,#REF!:#REF!,3,)","v":{"$error":"#REF!"}},{"$error":"#REF!"}]
[null,3,"Pek. Kolom K-01"]
[null,null,"-","Beton",{"$nulls":8},0,{"$f":"#REF!","v":{"$error":"#REF!"}},"A.3.3.0",{"$f":"VLOOKUP(O45,#REF!:#REF!,3,)","v":{"$error":"#REF!"}},{"$error":"#REF!"}]
[null,null,"-","Pembesian",{"$nulls":8},0,{"$f":"#REF!","v":{"$error":"#REF!"}},"A.3.2.0",{"$f":"VLOOKUP(O46,#REF!:#REF!,3,)","v":{"$error":"#REF!"}},{"$error":"#REF!"}]
[null,null,"-","Bekisting Kolom",{"$nulls":8},0,{"$f":"#REF!","v":{"$error":"#REF!"}},"A.3.6.0",{"$f":"VLOOKUP(O47,#REF!:#REF!,3,)","v":{"$error":"#REF!"}},{"$error":"#REF!"}]
[null,4,"Pek. Ring Balok RB-01"]
[null,null,"-","Beton",{"$nulls":8},0,{"$f":"#REF!","v":{"$error":"#REF!"}},"A.3.3.0",{"$f":"VLOOKUP(O49,#REF!:#REF!,3,)","v":{"$error":"#REF!"}},{"$error":"#REF!"}]
[null,null,"-","Pembesian",{"$nulls":8},0,{"$f":"#REF!","v":{"$error":"#REF!"}},"A.3.2.0",{"$f":"VLOOKUP(O50,#REF!:#REF!,3,)","v":{"$error":"#REF!"}},{"$error":"#REF!"}]
[null,null,"-","Bekisting Balok",{"$nulls":8},0,{"$f":"#REF!","v":{"$error":"#REF!"}},"A.3.7.0",{"$f":"VLOOKUP(O51,#REF!:#REF!,3,)","v":{"$error":"#REF!"}},{"$error":"#REF!"}]
[null,5,"Pekerjaan Atap"]
[null,null,"-","Pas. Kuda-kuda Baja Ringan",{"$nulls":8},0,{"$f":"#REF!","v":{"$error":"#REF!"}},"A.4.3.0",{"$f":"VLOOKUP(O53,#REF!:#REF!,3,)","v":{"$error":"#REF!"}},{"$error":"#REF!"}]
[null,null,"-","Pas. Penutup Atap",{"$nulls":8},0,{"$f":"#REF!","v":{"$error":"#REF!"}},"A.4.8.0",{"$f":"VLOOKUP(O54,#REF!:#REF!,3,)","v":{"$error":"#REF!"}},{"$error":"#REF!"}]
[null,null,"-","Pas. Nok Atap",{"$nulls":8},0,{"$f":"#REF!","v":{"$error":"#REF!"}},"A.4.9.0",{"$f":"VLOOKUP(O55,#REF!:#REF!,3,)","v":{"$error":"#REF!"}},{"$error":"#REF!"}]
[null,null,"-","Pas. Listplank",{"$nulls":8},0,{"$f":"#REF!","v":{"$error":"#REF!"}},"A.4.7.0",{"$f":"VLOOKUP(O56,#REF!:#REF!,3,)","v":{"$error":"#REF!"}},{"$error":"#REF!"}]
[null,null,"-","Pas. Talang",{"$nulls":8},0,{"$f":"#REF!","v":{"$error":"#REF!"}},"A.5.7.0",{"$f":"VLOOKUP(O57,#REF!:#REF!,3,)","v":{"$error":"#REF!"}},{"$error":"#REF!"}]
[null,6,"Pek. Plat Lantai"]
[null,null,"-","Beton",{"$nulls":8},0,{"$f":"#REF!","v":{"$error":"#REF!"}},"A.3.1.0",{"$f":"VLOOKUP(O59,#REF!:#REF!,3,)","v":{"$error":"#REF!"}},{"$error":"#REF!"}]
[null,null,"-","Pasir Urug",{"$nulls":8},0,{"$f":"#REF!","v":{"$error":"#REF!"}},"A.1.9.0",{"$f":"VLOOKUP(O60,#REF!:#REF!,3,)","v":{"$error":"#REF!"}},{"$error":"#REF!"}]
[null,null,"-","Wiremash M-6 (1 Layer)",{"$nulls":8},0,{"$f":"#REF!","v":{"$error":"#REF!"}},"A.3.2.1",{"$f":"VLOOKUP(O61,#REF!:#REF!,3,)","v":{"$error":"#REF!"}},{"$error":"#REF!"}]
[]
[null,"C","Pekerjaan Arsitektur"]
[null,1,"Pas. Dinding Hebel t.10",{"$nulls":9},0,{"$f":"#REF!","v":{"$error":"#REF!"}},"A.2.7.0",{"$f":"VLOOKUP(O64,#REF!:#REF!,3,)","v":{"$error":"#REF!"}},{"$error":"#REF!"}]
[null,2,"Pek. Plesteran",{"$nulls":9},0,{"$f":"#REF!","v":{"$error":"#REF!"}},"A.2.8.0",{"$f":"VLOOKUP(O65,#REF!:#REF!,3,)","v":{"$error":"#REF!"}},{"$error":"#REF!"}]
[null,3,"Pek. Acian",{"$nulls":9},0,{"$f":"#REF!","v":{"$error":"#REF!"}},"A.2.9.0",{"$f":"VLOOKUP(O66,#REF!:#REF!,3,)","v":{"$error":"#REF!"}},{"$error":"#REF!"}]
[null,4,"Pas. Kusen AD-01 + Assesories",{"$nulls":9},0,{"$f":"#REF!","v":{"$error":"#REF!"}},"AD.01",{"$f":"VLOOKUP(O67,#REF!:#REF!,3,)","v":{"$error":"#REF!"}},{"$error":"#REF!"}]
[null,5,"Pas. Kusen AW-02 + Assesories",{"$nulls":9},0,{"$f":"#REF!","v":{"$error":"#REF!"}},"AW.02",{"$f":"VLOOKUP(O68,#REF!:#REF!,3,)","v":{"$error":"#REF!"}},{"$error":"#REF!"}]
[null,6,"Pas. Variasi grill/louvre",{"$nulls":9},0,{"$f":"#REF!","v":{"$error":"#REF!"}},"A.6.0.0",{"$f":"VLOOKUP(O69,#REF!:#REF!,3,)","v":{"$error":"#REF!"}},{"$error":"#REF!"}]
[null,7,"Pas. Plafond Gypsum + Rangka",{"$nulls":9},0,{"$f":"#REF!","v":{"$error":"#REF!"}},"A.4.6.0",{"$f":"VLOOKUP(O70,#REF!:#REF!,3,)","v":{"$error":"#REF!"}},{"$error":"#REF!"}]
[null,8,"Pas. Plafond GRC + Rangka",{"$nulls":9},0,{"$f":"#REF!","v":{"$error":"#REF!"}},"A.4.5.0",{"$f":"VLOOKUP(O71,#REF!:#REF!,3,)","v":{"$error":"#REF!"}},{"$error":"#REF!"}]
[null,9,"Pas. Keramik 60/60",{"$nulls":9},0,{"$f":"#REF!","v":{"$error":"#REF!"}},"A.7.0.0",{"$f":"VLOOKUP(O72,#REF!:#REF!,3,)","v":{"$error":"#REF!"}},{"$error":"#REF!"}]
[null,10,"Pas. Keramik 60/60 Anti Slip",{"$nulls":9},0,{"$f":"#REF!","v":{"$error":"#REF!"}},"A.7.0.0",{"$f":"VLOOKUP(O73,#REF!:#REF!,3,)","v":{"$error":"#REF!"}},{"$error":"#REF!"}]
[null,12,"Pas. Plint Lantai t 10",{"$nulls":9},0,{"$f":"#REF!","v":{"$error":"#REF!"}},"A.7.0.1",{"$f":"VLOOKUP(O74,#REF!:#REF!,3,)","v":{"$error":"#REF!"}},{"$f":"M74*P74","v":{"$error":"#REF!"}}]
[null,13,"Pekerjaan Pengecatan Dinding Interior Jotun Majectic",{"$nulls":9},0,{"$f":"#REF!","v":{"$error":"#REF!"}},"A.7.3.0",{"$f":"VLOOKUP(O75,#REF!:#REF!,3,)","v":{"$error":"#REF!"}},{"$error":"#REF!"}]
[null,14,"Pekerjaan Pengecatan DInding Eksterior Dulux Wheatershield",{"$nulls":9},0,{"$f":"#REF!","v":{"$error":"#REF!"}},"A.7.2.0",{"$f":"VLOOKUP(O76,#REF!:#REF!,3,)","v":{"$error":"#REF!"}},{"$error":"#REF!"}]
[null,15,"Pekerjaan Pengecatan Plafond vinilex",{"$nulls":9},0,{"$f":"#REF!","v":{"$error":"#REF!"}},"A.7.5.0",{"$f":"VLOOKUP(O77,#REF!:#REF!,3,)","v":{"$error":"#REF!"}},{"$error":"#REF!"}]
[null,16,"Pek. Pemasangan ACP",{"$nulls":9},0,{"$f":"#REF!","v":{"$error":"#REF!"}},"A.6.1.0",{"$f":"VLOOKUP(O78,#REF!:#REF!,3,)","v":{"$error":"#REF!"}},{"$error":"#REF!"}]
[null,17,"Pek. Tangga"]
[null,null,"-","Beton",{"$nulls":8},0,{"$f":"#REF!","v":{"$error":"#REF!"}},"A.3.1.0",{"$f":"VLOOKUP(O80,#REF!:#REF!,3,)","v":{"$error":"#REF!"}},{"$error":"#REF!"}]
[null,18,"Pek. Balok Latei"]
[null,null,"-","Beton",{"$nulls":8},0,{"$f":"#REF!","v":{"$error":"#REF!"}},"A.3.1.0",{"$f":"VLOOKUP(O82,#REF!:#REF!,3,)","v":{"$error":"#REF!"}},{"$error":"#REF!"}]
[null,null,"-","Pembesian",{"$nulls":8},0,{"$f":"#REF!","v":{"$error":"#REF!"}},"A.3.2.0",{"$f":"VLOOKUP(O83,#REF!:#REF!,3,)","v":{"$error":"#REF!"}},{"$error":"#REF!"}]
[null,null,"-","Bekisting ",{"$nulls":8},0,{"$f":"#REF!","v":{"$error":"#REF!"}},"A.3.7.0",{"$f":"VLOOKUP(O84,#REF!:#REF!,3,)","v":{"$error":"#REF!"}},{"$error":"#REF!"}]
[]
[null,"III.","PEMBANGUNAN GEDUNG KELAS B",{"$nulls":14},{"$f":"SUM(Q89:Q217)","v":{"$error":"#REF!"}}]
[null,null,"KELAS B.1"]
[null,"A","Pekerjaan Tanah dan Pondasi"]
[null,1,"Pembersihan Lapangan",{"$nulls":9},0,{"$f":"#REF!","v":{"$error":"#REF!"}},"A.1.2.1",{"$f":"VLOOKUP(O89,#REF!:#REF!,3,)","v":{"$error":"#REF!"}},{"$error":"#REF!"}]
[null,2,"Pagar Pengaman Proyek, t = 2m",{"$nulls":9},0,{"$f":"#REF!","v":{"$error":"#REF!"}},"A.1.1.0",{"$f":"VLOOKUP(O90,#REF!:#REF!,3,)","v":{"$error":"#REF!"}},{"$error":"#REF!"}]
[null,3,"Pas. Bouwplank",{"$nulls":9},0,{"$f":"#REF!","v":{"$error":"#REF!"}},"A.1.2.0",{"$f":"VLOOKUP(O91,#REF!:#REF!,3,)","v":{"$error":"#REF!"}},{"$error":"#REF!"}]
[null,4,"Pek. Anti Rayap",{"$nulls":9},0,{"$f":"#REF!","v":{"$error":"#REF!"}},null,20000,0]
[null,5,"Pek. Galian Tanah ",{"$nulls":9},0,{"$f":"#REF!","v":{"$error":"#REF!"}},"A.1.5.0",{"$f":"VLOOKUP(O93,#REF!:#REF!,3,)","v":{"$error":"#REF!"}},{"$error":"#REF!"}]
[null,6,"Urug Tanah Kembali",{"$nulls":9},0,{"$f":"#REF!","v":{"$error":"#REF!"}},"A.1.7.0",{"$f":"VLOOKUP(O94,#REF!:#REF!,3,)","v":{"$error":"#REF!"}},{"$error":"#REF!"}]
[null,7,"Pas. Pasir Urug",{"$nulls":9},0,{"$f":"#REF!","v":{"$error":"#REF!"}},"A.1.9.0",{"$f":"VLOOKUP(O95,#REF!:#REF!,3,)","v":{"$error":"#REF!"}},{"$error":"#REF!"}]
[null,8,"Pas. Lantai Kerja",{"$nulls":9},0,{"$f":"#REF!","v":{"$error":"#REF!"}},"A.3.0.0",{"$f":"VLOOKUP(O96,#REF!:#REF!,3,)","v":{"$error":"#REF!"}},{"$error":"#REF!"}]
[null,9,"Pas. Pondasi Batu Kosong (Aastamping)",{"$nulls":9},0,{"$f":"#REF!","v":{"$error":"#REF!"}},"A.2.2.0",{"$f":"VLOOKUP(O97,#REF!:#REF!,3,)","v":{"$error":"#REF!"}},{"$error":"#REF!"}]
[null,10,"Pas. Pondasi Batu Kali",{"$nulls":9},0,{"$f":"#REF!","v":{"$error":"#REF!"}},"A.2.3.0",{"$f":"VLOOKUP(O98,#REF!:#REF!,3,)","v":{"$error":"#REF!"}},{"$error":"#REF!"}]
[null,"B","Pekerjaan Struktur"]
[null,1,"Pas. Pondasi Tapak"]
[null,null,"-","Beton",{"$nulls":8},0,{"$f":"#REF!","v":{"$error":"#REF!"}},"A.3.3.0",{"$f":"VLOOKUP(O101,#REF!,3,FALSE)","v":{"$error":"#REF!"}},{"$error":"#REF!"}]
[null,null,"-","Pembesian",{"$nulls":8},0,{"$f":"#REF!","v":{"$error":"#REF!"}},"A.3.2.0",{"$f":"VLOOKUP(O102,#REF!,3,FALSE)","v":{"$error":"#REF!"}},{"$error":"#REF!"}]
[null,null,"-","Bekisting Pondasi",{"$nulls":8},0,{"$f":"#REF!","v":{"$error":"#REF!"}},"A.3.4.0",{"$f":"VLOOKUP(O103,#REF!,3,FALSE)","v":{"$error":"#REF!"}},{"$error":"#REF!"}]
[null,2,"Pas. Kolom Pedestal"]
[null,null,"-","Beton",{"$nulls":8},0,{"$f":"#REF!","v":{"$error":"#REF!"}},"A.3.3.0",{"$f":"VLOOKUP(O105,#REF!,3,FALSE)","v":{"$error":"#REF!"}},{"$error":"#REF!"}]
[null,null,"-","Pembesian",{"$nulls":8},0,{"$f":"#REF!","v":{"$error":"#REF!"}},"A.3.4.0",{"$f":"VLOOKUP(O106,#REF!,3,FALSE)","v":{"$error":"#REF!"}},{"$error":"#REF!"}]
[null,null,"-","Bekisting Kolom",{"$nulls":8},0,{"$f":"#REF!","v":{"$error":"#REF!"}},"A.3.4.0",{"$f":"VLOOKUP(O107,#REF!,3,FALSE)","v":{"$error":"#REF!"}},{"$error":"#REF!"}]
[null,3,"Pek. Tie Beam SL-01"]
[null,null,"-","Beton",{"$nulls":8},0,{"$f":"#REF!","v":{"$error":"#REF!"}},"A.3.3.0",{"$f":"VLOOKUP(O109,#REF!,3,FALSE)","v":{"$error":"#REF!"}},{"$error":"#REF!"}]
[null,null,"-","Pembesian",{"$nulls":8},0,{"$f":"#REF!","v":{"$error":"#REF!"}},"A.3.2.0",{"$f":"VLOOKUP(O110,#REF!,3,FALSE)","v":{"$error":"#REF!"}},{"$error":"#REF!"}]
[null,null,"-","Bekisting Tie Beam",{"$nulls":8},0,{"$f":"#REF!","v":{"$error":"#REF!"}},"A.3.5.0",{"$f":"VLOOKUP(O111,#REF!,3,FALSE)","v":{"$error":"#REF!"}},{"$error":"#REF!"}]
[null,4,"Pek. Kolom K-01"]
[null,null,"-","Beton",{"$nulls":8},0,{"$f":"#REF!","v":{"$error":"#REF!"}},"A.3.3.0",{"$f":"VLOOKUP(O113,#REF!,3,FALSE)","v":{"$error":"#REF!"}},{"$error":"#REF!"}]
[null,null,"-","Pembesian",{"$nulls":8},0,{"$f":"#REF!","v":{"$error":"#REF!"}},"A.3.2.0",{"$f":"VLOOKUP(O114,#REF!,3,FALSE)","v":{"$error":"#REF!"}},{"$error":"#REF!"}]
[null,null,"-","Bekisting Kolom",{"$nulls":8},0,{"$f":"#REF!","v":{"$error":"#REF!"}},"A.3.6.0",{"$f":"VLOOKUP(O115,#REF!,3,FALSE)","v":{"$error":"#REF!"}},{"$error":"#REF!"}]
[null,5,"Pek. Ring Balok RB-01",{"$nulls":9},0]
[null,null,"-","Beton",{"$nulls":8},0,{"$f":"#REF!","v":{"$error":"#REF!"}},"A.3.3.0",{"$f":"VLOOKUP(O117,#REF!,3,FALSE)","v":{"$error":"#REF!"}},{"$error":"#REF!"}]
[null,null,"-","Pembesian",{"$nulls":8},0,{"$f":"#REF!","v":{"$error":"#REF!"}},"A.3.2.0",{"$f":"VLOOKUP(O118,#REF!,3,FALSE)","v":{"$error":"#REF!"}},{"$error":"#REF!"}]
[null,null,"-","Bekisting Balok",{"$nulls":8},0,{"$f":"#REF!","v":{"$error":"#REF!"}},"A.3.7.0",{"$f":"VLOOKUP(O119,#REF!,3,FALSE)","v":{"$error":"#REF!"}},{"$error":"#REF!"}]
[null,6,"Pekerjaan Atap"]
[null,null,"-","Pas. Kuda-kuda Baja Ringan",{"$nulls":8},0,{"$f":"#REF!","v":{"$error":"#REF!"}},"A.4.3.0",{"$f":"VLOOKUP(O121,#REF!,3,FALSE)","v":{"$error":"#REF!"}},{"$error":"#REF!"}]
[null,null,"-","Pas. Penutup Atap",{"$nulls":8},0,{"$f":"#REF!","v":{"$error":"#REF!"}},"A.4.8.0",{"$f":"VLOOKUP(O122,#REF!,3,FALSE)","v":{"$error":"#REF!"}},{"$error":"#REF!"}]
[null,null,"-","Pas. Nok Atap",{"$nulls":8},0,{"$f":"#REF!","v":{"$error":"#REF!"}},"A.4.9.0",{"$f":"VLOOKUP(O123,#REF!,3,FALSE)","v":{"$error":"#REF!"}},{"$error":"#REF!"}]
[null,null,"-","Pas. Listplank",{"$nulls":8},0,{"$f":"#REF!","v":{"$error":"#REF!"}},"A.4.7.0",{"$f":"VLOOKUP(O124,#REF!,3,FALSE)","v":{"$error":"#REF!"}},{"$error":"#REF!"}]
[null,null,"-","Pas. Talang",{"$nulls":8},0,{"$f":"#REF!","v":{"$error":"#REF!"}},"A.5.7.0",{"$f":"VLOOKUP(O125,#REF!,3,FALSE)","v":{"$error":"#REF!"}},{"$error":"#REF!"}]
[null,7,"Pek. Plat Lantai "]
[null,null,"-","Beton",{"$nulls":8},0,{"$f":"#REF!","v":{"$error":"#REF!"}},"A.3.1.0",{"$f":"VLOOKUP(O127,#REF!,3,FALSE)","v":{"$error":"#REF!"}},{"$error":"#REF!"}]
[null,null,"-","Wiremash M-6 (1 Layer)",{"$nulls":8},0,{"$f":"#REF!","v":{"$error":"#REF!"}},"A.3.2.1",{"$f":"VLOOKUP(O128,#REF!,3,FALSE)","v":{"$error":"#REF!"}},{"$error":"#REF!"}]
[null,null,"-","Pasir Urug",{"$nulls":8},0,{"$f":"#REF!","v":{"$error":"#REF!"}},"A.1.9.0",{"$f":"VLOOKUP(O129,#REF!,3,FALSE)","v":{"$error":"#REF!"}},{"$error":"#REF!"}]
[null,"C","Pekerjaan Arsitektur"]
[null,1,"Pas. Dinding Hebel t.10",{"$nulls":9},0,{"$f":"#REF!","v":{"$error":"#REF!"}},"A.2.7.0",{"$f":"VLOOKUP(O131,#REF!,3,FALSE)","v":{"$error":"#REF!"}},{"$error":"#REF!"}]
[null,2,"Pek. Plesteran",{"$nulls":9},0,{"$f":"#REF!","v":{"$error":"#REF!"}},"A.2.8.0",{"$f":"VLOOKUP(O132,#REF!,3,FALSE)","v":{"$error":"#REF!"}},{"$error":"#REF!"}]
[null,3,"Pek. Acian",{"$nulls":9},0,{"$f":"#REF!","v":{"$error":"#REF!"}},"A.2.9.0",{"$f":"VLOOKUP(O133,#REF!,3,FALSE)","v":{"$error":"#REF!"}},{"$f":"M133*P133","v":{"$error":"#REF!"}}]
[null,4,"Pas. Kusen AD-01 + Assesories",{"$nulls":9},0,{"$f":"#REF!","v":{"$error":"#REF!"}},"AD.01",{"$f":"VLOOKUP(O134,#REF!,3,FALSE)","v":{"$error":"#REF!"}},{"$error":"#REF!"}]
[null,5,"Pas. Kusen AW-02 + Assesories",{"$nulls":9},0,{"$f":"#REF!","v":{"$error":"#REF!"}},"AW.02",{"$f":"VLOOKUP(O135,#REF!,3,FALSE)","v":{"$error":"#REF!"}},{"$error":"#REF!"}]
[null,6,"Pas. Variasi grill/louvre",{"$nulls":9},0,"M2","A.6.0.0",{"$f":"VLOOKUP(O136,#REF!,3,FALSE)","v":{"$error":"#REF!"}},{"$error":"#REF!"}]
[null,7,"Pas. Plafond Gypsum + Rangka",{"$nulls":9},0,{"$f":"#REF!","v":{"$error":"#REF!"}},"A.4.6.0",{"$f":"VLOOKUP(O137,#REF!,3,FALSE)","v":{"$error":"#REF!"}},{"$error":"#REF!"}]
[null,8,"Pas. Plafond GRC + Rangka",{"$nulls":9},0,{"$f":"#REF!","v":{"$error":"#REF!"}},"A.4.5.0",{"$f":"VLOOKUP(O138,#REF!,3,FALSE)","v":{"$error":"#REF!"}},{"$error":"#REF!"}]
[null,9,"Pas. Keramik 60/60",{"$nulls":9},0,{"$f":"#REF!","v":{"$error":"#REF!"}},"A.7.0.0",{"$f":"VLOOKUP(O139,#REF!,3,FALSE)","v":{"$error":"#REF!"}},{"$error":"#REF!"}]
[null,10,"Pas. Keramik 60/60 Anti Slip",{"$nulls":9},0,{"$f":"#REF!","v":{"$error":"#REF!"}},"A.7.0.0",{"$f":"VLOOKUP(O140,#REF!,3,FALSE)","v":{"$error":"#REF!"}},{"$error":"#REF!"}]
[null,11,"Pas.Plint Keramik t 10",{"$nulls":9},0,"M","A.7.0.1",{"$f":"VLOOKUP(O141,#REF!,3,FALSE)","v":{"$error":"#REF!"}},{"$error":"#REF!"}]
[null,12,"Pekerjaan Pengecatan Dinding Interior Jotun Majectic",{"$nulls":9},0,{"$f":"#REF!","v":{"$error":"#REF!"}},"A.7.3.0",{"$f":"VLOOKUP(O142,#REF!,3,FALSE)","v":{"$error":"#REF!"}},{"$error":"#REF!"}]
[null,13,"Pekerjaan Pengecatan DInding Eksterior Dulux Wheatershield",{"$nulls":9},0,{"$f":"#REF!","v":{"$error":"#REF!"}},"A.7.2.0",{"$f":"VLOOKUP(O143,#REF!,3,FALSE)","v":{"$error":"#REF!"}},{"$error":"#REF!"}]
[null,14,"Pekerjaan Pengecatan Plafond vinilex",{"$nulls":9},0,{"$f":"#REF!","v":{"$error":"#REF!"}},"A.7.5.0",{"$f":"VLOOKUP(O144,#REF!,3,FALSE)","v":{"$error":"#REF!"}},{"$error":"#REF!"}]
[null,15,"Pek. Pemasangan ACP",{"$nulls":9},0,{"$f":"#REF!","v":{"$error":"#REF!"}},"A.6.1.0",{"$f":"VLOOKUP(O145,#REF!,3,FALSE)","v":{"$error":"#REF!"}},{"$error":"#REF!"}]
[null,16,"Pek. Tangga"]
[null,null,"-","Beton",{"$nulls":8},0,"M3","A.3.1.0",{"$f":"VLOOKUP(O147,#REF!,3,FALSE)","v":{"$error":"#REF!"}},{"$error":"#REF!"}]
[null,17,"Pek. Balok Latei"]
[null,null,"-","Beton",{"$nulls":8},0,"M3","A.3.1.0",{"$f":"VLOOKUP(O149,#REF!,3,FALSE)","v":{"$error":"#REF!"}},{"$error":"#REF!"}]
[null,null,"-","Pembesian",{"$nulls":8},0,"Kg","A.3.2.0",{"$f":"VLOOKUP(O150,#REF!,3,FALSE)","v":{"$error":"#REF!"}},{"$error":"#REF!"}]
[null,null,"-","Bekisting ",{"$nulls":8},0,"M2","A.3.7.0",{"$f":"VLOOKUP(O151,#REF!,3,FALSE)","v":{"$error":"#REF!"}},{"$error":"#REF!"}]
[]
[null,null,"KELAS B.2"]
[null,"A","Pekerjaan Tanah dan Pondasi"]
[null,1,"Pembersihan Lapangan",{"$nulls":9},0,"M2","A.1.2.1",{"$f":"VLOOKUP(O155,#REF!,3,FALSE)","v":{"$error":"#REF!"}},{"$f":"M155*P155","v":{"$error":"#REF!"}}]
[null,2,"Pagar Pengaman Proyek, t = 2m",{"$nulls":9},0,"M","A.1.1.0",{"$f":"VLOOKUP(O156,#REF!,3,FALSE)","v":{"$error":"#REF!"}},{"$error":"#REF!"}]
[null,3,"Pas. Bouwplank",{"$nulls":9},0,"M","A.1.2.0",{"$f":"VLOOKUP(O157,#REF!,3,FALSE)","v":{"$error":"#REF!"}},{"$error":"#REF!"}]
[null,4,"Pek. Anti Rayap",{"$nulls":9},0,"M2",null,20000,0]
[null,5,"Pek. Galian Tanah ",{"$nulls":9},0,"M3","A.1.5.0",{"$f":"VLOOKUP(O159,#REF!,3,FALSE)","v":{"$error":"#REF!"}},{"$error":"#REF!"}]
[null,6,"Urug Tanah Kembali",{"$nulls":9},0,"M3","A.1.7.0",{"$f":"VLOOKUP(O160,#REF!,3,FALSE)","v":{"$error":"#REF!"}},{"$error":"#REF!"}]
[null,7,"Pas. Pasir Urug",{"$nulls":9},0,"M3","A.1.9.0",{"$f":"VLOOKUP(O161,#REF!,3,FALSE)","v":{"$error":"#REF!"}},{"$error":"#REF!"}]
[null,8,"Pas. Lantai Kerja",{"$nulls":9},0,"M3","A.3.0.0",{"$f":"VLOOKUP(O162,#REF!,3,FALSE)","v":{"$error":"#REF!"}},{"$error":"#REF!"}]
[null,9,"Pas. Pondasi Batu Kosong (Aastamping)",{"$nulls":9},0,"M3","A.2.2.0",{"$f":"VLOOKUP(O163,#REF!,3,FALSE)","v":{"$error":"#REF!"}},{"$error":"#REF!"}]
[null,10,"Pas. Pondasi Batu Kali",{"$nulls":9},0,"M3","A.2.3.0",{"$f":"VLOOKUP(O164,#REF!,3,FALSE)","v":{"$error":"#REF!"}},{"$error":"#REF!"}]
[null,"B","Pekerjaan Struktur"]
[null,1,"Pas. Pondasi Tapak"]
[null,null,"-","Beton",{"$nulls":8},0,"M3","A.3.3.0",{"$f":"VLOOKUP(O167,#REF!,3,FALSE)","v":{"$error":"#REF!"}},{"$f":"M167*P167","v":{"$error":"#REF!"}}]
[null,null,"-","Pembesian",{"$nulls":8},0,"Kg","A.3.2.0",{"$f":"VLOOKUP(O168,#REF!,3,FALSE)","v":{"$error":"#REF!"}},{"$error":"#REF!"}]
[null,null,"-","Bekisting Pondasi",{"$nulls":8},0,"M2","A.3.4.0",{"$f":"VLOOKUP(O169,#REF!,3,FALSE)","v":{"$error":"#REF!"}},{"$error":"#REF!"}]
[null,2,"Pas. Kolom Pedestal"]
[null,null,"-","Beton",{"$nulls":8},0,"M3","A.3.3.0",{"$f":"VLOOKUP(O171,#REF!,3,FALSE)","v":{"$error":"#REF!"}},{"$f":"M171*P171","v":{"$error":"#REF!"}}]
[null,null,"-","Pembesian",{"$nulls":8},0,"Kg","A.3.4.0",{"$f":"VLOOKUP(O172,#REF!,3,FALSE)","v":{"$error":"#REF!"}},{"$error":"#REF!"}]
[null,null,"-","Bekisting Kolom",{"$nulls":8},0,"M2","A.3.4.0",{"$f":"VLOOKUP(O173,#REF!,3,FALSE)","v":{"$error":"#REF!"}},{"$error":"#REF!"}]
[null,3,"Pek. Tie Beam SL-01"]
[null,null,"-","Beton",{"$nulls":8},0,"M3","A.3.3.0",{"$f":"VLOOKUP(O175,#REF!,3,FALSE)","v":{"$error":"#REF!"}},{"$f":"M175*P175","v":{"$error":"#REF!"}}]
[null,null,"-","Pembesian",{"$nulls":8},0,"Kg","A.3.2.0",{"$f":"VLOOKUP(O176,#REF!,3,FALSE)","v":{"$error":"#REF!"}},{"$error":"#REF!"}]
[null,null,"-","Bekisting Tie Beam",{"$nulls":8},0,"M2","A.3.5.0",{"$f":"VLOOKUP(O177,#REF!,3,FALSE)","v":{"$error":"#REF!"}},{"$error":"#REF!"}]
[null,4,"Pek. Kolom K-01"]
[null,null,"-","Beton",{"$nulls":8},0,"M3","A.3.3.0",{"$f":"VLOOKUP(O179,#REF!,3,FALSE)","v":{"$error":"#REF!"}},{"$f":"M179*P179","v":{"$error":"#REF!"}}]
[null,null,"-","Pembesian",{"$nulls":8},0,"Kg","A.3.2.0",{"$f":"VLOOKUP(O180,#REF!,3,FALSE)","v":{"$error":"#REF!"}},{"$error":"#REF!"}]
[null,null,"-","Bekisting Kolom",{"$nulls":8},0,"M2","A.3.6.0",{"$f":"VLOOKUP(O181,#REF!,3,FALSE)","v":{"$error":"#REF!"}},{"$error":"#REF!"}]
[null,5,"Pek. Ring Balok RB-01"]
[null,null,"-","Beton",{"$nulls":8},0,"M3","A.3.3.0",{"$f":"VLOOKUP(O183,#REF!,3,FALSE)","v":{"$error":"#REF!"}},{"$f":"M183*P183","v":{"$error":"#REF!"}}]
[null,null,"-","Pembesian",{"$nulls":8},0,"Kg","A.3.2.0",{"$f":"VLOOKUP(O184,#REF!,3,FALSE)","v":{"$error":"#REF!"}},{"$error":"#REF!"}]
[null,null,"-","Bekisting Balok",{"$nulls":8},0,"M2","A.3.7.0",{"$f":"VLOOKUP(O185,#REF!,3,FALSE)","v":{"$error":"#REF!"}},{"$error":"#REF!"}]
[null,6,"Pekerjaan Atap"]
[null,null,"-","Pas. Kuda-kuda Baja Ringan",{"$nulls":8},0,"M2","A.4.3.0",{"$f":"VLOOKUP(O187,#REF!,3,FALSE)","v":{"$error":"#REF!"}},{"$f":"M187*P187","v":{"$error":"#REF!"}}]
[null,null,"-","Pas. Penutup Atap",{"$nulls":8},0,"M2","A.4.8.0",{"$f":"VLOOKUP(O188,#REF!,3,FALSE)","v":{"$error":"#REF!"}},{"$error":"#REF!"}]
[null,null,"-","Pas. Nok Atap",{"$nulls":8},0,"M","A.4.9.0",{"$f":"VLOOKUP(O189,#REF!,3,FALSE)","v":{"$error":"#REF!"}},{"$error":"#REF!"}]
[null,null,"-","Pas. Listplank",{"$nulls":8},0,"M","A.4.7.0",{"$f":"VLOOKUP(O190,#REF!,3,FALSE)","v":{"$error":"#REF!"}},{"$error":"#REF!"}]
[null,null,"-","Pas. Talang",{"$nulls":8},0,"M","A.5.7.0",{"$f":"VLOOKUP(O191,#REF!,3,FALSE)","v":{"$error":"#REF!"}},{"$error":"#REF!"}]
[null,7,"Pek. Plat Lantai "]
[null,null,"-","Beton",{"$nulls":8},0,"M3","A.3.1.0",{"$f":"VLOOKUP(O193,#REF!,3,FALSE)","v":{"$error":"#REF!"}},{"$f":"M193*P193","v":{"$error":"#REF!"}}]
[null,null,"-","Wiremash M-6 (1 Layer)",{"$nulls":8},0,"M2","A.3.2.1",{"$f":"VLOOKUP(O194,#REF!,3,FALSE)","v":{"$error":"#REF!"}},{"$error":"#REF!"}]
[null,null,"-","Pasir Urug",{"$nulls":8},0,"M2","A.1.9.0",{"$f":"VLOOKUP(O195,#REF!,3,FALSE)","v":{"$error":"#REF!"}},{"$error":"#REF!"}]
[null,"C","Pekerjaan Arsitektur"]
[null,1,"Pas. Dinding Hebel t.10",{"$nulls":9},0,"M2","A.2.7.0",{"$f":"VLOOKUP(O197,#REF!,3,FALSE)","v":{"$error":"#REF!"}},{"$f":"M197*P197","v":{"$error":"#REF!"}}]
[null,2,"Pek. Plesteran",{"$nulls":9},0,"M2","A.2.8.0",{"$f":"VLOOKUP(O198,#REF!,3,FALSE)","v":{"$error":"#REF!"}},{"$error":"#REF!"}]
[null,3,"Pek. Acian",{"$nulls":9},0,"M2","A.2.9.0",{"$f":"VLOOKUP(O199,#REF!,3,FALSE)","v":{"$error":"#REF!"}},{"$error":"#REF!"}]
[null,4,"Pas. Kusen AD-01 + Assesories",{"$nulls":9},0,"Bh","AD.01",{"$f":"VLOOKUP(O200,#REF!,3,FALSE)","v":{"$error":"#REF!"}},{"$error":"#REF!"}]
[null,5,"Pas. Kusen AW-02 + Assesories",{"$nulls":9},0,"Bh","AW.02",{"$f":"VLOOKUP(O201,#REF!,3,FALSE)","v":{"$error":"#REF!"}},{"$error":"#REF!"}]
[null,6,"Pas. Variasi grill/louvre",{"$nulls":9},0,"M2","A.6.0.0",{"$f":"VLOOKUP(O202,#REF!,3,FALSE)","v":{"$error":"#REF!"}},{"$error":"#REF!"}]
[null,7,"Pas. Plafond Gypsum + Rangka",{"$nulls":9},0,"M2","A.4.6.0",{"$f":"VLOOKUP(O203,#REF!,3,FALSE)","v":{"$error":"#REF!"}},{"$error":"#REF!"}]
[null,8,"Pas. Plafond GRC + Rangka",{"$nulls":9},0,"M2","A.4.5.0",{"$f":"VLOOKUP(O204,#REF!,3,FALSE)","v":{"$error":"#REF!"}},{"$error":"#REF!"}]
[null,9,"Pas. Keramik 60/60",{"$nulls":9},0,"M2","A.7.0.0",{"$f":"VLOOKUP(O205,#REF!,3,FALSE)","v":{"$error":"#REF!"}},{"$error":"#REF!"}]
[null,10,"Pas. Keramik 60/60 Anti Slip",{"$nulls":9},0,"M2","A.7.0.0",{"$f":"VLOOKUP(O206,#REF!,3,FALSE)","v":{"$error":"#REF!"}},{"$error":"#REF!"}]
[null,11,"Pas.Plint Keramik t 10",{"$nulls":9},0,"M","A.7.0.1",{"$f":"VLOOKUP(O207,#REF!,3,FALSE)","v":{"$error":"#REF!"}},{"$error":"#REF!"}]
[null,12,"Pekerjaan Pengecatan Dinding Interior Jotun Majectic",{"$nulls":9},0,"M2","A.7.3.0",{"$f":"VLOOKUP(O208,#REF!,3,FALSE)","v":{"$error":"#REF!"}},{"$error":"#REF!"}]
[null,13,"Pekerjaan Pengecatan DInding Eksterior Dulux Wheatershield",{"$nulls":9},0,"M2","A.7.2.0",{"$f":"VLOOKUP(O209,#REF!,3,FALSE)","v":{"$error":"#REF!"}},{"$error":"#REF!"}]
[null,14,"Pekerjaan Pengecatan Plafond vinilex",{"$nulls":9},0,"M2","A.7.5.0",{"$f":"VLOOKUP(O210,#REF!,3,FALSE)","v":{"$error":"#REF!"}},{"$error":"#REF!"}]
[null,15,"Pek. Pemasangan ACP",{"$nulls":9},0,"M2","A.6.1.0",{"$f":"VLOOKUP(O211,#REF!,3,FALSE)","v":{"$error":"#REF!"}},{"$error":"#REF!"}]
[null,16,"Pek. Tangga"]
[null,null,"-","Beton",{"$nulls":8},0,"M3","A.3.1.0",{"$f":"VLOOKUP(O213,#REF!,3,FALSE)","v":{"$error":"#REF!"}},{"$f":"M213*P213","v":{"$error":"#REF!"}}]
[null,17,"Pek. Balok Latei"]
[null,null,"-","Beton",{"$nulls":8},0,"M3","A.3.1.0",{"$f":"VLOOKUP(O215,#REF!,3,FALSE)","v":{"$error":"#REF!"}},{"$error":"#REF!"}]
[null,null,"-","Pembesian",{"$nulls":8},0,"Kg","A.3.2.0",{"$f":"VLOOKUP(O216,#REF!,3,FALSE)","v":{"$error":"#REF!"}},{"$error":"#REF!"}]
[null,null,"-","Bekisting ",{"$nulls":8},0,"M2","A.3.7.0",{"$f":"VLOOKUP(O217,#REF!,3,FALSE)","v":{"$error":"#REF!"}},{"$error":"#REF!"}]
[]
[null,"IV.","PEMBANGUNAN GEDUNG KELAS C",{"$nulls":14},{"$f":"SUM(Q221:Q306)","v":{"$error":"#REF!"}}]
[null,"A","Pekerjaan Tanah dan Pondasi"]
[null,1,"Pembersihan Lapangan",{"$nulls":9},0,{"$f":"#REF!","v":{"$error":"#REF!"}},"A.1.2.1",{"$f":"VLOOKUP(O221,#REF!,3,FALSE)","v":{"$error":"#REF!"}},{"$error":"#REF!"}]
[null,2,"Pagar Pengaman Proyek, t = 2m",{"$nulls":9},0,{"$f":"#REF!","v":{"$error":"#REF!"}},"A.1.1.0",{"$f":"VLOOKUP(O222,#REF!,3,FALSE)","v":{"$error":"#REF!"}},{"$error":"#REF!"}]
[null,3,"Pas. Bouwplank",{"$nulls":9},0,{"$f":"#REF!","v":{"$error":"#REF!"}},"A.1.2.0",{"$f":"VLOOKUP(O223,#REF!,3,FALSE)","v":{"$error":"#REF!"}},{"$error":"#REF!"}]
[null,4,"Pek. Anti Rayap",{"$nulls":9},0,{"$f":"#REF!","v":{"$error":"#REF!"}},null,20000,0]
[null,5,"Pek. Galian Tanah",{"$nulls":9},0,"M3","A.1.5.0",{"$f":"VLOOKUP(O225,#REF!,3,FALSE)","v":{"$error":"#REF!"}},{"$error":"#REF!"}]
[null,6,"Urug Tanah Kembali",{"$nulls":9},0,{"$f":"#REF!","v":{"$error":"#REF!"}},"A.1.7.0",{"$f":"VLOOKUP(O226,#REF!,3,FALSE)","v":{"$error":"#REF!"}},{"$error":"#REF!"}]
[null,7,"Pas. Pasir Urug",{"$nulls":9},0,{"$f":"#REF!","v":{"$error":"#REF!"}},"A.1.9.0",{"$f":"VLOOKUP(O227,#REF!,3,FALSE)","v":{"$error":"#REF!"}},{"$error":"#REF!"}]
[null,8,"Pas. Lantai Kerja",{"$nulls":9},0,{"$f":"#REF!","v":{"$error":"#REF!"}},"A.3.0.0",{"$f":"VLOOKUP(O228,#REF!,3,FALSE)","v":{"$error":"#REF!"}},{"$error":"#REF!"}]
[null,9,"Pas. Pondasi Batu Kosong (Aastamping)",{"$nulls":9},0,{"$f":"#REF!","v":{"$error":"#REF!"}},"A.2.2.0",{"$f":"VLOOKUP(O229,#REF!,3,FALSE)","v":{"$error":"#REF!"}},{"$error":"#REF!"}]
[null,10,"Pas. Pondasi Batu Kali",{"$nulls":9},0,{"$f":"#REF!","v":{"$error":"#REF!"}},"A.2.3.0",{"$f":"VLOOKUP(O230,#REF!,3,FALSE)","v":{"$error":"#REF!"}},{"$error":"#REF!"}]
[null,"B","Pekerjaan Struktur"]
[null,1,"Pas. Pondasi Tapak"]
[null,null,"-","Beton",{"$nulls":8},0,{"$f":"#REF!","v":{"$error":"#REF!"}},"A.3.3.0",{"$f":"VLOOKUP(O233,#REF!,3,FALSE)","v":{"$error":"#REF!"}},{"$error":"#REF!"}]
[null,null,"-","Pembesian",{"$nulls":8},0,{"$f":"#REF!","v":{"$error":"#REF!"}},"A.3.2.0",{"$f":"VLOOKUP(O234,#REF!,3,FALSE)","v":{"$error":"#REF!"}},{"$error":"#REF!"}]
[null,null,"-","Bekisting Pondasi",{"$nulls":8},0,{"$f":"#REF!","v":{"$error":"#REF!"}},"A.3.4.0",{"$f":"VLOOKUP(O235,#REF!,3,FALSE)","v":{"$error":"#REF!"}},{"$error":"#REF!"}]
[null,2,"Pas. Kolom Pedestal"]
[null,null,"-","Beton",{"$nulls":8},0,{"$f":"#REF!","v":{"$error":"#REF!"}},"A.3.3.0",{"$f":"VLOOKUP(O237,#REF!,3,FALSE)","v":{"$error":"#REF!"}},{"$error":"#REF!"}]
[null,null,"-","Pembesian",{"$nulls":8},0,{"$f":"#REF!","v":{"$error":"#REF!"}},"A.3.2.0",{"$f":"VLOOKUP(O238,#REF!,3,FALSE)","v":{"$error":"#REF!"}},{"$error":"#REF!"}]
[null,null,"-","Bekisting Kolom",{"$nulls":8},0,{"$f":"#REF!","v":{"$error":"#REF!"}},"A.3.4.0",{"$f":"VLOOKUP(O239,#REF!,3,FALSE)","v":{"$error":"#REF!"}},{"$error":"#REF!"}]
[null,3,"Pek. Tie Beam SL-01"]
[null,null,"-","Beton",{"$nulls":8},0,{"$f":"#REF!","v":{"$error":"#REF!"}},"A.3.3.0",{"$f":"VLOOKUP(O241,#REF!,3,FALSE)","v":{"$error":"#REF!"}},{"$error":"#REF!"}]
[null,null,"-","Pembesian",{"$nulls":8},0,{"$f":"#REF!","v":{"$error":"#REF!"}},"A.3.2.0",{"$f":"VLOOKUP(O242,#REF!,3,FALSE)","v":{"$error":"#REF!"}},{"$error":"#REF!"}]
[null,null,"-","Bekisting Tie Beam",{"$nulls":8},0,{"$f":"#REF!","v":{"$error":"#REF!"}},"A.3.5.0",{"$f":"VLOOKUP(O243,#REF!,3,FALSE)","v":{"$error":"#REF!"}},{"$error":"#REF!"}]
[null,4,"Pek. Kolom K-01"]
[null,null,"-","Beton",{"$nulls":8},0,{"$f":"#REF!","v":{"$error":"#REF!"}},"A.3.3.0",{"$f":"VLOOKUP(O245,#REF!,3,FALSE)","v":{"$error":"#REF!"}},{"$error":"#REF!"}]
[null,null,"-","Pembesian",{"$nulls":8},0,{"$f":"#REF!","v":{"$error":"#REF!"}},"A.3.2.0",{"$f":"VLOOKUP(O246,#REF!,3,FALSE)","v":{"$error":"#REF!"}},{"$error":"#REF!"}]
[null,null,"-","Bekisting Kolom",{"$nulls":8},0,{"$f":"#REF!","v":{"$error":"#REF!"}},"A.3.6.0",{"$f":"VLOOKUP(O247,#REF!,3,FALSE)","v":{"$error":"#REF!"}},{"$error":"#REF!"}]
[null,5,"Pek. Kolom K-02"]
[null,null,"-","Beton",{"$nulls":8},0,{"$f":"#REF!","v":{"$error":"#REF!"}},"A.3.3.0",{"$f":"VLOOKUP(O249,#REF!,3,FALSE)","v":{"$error":"#REF!"}},{"$error":"#REF!"}]
[null,null,"-","Pembesian",{"$nulls":8},0,{"$f":"#REF!","v":{"$error":"#REF!"}},"A.3.2.0",{"$f":"VLOOKUP(O250,#REF!,3,FALSE)","v":{"$error":"#REF!"}},{"$error":"#REF!"}]
[null,null,"-","Bekisting Kolom",{"$nulls":8},0,{"$f":"#REF!","v":{"$error":"#REF!"}},"A.3.6.0",{"$f":"VLOOKUP(O251,#REF!,3,FALSE)","v":{"$error":"#REF!"}},{"$error":"#REF!"}]
[null,6,"Pek. Kolom K-03"]
[null,null,"-","Beton",{"$nulls":8},0,{"$f":"#REF!","v":{"$error":"#REF!"}},"A.3.3.0",{"$f":"VLOOKUP(O253,#REF!,3,FALSE)","v":{"$error":"#REF!"}},{"$error":"#REF!"}]
[null,null,"-","Pembesian",{"$nulls":8},0,{"$f":"#REF!","v":{"$error":"#REF!"}},"A.3.2.0",{"$f":"VLOOKUP(O254,#REF!,3,FALSE)","v":{"$error":"#REF!"}},{"$error":"#REF!"}]
[null,null,"-","Bekisting Kolom",{"$nulls":8},0,{"$f":"#REF!","v":{"$error":"#REF!"}},"A.3.6.0",{"$f":"VLOOKUP(O255,#REF!,3,FALSE)","v":{"$error":"#REF!"}},{"$error":"#REF!"}]
[null,7,"Pek. Ring Balok RB-01"]
[null,null,"-","Beton",{"$nulls":8},0,{"$f":"#REF!","v":{"$error":"#REF!"}},"A.3.3.0",{"$f":"VLOOKUP(O257,#REF!,3,FALSE)","v":{"$error":"#REF!"}},{"$error":"#REF!"}]
[null,null,"-","Pembesian",{"$nulls":8},0,{"$f":"#REF!","v":{"$error":"#REF!"}},"A.3.2.0",{"$f":"VLOOKUP(O258,#REF!,3,FALSE)","v":{"$error":"#REF!"}},{"$error":"#REF!"}]
[null,null,"-","Bekisting Balok",{"$nulls":8},0,{"$f":"#REF!","v":{"$error":"#REF!"}},"A.3.7.0",{"$f":"VLOOKUP(O259,#REF!,3,FALSE)","v":{"$error":"#REF!"}},{"$error":"#REF!"}]
[null,8,"Pekerjaan Atap"]
[null,null,"-","Pas. Kuda-kuda Baja Ringan",{"$nulls":8},0,{"$f":"#REF!","v":{"$error":"#REF!"}},"A.4.3.0",{"$f":"VLOOKUP(O261,#REF!,3,FALSE)","v":{"$error":"#REF!"}},{"$error":"#REF!"}]
[null,null,"-","Pas. Penutup Atap",{"$nulls":8},0,{"$f":"#REF!","v":{"$error":"#REF!"}},"A.4.8.0",{"$f":"VLOOKUP(O262,#REF!,3,FALSE)","v":{"$error":"#REF!"}},{"$error":"#REF!"}]
[null,null,"-","Pas. Nok Atap",{"$nulls":8},0,{"$f":"#REF!","v":{"$error":"#REF!"}},"A.4.9.0",{"$f":"VLOOKUP(O263,#REF!,3,FALSE)","v":{"$error":"#REF!"}},{"$error":"#REF!"}]
[null,null,"-","Pas. Listplank",{"$nulls":8},0,{"$f":"#REF!","v":{"$error":"#REF!"}},"A.4.7.0",{"$f":"VLOOKUP(O264,#REF!,3,FALSE)","v":{"$error":"#REF!"}},{"$error":"#REF!"}]
[null,null,"-","Pas. Talang",{"$nulls":8},0,{"$f":"#REF!","v":{"$error":"#REF!"}},"A.5.7.0",{"$f":"VLOOKUP(O265,#REF!,3,FALSE)","v":{"$error":"#REF!"}},{"$error":"#REF!"}]
[null,9,"Pekerjaan Dak Atap"]
[null,null,"-","Beton",{"$nulls":8},0,{"$f":"#REF!","v":{"$error":"#REF!"}},"A.3.3.0",{"$f":"VLOOKUP(O267,#REF!,3,FALSE)","v":{"$error":"#REF!"}},{"$f":"M267*P267","v":{"$error":"#REF!"}}]
[null,null,"-","Pembesian",{"$nulls":8},0,{"$f":"#REF!","v":{"$error":"#REF!"}},"A.3.2.0",{"$f":"VLOOKUP(O268,#REF!,3,FALSE)","v":{"$error":"#REF!"}},{"$error":"#REF!"}]
[null,null,"-","Bekisting ",{"$nulls":8},0,{"$f":"#REF!","v":{"$error":"#REF!"}},"A.3.8.0",{"$f":"VLOOKUP(O269,#REF!,3,FALSE)","v":{"$error":"#REF!"}},{"$error":"#REF!"}]
[null,10,"Pek. Plat Lantai"]
[null,null,"-","Beton",{"$nulls":8},0,"M3","A.3.1.0",{"$f":"VLOOKUP(O271,#REF!,3,FALSE)","v":{"$error":"#REF!"}},{"$error":"#REF!"}]
[null,null,"-","Wiremash M-6 (1 Layer)",{"$nulls":8},0,"M2","A.3.2.1",{"$f":"VLOOKUP(O272,#REF!,3,FALSE)","v":{"$error":"#REF!"}},{"$error":"#REF!"}]
[null,null,"-","Pasir Urug",{"$nulls":8},0,"M3","A.1.9.0",{"$f":"VLOOKUP(O273,#REF!,3,FALSE)","v":{"$error":"#REF!"}},{"$error":"#REF!"}]
[null,"C","Pekerjaan Arsitektur"]
[null,1,"Pas. Dinding Hebel t.10",{"$nulls":9},0,{"$f":"#REF!","v":{"$error":"#REF!"}},"A.2.7.0",{"$f":"VLOOKUP(O275,#REF!,3,FALSE)","v":{"$error":"#REF!"}},{"$error":"#REF!"}]
[null,2,"Pek. Plesteran",{"$nulls":9},0,{"$f":"#REF!","v":{"$error":"#REF!"}},"A.2.8.0",{"$f":"VLOOKUP(O276,#REF!,3,FALSE)","v":{"$error":"#REF!"}},{"$error":"#REF!"}]
[null,3,"Pek. Acian",{"$nulls":9},0,{"$f":"#REF!","v":{"$error":"#REF!"}},"A.2.9.0",{"$f":"VLOOKUP(O277,#REF!,3,FALSE)","v":{"$error":"#REF!"}},{"$error":"#REF!"}]
[null,4,"Pas. Kusen AD-01 + Assesories",{"$nulls":9},0,{"$f":"#REF!","v":{"$error":"#REF!"}},"AD.01",{"$f":"VLOOKUP(O278,#REF!,3,FALSE)","v":{"$error":"#REF!"}},{"$error":"#REF!"}]
[null,5,"Pas. Kusen AD-03 + Assesories",{"$nulls":9},0,{"$f":"#REF!","v":{"$error":"#REF!"}},"AD.03",{"$f":"VLOOKUP(O279,#REF!,3,FALSE)","v":{"$error":"#REF!"}},{"$error":"#REF!"}]
[null,6,"Pas. Kusen AD-04 + Assesories",{"$nulls":9},0,{"$f":"#REF!","v":{"$error":"#REF!"}},"AD.04",{"$f":"VLOOKUP(O280,#REF!,3,FALSE)","v":{"$error":"#REF!"}},{"$error":"#REF!"}]
[null,7,"Pas. Kusen AD-05 + Assesories",{"$nulls":9},0,{"$f":"#REF!","v":{"$error":"#REF!"}},"AD.05",{"$f":"VLOOKUP(O281,#REF!,3,FALSE)","v":{"$error":"#REF!"}},{"$error":"#REF!"}]
[null,8,"Pas. Kusen AW-02 + Assesories",{"$nulls":9},0,{"$f":"#REF!","v":{"$error":"#REF!"}},"AW.02",{"$f":"VLOOKUP(O282,#REF!,3,FALSE)","v":{"$error":"#REF!"}},{"$error":"#REF!"}]
[null,9,"Pas. Kusen BV-01 + Assesories",{"$nulls":9},0,{"$f":"#REF!","v":{"$error":"#REF!"}},"BV.01",{"$f":"VLOOKUP(O283,#REF!,3,FALSE)","v":{"$error":"#REF!"}},{"$error":"#REF!"}]
[null,10,"Pas. Variasi grill/louvre",{"$nulls":9},0,{"$f":"#REF!","v":{"$error":"#REF!"}},"A.6.0.0",{"$f":"VLOOKUP(O284,#REF!,3,FALSE)","v":{"$error":"#REF!"}},{"$error":"#REF!"}]
[null,11,"Pas. Plafond Gypsum + Rangka",{"$nulls":9},0,{"$f":"#REF!","v":{"$error":"#REF!"}},"A.4.6.0",{"$f":"VLOOKUP(O285,#REF!,3,FALSE)","v":{"$error":"#REF!"}},{"$error":"#REF!"}]
[null,12,"Pas. Plafond GRC + Rangka",{"$nulls":9},0,{"$f":"#REF!","v":{"$error":"#REF!"}},"A.4.5.0",{"$f":"VLOOKUP(O286,#REF!,3,FALSE)","v":{"$error":"#REF!"}},{"$error":"#REF!"}]
[null,13,"Pas. Keramik 60/60",{"$nulls":9},0,{"$f":"#REF!","v":{"$error":"#REF!"}},"A.7.0.0",{"$f":"VLOOKUP(O287,#REF!,3,FALSE)","v":{"$error":"#REF!"}},{"$error":"#REF!"}]
[null,14,"Pas. Keramik 60/60 Anti Slip",{"$nulls":9},0,{"$f":"#REF!","v":{"$error":"#REF!"}},"A.7.0.0",{"$f":"VLOOKUP(O288,#REF!,3,FALSE)","v":{"$error":"#REF!"}},{"$error":"#REF!"}]
[null,15,"Pas. Keramik Lantai 25/25",{"$nulls":9},0,{"$f":"#REF!","v":{"$error":"#REF!"}},"A.6.7.1",{"$f":"VLOOKUP(O289,#REF!,3,FALSE)","v":{"$error":"#REF!"}},{"$error":"#REF!"}]
[null,16,"Pas. Dinding Keramik 25/50",{"$nulls":9},0,{"$f":"#REF!","v":{"$error":"#REF!"}},"A.7.0.2",{"$f":"VLOOKUP(O290,#REF!,3,FALSE)","v":{"$error":"#REF!"}},{"$error":"#REF!"}]
[null,17,"Pas. Plint Keramik",{"$nulls":9},0,{"$f":"#REF!","v":{"$error":"#REF!"}},"A.7.0.1",{"$f":"VLOOKUP(O291,#REF!,3,FALSE)","v":{"$error":"#REF!"}},{"$f":"M291*P291","v":{"$error":"#REF!"}}]
[null,18,"Pekerjaan Pengecatan Dinding Interior Jotun Majectic",{"$nulls":9},0,{"$f":"#REF!","v":{"$error":"#REF!"}},"A.7.3.0",{"$f":"VLOOKUP(O292,#REF!,3,FALSE)","v":{"$error":"#REF!"}},{"$error":"#REF!"}]
[null,19,"Pekerjaan Pengecatan DInding Eksterior Dulux Wheatershield",{"$nulls":9},0,{"$f":"#REF!","v":{"$error":"#REF!"}},"A.7.2.0",{"$f":"VLOOKUP(O293,#REF!,3,FALSE)","v":{"$error":"#REF!"}},{"$error":"#REF!"}]
[null,20,"Pekerjaan Pengecatan Plafond vinilex",{"$nulls":9},0,{"$f":"#REF!","v":{"$error":"#REF!"}},"A.7.5.0",{"$f":"VLOOKUP(O294,#REF!,3,FALSE)","v":{"$error":"#REF!"}},{"$error":"#REF!"}]
[null,21,"Pas. Closet Jongkok",{"$nulls":9},0,{"$f":"#REF!","v":{"$error":"#REF!"}},"A.5.1.0",{"$f":"VLOOKUP(O295,#REF!,3,FALSE)","v":{"$error":"#REF!"}},{"$error":"#REF!"}]
[null,22,"Pas. Closet Duduk",{"$nulls":9},0,{"$f":"#REF!","v":{"$error":"#REF!"}},"A.5.0.0",{"$f":"VLOOKUP(O296,#REF!,3,FALSE)","v":{"$error":"#REF!"}},{"$error":"#REF!"}]
[null,23,"Pas. Wastafel",{"$nulls":9},0,{"$f":"#REF!","v":{"$error":"#REF!"}},"A.5.3.0",{"$f":"VLOOKUP(O297,#REF!,3,FALSE)","v":{"$error":"#REF!"}},{"$error":"#REF!"}]
[null,24,"Pas. Floor Drain",{"$nulls":9},0,{"$f":"#REF!","v":{"$error":"#REF!"}},"A.5.5.0",{"$f":"VLOOKUP(O297,#REF!,3,FALSE)","v":{"$error":"#REF!"}},{"$error":"#REF!"}]
[null,25,"Pas. Kran Air",{"$nulls":9},0,{"$f":"#REF!","v":{"$error":"#REF!"}},"A.5.4.0",{"$f":"VLOOKUP(O298,#REF!,3,FALSE)","v":{"$error":"#REF!"}},{"$error":"#REF!"}]
[null,26,"Pek. Pemasangan ACP",{"$nulls":9},0,{"$f":"#REF!","v":{"$error":"#REF!"}},"A.6.1.0",{"$f":"VLOOKUP(O299,#REF!,3,FALSE)","v":{"$error":"#REF!"}},{"$error":"#REF!"}]
[null,27,"Pek. Tangga"]
[null,null,"-","Beton",{"$nulls":8},0,{"$f":"#REF!","v":{"$error":"#REF!"}},"A.3.1.0",{"$f":"VLOOKUP(O302,#REF!,3,FALSE)","v":{"$error":"#REF!"}},{"$error":"#REF!"}]
[null,28,"Pek. Balok Latei"]
[null,null,"-","Beton",{"$nulls":8},0,"M3","A.3.1.0",{"$f":"VLOOKUP(O304,#REF!,3,FALSE)","v":{"$error":"#REF!"}},{"$error":"#REF!"}]
[null,null,"-","Pembesian",{"$nulls":8},0,"Kg","A.3.2.0",{"$f":"VLOOKUP(O305,#REF!,3,FALSE)","v":{"$error":"#REF!"}},{"$error":"#REF!"}]
[null,null,"-","Bekisiting",{"$nulls":8},0,"M2","A.3.7.0",{"$f":"VLOOKUP(O306,#REF!,3,FALSE)","v":{"$error":"#REF!"}},{"$error":"#REF!"}]
[]
[null,"V.","PEMBANGUNAN GEDUNG KELAS D",{"$nulls":14},{"$f":"SUM(Q310:Q398)","v":{"$error":"#REF!"}}]
[null,"A","Pekerjaan Tanah dan Pondasi"]
[null,1,"Pembersihan Lapangan",{"$nulls":9},{"$f":"#REF!","v":{"$error":"#REF!"}},{"$f":"#REF!","v":{"$error":"#REF!"}},"A.1.2.1",{"$f":"VLOOKUP(O310,#REF!,3,FALSE)","v":{"$error":"#REF!"}},{"$error":"#REF!"}]
[null,2,"Pagar Pengaman Proyek, t = 2m",{"$nulls":9},{"$f":"#REF!","v":{"$error":"#REF!"}},{"$f":"#REF!","v":{"$error":"#REF!"}},"A.1.1.0",{"$f":"VLOOKUP(O311,#REF!,3,FALSE)","v":{"$error":"#REF!"}},{"$error":"#REF!"}]
[null,3,"Pas. Bouwplank",{"$nulls":9},{"$f":"#REF!","v":{"$error":"#REF!"}},{"$f":"#REF!","v":{"$error":"#REF!"}},"A.1.2.0",{"$f":"VLOOKUP(O312,#REF!,3,FALSE)","v":{"$error":"#REF!"}},{"$error":"#REF!"}]
[null,4,"Pek. Anti Rayap",{"$nulls":9},{"$f":"#REF!","v":{"$error":"#REF!"}},{"$f":"#REF!","v":{"$error":"#REF!"}},null,20000,{"$error":"#REF!"}]
[null,5,"Pek. Galian Tanah ",{"$nulls":9},{"$f":"#REF!","v":{"$error":"#REF!"}},"M3","A.1.5.0",{"$f":"VLOOKUP(O314,#REF!,3,FALSE)","v":{"$error":"#REF!"}},{"$error":"#REF!"}]
[null,6,"Urug Tanah Kembali",{"$nulls":9},{"$f":"#REF!","v":{"$error":"#REF!"}},{"$f":"#REF!","v":{"$error":"#REF!"}},"A.1.7.0",{"$f":"VLOOKUP(O315,#REF!,3,FALSE)","v":{"$error":"#REF!"}},{"$error":"#REF!"}]
[null,7,"Pas. Pasir Urug",{"$nulls":9},{"$f":"#REF!","v":{"$error":"#REF!"}},{"$f":"#REF!","v":{"$error":"#REF!"}},"A.1.9.0",{"$f":"VLOOKUP(O316,#REF!,3,FALSE)","v":{"$error":"#REF!"}},{"$error":"#REF!"}]
[null,8,"Pas. Lantai Kerja",{"$nulls":9},{"$f":"#REF!","v":{"$error":"#REF!"}},{"$f":"#REF!","v":{"$error":"#REF!"}},"A.3.0.0",{"$f":"VLOOKUP(O317,#REF!,3,FALSE)","v":{"$error":"#REF!"}},{"$error":"#REF!"}]
[null,9,"Pas. Pondasi Batu Kosong (Aastamping)",{"$nulls":9},{"$f":"#REF!","v":{"$error":"#REF!"}},{"$f":"#REF!","v":{"$error":"#REF!"}},"A.2.2.0",{"$f":"VLOOKUP(O318,#REF!,3,FALSE)","v":{"$error":"#REF!"}},{"$error":"#REF!"}]
[null,10,"Pas. Pondasi Batu Kali",{"$nulls":9},{"$f":"#REF!","v":{"$error":"#REF!"}},{"$f":"#REF!","v":{"$error":"#REF!"}},"A.2.3.0",{"$f":"VLOOKUP(O319,#REF!,3,FALSE)","v":{"$error":"#REF!"}},{"$error":"#REF!"}]
[null,11,"Pas. Pondasi Tapak"]
[null,null,"-","Beton",{"$nulls":8},{"$f":"#REF!","v":{"$error":"#REF!"}},{"$f":"#REF!","v":{"$error":"#REF!"}},"A.3.3.0",{"$f":"VLOOKUP(O321,#REF!,3,FALSE)","v":{"$error":"#REF!"}},{"$error":"#REF!"}]
[null,null,"-","Pembesian",{"$nulls":8},{"$f":"#REF!","v":{"$error":"#REF!"}},{"$f":"#REF!","v":{"$error":"#REF!"}},"A.3.2.0",{"$f":"VLOOKUP(O322,#REF!,3,FALSE)","v":{"$error":"#REF!"}},{"$error":"#REF!"}]
[null,null,"-","Bekisting Pondasi",{"$nulls":8},{"$f":"#REF!","v":{"$error":"#REF!"}},{"$f":"#REF!","v":{"$error":"#REF!"}},"A.3.4.0",{"$f":"VLOOKUP(O323,#REF!,3,FALSE)","v":{"$error":"#REF!"}},{"$error":"#REF!"}]
[null,12,"Pas. Kolom Pedestal"]
[null,null,"-","Beton",{"$nulls":8},{"$f":"#REF!","v":{"$error":"#REF!"}},{"$f":"#REF!","v":{"$error":"#REF!"}},"A.3.3.0",{"$f":"VLOOKUP(O325,#REF!,3,FALSE)","v":{"$error":"#REF!"}},{"$error":"#REF!"}]
[null,null,"-","Pembesian",{"$nulls":8},{"$f":"#REF!","v":{"$error":"#REF!"}},{"$f":"#REF!","v":{"$error":"#REF!"}},"A.3.2.0",{"$f":"VLOOKUP(O326,#REF!,3,FALSE)","v":{"$error":"#REF!"}},{"$error":"#REF!"}]
[null,null,"-","Bekisting Kolom",{"$nulls":8},{"$f":"#REF!","v":{"$error":"#REF!"}},{"$f":"#REF!","v":{"$error":"#REF!"}},"A.3.4.0",{"$f":"VLOOKUP(O327,#REF!,3,FALSE)","v":{"$error":"#REF!"}},{"$error":"#REF!"}]
[null,"B","Pekerjaan Struktur"]
[null,1,"Pek. Tie Beam SL-01"]
[null,null,"-","Beton",{"$nulls":8},{"$f":"#REF!","v":{"$error":"#REF!"}},{"$f":"#REF!","v":{"$error":"#REF!"}},"A.3.3.0",{"$f":"VLOOKUP(O330,#REF!,3,FALSE)","v":{"$error":"#REF!"}},{"$error":"#REF!"}]
[null,null,"-","Pembesian",{"$nulls":8},{"$f":"#REF!","v":{"$error":"#REF!"}},{"$f":"#REF!","v":{"$error":"#REF!"}},"A.3.2.0",{"$f":"VLOOKUP(O331,#REF!,3,FALSE)","v":{"$error":"#REF!"}},{"$f":"M331*P331","v":{"$error":"#REF!"}}]
[null,null,"-","Bekisting Tie Beam",{"$nulls":8},{"$f":"#REF!","v":{"$error":"#REF!"}},{"$f":"#REF!","v":{"$error":"#REF!"}},"A.3.5.0",{"$f":"VLOOKUP(O332,#REF!,3,FALSE)","v":{"$error":"#REF!"}},{"$error":"#REF!"}]
[null,2,"Pek. Kolom K-01"]
[null,null,"-","Beton",{"$nulls":8},{"$f":"#REF!","v":{"$error":"#REF!"}},{"$f":"#REF!","v":{"$error":"#REF!"}},"A.3.3.0",{"$f":"VLOOKUP(O334,#REF!,3,FALSE)","v":{"$error":"#REF!"}},{"$error":"#REF!"}]
[null,null,"-","Pembesian",{"$nulls":8},{"$f":"#REF!","v":{"$error":"#REF!"}},{"$f":"#REF!","v":{"$error":"#REF!"}},"A.3.2.0",20000,{"$error":"#REF!"}]
[null,null,"-","Bekisting Kolom",{"$nulls":8},{"$f":"#REF!","v":{"$error":"#REF!"}},{"$f":"#REF!","v":{"$error":"#REF!"}},"A.3.6.0",{"$f":"VLOOKUP(O336,#REF!,3,FALSE)","v":{"$error":"#REF!"}},{"$error":"#REF!"}]
[null,3,"Pek. Kolom K-02"]
[null,null,"-","Beton",{"$nulls":8},{"$f":"#REF!","v":{"$error":"#REF!"}},{"$f":"#REF!","v":{"$error":"#REF!"}},"A.3.3.0",{"$f":"VLOOKUP(O338,#REF!,3,FALSE)","v":{"$error":"#REF!"}},{"$error":"#REF!"}]
[null,null,"-","Pembesian",{"$nulls":8},{"$f":"#REF!","v":{"$error":"#REF!"}},{"$f":"#REF!","v":{"$error":"#REF!"}},"A.3.2.0",{"$f":"VLOOKUP(O339,#REF!,3,FALSE)","v":{"$error":"#REF!"}},{"$error":"#REF!"}]
[null,null,"-","Bekisting Kolom",{"$nulls":8},{"$f":"#REF!","v":{"$error":"#REF!"}},{"$f":"#REF!","v":{"$error":"#REF!"}},"A.3.6.0",{"$f":"VLOOKUP(O340,#REF!,3,FALSE)","v":{"$error":"#REF!"}},{"$error":"#REF!"}]
[null,4,"Pek. Kolom K-03"]
[null,null,"-","Beton",{"$nulls":8},{"$f":"#REF!","v":{"$error":"#REF!"}},{"$f":"#REF!","v":{"$error":"#REF!"}},"A.3.3.0",{"$f":"VLOOKUP(O342,#REF!,3,FALSE)","v":{"$error":"#REF!"}},{"$error":"#REF!"}]
[null,null,"-","Pembesian",{"$nulls":8},{"$f":"#REF!","v":{"$error":"#REF!"}},{"$f":"#REF!","v":{"$error":"#REF!"}},"A.3.2.0",{"$f":"VLOOKUP(O343,#REF!,3,FALSE)","v":{"$error":"#REF!"}},{"$error":"#REF!"}]
[null,null,"-","Bekisting Kolom",{"$nulls":8},{"$f":"#REF!","v":{"$error":"#REF!"}},{"$f":"#REF!","v":{"$error":"#REF!"}},"A.3.6.0",{"$f":"VLOOKUP(O344,#REF!,3,FALSE)","v":{"$error":"#REF!"}},{"$error":"#REF!"}]
[null,5,"Pek. Ring Balok RB-01"]
[null,null,"-","Beton",{"$nulls":8},{"$f":"#REF!","v":{"$error":"#REF!"}},{"$f":"#REF!","v":{"$error":"#REF!"}},"A.3.3.0",{"$f":"VLOOKUP(O346,#REF!,3,FALSE)","v":{"$error":"#REF!"}},{"$error":"#REF!"}]
[null,null,"-","Pembesian",{"$nulls":8},{"$f":"#REF!","v":{"$error":"#REF!"}},{"$f":"#REF!","v":{"$error":"#REF!"}},"A.3.2.0",{"$f":"VLOOKUP(O347,#REF!,3,FALSE)","v":{"$error":"#REF!"}},{"$error":"#REF!"}]
[null,null,"-","Bekisting Balok",{"$nulls":8},{"$f":"#REF!","v":{"$error":"#REF!"}},{"$f":"#REF!","v":{"$error":"#REF!"}},"A.3.7.0",{"$f":"VLOOKUP(O348,#REF!,3,FALSE)","v":{"$error":"#REF!"}},{"$error":"#REF!"}]
[null,6,"Pekerjaan Atap"]
[null,null,"-","Pas. Kuda-kuda Baja Ringan",{"$nulls":8},{"$f":"#REF!","v":{"$error":"#REF!"}},{"$f":"#REF!","v":{"$error":"#REF!"}},"A.4.3.0",{"$f":"VLOOKUP(O350,#REF!,3,FALSE)","v":{"$error":"#REF!"}},{"$error":"#REF!"}]
[null,null,"-","Pas. Penutup Atap",{"$nulls":8},{"$f":"#REF!","v":{"$error":"#REF!"}},{"$f":"#REF!","v":{"$error":"#REF!"}},"A.4.8.0",{"$f":"VLOOKUP(O351,#REF!,3,FALSE)","v":{"$error":"#REF!"}},{"$error":"#REF!"}]
[null,null,"-","Pas. Nok Atap",{"$nulls":8},{"$f":"#REF!","v":{"$error":"#REF!"}},{"$f":"#REF!","v":{"$error":"#REF!"}},"A.4.9.0",{"$f":"VLOOKUP(O352,#REF!,3,FALSE)","v":{"$error":"#REF!"}},{"$error":"#REF!"}]
[null,null,"-","Pas. Listplank",{"$nulls":8},{"$f":"#REF!","v":{"$error":"#REF!"}},{"$f":"#REF!","v":{"$error":"#REF!"}},"A.4.7.0",{"$f":"VLOOKUP(O353,#REF!,3,FALSE)","v":{"$error":"#REF!"}},{"$error":"#REF!"}]
[null,null,"-","Pas. Talang",{"$nulls":8},{"$f":"#REF!","v":{"$error":"#REF!"}},{"$f":"#REF!","v":{"$error":"#REF!"}},"A.5.7.0",{"$f":"VLOOKUP(O354,#REF!,3,FALSE)","v":{"$error":"#REF!"}},{"$error":"#REF!"}]
[null,7,"Pekerjaan Dak Atap"]
[null,null,"-","Beton",{"$nulls":8},{"$f":"#REF!","v":{"$error":"#REF!"}},{"$f":"#REF!","v":{"$error":"#REF!"}},"A.3.3.0",{"$f":"VLOOKUP(O356,#REF!,3,FALSE)","v":{"$error":"#REF!"}},{"$error":"#REF!"}]
[null,null,"-","Pembesian",{"$nulls":8},{"$f":"#REF!","v":{"$error":"#REF!"}},{"$f":"#REF!","v":{"$error":"#REF!"}},"A.3.2.0",{"$f":"VLOOKUP(O357,#REF!,3,FALSE)","v":{"$error":"#REF!"}},{"$error":"#REF!"}]
[null,null,"-","Bekisting Plat",{"$nulls":8},{"$f":"#REF!","v":{"$error":"#REF!"}},{"$f":"#REF!","v":{"$error":"#REF!"}},"A.3.8.0",{"$f":"VLOOKUP(O358,#REF!,3,FALSE)","v":{"$error":"#REF!"}},{"$error":"#REF!"}]
[null,8,"Pek. Plat Lantai"]
[null,null,"-","Beton",{"$nulls":8},{"$f":"#REF!","v":{"$error":"#REF!"}},"M3","A.3.1.0",{"$f":"VLOOKUP(O360,#REF!,3,FALSE)","v":{"$error":"#REF!"}},{"$error":"#REF!"}]
[null,null,"-","Wiremash M-6 (1 Layer)",{"$nulls":8},{"$f":"#REF!","v":{"$error":"#REF!"}},"M2","A.3.2.1",{"$f":"VLOOKUP(O361,#REF!,3,FALSE)","v":{"$error":"#REF!"}},{"$error":"#REF!"}]
[null,null,"-","Pasir Urug",{"$nulls":8},{"$f":"#REF!","v":{"$error":"#REF!"}},"M2","A.1.9.0",{"$f":"VLOOKUP(O362,#REF!,3,FALSE)","v":{"$error":"#REF!"}},{"$error":"#REF!"}]
[null,"C","Pekerjaan Arsitektur"]
[null,1,"Pas. Dinding Hebel t.10",{"$nulls":9},{"$f":"#REF!","v":{"$error":"#REF!"}},{"$f":"#REF!","v":{"$error":"#REF!"}},"A.2.7.0",{"$f":"VLOOKUP(O364,#REF!,3,FALSE)","v":{"$error":"#REF!"}},{"$error":"#REF!"}]
[null,2,"Pek. Plesteran",{"$nulls":9},{"$f":"#REF!","v":{"$error":"#REF!"}},{"$f":"#REF!","v":{"$error":"#REF!"}},"A.2.8.0",{"$f":"VLOOKUP(O365,#REF!,3,FALSE)","v":{"$error":"#REF!"}},{"$error":"#REF!"}]
[null,3,"Pek. Acian",{"$nulls":9},{"$f":"#REF!","v":{"$error":"#REF!"}},{"$f":"#REF!","v":{"$error":"#REF!"}},"A.2.9.0",{"$f":"VLOOKUP(O366,#REF!,3,FALSE)","v":{"$error":"#REF!"}},{"$error":"#REF!"}]
[null,4,"Pas. Kusen AD-01 + Assesories",{"$nulls":9},{"$f":"#REF!","v":{"$error":"#REF!"}},{"$f":"#REF!","v":{"$error":"#REF!"}},"AD.01",{"$f":"VLOOKUP(O367,#REF!,3,FALSE)","v":{"$error":"#REF!"}},{"$error":"#REF!"}]
[null,5,"Pas. Kusen AD-03 + Assesories",{"$nulls":9},{"$f":"#REF!","v":{"$error":"#REF!"}},{"$f":"#REF!","v":{"$error":"#REF!"}},"AD.03",{"$f":"VLOOKUP(O368,#REF!,3,FALSE)","v":{"$error":"#REF!"}},{"$error":"#REF!"}]
[null,6,"Pas. Kusen AD-04 + Assesories",{"$nulls":9},{"$f":"#REF!","v":{"$error":"#REF!"}},{"$f":"#REF!","v":{"$error":"#REF!"}},"AD.04",{"$f":"VLOOKUP(O369,#REF!,3,FALSE)","v":{"$error":"#REF!"}},{"$error":"#REF!"}]
[null,7,"Pas. Kusen AD-05 + Assesories",{"$nulls":9},{"$f":"#REF!","v":{"$error":"#REF!"}},{"$f":"#REF!","v":{"$error":"#REF!"}},"AD.05",{"$f":"VLOOKUP(O370,#REF!,3,FALSE)","v":{"$error":"#REF!"}},{"$error":"#REF!"}]
[null,8,"Pas. Kusen AW-02 + Assesories",{"$nulls":9},{"$f":"#REF!","v":{"$error":"#REF!"}},{"$f":"#REF!","v":{"$error":"#REF!"}},"AW.02",{"$f":"VLOOKUP(O371,#REF!,3,FALSE)","v":{"$error":"#REF!"}},{"$error":"#REF!"}]
[null,9,"Pas. Kusen BV-01 + Assesories",{"$nulls":9},{"$f":"#REF!","v":{"$error":"#REF!"}},{"$f":"#REF!","v":{"$error":"#REF!"}},"BV.01",{"$f":"VLOOKUP(O372,#REF!,3,FALSE)","v":{"$error":"#REF!"}},{"$error":"#REF!"}]
[null,10,"Pas. Variasi grill/louvre",{"$nulls":9},{"$f":"#REF!","v":{"$error":"#REF!"}},{"$f":"#REF!","v":{"$error":"#REF!"}},"A.6.0.0",{"$f":"VLOOKUP(O373,#REF!,3,FALSE)","v":{"$error":"#REF!"}},{"$error":"#REF!"}]
[null,11,"Pas. Plafond Gypsum + Rangka",{"$nulls":9},{"$f":"#REF!","v":{"$error":"#REF!"}},{"$f":"#REF!","v":{"$error":"#REF!"}},"A.4.6.0",{"$f":"VLOOKUP(O374,#REF!,3,FALSE)","v":{"$error":"#REF!"}},{"$error":"#REF!"}]
[null,12,"Pas. Plafond GRC + Rangka",{"$nulls":9},{"$f":"#REF!","v":{"$error":"#REF!"}},{"$f":"#REF!","v":{"$error":"#REF!"}},"A.4.5.0",{"$f":"VLOOKUP(O375,#REF!,3,FALSE)","v":{"$error":"#REF!"}},{"$error":"#REF!"}]
[null,13,"Pas. Keramik 60/60",{"$nulls":9},{"$f":"#REF!","v":{"$error":"#REF!"}},{"$f":"#REF!","v":{"$error":"#REF!"}},"A.7.0.0",{"$f":"VLOOKUP(O376,#REF!,3,FALSE)","v":{"$error":"#REF!"}},{"$error":"#REF!"}]
[null,14,"Pas. Keramik 60/60 Anti Slip",{"$nulls":9},{"$f":"#REF!","v":{"$error":"#REF!"}},{"$f":"#REF!","v":{"$error":"#REF!"}},"A.7.0.0",{"$f":"VLOOKUP(O377,#REF!,3,FALSE)","v":{"$error":"#REF!"}},{"$error":"#REF!"}]
[null,15,"Pas. Keramik 25/25",{"$nulls":9},{"$f":"#REF!","v":{"$error":"#REF!"}},{"$f":"#REF!","v":{"$error":"#REF!"}},"A.6.7.1",{"$f":"VLOOKUP(O378,#REF!,3,FALSE)","v":{"$error":"#REF!"}},{"$error":"#REF!"}]
[null,16,"Pas. Dinding Keramik",{"$nulls":9},{"$f":"#REF!","v":{"$error":"#REF!"}},{"$f":"#REF!","v":{"$error":"#REF!"}},"A.7.0.2",{"$f":"VLOOKUP(O379,#REF!,3,FALSE)","v":{"$error":"#REF!"}},{"$error":"#REF!"}]
[null,17,"Pas. Plint Keramik ",{"$nulls":9},{"$f":"#REF!","v":{"$error":"#REF!"}},{"$f":"#REF!","v":{"$error":"#REF!"}},"A.7.0.1",{"$f":"VLOOKUP(O380,#REF!,3,FALSE)","v":{"$error":"#REF!"}},{"$error":"#REF!"}]
[null,18,"Pekerjaan Pengecatan Dinding Interior Jotun Majectic",{"$nulls":9},{"$f":"#REF!","v":{"$error":"#REF!"}},{"$f":"#REF!","v":{"$error":"#REF!"}},"A.7.3.0",{"$f":"VLOOKUP(O381,#REF!,3,FALSE)","v":{"$error":"#REF!"}},{"$error":"#REF!"}]
[null,19,"Pekerjaan Pengecatan DInding Eksterior Dulux Wheatershield",{"$nulls":9},{"$f":"#REF!","v":{"$error":"#REF!"}},{"$f":"#REF!","v":{"$error":"#REF!"}},"A.7.2.0",{"$f":"VLOOKUP(O382,#REF!,3,FALSE)","v":{"$error":"#REF!"}},{"$error":"#REF!"}]
[null,20,"Pekerjaan Pengecatan Plafond vinilex",{"$nulls":9},{"$f":"#REF!","v":{"$error":"#REF!"}},{"$f":"#REF!","v":{"$error":"#REF!"}},"A.7.5.0",{"$f":"VLOOKUP(O383,#REF!,3,FALSE)","v":{"$error":"#REF!"}},{"$error":"#REF!"}]
[null,21,"Pas. Closet Jongkok",{"$nulls":9},{"$f":"#REF!","v":{"$error":"#REF!"}},{"$f":"#REF!","v":{"$error":"#REF!"}},"A.5.1.0",{"$f":"VLOOKUP(O384,#REF!,3,FALSE)","v":{"$error":"#REF!"}},{"$error":"#REF!"}]
[null,22,"Pas. Closet Duduk",{"$nulls":9},{"$f":"#REF!","v":{"$error":"#REF!"}},{"$f":"#REF!","v":{"$error":"#REF!"}},"A.5.0.0",{"$f":"VLOOKUP(O385,#REF!,3,FALSE)","v":{"$error":"#REF!"}},{"$error":"#REF!"}]
[null,23,"Pas. Wastafel",{"$nulls":9},{"$f":"#REF!","v":{"$error":"#REF!"}},{"$f":"#REF!","v":{"$error":"#REF!"}},"A.5.3.0",{"$f":"VLOOKUP(O386,#REF!,3,FALSE)","v":{"$error":"#REF!"}},{"$error":"#REF!"}]
[null,24,"Pas. Floor Drain",{"$nulls":9},{"$f":"#REF!","v":{"$error":"#REF!"}},{"$f":"#REF!","v":{"$error":"#REF!"}},"A.5.5.0",{"$f":"VLOOKUP(O387,#REF!,3,FALSE)","v":{"$error":"#REF!"}},{"$error":"#REF!"}]
[null,25,"Pas. Kran Air",{"$nulls":9},{"$f":"#REF!","v":{"$error":"#REF!"}},{"$f":"#REF!","v":{"$error":"#REF!"}},"A.5.4.0",{"$f":"VLOOKUP(O388,#REF!,3,FALSE)","v":{"$error":"#REF!"}},{"$error":"#REF!"}]
[null,26,"Pek. Handrail",{"$nulls":9},{"$f":"#REF!","v":{"$error":"#REF!"}},"Bh",null,500000,{"$error":"#REF!"}]
[null,27,"Pek. Pemasangan ACP",{"$nulls":9},{"$f":"#REF!","v":{"$error":"#REF!"}},{"$f":"#REF!","v":{"$error":"#REF!"}},"A.6.1.0",{"$f":"VLOOKUP(O390,#REF!,3,FALSE)","v":{"$error":"#REF!"}},{"$error":"#REF!"}]
[]
[null,28,"Pek. Tangga"]
[null,null,"-","Beton",{"$nulls":8},{"$f":"#REF!","v":{"$error":"#REF!"}},{"$f":"#REF!","v":{"$error":"#REF!"}},"A.3.1.0",{"$f":"VLOOKUP(O393,#REF!,3,FALSE)","v":{"$error":"#REF!"}},{"$error":"#REF!"}]
[]
[null,29,"Pek. Balok Latei"]
[null,null,"-","Beton",{"$nulls":8},{"$f":"#REF!","v":{"$error":"#REF!"}},{"$f":"#REF!","v":{"$error":"#REF!"}},"A.3.1.0",{"$f":"VLOOKUP(O396,#REF!,3,FALSE)","v":{"$error":"#REF!"}},{"$error":"#REF!"}]
[null,null,"-","Pembesian",{"$nulls":8},{"$f":"#REF!","v":{"$error":"#REF!"}},"Kg","A.3.2.0",{"$f":"VLOOKUP(O397,#REF!,3,FALSE)","v":{"$error":"#REF!"}},{"$error":"#REF!"}]
[null,null,"-","Bekisting",{"$nulls":8},{"$f":"#REF!","v":{"$error":"#REF!"}},"M2","A.3.7.0",{"$f":"VLOOKUP(O398,#REF!,3,FALSE)","v":{"$error":"#REF!"}},{"$f":"M398*P398","v":{"$error":"#REF!"}}]
[]
[null,"VI.","PEMBANGUNAN GEDUNG KELAS E",{"$nulls":14},{"$f":"SUM(Q402:Q502)","v":{"$error":"#REF!"}}]
[null,"A","Pekerjaan Tanah dan Pondasi"]
[null,1,"Pembersihan Lapangan",{"$nulls":9},{"$f":"#REF!","v":{"$error":"#REF!"}},{"$f":"#REF!","v":{"$error":"#REF!"}},"A.1.2.1",{"$f":"VLOOKUP(O402,#REF!,3,FALSE)","v":{"$error":"#REF!"}},{"$f":"M402*P402","v":{"$error":"#REF!"}}]
[null,2,"Pagar Pengaman Proyek, t = 2m",{"$nulls":9},{"$f":"#REF!","v":{"$error":"#REF!"}},{"$f":"#REF!","v":{"$error":"#REF!"}},"A.1.1.0",{"$f":"VLOOKUP(O403,#REF!,3,FALSE)","v":{"$error":"#REF!"}},{"$error":"#REF!"}]
[null,3,"Pas. Bouwplank",{"$nulls":9},{"$f":"#REF!","v":{"$error":"#REF!"}},{"$f":"#REF!","v":{"$error":"#REF!"}},"A.1.2.0",{"$f":"VLOOKUP(O404,#REF!,3,FALSE)","v":{"$error":"#REF!"}},{"$error":"#REF!"}]
[null,4,"Pek. Anti Rayap",{"$nulls":9},{"$f":"#REF!","v":{"$error":"#REF!"}},{"$f":"#REF!","v":{"$error":"#REF!"}},null,20000,{"$error":"#REF!"}]
[null,5,"Pek. Galian Tanah ",{"$nulls":9},{"$f":"#REF!","v":{"$error":"#REF!"}},"M3","A.1.5.0",{"$f":"VLOOKUP(O406,#REF!,3,FALSE)","v":{"$error":"#REF!"}},{"$error":"#REF!"}]
[null,6,"Urug Tanah Kembali",{"$nulls":9},{"$f":"#REF!","v":{"$error":"#REF!"}},{"$f":"#REF!","v":{"$error":"#REF!"}},"A.1.7.0",{"$f":"VLOOKUP(O407,#REF!,3,FALSE)","v":{"$error":"#REF!"}},{"$error":"#REF!"}]
[null,7,"Pas. Pasir Urug",{"$nulls":9},{"$f":"#REF!","v":{"$error":"#REF!"}},{"$f":"#REF!","v":{"$error":"#REF!"}},"A.1.9.0",{"$f":"VLOOKUP(O408,#REF!,3,FALSE)","v":{"$error":"#REF!"}},{"$error":"#REF!"}]
[null,8,"Pas. Lantai Kerja",{"$nulls":9},{"$f":"#REF!","v":{"$error":"#REF!"}},{"$f":"#REF!","v":{"$error":"#REF!"}},"A.3.0.0",{"$f":"VLOOKUP(O409,#REF!,3,FALSE)","v":{"$error":"#REF!"}},{"$error":"#REF!"}]
[null,9,"Pas. Pondasi Batu Kosong (Aastamping)",{"$nulls":9},{"$f":"#REF!","v":{"$error":"#REF!"}},{"$f":"#REF!","v":{"$error":"#REF!"}},"A.2.2.0",{"$f":"VLOOKUP(O410,#REF!,3,FALSE)","v":{"$error":"#REF!"}},{"$error":"#REF!"}]
[null,10,"Pas. Pondasi Batu Kali",{"$nulls":9},{"$f":"#REF!","v":{"$error":"#REF!"}},{"$f":"#REF!","v":{"$error":"#REF!"}},"A.2.3.0",{"$f":"VLOOKUP(O411,#REF!,3,FALSE)","v":{"$error":"#REF!"}},{"$error":"#REF!"}]
[null,11,"Pas. Pondasi Tapak"]
[null,null,"-","Beton",{"$nulls":8},{"$f":"#REF!","v":{"$error":"#REF!"}},{"$f":"#REF!","v":{"$error":"#REF!"}},"A.3.3.0",{"$f":"VLOOKUP(O413,#REF!,3,FALSE)","v":{"$error":"#REF!"}},{"$f":"M413*P413","v":{"$error":"#REF!"}}]
[null,null,"-","Pembesian",{"$nulls":8},{"$f":"#REF!","v":{"$error":"#REF!"}},{"$f":"#REF!","v":{"$error":"#REF!"}},"A.3.2.0",{"$f":"VLOOKUP(O414,#REF!,3,FALSE)","v":{"$error":"#REF!"}},{"$error":"#REF!"}]
[null,null,"-","Bekisting Pondasi",{"$nulls":8},{"$f":"#REF!","v":{"$error":"#REF!"}},{"$f":"#REF!","v":{"$error":"#REF!"}},"A.3.4.0",{"$f":"VLOOKUP(O415,#REF!,3,FALSE)","v":{"$error":"#REF!"}},{"$error":"#REF!"}]
[null,12,"Pas. Kolom Pedestal"]
[null,null,"-","Beton",{"$nulls":8},{"$f":"#REF!","v":{"$error":"#REF!"}},{"$f":"#REF!","v":{"$error":"#REF!"}},"A.3.3.0",{"$f":"VLOOKUP(O417,#REF!,3,FALSE)","v":{"$error":"#REF!"}},{"$error":"#REF!"}]
[null,null,"-","Pembesian",{"$nulls":8},{"$f":"#REF!","v":{"$error":"#REF!"}},{"$f":"#REF!","v":{"$error":"#REF!"}},"A.3.2.0",{"$f":"VLOOKUP(O418,#REF!,3,FALSE)","v":{"$error":"#REF!"}},{"$error":"#REF!"}]
[null,null,"-","Bekisting Kolom",{"$nulls":8},{"$f":"#REF!","v":{"$error":"#REF!"}},{"$f":"#REF!","v":{"$error":"#REF!"}},"A.3.4.0",{"$f":"VLOOKUP(O419,#REF!,3,FALSE)","v":{"$error":"#REF!"}},{"$error":"#REF!"}]
[null,"B","Pekerjaan Struktur"]
[null,1,"Pek. Tie Beam SL-01"]
[null,null,"-","Beton",{"$nulls":8},{"$f":"#REF!","v":{"$error":"#REF!"}},{"$f":"#REF!","v":{"$error":"#REF!"}},"A.3.3.0",{"$f":"VLOOKUP(O422,#REF!,3,FALSE)","v":{"$error":"#REF!"}},{"$error":"#REF!"}]
[null,null,"-","Pembesian",{"$nulls":8},{"$f":"#REF!","v":{"$error":"#REF!"}},{"$f":"#REF!","v":{"$error":"#REF!"}},"A.3.2.0",{"$f":"VLOOKUP(O423,#REF!,3,FALSE)","v":{"$error":"#REF!"}},{"$error":"#REF!"}]
[null,null,"-","Bekisting Tie Beam",{"$nulls":8},{"$f":"#REF!","v":{"$error":"#REF!"}},{"$f":"#REF!","v":{"$error":"#REF!"}},"A.3.5.0",{"$f":"VLOOKUP(O424,#REF!,3,FALSE)","v":{"$error":"#REF!"}},{"$error":"#REF!"}]
[null,2,"Pek. Kolom K-01"]
[null,null,"-","Beton",{"$nulls":8},{"$f":"#REF!","v":{"$error":"#REF!"}},{"$f":"#REF!","v":{"$error":"#REF!"}},"A.3.3.0",{"$f":"VLOOKUP(O426,#REF!,3,FALSE)","v":{"$error":"#REF!"}},{"$error":"#REF!"}]
[null,null,"-","Pembesian",{"$nulls":8},{"$f":"#REF!","v":{"$error":"#REF!"}},{"$f":"#REF!","v":{"$error":"#REF!"}},"A.3.2.0",{"$f":"VLOOKUP(O427,#REF!,3,FALSE)","v":{"$error":"#REF!"}},{"$error":"#REF!"}]
[null,null,"-","Bekisting Kolom",{"$nulls":8},{"$f":"#REF!","v":{"$error":"#REF!"}},{"$f":"#REF!","v":{"$error":"#REF!"}},"A.3.6.0",{"$f":"VLOOKUP(O428,#REF!,3,FALSE)","v":{"$error":"#REF!"}},{"$error":"#REF!"}]
[null,3,"Pek. Kolom K-02"]
[null,null,"-","Beton",{"$nulls":8},{"$f":"#REF!","v":{"$error":"#REF!"}},{"$f":"#REF!","v":{"$error":"#REF!"}},"A.3.3.0",{"$f":"VLOOKUP(O430,#REF!,3,FALSE)","v":{"$error":"#REF!"}},{"$error":"#REF!"}]
[null,null,"-","Pembesian",{"$nulls":8},{"$f":"#REF!","v":{"$error":"#REF!"}},{"$f":"#REF!","v":{"$error":"#REF!"}},"A.3.2.0",{"$f":"VLOOKUP(O431,#REF!,3,FALSE)","v":{"$error":"#REF!"}},{"$error":"#REF!"}]
[null,null,"-","Bekisting Kolom",{"$nulls":8},{"$f":"#REF!","v":{"$error":"#REF!"}},{"$f":"#REF!","v":{"$error":"#REF!"}},"A.3.6.0",{"$f":"VLOOKUP(O432,#REF!,3,FALSE)","v":{"$error":"#REF!"}},{"$error":"#REF!"}]
[null,4,"Pek. Kolom K-03"]
[null,null,"-","Beton",{"$nulls":8},{"$f":"#REF!","v":{"$error":"#REF!"}},{"$f":"#REF!","v":{"$error":"#REF!"}},"A.3.3.0",{"$f":"VLOOKUP(O434,#REF!,3,FALSE)","v":{"$error":"#REF!"}},{"$error":"#REF!"}]
[null,null,"-","Pembesian",{"$nulls":8},{"$f":"#REF!","v":{"$error":"#REF!"}},{"$f":"#REF!","v":{"$error":"#REF!"}},"A.3.2.0",{"$f":"VLOOKUP(O435,#REF!,3,FALSE)","v":{"$error":"#REF!"}},{"$error":"#REF!"}]
[null,null,"-","Bekisting Kolom",{"$nulls":8},{"$f":"#REF!","v":{"$error":"#REF!"}},{"$f":"#REF!","v":{"$error":"#REF!"}},"A.3.6.0",{"$f":"VLOOKUP(O436,#REF!,3,FALSE)","v":{"$error":"#REF!"}},{"$error":"#REF!"}]
[null,5,"Pek. Ring Balok RB-01"]
[null,null,"-","Beton",{"$nulls":8},{"$f":"#REF!","v":{"$error":"#REF!"}},{"$f":"#REF!","v":{"$error":"#REF!"}},"A.3.3.0",{"$f":"VLOOKUP(O438,#REF!,3,FALSE)","v":{"$error":"#REF!"}},{"$error":"#REF!"}]
[null,null,"-","Pembesian",{"$nulls":8},{"$f":"#REF!","v":{"$error":"#REF!"}},{"$f":"#REF!","v":{"$error":"#REF!"}},"A.3.2.0",{"$f":"VLOOKUP(O439,#REF!,3,FALSE)","v":{"$error":"#REF!"}},{"$error":"#REF!"}]
[null,null,"-","Bekisting Balok",{"$nulls":8},{"$f":"#REF!","v":{"$error":"#REF!"}},{"$f":"#REF!","v":{"$error":"#REF!"}},"A.3.7.0",{"$f":"VLOOKUP(O440,#REF!,3,FALSE)","v":{"$error":"#REF!"}},{"$error":"#REF!"}]
[null,6,"Pekerjaan Atap"]
[null,null,"-","Pas. Kuda-kuda Baja Ringan",{"$nulls":8},{"$f":"#REF!","v":{"$error":"#REF!"}},{"$f":"#REF!","v":{"$error":"#REF!"}},"A.4.3.0",{"$f":"VLOOKUP(O442,#REF!,3,FALSE)","v":{"$error":"#REF!"}},{"$error":"#REF!"}]
[null,null,"-","Pas. Penutup Atap",{"$nulls":8},{"$f":"#REF!","v":{"$error":"#REF!"}},{"$f":"#REF!","v":{"$error":"#REF!"}},"A.4.8.0",{"$f":"VLOOKUP(O443,#REF!,3,FALSE)","v":{"$error":"#REF!"}},{"$error":"#REF!"}]
[null,null,"-","Pas. Nok Atap",{"$nulls":8},{"$f":"#REF!","v":{"$error":"#REF!"}},{"$f":"#REF!","v":{"$error":"#REF!"}},"A.4.9.0",{"$f":"VLOOKUP(O444,#REF!,3,FALSE)","v":{"$error":"#REF!"}},{"$error":"#REF!"}]
[null,null,"-","Pas. Listplank",{"$nulls":8},{"$f":"#REF!","v":{"$error":"#REF!"}},{"$f":"#REF!","v":{"$error":"#REF!"}},"A.4.7.0",{"$f":"VLOOKUP(O445,#REF!,3,FALSE)","v":{"$error":"#REF!"}},{"$error":"#REF!"}]
[null,null,"-","Pas. Talang",{"$nulls":8},{"$f":"#REF!","v":{"$error":"#REF!"}},{"$f":"#REF!","v":{"$error":"#REF!"}},"A.5.7.0",{"$f":"VLOOKUP(O446,#REF!,3,FALSE)","v":{"$error":"#REF!"}},{"$error":"#REF!"}]
[null,7,"Pekerjaan Dak Atap"]
[null,null,"-","Beton",{"$nulls":8},{"$f":"#REF!","v":{"$error":"#REF!"}},{"$f":"#REF!","v":{"$error":"#REF!"}},"A.3.3.0",{"$f":"VLOOKUP(O448,#REF!,3,FALSE)","v":{"$error":"#REF!"}},{"$error":"#REF!"}]
[null,null,"-","Pembesian",{"$nulls":8},{"$f":"#REF!","v":{"$error":"#REF!"}},{"$f":"#REF!","v":{"$error":"#REF!"}},"A.3.2.0",{"$f":"VLOOKUP(O449,#REF!,3,FALSE)","v":{"$error":"#REF!"}},{"$error":"#REF!"}]
[null,null,"-","Bekisting ",{"$nulls":8},{"$f":"#REF!","v":{"$error":"#REF!"}},{"$f":"#REF!","v":{"$error":"#REF!"}},"A.3.8.0",{"$f":"VLOOKUP(O450,#REF!,3,FALSE)","v":{"$error":"#REF!"}},{"$error":"#REF!"}]
[null,8,"Pek. Plat Lantai"]
[null,null,"-","Beton",{"$nulls":8},{"$f":"#REF!","v":{"$error":"#REF!"}},"M3","A.3.1.0",{"$f":"VLOOKUP(O452,#REF!,3,FALSE)","v":{"$error":"#REF!"}},{"$error":"#REF!"}]
[null,null,"-","Wiremash M-6 (1 Layer)",{"$nulls":8},{"$f":"#REF!","v":{"$error":"#REF!"}},"M2","A.3.2.1",{"$f":"VLOOKUP(O453,#REF!,3,FALSE)","v":{"$error":"#REF!"}},{"$error":"#REF!"}]
[null,null,"-","Pasir Urug",{"$nulls":8},{"$f":"#REF!","v":{"$error":"#REF!"}},"M3","A.1.9.0",{"$f":"VLOOKUP(O454,#REF!,3,FALSE)","v":{"$error":"#REF!"}},{"$error":"#REF!"}]
[null,9,"Pekerjaan Ram Disable"]
[null,"a","Beam Sloof "]
[null,null,"-","Beton",{"$nulls":8},{"$f":"#REF!","v":{"$error":"#REF!"}},{"$f":"#REF!","v":{"$error":"#REF!"}},"A.3.1.0",{"$f":"VLOOKUP(O457,#REF!,3,FALSE)","v":{"$error":"#REF!"}},{"$error":"#REF!"}]
[null,null,"-","Pembesian ",{"$nulls":8},{"$f":"#REF!","v":{"$error":"#REF!"}},{"$f":"#REF!","v":{"$error":"#REF!"}},"A.3.2.0",{"$f":"VLOOKUP(O458,#REF!,3,FALSE)","v":{"$error":"#REF!"}},{"$error":"#REF!"}]
[null,null,"-","Bekisting ",{"$nulls":8},{"$f":"#REF!","v":{"$error":"#REF!"}},{"$f":"#REF!","v":{"$error":"#REF!"}},"A.3.5.0",{"$f":"VLOOKUP(O459,#REF!,3,FALSE)","v":{"$error":"#REF!"}},{"$error":"#REF!"}]
[null,"b","Plat Lantai"]
[null,null,"-","Beton",{"$nulls":8},{"$f":"#REF!","v":{"$error":"#REF!"}},{"$f":"#REF!","v":{"$error":"#REF!"}},"A.3.1.0",{"$f":"VLOOKUP(O461,#REF!,3,FALSE)","v":{"$error":"#REF!"}},{"$f":"M461*P461","v":{"$error":"#REF!"}}]
[null,null,"-","Wiremash M-6 (1layer)",{"$nulls":8},{"$f":"#REF!","v":{"$error":"#REF!"}},{"$f":"#REF!","v":{"$error":"#REF!"}},"A.3.2.1",{"$f":"VLOOKUP(O462,#REF!,3,FALSE)","v":{"$error":"#REF!"}},{"$error":"#REF!"}]
[null,null,"-","Pasir Urug",{"$nulls":8},{"$f":"#REF!","v":{"$error":"#REF!"}},null,"A.1.9.0",{"$f":"VLOOKUP(O463,#REF!,3,FALSE)","v":{"$error":"#REF!"}},{"$error":"#REF!"}]
[null,"c","Disable Parking"]
[null,null,"-","Beton",{"$nulls":8},{"$f":"#REF!","v":{"$error":"#REF!"}},{"$f":"#REF!","v":{"$error":"#REF!"}},"A.3.1.0",{"$f":"VLOOKUP(O465,#REF!,3,FALSE)","v":{"$error":"#REF!"}},{"$error":"#REF!"}]
[null,null,"-","Wiremash M-6 (1layer)",{"$nulls":8},{"$f":"#REF!","v":{"$error":"#REF!"}},{"$f":"#REF!","v":{"$error":"#REF!"}},"A.3.2.1",{"$f":"VLOOKUP(O466,#REF!,3,FALSE)","v":{"$error":"#REF!"}},{"$error":"#REF!"}]
[null,null,"-","Pasir Urug",{"$nulls":8},{"$f":"#REF!","v":{"$error":"#REF!"}},"M3","A.1.9.0",{"$f":"VLOOKUP(O467,#REF!,3,FALSE)","v":{"$error":"#REF!"}},{"$error":"#REF!"}]
[null,"C","Pekerjaan Arsitektur"]
[null,1,"Pas. Dinding Hebel t.10",{"$nulls":9},{"$f":"#REF!","v":{"$error":"#REF!"}},{"$f":"#REF!","v":{"$error":"#REF!"}},"A.2.7.0",{"$f":"VLOOKUP(O469,#REF!,3,FALSE)","v":{"$error":"#REF!"}},{"$error":"#REF!"}]
[null,2,"Pek. Plesteran",{"$nulls":9},{"$f":"#REF!","v":{"$error":"#REF!"}},{"$f":"#REF!","v":{"$error":"#REF!"}},"A.2.8.0",{"$f":"VLOOKUP(O470,#REF!,3,FALSE)","v":{"$error":"#REF!"}},{"$error":"#REF!"}]
[null,3,"Pek. Acian",{"$nulls":9},{"$f":"#REF!","v":{"$error":"#REF!"}},{"$f":"#REF!","v":{"$error":"#REF!"}},"A.2.9.0",{"$f":"VLOOKUP(O471,#REF!,3,FALSE)","v":{"$error":"#REF!"}},{"$error":"#REF!"}]
[null,4,"Pas. Kusen AD-01 + Assesories",{"$nulls":9},{"$f":"#REF!","v":{"$error":"#REF!"}},{"$f":"#REF!","v":{"$error":"#REF!"}},"AD.01",{"$f":"VLOOKUP(O472,#REF!,3,FALSE)","v":{"$error":"#REF!"}},{"$error":"#REF!"}]
[null,5,"Pas. Kusen AD-03 + Assesories",{"$nulls":9},{"$f":"#REF!","v":{"$error":"#REF!"}},{"$f":"#REF!","v":{"$error":"#REF!"}},"AD.03",{"$f":"VLOOKUP(O473,#REF!,3,FALSE)","v":{"$error":"#REF!"}},{"$error":"#REF!"}]
[null,6,"Pas. Kusen AD-04 + Assesories",{"$nulls":9},{"$f":"#REF!","v":{"$error":"#REF!"}},{"$f":"#REF!","v":{"$error":"#REF!"}},"AD.04",{"$f":"VLOOKUP(O474,#REF!,3,FALSE)","v":{"$error":"#REF!"}},{"$error":"#REF!"}]
[null,7,"Pas. Kusen AD-05 + Assesories",{"$nulls":9},{"$f":"#REF!","v":{"$error":"#REF!"}},{"$f":"#REF!","v":{"$error":"#REF!"}},"AD.05",{"$f":"VLOOKUP(O475,#REF!,3,FALSE)","v":{"$error":"#REF!"}},{"$error":"#REF!"}]
[null,8,"Pas. Kusen AW-02 + Assesories",{"$nulls":9},{"$f":"#REF!","v":{"$error":"#REF!"}},{"$f":"#REF!","v":{"$error":"#REF!"}},"AW.02",{"$f":"VLOOKUP(O476,#REF!,3,FALSE)","v":{"$error":"#REF!"}},{"$error":"#REF!"}]
[null,9,"Pas. Kusen BV-01 + Assesories",{"$nulls":9},{"$f":"#REF!","v":{"$error":"#REF!"}},{"$f":"#REF!","v":{"$error":"#REF!"}},"BV.01",{"$f":"VLOOKUP(O477,#REF!,3,FALSE)","v":{"$error":"#REF!"}},{"$error":"#REF!"}]
[null,10,"Pas. Variasi grill/louvre",{"$nulls":9},{"$f":"#REF!","v":{"$error":"#REF!"}},{"$f":"#REF!","v":{"$error":"#REF!"}},"A.6.0.0",{"$f":"VLOOKUP(O478,#REF!,3,FALSE)","v":{"$error":"#REF!"}},{"$error":"#REF!"}]
[null,11,"Pas. Plafond Gypsum + Rangka",{"$nulls":9},{"$f":"#REF!","v":{"$error":"#REF!"}},{"$f":"#REF!","v":{"$error":"#REF!"}},"A.4.6.0",{"$f":"VLOOKUP(O479,#REF!,3,FALSE)","v":{"$error":"#REF!"}},{"$error":"#REF!"}]
[null,12,"Pas. Plafond GRC + Rangka",{"$nulls":9},{"$f":"#REF!","v":{"$error":"#REF!"}},{"$f":"#REF!","v":{"$error":"#REF!"}},"A.4.5.0",{"$f":"VLOOKUP(O480,#REF!,3,FALSE)","v":{"$error":"#REF!"}},{"$error":"#REF!"}]
[null,13,"Pas. Keramik 60/60",{"$nulls":9},{"$f":"#REF!","v":{"$error":"#REF!"}},{"$f":"#REF!","v":{"$error":"#REF!"}},"A.7.0.0",{"$f":"VLOOKUP(O481,#REF!,3,FALSE)","v":{"$error":"#REF!"}},{"$error":"#REF!"}]
[null,14,"Pas. Keramik 60/60 Anti Slip",{"$nulls":9},{"$f":"#REF!","v":{"$error":"#REF!"}},{"$f":"#REF!","v":{"$error":"#REF!"}},"A.7.0.0",{"$f":"VLOOKUP(O482,#REF!,3,FALSE)","v":{"$error":"#REF!"}},{"$error":"#REF!"}]
[null,15,"Pas. Keramik 25/25",{"$nulls":9},{"$f":"#REF!","v":{"$error":"#REF!"}},{"$f":"#REF!","v":{"$error":"#REF!"}},"A.6.7.1",{"$f":"VLOOKUP(O483,#REF!,3,FALSE)","v":{"$error":"#REF!"}},{"$error":"#REF!"}]
[null,16,"Pas. Dinding Keramik 25/50",{"$nulls":9},{"$f":"#REF!","v":{"$error":"#REF!"}},{"$f":"#REF!","v":{"$error":"#REF!"}},"A.7.0.2",{"$f":"VLOOKUP(O484,#REF!,3,FALSE)","v":{"$error":"#REF!"}},{"$error":"#REF!"}]
[null,17,"Pas. Plint Keramik",{"$nulls":9},{"$f":"#REF!","v":{"$error":"#REF!"}},{"$f":"#REF!","v":{"$error":"#REF!"}},"A.7.0.1",{"$f":"VLOOKUP(O485,#REF!,3,FALSE)","v":{"$error":"#REF!"}},{"$error":"#REF!"}]
[null,18,"Pekerjaan Pengecatan Dinding Interior Jotun Majectic",{"$nulls":9},{"$f":"#REF!","v":{"$error":"#REF!"}},{"$f":"#REF!","v":{"$error":"#REF!"}},"A.7.3.0",{"$f":"VLOOKUP(O486,#REF!,3,FALSE)","v":{"$error":"#REF!"}},{"$error":"#REF!"}]
[null,19,"Pekerjaan Pengecatan DInding Eksterior Dulux Wheatershield",{"$nulls":9},{"$f":"#REF!","v":{"$error":"#REF!"}},{"$f":"#REF!","v":{"$error":"#REF!"}},"A.7.2.0",{"$f":"VLOOKUP(O487,#REF!,3,FALSE)","v":{"$error":"#REF!"}},{"$error":"#REF!"}]
[null,20,"Pekerjaan Pengecatan Plafond vinilex",{"$nulls":9},{"$f":"#REF!","v":{"$error":"#REF!"}},{"$f":"#REF!","v":{"$error":"#REF!"}},"A.7.5.0",{"$f":"VLOOKUP(O488,#REF!,3,FALSE)","v":{"$error":"#REF!"}},{"$error":"#REF!"}]
[null,21,"Pas. Closet Jongkok",{"$nulls":9},{"$f":"#REF!","v":{"$error":"#REF!"}},{"$f":"#REF!","v":{"$error":"#REF!"}},"A.5.1.0",{"$f":"VLOOKUP(O489,#REF!,3,FALSE)","v":{"$error":"#REF!"}},{"$error":"#REF!"}]
[null,22,"Pas. Closet Duduk",{"$nulls":9},{"$f":"#REF!","v":{"$error":"#REF!"}},{"$f":"#REF!","v":{"$error":"#REF!"}},"A.5.0.0",{"$f":"VLOOKUP(O490,#REF!,3,FALSE)","v":{"$error":"#REF!"}},{"$error":"#REF!"}]
[null,23,"Pas. Wastafel",{"$nulls":9},{"$f":"#REF!","v":{"$error":"#REF!"}},{"$f":"#REF!","v":{"$error":"#REF!"}},"A.5.3.0",{"$f":"VLOOKUP(O491,#REF!,3,FALSE)","v":{"$error":"#REF!"}},{"$error":"#REF!"}]
[null,24,"Pas. Floor Drain",{"$nulls":9},{"$f":"#REF!","v":{"$error":"#REF!"}},{"$f":"#REF!","v":{"$error":"#REF!"}},"A.5.5.0",{"$f":"VLOOKUP(O492,#REF!,3,FALSE)","v":{"$error":"#REF!"}},{"$error":"#REF!"}]
[null,25,"Pas. Kran Air",{"$nulls":9},{"$f":"#REF!","v":{"$error":"#REF!"}},{"$f":"#REF!","v":{"$error":"#REF!"}},"A.5.4.0",{"$f":"VLOOKUP(O493,#REF!,3,FALSE)","v":{"$error":"#REF!"}},{"$error":"#REF!"}]
[null,26,"Pas. Handrail ",{"$nulls":9},{"$f":"#REF!","v":{"$error":"#REF!"}},{"$f":"#REF!","v":{"$error":"#REF!"}},null,500000,{"$error":"#REF!"}]
[null,27,"Pas. Urinoir",{"$nulls":9},{"$f":"#REF!","v":{"$error":"#REF!"}},{"$f":"#REF!","v":{"$error":"#REF!"}},"A.5.2.0",{"$f":"VLOOKUP(O495,#REF!,3,FALSE)","v":{"$error":"#REF!"}},{"$error":"#REF!"}]
[null,28,"Pek. Pemasangan ACP",{"$nulls":9},{"$f":"#REF!","v":{"$error":"#REF!"}},{"$f":"#REF!","v":{"$error":"#REF!"}},"A.6.1.0",{"$f":"VLOOKUP(O496,#REF!,3,FALSE)","v":{"$error":"#REF!"}},{"$error":"#REF!"}]
[null,29,"Pek. Tangga"]
[null,null,"-","Beton",{"$nulls":8},{"$f":"#REF!","v":{"$error":"#REF!"}},"M3","A.3.1.0",{"$f":"VLOOKUP(O498,#REF!,3,FALSE)","v":{"$error":"#REF!"}},{"$error":"#REF!"}]
[null,30,"Pek. Balok Latei"]
[null,null,"-","Beton",{"$nulls":8},{"$f":"#REF!","v":{"$error":"#REF!"}},"M3","A.3.1.0",{"$f":"VLOOKUP(O500,#REF!,3,FALSE)","v":{"$error":"#REF!"}},{"$error":"#REF!"}]
[null,null,"-","Pembesian",{"$nulls":8},{"$f":"#REF!","v":{"$error":"#REF!"}},"Kg","A.3.2.0",{"$f":"VLOOKUP(O501,#REF!,3,FALSE)","v":{"$error":"#REF!"}},{"$error":"#REF!"}]
[null,null,"-","Bekisting Kolom",{"$nulls":8},{"$f":"#REF!","v":{"$error":"#REF!"}},"M2","A.3.7.0",{"$f":"VLOOKUP(O502,#REF!,3,FALSE)","v":{"$error":"#REF!"}},{"$error":"#REF!"}]
[]
[null,"VII.","PEMBANGUNAN GEDUNG ADMINISTRASI",{"$nulls":14},{"$f":"SUM(Q506:Q615)","v":{"$error":"#REF!"}}]
[null,"A","Pekerjaan Tanah dan Pondasi"]
[null,1,"Pembersihan Lapangan",{"$nulls":9},{"$f":"#REF!","v":{"$error":"#REF!"}},{"$f":"#REF!","v":{"$error":"#REF!"}},"A.1.2.1",{"$f":"VLOOKUP(O506,#REF!,3,FALSE)","v":{"$error":"#REF!"}},{"$error":"#REF!"}]
[null,2,"Pagar Pengaman Proyek, t = 2m",{"$nulls":9},{"$f":"#REF!","v":{"$error":"#REF!"}},{"$f":"#REF!","v":{"$error":"#REF!"}},"A.1.1.0",{"$f":"VLOOKUP(O507,#REF!,3,FALSE)","v":{"$error":"#REF!"}},{"$error":"#REF!"}]
[null,3,"Pas. Bouwplank",{"$nulls":9},{"$f":"#REF!","v":{"$error":"#REF!"}},{"$f":"#REF!","v":{"$error":"#REF!"}},"A.1.2.0",{"$f":"VLOOKUP(O508,#REF!,3,FALSE)","v":{"$error":"#REF!"}},{"$error":"#REF!"}]
[null,4,"Pek. Anti Rayap",{"$nulls":9},{"$f":"#REF!","v":{"$error":"#REF!"}},{"$f":"#REF!","v":{"$error":"#REF!"}},null,20000,{"$error":"#REF!"}]
[null,5,"Pek. Galian Tanah ",{"$nulls":9},{"$f":"#REF!","v":{"$error":"#REF!"}},"M3","A.1.5.0",{"$f":"VLOOKUP(O510,#REF!,3,FALSE)","v":{"$error":"#REF!"}},{"$error":"#REF!"}]
[null,6,"Urug Tanah Kembali",{"$nulls":9},{"$f":"#REF!","v":{"$error":"#REF!"}},{"$f":"#REF!","v":{"$error":"#REF!"}},"A.1.7.0",{"$f":"VLOOKUP(O511,#REF!,3,FALSE)","v":{"$error":"#REF!"}},{"$error":"#REF!"}]
[null,7,"Pas. Pasir Urug",{"$nulls":9},{"$f":"#REF!","v":{"$error":"#REF!"}},{"$f":"#REF!","v":{"$error":"#REF!"}},"A.1.9.0",{"$f":"VLOOKUP(O512,#REF!,3,FALSE)","v":{"$error":"#REF!"}},{"$error":"#REF!"}]
[null,8,"Pas. Lantai Kerja",{"$nulls":9},{"$f":"#REF!","v":{"$error":"#REF!"}},{"$f":"#REF!","v":{"$error":"#REF!"}},"A.3.0.0",{"$f":"VLOOKUP(O513,#REF!,3,FALSE)","v":{"$error":"#REF!"}},{"$error":"#REF!"}]
[null,9,"Pas. Pondasi Batu Kosong (Aastamping)",{"$nulls":9},{"$f":"#REF!","v":{"$error":"#REF!"}},{"$f":"#REF!","v":{"$error":"#REF!"}},"A.2.2.0",{"$f":"VLOOKUP(O514,#REF!,3,FALSE)","v":{"$error":"#REF!"}},{"$error":"#REF!"}]
[null,10,"Pas. Pondasi Batu Kali",{"$nulls":9},{"$f":"#REF!","v":{"$error":"#REF!"}},{"$f":"#REF!","v":{"$error":"#REF!"}},"A.2.3.0",{"$f":"VLOOKUP(O515,#REF!,3,FALSE)","v":{"$error":"#REF!"}},{"$error":"#REF!"}]
[null,"B","Pekerjaan Struktur"]
[null,1,"Pas. Pondasi Tapak"]
[null,null,"-","Beton",{"$nulls":8},{"$f":"#REF!","v":{"$error":"#REF!"}},{"$f":"#REF!","v":{"$error":"#REF!"}},"A.3.3.0",{"$f":"VLOOKUP(O518,#REF!,3,FALSE)","v":{"$error":"#REF!"}},{"$error":"#REF!"}]
[null,null,"-","Pembesian",{"$nulls":8},{"$f":"#REF!","v":{"$error":"#REF!"}},{"$f":"#REF!","v":{"$error":"#REF!"}},"A.3.2.0",{"$f":"VLOOKUP(O519,#REF!,3,FALSE)","v":{"$error":"#REF!"}},{"$error":"#REF!"}]
[null,null,"-","Bekisting Pondasi",{"$nulls":8},{"$f":"#REF!","v":{"$error":"#REF!"}},{"$f":"#REF!","v":{"$error":"#REF!"}},"A.3.4.0",{"$f":"VLOOKUP(O520,#REF!,3,FALSE)","v":{"$error":"#REF!"}},{"$error":"#REF!"}]
[null,1,"Pas. Pondasi Tapak FP 3"]
[null,null,"-","Beton",{"$nulls":8},{"$f":"#REF!","v":{"$error":"#REF!"}},{"$f":"#REF!","v":{"$error":"#REF!"}},"A.3.3.0",{"$f":"VLOOKUP(O522,#REF!,3,FALSE)","v":{"$error":"#REF!"}},{"$error":"#REF!"}]
[null,null,"-","Pembesian",{"$nulls":8},{"$f":"#REF!","v":{"$error":"#REF!"}},{"$f":"#REF!","v":{"$error":"#REF!"}},"A.3.2.0",{"$f":"VLOOKUP(O523,#REF!,3,FALSE)","v":{"$error":"#REF!"}},{"$error":"#REF!"}]
[null,null,"-","Bekisting Pondasi",{"$nulls":8},{"$f":"#REF!","v":{"$error":"#REF!"}},{"$f":"#REF!","v":{"$error":"#REF!"}},"A.3.4.0",{"$f":"VLOOKUP(O524,#REF!,3,FALSE)","v":{"$error":"#REF!"}},{"$error":"#REF!"}]
[null,2,"Pas. Kolom Pedestal  FP 1"]
[null,null,"-","Beton",{"$nulls":8},{"$f":"#REF!","v":{"$error":"#REF!"}},{"$f":"#REF!","v":{"$error":"#REF!"}},"A.3.3.0",{"$f":"VLOOKUP(O526,#REF!,3,FALSE)","v":{"$error":"#REF!"}},{"$error":"#REF!"}]
[null,null,"-","Pembesian",{"$nulls":8},{"$f":"#REF!","v":{"$error":"#REF!"}},{"$f":"#REF!","v":{"$error":"#REF!"}},"A.3.2.0",{"$f":"VLOOKUP(O527,#REF!,3,FALSE)","v":{"$error":"#REF!"}},{"$error":"#REF!"}]
[null,null,"-","Bekisting Kolom",{"$nulls":8},{"$f":"#REF!","v":{"$error":"#REF!"}},{"$f":"#REF!","v":{"$error":"#REF!"}},"A.3.4.0",{"$f":"VLOOKUP(O528,#REF!,3,FALSE)","v":{"$error":"#REF!"}},{"$error":"#REF!"}]
[null,3,"Pas. Kolom Pedestal FP 2"]
[null,null,"-","Beton",{"$nulls":8},{"$f":"#REF!","v":{"$error":"#REF!"}},{"$f":"#REF!","v":{"$error":"#REF!"}},"A.3.3.0",{"$f":"VLOOKUP(O530,#REF!,3,FALSE)","v":{"$error":"#REF!"}},{"$f":"M530*P530","v":{"$error":"#REF!"}}]
[null,null,"-","Pembesian",{"$nulls":8},{"$f":"#REF!","v":{"$error":"#REF!"}},{"$f":"#REF!","v":{"$error":"#REF!"}},"A.3.2.0",{"$f":"VLOOKUP(O531,#REF!,3,FALSE)","v":{"$error":"#REF!"}},{"$error":"#REF!"}]
[null,null,"-","Bekisting Kolom",{"$nulls":8},{"$f":"#REF!","v":{"$error":"#REF!"}},{"$f":"#REF!","v":{"$error":"#REF!"}},"A.3.4.0",{"$f":"VLOOKUP(O532,#REF!,3,FALSE)","v":{"$error":"#REF!"}},{"$error":"#REF!"}]
[null,4,"Pas. Kolom Pedestal FP 3"]
[null,null,"-","Beton",{"$nulls":8},{"$f":"#REF!","v":{"$error":"#REF!"}},{"$f":"#REF!","v":{"$error":"#REF!"}},"A.3.3.0",{"$f":"VLOOKUP(O534,#REF!,3,FALSE)","v":{"$error":"#REF!"}},{"$error":"#REF!"}]
[null,null,"-","Pembesian",{"$nulls":8},{"$f":"#REF!","v":{"$error":"#REF!"}},{"$f":"#REF!","v":{"$error":"#REF!"}},"A.3.2.0",{"$f":"VLOOKUP(O535,#REF!,3,FALSE)","v":{"$error":"#REF!"}},{"$error":"#REF!"}]
[null,null,"-","Bekisting Kolom",{"$nulls":8},{"$f":"#REF!","v":{"$error":"#REF!"}},{"$f":"#REF!","v":{"$error":"#REF!"}},"A.3.4.0",{"$f":"VLOOKUP(O536,#REF!,3,FALSE)","v":{"$error":"#REF!"}},{"$error":"#REF!"}]
[null,5,"Pek. Tie Beam SL-01"]
[null,null,"-","Beton",{"$nulls":8},{"$f":"#REF!","v":{"$error":"#REF!"}},{"$f":"#REF!","v":{"$error":"#REF!"}},"A.3.3.0",{"$f":"VLOOKUP(O538,#REF!,3,FALSE)","v":{"$error":"#REF!"}},{"$error":"#REF!"}]
[null,null,"-","Pembesian",{"$nulls":8},{"$f":"#REF!","v":{"$error":"#REF!"}},{"$f":"#REF!","v":{"$error":"#REF!"}},"A.3.2.0",{"$f":"VLOOKUP(O539,#REF!,3,FALSE)","v":{"$error":"#REF!"}},{"$error":"#REF!"}]
[null,null,"-","Bekisting Tie Beam",{"$nulls":8},{"$f":"#REF!","v":{"$error":"#REF!"}},{"$f":"#REF!","v":{"$error":"#REF!"}},"A.3.5.0",{"$f":"VLOOKUP(O540,#REF!,3,FALSE)","v":{"$error":"#REF!"}},{"$error":"#REF!"}]
[null,6,"Pek. Kolom K-01"]
[null,null,"-","Beton",{"$nulls":8},{"$f":"#REF!","v":{"$error":"#REF!"}},{"$f":"#REF!","v":{"$error":"#REF!"}},"A.3.3.0",{"$f":"VLOOKUP(O542,#REF!,3,FALSE)","v":{"$error":"#REF!"}},{"$error":"#REF!"}]
[null,null,"-","Pembesian",{"$nulls":8},{"$f":"#REF!","v":{"$error":"#REF!"}},{"$f":"#REF!","v":{"$error":"#REF!"}},"A.3.2.0",{"$f":"VLOOKUP(O543,#REF!,3,FALSE)","v":{"$error":"#REF!"}},{"$error":"#REF!"}]
[null,null,"-","Bekisting Kolom",{"$nulls":8},{"$f":"#REF!","v":{"$error":"#REF!"}},{"$f":"#REF!","v":{"$error":"#REF!"}},"A.3.6.0",{"$f":"VLOOKUP(O544,#REF!,3,FALSE)","v":{"$error":"#REF!"}},{"$error":"#REF!"}]
[null,7,"Pek. Kolom K-01"]
[null,null,"-","Beton",{"$nulls":8},{"$f":"#REF!","v":{"$error":"#REF!"}},{"$f":"#REF!","v":{"$error":"#REF!"}},"A.3.3.0",{"$f":"VLOOKUP(O546,#REF!,3,FALSE)","v":{"$error":"#REF!"}},{"$error":"#REF!"}]
[null,null,"-","Pembesian",{"$nulls":8},{"$f":"#REF!","v":{"$error":"#REF!"}},{"$f":"#REF!","v":{"$error":"#REF!"}},"A.3.2.0",{"$f":"VLOOKUP(O547,#REF!,3,FALSE)","v":{"$error":"#REF!"}},{"$error":"#REF!"}]
[null,null,"-","Bekisting Kolom",{"$nulls":8},{"$f":"#REF!","v":{"$error":"#REF!"}},{"$f":"#REF!","v":{"$error":"#REF!"}},"A.3.6.0",{"$f":"VLOOKUP(O548,#REF!,3,FALSE)","v":{"$error":"#REF!"}},{"$error":"#REF!"}]
[null,8,"Pek. Kolom K-02"]
[null,null,"-","Beton",{"$nulls":8},{"$f":"#REF!","v":{"$error":"#REF!"}},{"$f":"#REF!","v":{"$error":"#REF!"}},"A.3.3.0",{"$f":"VLOOKUP(O550,#REF!,3,FALSE)","v":{"$error":"#REF!"}},{"$error":"#REF!"}]
[null,null,"-","Pembesian",{"$nulls":8},{"$f":"#REF!","v":{"$error":"#REF!"}},{"$f":"#REF!","v":{"$error":"#REF!"}},"A.3.2.0",{"$f":"VLOOKUP(O551,#REF!,3,FALSE)","v":{"$error":"#REF!"}},{"$error":"#REF!"}]
[null,null,"-","Bekisting Kolom",{"$nulls":8},{"$f":"#REF!","v":{"$error":"#REF!"}},{"$f":"#REF!","v":{"$error":"#REF!"}},"A.3.6.0",{"$f":"VLOOKUP(O552,#REF!,3,FALSE)","v":{"$error":"#REF!"}},{"$error":"#REF!"}]
[null,9,"Pek. Kolom K-03"]
[null,null,"-","Beton",{"$nulls":8},{"$f":"#REF!","v":{"$error":"#REF!"}},{"$f":"#REF!","v":{"$error":"#REF!"}},"A.3.3.0",{"$f":"VLOOKUP(O554,#REF!,3,FALSE)","v":{"$error":"#REF!"}},{"$error":"#REF!"}]
[null,null,"-","Pembesian",{"$nulls":8},{"$f":"#REF!","v":{"$error":"#REF!"}},{"$f":"#REF!","v":{"$error":"#REF!"}},"A.3.2.0",{"$f":"VLOOKUP(O555,#REF!,3,FALSE)","v":{"$error":"#REF!"}},{"$error":"#REF!"}]
[null,null,"-","Bekisting Kolom",{"$nulls":8},{"$f":"#REF!","v":{"$error":"#REF!"}},{"$f":"#REF!","v":{"$error":"#REF!"}},"A.3.6.0",{"$f":"VLOOKUP(O556,#REF!,3,FALSE)","v":{"$error":"#REF!"}},{"$error":"#REF!"}]
[null,10,"Pek. Ring Balok RB-01"]
[null,null,"-","Beton",{"$nulls":8},{"$f":"#REF!","v":{"$error":"#REF!"}},{"$f":"#REF!","v":{"$error":"#REF!"}},"A.3.3.0",{"$f":"VLOOKUP(O558,#REF!,3,FALSE)","v":{"$error":"#REF!"}},{"$error":"#REF!"}]
[null,null,"-","Pembesian",{"$nulls":8},{"$f":"#REF!","v":{"$error":"#REF!"}},{"$f":"#REF!","v":{"$error":"#REF!"}},"A.3.2.0",{"$f":"VLOOKUP(O559,#REF!,3,FALSE)","v":{"$error":"#REF!"}},{"$error":"#REF!"}]
[null,null,"-","Bekisting Balok",{"$nulls":8},{"$f":"#REF!","v":{"$error":"#REF!"}},{"$f":"#REF!","v":{"$error":"#REF!"}},"A.3.7.0",{"$f":"VLOOKUP(O560,#REF!,3,FALSE)","v":{"$error":"#REF!"}},{"$error":"#REF!"}]
[null,11,"Pekerjaan Atap"]
[null,null,"-","Pas. Kuda-kuda Baja Ringan",{"$nulls":8},{"$f":"#REF!","v":{"$error":"#REF!"}},{"$f":"#REF!","v":{"$error":"#REF!"}},"A.4.3.0",{"$f":"VLOOKUP(O562,#REF!,3,FALSE)","v":{"$error":"#REF!"}},{"$error":"#REF!"}]
[null,null,"-","Pas. Penutup Atap",{"$nulls":8},{"$f":"#REF!","v":{"$error":"#REF!"}},{"$f":"#REF!","v":{"$error":"#REF!"}},"A.4.8.0",{"$f":"VLOOKUP(O563,#REF!,3,FALSE)","v":{"$error":"#REF!"}},{"$error":"#REF!"}]
[null,null,"-","Pas. Nok Atap",{"$nulls":8},{"$f":"#REF!","v":{"$error":"#REF!"}},{"$f":"#REF!","v":{"$error":"#REF!"}},"A.4.9.0",{"$f":"VLOOKUP(O564,#REF!,3,FALSE)","v":{"$error":"#REF!"}},{"$error":"#REF!"}]
[null,null,"-","Pas. Listplank",{"$nulls":8},{"$f":"#REF!","v":{"$error":"#REF!"}},{"$f":"#REF!","v":{"$error":"#REF!"}},"A.4.7.0",{"$f":"VLOOKUP(O565,#REF!,3,FALSE)","v":{"$error":"#REF!"}},{"$error":"#REF!"}]
[null,null,"-","Pas. Talang",{"$nulls":8},{"$f":"#REF!","v":{"$error":"#REF!"}},{"$f":"#REF!","v":{"$error":"#REF!"}},"A.5.7.0",{"$f":"VLOOKUP(O566,#REF!,3,FALSE)","v":{"$error":"#REF!"}},{"$error":"#REF!"}]
[null,12,"Pek. Plat Lantai"]
[null,null,"-","Beton",{"$nulls":8},{"$f":"#REF!","v":{"$error":"#REF!"}},"M3","A.3.1.0",{"$f":"VLOOKUP(O568,#REF!,3,FALSE)","v":{"$error":"#REF!"}},{"$error":"#REF!"}]
[null,null,"-","Pasir Urug",{"$nulls":8},{"$f":"#REF!","v":{"$error":"#REF!"}},"M3","A.1.9.0",{"$f":"VLOOKUP(O569,#REF!,3,FALSE)","v":{"$error":"#REF!"}},{"$error":"#REF!"}]
[null,null,"-","Wiremash M-6 (1 Layer)",{"$nulls":8},{"$f":"#REF!","v":{"$error":"#REF!"}},{"$f":"#REF!","v":{"$error":"#REF!"}},"A.3.2.1",{"$f":"VLOOKUP(O570,#REF!,3,FALSE)","v":{"$error":"#REF!"}},{"$error":"#REF!"}]
[null,13,"Pekerjaan Ram Disable"]
[null,"a","Beam Sloof "]
[null,null,"-","Beton",{"$nulls":8},{"$f":"#REF!","v":{"$error":"#REF!"}},{"$f":"#REF!","v":{"$error":"#REF!"}},"A.3.1.0",{"$f":"VLOOKUP(O573,#REF!,3,FALSE)","v":{"$error":"#REF!"}},{"$error":"#REF!"}]
[null,null,"-","Pembesian ",{"$nulls":8},{"$f":"#REF!","v":{"$error":"#REF!"}},{"$f":"#REF!","v":{"$error":"#REF!"}},"A.3.2.0",{"$f":"VLOOKUP(O574,#REF!,3,FALSE)","v":{"$error":"#REF!"}},{"$error":"#REF!"}]
[null,null,"-","Bekisting ",{"$nulls":8},{"$f":"#REF!","v":{"$error":"#REF!"}},{"$f":"#REF!","v":{"$error":"#REF!"}},"A.3.5.0",{"$f":"VLOOKUP(O575,#REF!,3,FALSE)","v":{"$error":"#REF!"}},{"$error":"#REF!"}]
[null,"b","Plat Lantai",{"$nulls":13},0]
[null,null,"-","Beton",{"$nulls":8},{"$f":"#REF!","v":{"$error":"#REF!"}},{"$f":"#REF!","v":{"$error":"#REF!"}},"A.3.1.0",{"$f":"VLOOKUP(O577,#REF!,3,FALSE)","v":{"$error":"#REF!"}},{"$error":"#REF!"}]
[null,null,"-","Wiremash M-6 (1layer)",{"$nulls":8},{"$f":"#REF!","v":{"$error":"#REF!"}},{"$f":"#REF!","v":{"$error":"#REF!"}},"A.3.2.1",{"$f":"VLOOKUP(O578,#REF!,3,FALSE)","v":{"$error":"#REF!"}},{"$error":"#REF!"}]
[null,null,"-","Pasir Urug",{"$nulls":8},{"$f":"#REF!","v":{"$error":"#REF!"}},null,"A.1.9.0",{"$f":"VLOOKUP(O579,#REF!,3,FALSE)","v":{"$error":"#REF!"}},{"$error":"#REF!"}]
[null,"c","Disable Parking",{"$nulls":13},0]
[null,null,"-","Beton",{"$nulls":8},{"$f":"#REF!","v":{"$error":"#REF!"}},{"$f":"#REF!","v":{"$error":"#REF!"}},"A.3.1.0",{"$f":"VLOOKUP(O581,#REF!,3,FALSE)","v":{"$error":"#REF!"}},{"$error":"#REF!"}]
[null,null,"-","Wiremash M-6 (1layer)",{"$nulls":8},{"$f":"#REF!","v":{"$error":"#REF!"}},{"$f":"#REF!","v":{"$error":"#REF!"}},"A.3.2.1",{"$f":"VLOOKUP(O582,#REF!,3,FALSE)","v":{"$error":"#REF!"}},{"$error":"#REF!"}]
[null,null,"-","Pasir Urug",{"$nulls":8},{"$f":"#REF!","v":{"$error":"#REF!"}},{"$f":"#REF!","v":{"$error":"#REF!"}},"A.1.9.0",{"$f":"VLOOKUP(O583,#REF!,3,FALSE)","v":{"$error":"#REF!"}},{"$error":"#REF!"}]
[null,"C","Pekerjaan Arsitektur",{"$nulls":13},0]
[null,1,"Pas. Dinding Hebel t.10",{"$nulls":9},{"$f":"#REF!","v":{"$error":"#REF!"}},{"$f":"#REF!","v":{"$error":"#REF!"}},"A.2.7.0",{"$f":"VLOOKUP(O585,#REF!,3,FALSE)","v":{"$error":"#REF!"}},{"$error":"#REF!"}]
[null,2,"Pek. Plesteran",{"$nulls":9},{"$f":"#REF!","v":{"$error":"#REF!"}},{"$f":"#REF!","v":{"$error":"#REF!"}},"A.2.8.0",{"$f":"VLOOKUP(O586,#REF!,3,FALSE)","v":{"$error":"#REF!"}},{"$error":"#REF!"}]
[null,3,"Pek. Acian",{"$nulls":9},{"$f":"#REF!","v":{"$error":"#REF!"}},{"$f":"#REF!","v":{"$error":"#REF!"}},"A.2.9.0",{"$f":"VLOOKUP(O587,#REF!,3,FALSE)","v":{"$error":"#REF!"}},{"$error":"#REF!"}]
[null,4,"Pas. Kusen AD-01 + Assesories",{"$nulls":9},{"$f":"#REF!","v":{"$error":"#REF!"}},{"$f":"#REF!","v":{"$error":"#REF!"}},"AD.01",{"$f":"VLOOKUP(O588,#REF!,3,FALSE)","v":{"$error":"#REF!"}},{"$error":"#REF!"}]
[null,6,"Pas. Kusen AD-04 + Assesories",{"$nulls":9},{"$f":"#REF!","v":{"$error":"#REF!"}},{"$f":"#REF!","v":{"$error":"#REF!"}},"AD.04",{"$f":"VLOOKUP(O589,#REF!,3,FALSE)","v":{"$error":"#REF!"}},{"$error":"#REF!"}]
[null,8,"Pas. Kusen AW-02 + Assesories",{"$nulls":9},{"$f":"#REF!","v":{"$error":"#REF!"}},{"$f":"#REF!","v":{"$error":"#REF!"}},"AW.02",{"$f":"VLOOKUP(O590,#REF!,3,FALSE)","v":{"$error":"#REF!"}},{"$error":"#REF!"}]
[null,9,"Pas. Kusen BV-01 + Assesories",{"$nulls":9},{"$f":"#REF!","v":{"$error":"#REF!"}},{"$f":"#REF!","v":{"$error":"#REF!"}},"BV.01",{"$f":"VLOOKUP(O591,#REF!,3,FALSE)","v":{"$error":"#REF!"}},{"$error":"#REF!"}]
[null,10,"Pas. Variasi grill/louvre",{"$nulls":9},{"$f":"#REF!","v":{"$error":"#REF!"}},{"$f":"#REF!","v":{"$error":"#REF!"}},"A.6.0.0",{"$f":"VLOOKUP(O592,#REF!,3,FALSE)","v":{"$error":"#REF!"}},{"$error":"#REF!"}]
[null,11,"Pas. Plafond Gypsum + Rangka",{"$nulls":9},{"$f":"#REF!","v":{"$error":"#REF!"}},{"$f":"#REF!","v":{"$error":"#REF!"}},"A.4.6.0",{"$f":"VLOOKUP(O593,#REF!,3,FALSE)","v":{"$error":"#REF!"}},{"$f":"M593*P593","v":{"$error":"#REF!"}}]
[null,12,"Pas. Plafond GRC + Rangka",{"$nulls":9},{"$f":"#REF!","v":{"$error":"#REF!"}},{"$f":"#REF!","v":{"$error":"#REF!"}},"A.4.5.0",{"$f":"VLOOKUP(O594,#REF!,3,FALSE)","v":{"$error":"#REF!"}},{"$error":"#REF!"}]
[null,13,"Pas. Keramik 60/60",{"$nulls":9},{"$f":"#REF!","v":{"$error":"#REF!"}},{"$f":"#REF!","v":{"$error":"#REF!"}},"A.7.0.0",{"$f":"VLOOKUP(O595,#REF!,3,FALSE)","v":{"$error":"#REF!"}},{"$error":"#REF!"}]
[null,14,"Pas. Keramik 60/60 Anti Slip",{"$nulls":9},{"$f":"#REF!","v":{"$error":"#REF!"}},{"$f":"#REF!","v":{"$error":"#REF!"}},"A.7.0.0",{"$f":"VLOOKUP(O596,#REF!,3,FALSE)","v":{"$error":"#REF!"}},{"$error":"#REF!"}]
[null,15,"Pas. Keramik 25/25",{"$nulls":9},{"$f":"#REF!","v":{"$error":"#REF!"}},{"$f":"#REF!","v":{"$error":"#REF!"}},"A.6.7.1",{"$f":"VLOOKUP(O597,#REF!,3,FALSE)","v":{"$error":"#REF!"}},{"$f":"M597*P597","v":{"$error":"#REF!"}}]
[null,16,"Pas. Dinding Keramik 25/50",{"$nulls":9},{"$f":"#REF!","v":{"$error":"#REF!"}},{"$f":"#REF!","v":{"$error":"#REF!"}},"A.7.0.2",{"$f":"VLOOKUP(O598,#REF!,3,FALSE)","v":{"$error":"#REF!"}},{"$error":"#REF!"}]
[null,17,"Plint Lantai t 10",{"$nulls":9},{"$f":"#REF!","v":{"$error":"#REF!"}},{"$f":"#REF!","v":{"$error":"#REF!"}},"A.7.0.1",{"$f":"VLOOKUP(O599,#REF!,3,FALSE)","v":{"$error":"#REF!"}},{"$error":"#REF!"}]
[null,18,"Pekerjaan Pengecatan Dinding Interior Jotun Majectic",{"$nulls":9},{"$f":"#REF!","v":{"$error":"#REF!"}},{"$f":"#REF!","v":{"$error":"#REF!"}},"A.7.3.0",{"$f":"VLOOKUP(O600,#REF!,3,FALSE)","v":{"$error":"#REF!"}},{"$error":"#REF!"}]
[null,19,"Pekerjaan Pengecatan DInding Eksterior Dulux Wheatershield",{"$nulls":9},{"$f":"#REF!","v":{"$error":"#REF!"}},{"$f":"#REF!","v":{"$error":"#REF!"}},"A.7.2.0",{"$f":"VLOOKUP(O601,#REF!,3,FALSE)","v":{"$error":"#REF!"}},{"$error":"#REF!"}]
[null,20,"Pekerjaan Pengecatan Plafond vinilex",{"$nulls":9},{"$f":"#REF!","v":{"$error":"#REF!"}},{"$f":"#REF!","v":{"$error":"#REF!"}},"A.7.5.0",{"$f":"VLOOKUP(O602,#REF!,3,FALSE)","v":{"$error":"#REF!"}},{"$error":"#REF!"}]
[null,21,"Pas. Closet Duduk",{"$nulls":9},{"$f":"#REF!","v":{"$error":"#REF!"}},{"$f":"#REF!","v":{"$error":"#REF!"}},"A.5.0.0",{"$f":"VLOOKUP(O603,#REF!,3,FALSE)","v":{"$error":"#REF!"}},{"$error":"#REF!"}]
[null,22,"Pas. Wastafel",{"$nulls":9},{"$f":"#REF!","v":{"$error":"#REF!"}},{"$f":"#REF!","v":{"$error":"#REF!"}},"A.5.3.0",{"$f":"VLOOKUP(O604,#REF!,3,FALSE)","v":{"$error":"#REF!"}},{"$error":"#REF!"}]
[null,23,"Pas. Floor Drain",{"$nulls":9},{"$f":"#REF!","v":{"$error":"#REF!"}},{"$f":"#REF!","v":{"$error":"#REF!"}},"A.5.5.0",{"$f":"VLOOKUP(O605,#REF!,3,FALSE)","v":{"$error":"#REF!"}},{"$error":"#REF!"}]
[null,24,"Pas. Kran Air",{"$nulls":9},{"$f":"#REF!","v":{"$error":"#REF!"}},{"$f":"#REF!","v":{"$error":"#REF!"}},"A.5.4.0",{"$f":"VLOOKUP(O606,#REF!,3,FALSE)","v":{"$error":"#REF!"}},{"$error":"#REF!"}]
[null,25,"Pas. Handrail ",{"$nulls":9},{"$f":"#REF!","v":{"$error":"#REF!"}},{"$f":"#REF!","v":{"$error":"#REF!"}},null,500000,{"$error":"#REF!"}]
[null,26,"Pas. Ralliing Door",{"$nulls":9},{"$f":"#REF!","v":{"$error":"#REF!"}},{"$f":"#REF!","v":{"$error":"#REF!"}},"ROLL",{"$f":"VLOOKUP(O608,#REF!,3,FALSE)","v":{"$error":"#REF!"}},{"$error":"#REF!"}]
[null,27,"Pek. Pemasangan ACP",{"$nulls":9},{"$f":"#REF!","v":{"$error":"#REF!"}},{"$f":"#REF!","v":{"$error":"#REF!"}},"A.6.1.0",{"$f":"VLOOKUP(O609,#REF!,3,FALSE)","v":{"$error":"#REF!"}},{"$error":"#REF!"}]
[null,28,"Pek. Tangga"]
[null,null,"-","Beton",{"$nulls":8},{"$f":"#REF!","v":{"$error":"#REF!"}},{"$f":"#REF!","v":{"$error":"#REF!"}},"A.3.1.0",{"$f":"VLOOKUP(O611,#REF!,3,FALSE)","v":{"$error":"#REF!"}},{"$error":"#REF!"}]
[null,29,"Pek. Balok Latei"]
[null,null,"-","Beton",{"$nulls":8},{"$f":"#REF!","v":{"$error":"#REF!"}},"M3","A.3.1.0",{"$f":"VLOOKUP(O613,#REF!,3,FALSE)","v":{"$error":"#REF!"}},{"$error":"#REF!"}]
[null,null,"-","Pembesian",{"$nulls":8},{"$f":"#REF!","v":{"$error":"#REF!"}},"Kg","A.3.2.0",{"$f":"VLOOKUP(O614,#REF!,3,FALSE)","v":{"$error":"#REF!"}},{"$error":"#REF!"}]
[null,null,"-","Bekisting",{"$nulls":8},{"$f":"#REF!","v":{"$error":"#REF!"}},"M2","A.3.7.0",{"$f":"VLOOKUP(O615,#REF!,3,FALSE)","v":{"$error":"#REF!"}},{"$error":"#REF!"}]
[]
[null,"VIII.","PEMBANGUNAN RPS BISNIS DARING",{"$nulls":14},{"$f":"SUM(Q619:Q712)","v":{"$error":"#REF!"}}]
[null,"A","Pekerjaan Tanah dan Pondasi"]
[null,1,"Pembersihan Lapangan",{"$nulls":9},{"$f":"#REF!","v":{"$error":"#REF!"}},{"$f":"#REF!","v":{"$error":"#REF!"}},"A.1.2.1",{"$f":"VLOOKUP(O619,#REF!:#REF!,3,)","v":{"$error":"#REF!"}},{"$error":"#REF!"}]
[null,2,"Pagar Pengaman Proyek, t = 2m",{"$nulls":9},{"$f":"#REF!","v":{"$error":"#REF!"}},{"$f":"#REF!","v":{"$error":"#REF!"}},"A.1.1.0",{"$f":"VLOOKUP(O620,#REF!:#REF!,3,)","v":{"$error":"#REF!"}},{"$error":"#REF!"}]
[null,3,"Pas. Bouwplank",{"$nulls":9},{"$f":"#REF!","v":{"$error":"#REF!"}},{"$f":"#REF!","v":{"$error":"#REF!"}},"A.1.2.0",{"$f":"VLOOKUP(O621,#REF!:#REF!,3,)","v":{"$error":"#REF!"}},{"$error":"#REF!"}]
[null,4,"Pek. Anti Rayap",{"$nulls":9},{"$f":"#REF!","v":{"$error":"#REF!"}},{"$f":"#REF!","v":{"$error":"#REF!"}},null,20000,{"$error":"#REF!"}]
[null,null,"Pek. Galian Tanah ",{"$nulls":9},{"$f":"#REF!","v":{"$error":"#REF!"}},"M3","A.1.5.0",{"$f":"VLOOKUP(O623,#REF!:#REF!,3,)","v":{"$error":"#REF!"}},{"$error":"#REF!"}]
[null,6,"Urug Tanah Kembali",{"$nulls":9},{"$f":"#REF!","v":{"$error":"#REF!"}},{"$f":"#REF!","v":{"$error":"#REF!"}},"A.1.7.0",{"$f":"VLOOKUP(O624,#REF!:#REF!,3,)","v":{"$error":"#REF!"}},{"$error":"#REF!"}]
[null,7,"Pas. Pasir Urug",{"$nulls":9},{"$f":"#REF!","v":{"$error":"#REF!"}},{"$f":"#REF!","v":{"$error":"#REF!"}},"A.1.9.0",{"$f":"VLOOKUP(O625,#REF!:#REF!,3,)","v":{"$error":"#REF!"}},{"$error":"#REF!"}]
[null,8,"Pas. Lantai Kerja",{"$nulls":9},{"$f":"#REF!","v":{"$error":"#REF!"}},{"$f":"#REF!","v":{"$error":"#REF!"}},"A.3.0.0",{"$f":"VLOOKUP(O626,#REF!:#REF!,3,)","v":{"$error":"#REF!"}},{"$error":"#REF!"}]
[null,9,"Pas. Pondasi Batu Kosong (Aastamping)",{"$nulls":9},{"$f":"#REF!","v":{"$error":"#REF!"}},{"$f":"#REF!","v":{"$error":"#REF!"}},"A.2.2.0",{"$f":"VLOOKUP(O627,#REF!:#REF!,3,)","v":{"$error":"#REF!"}},{"$error":"#REF!"}]
[null,10,"Pas. Pondasi Batu Kali",{"$nulls":9},{"$f":"#REF!","v":{"$error":"#REF!"}},{"$f":"#REF!","v":{"$error":"#REF!"}},"A.2.3.0",{"$f":"VLOOKUP(O628,#REF!:#REF!,3,)","v":{"$error":"#REF!"}},{"$error":"#REF!"}]
[null,"B","Pekerjaan Struktur"]
[null,1,"Pas. Pondasi Tapak"]
[null,null,"-","Beton",{"$nulls":8},{"$f":"#REF!","v":{"$error":"#REF!"}},{"$f":"#REF!","v":{"$error":"#REF!"}},"A.3.3.0",{"$f":"VLOOKUP(O631,#REF!:#REF!,3,)","v":{"$error":"#REF!"}},{"$error":"#REF!"}]
[null,null,"-","Pembesian",{"$nulls":8},{"$f":"#REF!","v":{"$error":"#REF!"}},{"$f":"#REF!","v":{"$error":"#REF!"}},"A.3.2.0",{"$f":"VLOOKUP(O632,#REF!:#REF!,3,)","v":{"$error":"#REF!"}},{"$error":"#REF!"}]
[null,null,"-","Bekisting Pondasi",{"$nulls":8},{"$f":"#REF!","v":{"$error":"#REF!"}},{"$f":"#REF!","v":{"$error":"#REF!"}},"A.3.4.0",{"$f":"VLOOKUP(O633,#REF!:#REF!,3,)","v":{"$error":"#REF!"}},{"$error":"#REF!"}]
[null,null,"Pas. Kolom Pedestal FP 1"]
[null,null,"-","Beton",{"$nulls":8},{"$f":"#REF!","v":{"$error":"#REF!"}},{"$f":"#REF!","v":{"$error":"#REF!"}},"A.3.3.0",{"$f":"VLOOKUP(O635,#REF!:#REF!,3,)","v":{"$error":"#REF!"}},{"$error":"#REF!"}]
[null,null,"-","Pembesian",{"$nulls":8},{"$f":"#REF!","v":{"$error":"#REF!"}},{"$f":"#REF!","v":{"$error":"#REF!"}},"A.3.2.0",{"$f":"VLOOKUP(O636,#REF!:#REF!,3,)","v":{"$error":"#REF!"}},{"$error":"#REF!"}]
[null,null,"-","Bekisting Kolom",{"$nulls":8},{"$f":"#REF!","v":{"$error":"#REF!"}},{"$f":"#REF!","v":{"$error":"#REF!"}},"A.3.4.0",{"$f":"VLOOKUP(O637,#REF!:#REF!,3,)","v":{"$error":"#REF!"}},{"$error":"#REF!"}]
[null,3,"Pas. Kolom Pedestal FP 2"]
[null,null,"-","Beton",{"$nulls":8},{"$f":"#REF!","v":{"$error":"#REF!"}},{"$f":"#REF!","v":{"$error":"#REF!"}},"A.3.3.0",{"$f":"VLOOKUP(O639,#REF!:#REF!,3,)","v":{"$error":"#REF!"}},{"$error":"#REF!"}]
[null,null,"-","Pembesian",{"$nulls":8},{"$f":"#REF!","v":{"$error":"#REF!"}},{"$f":"#REF!","v":{"$error":"#REF!"}},"A.3.2.0",{"$f":"VLOOKUP(O640,#REF!:#REF!,3,)","v":{"$error":"#REF!"}},{"$error":"#REF!"}]
[null,null,"-","Bekisting Kolom",{"$nulls":8},{"$f":"#REF!","v":{"$error":"#REF!"}},{"$f":"#REF!","v":{"$error":"#REF!"}},"A.3.4.0",{"$f":"VLOOKUP(O641,#REF!:#REF!,3,)","v":{"$error":"#REF!"}},{"$error":"#REF!"}]
[null,4,"Pas. Kolom Pedestal FP 3"]
[null,null,"-","Beton",{"$nulls":8},{"$f":"#REF!","v":{"$error":"#REF!"}},{"$f":"#REF!","v":{"$error":"#REF!"}},"A.3.3.0",{"$f":"VLOOKUP(O643,#REF!:#REF!,3,)","v":{"$error":"#REF!"}},{"$error":"#REF!"}]
[null,null,"-","Pembesian",{"$nulls":8},{"$f":"#REF!","v":{"$error":"#REF!"}},{"$f":"#REF!","v":{"$error":"#REF!"}},"A.3.2.0",{"$f":"VLOOKUP(O644,#REF!:#REF!,3,)","v":{"$error":"#REF!"}},{"$error":"#REF!"}]
[null,null,"-","Bekisting Kolom",{"$nulls":8},{"$f":"#REF!","v":{"$error":"#REF!"}},{"$f":"#REF!","v":{"$error":"#REF!"}},"A.3.4.0",{"$f":"VLOOKUP(O645,#REF!:#REF!,3,)","v":{"$error":"#REF!"}},{"$error":"#REF!"}]
[null,5,"Pek. Tie Beam SL-01"]
[null,null,"-","Beton",{"$nulls":8},{"$f":"#REF!","v":{"$error":"#REF!"}},{"$f":"#REF!","v":{"$error":"#REF!"}},"A.3.3.0",{"$f":"VLOOKUP(O647,#REF!:#REF!,3,)","v":{"$error":"#REF!"}},{"$error":"#REF!"}]
[null,null,"-","Pembesian",{"$nulls":8},{"$f":"#REF!","v":{"$error":"#REF!"}},{"$f":"#REF!","v":{"$error":"#REF!"}},"A.3.2.0",{"$f":"VLOOKUP(O648,#REF!:#REF!,3,)","v":{"$error":"#REF!"}},{"$error":"#REF!"}]
[null,null,"-","Bekisting Tie Beam",{"$nulls":8},{"$f":"#REF!","v":{"$error":"#REF!"}},{"$f":"#REF!","v":{"$error":"#REF!"}},"A.3.5.0",{"$f":"VLOOKUP(O649,#REF!:#REF!,3,)","v":{"$error":"#REF!"}},{"$error":"#REF!"}]
[null,6,"Pek. Kolom K-01"]
[null,null,"-","Beton",{"$nulls":8},{"$f":"#REF!","v":{"$error":"#REF!"}},{"$f":"#REF!","v":{"$error":"#REF!"}},"A.3.3.0",{"$f":"VLOOKUP(O651,#REF!:#REF!,3,)","v":{"$error":"#REF!"}},{"$error":"#REF!"}]
[null,null,"-","Pembesian",{"$nulls":8},{"$f":"#REF!","v":{"$error":"#REF!"}},{"$f":"#REF!","v":{"$error":"#REF!"}},"A.3.2.0",{"$f":"VLOOKUP(O652,#REF!:#REF!,3,)","v":{"$error":"#REF!"}},{"$error":"#REF!"}]
[null,null,"-","Bekisting Kolom",{"$nulls":8},{"$f":"#REF!","v":{"$error":"#REF!"}},{"$f":"#REF!","v":{"$error":"#REF!"}},"A.3.6.0",{"$f":"VLOOKUP(O653,#REF!:#REF!,3,)","v":{"$error":"#REF!"}},{"$error":"#REF!"}]
[null,7,"Pek. Kolom K-02"]
[null,null,"-","Beton",{"$nulls":8},{"$f":"#REF!","v":{"$error":"#REF!"}},{"$f":"#REF!","v":{"$error":"#REF!"}},"A.3.3.0",{"$f":"VLOOKUP(O655,#REF!:#REF!,3,)","v":{"$error":"#REF!"}},{"$f":"M655*P655","v":{"$error":"#REF!"}}]
[null,null,"-","Pembesian",{"$nulls":8},{"$f":"#REF!","v":{"$error":"#REF!"}},{"$f":"#REF!","v":{"$error":"#REF!"}},"A.3.2.0",{"$f":"VLOOKUP(O656,#REF!:#REF!,3,)","v":{"$error":"#REF!"}},{"$error":"#REF!"}]
[null,null,"-","Bekisting Kolom",{"$nulls":8},{"$f":"#REF!","v":{"$error":"#REF!"}},{"$f":"#REF!","v":{"$error":"#REF!"}},"A.3.6.0",{"$f":"VLOOKUP(O657,#REF!:#REF!,3,)","v":{"$error":"#REF!"}},{"$error":"#REF!"}]
[null,8,"Pek. Kolom K-03"]
[null,null,"-","Beton",{"$nulls":8},{"$f":"#REF!","v":{"$error":"#REF!"}},{"$f":"#REF!","v":{"$error":"#REF!"}},"A.3.3.0",{"$f":"VLOOKUP(O659,#REF!:#REF!,3,)","v":{"$error":"#REF!"}},{"$error":"#REF!"}]
[null,null,"-","Pembesian",{"$nulls":8},{"$f":"#REF!","v":{"$error":"#REF!"}},{"$f":"#REF!","v":{"$error":"#REF!"}},"A.3.2.0",{"$f":"VLOOKUP(O660,#REF!:#REF!,3,)","v":{"$error":"#REF!"}},{"$error":"#REF!"}]
[null,null,"-","Bekisting Kolom",{"$nulls":8},{"$f":"#REF!","v":{"$error":"#REF!"}},{"$f":"#REF!","v":{"$error":"#REF!"}},"A.3.6.0",{"$f":"VLOOKUP(O661,#REF!:#REF!,3,)","v":{"$error":"#REF!"}},{"$error":"#REF!"}]
[null,9,"Pek. Ring Balok RB-01"]
[null,null,"-","Beton",{"$nulls":8},{"$f":"#REF!","v":{"$error":"#REF!"}},{"$f":"#REF!","v":{"$error":"#REF!"}},"A.3.3.0",{"$f":"VLOOKUP(O663,#REF!:#REF!,3,)","v":{"$error":"#REF!"}},{"$error":"#REF!"}]
[null,null,"-","Pembesian",{"$nulls":8},{"$f":"#REF!","v":{"$error":"#REF!"}},{"$f":"#REF!","v":{"$error":"#REF!"}},"A.3.2.0",{"$f":"VLOOKUP(O664,#REF!:#REF!,3,)","v":{"$error":"#REF!"}},{"$error":"#REF!"}]
[null,null,"-","Bekisting Balok",{"$nulls":8},{"$f":"#REF!","v":{"$error":"#REF!"}},{"$f":"#REF!","v":{"$error":"#REF!"}},"A.3.7.0",{"$f":"VLOOKUP(O665,#REF!:#REF!,3,)","v":{"$error":"#REF!"}},{"$error":"#REF!"}]
[null,10,"Pekerjaan Atap"]
[null,null,"-","Pas. Kuda-kuda Baja Ringan",{"$nulls":8},{"$f":"#REF!","v":{"$error":"#REF!"}},{"$f":"#REF!","v":{"$error":"#REF!"}},"A.4.3.0",{"$f":"VLOOKUP(O667,#REF!:#REF!,3,)","v":{"$error":"#REF!"}},{"$error":"#REF!"}]
[null,null,"-","Pas. Penutup Atap",{"$nulls":8},{"$f":"#REF!","v":{"$error":"#REF!"}},{"$f":"#REF!","v":{"$error":"#REF!"}},"A.4.8.0",{"$f":"VLOOKUP(O668,#REF!:#REF!,3,)","v":{"$error":"#REF!"}},{"$error":"#REF!"}]
[null,null,"-","Pas. Nok Atap",{"$nulls":8},{"$f":"#REF!","v":{"$error":"#REF!"}},{"$f":"#REF!","v":{"$error":"#REF!"}},"A.4.9.0",{"$f":"VLOOKUP(O669,#REF!:#REF!,3,)","v":{"$error":"#REF!"}},{"$error":"#REF!"}]
[null,null,"-","Pas. Listplank",{"$nulls":8},{"$f":"#REF!","v":{"$error":"#REF!"}},{"$f":"#REF!","v":{"$error":"#REF!"}},"A.4.7.0",{"$f":"VLOOKUP(O670,#REF!:#REF!,3,)","v":{"$error":"#REF!"}},{"$error":"#REF!"}]
[null,null,"-","Pas. Talang",{"$nulls":8},{"$f":"#REF!","v":{"$error":"#REF!"}},{"$f":"#REF!","v":{"$error":"#REF!"}},"A.5.7.0",{"$f":"VLOOKUP(O671,#REF!:#REF!,3,)","v":{"$error":"#REF!"}},{"$error":"#REF!"}]
[null,11,"Pek. Plat Lantai"]
[null,null,"-","Beton",{"$nulls":8},{"$f":"#REF!","v":{"$error":"#REF!"}},"M3","A.3.1.0",{"$f":"VLOOKUP(O673,#REF!:#REF!,3,)","v":{"$error":"#REF!"}},{"$error":"#REF!"}]
[null,null,"-","Pasir Urug",{"$nulls":8},{"$f":"#REF!","v":{"$error":"#REF!"}},{"$f":"#REF!","v":{"$error":"#REF!"}},"A.1.9.0",{"$f":"VLOOKUP(O674,#REF!:#REF!,3,)","v":{"$error":"#REF!"}},{"$error":"#REF!"}]
[null,null,"-","Wiremash M-6 (1 Layer)",{"$nulls":8},{"$f":"#REF!","v":{"$error":"#REF!"}},{"$f":"#REF!","v":{"$error":"#REF!"}},"A.3.2.1",{"$f":"VLOOKUP(O675,#REF!:#REF!,3,)","v":{"$error":"#REF!"}},{"$error":"#REF!"}]
[null,12,"Pekerjaan Ram Pengangkutan Barang"]
[null,"b","Plat Lantai"]
[null,null,"-","Beton",{"$nulls":8},{"$f":"#REF!","v":{"$error":"#REF!"}},{"$f":"#REF!","v":{"$error":"#REF!"}},"A.3.1.0",{"$f":"VLOOKUP(O678,#REF!:#REF!,3,)","v":{"$error":"#REF!"}},{"$error":"#REF!"}]
[null,null,"-","Wiremash M-6 (1layer)",{"$nulls":8},{"$f":"#REF!","v":{"$error":"#REF!"}},{"$f":"#REF!","v":{"$error":"#REF!"}},"A.3.2.1",{"$f":"VLOOKUP(O679,#REF!:#REF!,3,)","v":{"$error":"#REF!"}},{"$error":"#REF!"}]
[null,null,"-","Pasir Urug",{"$nulls":8},{"$f":"#REF!","v":{"$error":"#REF!"}},"M3","A.1.9.0",{"$f":"VLOOKUP(O680,#REF!:#REF!,3,)","v":{"$error":"#REF!"}},{"$error":"#REF!"}]
[null,"C","Pekerjaan Arsitektur"]
[null,1,"Pas. Dinding Hebel t.10",{"$nulls":9},{"$f":"#REF!","v":{"$error":"#REF!"}},{"$f":"#REF!","v":{"$error":"#REF!"}},"A.2.7.0",{"$f":"VLOOKUP(O682,#REF!:#REF!,3,)","v":{"$error":"#REF!"}},{"$error":"#REF!"}]
[null,2,"Pek. Plesteran",{"$nulls":9},{"$f":"#REF!","v":{"$error":"#REF!"}},{"$f":"#REF!","v":{"$error":"#REF!"}},"A.2.8.0",{"$f":"VLOOKUP(O683,#REF!:#REF!,3,)","v":{"$error":"#REF!"}},{"$error":"#REF!"}]
[null,3,"Pek. Acian",{"$nulls":9},{"$f":"#REF!","v":{"$error":"#REF!"}},{"$f":"#REF!","v":{"$error":"#REF!"}},"A.2.9.0",{"$f":"VLOOKUP(O684,#REF!:#REF!,3,)","v":{"$error":"#REF!"}},{"$error":"#REF!"}]
[null,4,"Pas. Kusen AD-01 + Assesories",{"$nulls":9},{"$f":"#REF!","v":{"$error":"#REF!"}},{"$f":"#REF!","v":{"$error":"#REF!"}},"AD.01",{"$f":"VLOOKUP(O685,#REF!:#REF!,3,)","v":{"$error":"#REF!"}},{"$error":"#REF!"}]
[null,5,"Pas. Kusen AD-04 + Assesories",{"$nulls":9},{"$f":"#REF!","v":{"$error":"#REF!"}},{"$f":"#REF!","v":{"$error":"#REF!"}},"AD.04",{"$f":"VLOOKUP(O686,#REF!:#REF!,3,)","v":{"$error":"#REF!"}},{"$error":"#REF!"}]
[null,6,"Pas. Kusen AW-01 + Assesories",{"$nulls":9},{"$f":"#REF!","v":{"$error":"#REF!"}},{"$f":"#REF!","v":{"$error":"#REF!"}},"AW.01",{"$f":"VLOOKUP(O687,#REF!:#REF!,3,)","v":{"$error":"#REF!"}},{"$error":"#REF!"}]
[null,7,"Pas. Kusen AD2 + Assesories",{"$nulls":9},{"$f":"#REF!","v":{"$error":"#REF!"}},{"$f":"#REF!","v":{"$error":"#REF!"}},"AD.02",{"$f":"VLOOKUP(O688,#REF!:#REF!,3,)","v":{"$error":"#REF!"}},{"$error":"#REF!"}]
[null,8,"Pas. Variasi grill/louvre",{"$nulls":9},{"$f":"#REF!","v":{"$error":"#REF!"}},{"$f":"#REF!","v":{"$error":"#REF!"}},"A.6.0.0",{"$f":"VLOOKUP(O689,#REF!:#REF!,3,)","v":{"$error":"#REF!"}},{"$error":"#REF!"}]
[null,9,"Pas. Plafond Gypsum + Rangka",{"$nulls":9},{"$f":"#REF!","v":{"$error":"#REF!"}},{"$f":"#REF!","v":{"$error":"#REF!"}},"A.4.6.0",{"$f":"VLOOKUP(O690,#REF!:#REF!,3,)","v":{"$error":"#REF!"}},{"$error":"#REF!"}]
[null,10,"Pas. Plafond GRC + Rangka",{"$nulls":9},{"$f":"#REF!","v":{"$error":"#REF!"}},{"$f":"#REF!","v":{"$error":"#REF!"}},"A.4.5.0",{"$f":"VLOOKUP(O691,#REF!:#REF!,3,)","v":{"$error":"#REF!"}},{"$error":"#REF!"}]
[null,11,"Pas. Keramik 60/60",{"$nulls":9},{"$f":"#REF!","v":{"$error":"#REF!"}},{"$f":"#REF!","v":{"$error":"#REF!"}},"A.7.0.0",{"$f":"VLOOKUP(O692,#REF!:#REF!,3,)","v":{"$error":"#REF!"}},{"$error":"#REF!"}]
[null,12,"Pas. Keramik 60/60 Anti Slip",{"$nulls":9},{"$f":"#REF!","v":{"$error":"#REF!"}},{"$f":"#REF!","v":{"$error":"#REF!"}},"A.7.0.0",{"$f":"VLOOKUP(O693,#REF!:#REF!,3,)","v":{"$error":"#REF!"}},{"$error":"#REF!"}]
[null,13,"Pas. Keramik 25/25",{"$nulls":9},{"$f":"#REF!","v":{"$error":"#REF!"}},{"$f":"#REF!","v":{"$error":"#REF!"}},"A.6.7.1",{"$f":"VLOOKUP(O694,#REF!:#REF!,3,)","v":{"$error":"#REF!"}},{"$error":"#REF!"}]
[null,14,"Pas. Dinding Keramik 25/50",{"$nulls":9},{"$f":"#REF!","v":{"$error":"#REF!"}},{"$f":"#REF!","v":{"$error":"#REF!"}},"A.7.0.2",{"$f":"VLOOKUP(O695,#REF!:#REF!,3,)","v":{"$error":"#REF!"}},{"$error":"#REF!"}]
[null,15,"-","Pas. Transram",{"$nulls":8},{"$f":"#REF!","v":{"$error":"#REF!"}},{"$f":"#REF!","v":{"$error":"#REF!"}},"A.2.8.0",{"$f":"VLOOKUP(O696,#REF!:#REF!,3,)","v":{"$error":"#REF!"}},{"$f":"M696*P696","v":{"$error":"#REF!"}}]
[null,16,"Pas. Plint Keramik t 10",{"$nulls":9},{"$f":"#REF!","v":{"$error":"#REF!"}},{"$f":"#REF!","v":{"$error":"#REF!"}},"A.7.0.1",{"$f":"VLOOKUP(O697,#REF!:#REF!,3,)","v":{"$error":"#REF!"}},{"$error":"#REF!"}]
[null,17,"Pekerjaan Pengecatan Dinding Interior Jotun Majectic",{"$nulls":9},{"$f":"#REF!","v":{"$error":"#REF!"}},{"$f":"#REF!","v":{"$error":"#REF!"}},"A.7.3.0",{"$f":"VLOOKUP(O698,#REF!:#REF!,3,)","v":{"$error":"#REF!"}},{"$error":"#REF!"}]
[null,18,"Pekerjaan Pengecatan DInding Eksterior Dulux Wheatershield",{"$nulls":9},{"$f":"#REF!","v":{"$error":"#REF!"}},{"$f":"#REF!","v":{"$error":"#REF!"}},"A.7.2.0",{"$f":"VLOOKUP(O699,#REF!:#REF!,3,)","v":{"$error":"#REF!"}},{"$error":"#REF!"}]
[null,19,"Pekerjaan Pengecatan Plafond vinilex",{"$nulls":9},{"$f":"#REF!","v":{"$error":"#REF!"}},{"$f":"#REF!","v":{"$error":"#REF!"}},"A.7.5.0",{"$f":"VLOOKUP(O700,#REF!:#REF!,3,)","v":{"$error":"#REF!"}},{"$error":"#REF!"}]
[null,20,"Pas. Closet Jongkok",{"$nulls":9},{"$f":"#REF!","v":{"$error":"#REF!"}},{"$f":"#REF!","v":{"$error":"#REF!"}},"A.5.1.0",{"$f":"VLOOKUP(O701,#REF!:#REF!,3,)","v":{"$error":"#REF!"}},{"$error":"#REF!"}]
[null,21,"Pas. Wastafel",{"$nulls":9},{"$f":"#REF!","v":{"$error":"#REF!"}},{"$f":"#REF!","v":{"$error":"#REF!"}},"A.5.3.0",{"$f":"VLOOKUP(O702,#REF!:#REF!,3,)","v":{"$error":"#REF!"}},{"$error":"#REF!"}]
[null,22,"Pas. Floor Drain",{"$nulls":9},{"$f":"#REF!","v":{"$error":"#REF!"}},{"$f":"#REF!","v":{"$error":"#REF!"}},"A.5.5.0",{"$f":"VLOOKUP(O703,#REF!:#REF!,3,)","v":{"$error":"#REF!"}},{"$error":"#REF!"}]
[null,23,"Pas. Ralling Door Pengangkut Barang",{"$nulls":9},{"$f":"#REF!","v":{"$error":"#REF!"}},{"$f":"#REF!","v":{"$error":"#REF!"}},"ROLL",{"$f":"VLOOKUP(O704,#REF!:#REF!,3,)","v":{"$error":"#REF!"}},{"$error":"#REF!"}]
[null,24,"Pas. Kran Air",{"$nulls":9},{"$f":"#REF!","v":{"$error":"#REF!"}},{"$f":"#REF!","v":{"$error":"#REF!"}},"A.5.4.0",{"$f":"VLOOKUP(O705,#REF!:#REF!,3,)","v":{"$error":"#REF!"}},{"$error":"#REF!"}]
[null,25,"Pek. Pemasangan ACP",{"$nulls":9},{"$f":"#REF!","v":{"$error":"#REF!"}},{"$f":"#REF!","v":{"$error":"#REF!"}},"A.6.1.0",{"$f":"VLOOKUP(O706,#REF!:#REF!,3,)","v":{"$error":"#REF!"}},{"$error":"#REF!"}]
[null,26,"Pek. Tangga"]
[null,null,"-","Beton",{"$nulls":8},{"$f":"#REF!","v":{"$error":"#REF!"}},{"$f":"#REF!","v":{"$error":"#REF!"}},"A.3.1.0",{"$f":"VLOOKUP(O708,#REF!:#REF!,3,)","v":{"$error":"#REF!"}},{"$error":"#REF!"}]
[null,27,"Pek. Balok Latei"]
[null,null,"-","Beton",{"$nulls":8},{"$f":"#REF!","v":{"$error":"#REF!"}},"M3","A.3.1.0",{"$f":"VLOOKUP(O710,#REF!:#REF!,3,)","v":{"$error":"#REF!"}},{"$error":"#REF!"}]
[null,null,"-","Pembesian",{"$nulls":8},{"$f":"#REF!","v":{"$error":"#REF!"}},"Kg","A.3.2.0",{"$f":"VLOOKUP(O711,#REF!:#REF!,3,)","v":{"$error":"#REF!"}},{"$error":"#REF!"}]
[null,null,"-","Bekisting ",{"$nulls":8},{"$f":"#REF!","v":{"$error":"#REF!"}},"M2","A.3.7.0",{"$f":"VLOOKUP(O712,#REF!:#REF!,3,)","v":{"$error":"#REF!"}},{"$error":"#REF!"}]
[]
[null,"IX.","PEMBANGUNAN RPS WISATA",{"$nulls":14},{"$f":"SUM(Q716:Q811)","v":{"$error":"#REF!"}}]
[null,"A","Pekerjaan Tanah dan Pondasi"]
[null,1,"Pembersihan Lapangan",{"$nulls":9},{"$f":"#REF!","v":{"$error":"#REF!"}},{"$f":"#REF!","v":{"$error":"#REF!"}},"A.1.2.1",{"$f":"VLOOKUP(O716,#REF!:#REF!,3,)","v":{"$error":"#REF!"}},{"$error":"#REF!"}]
[null,2,"Pagar Pengaman Proyek, t = 2m",{"$nulls":9},{"$f":"#REF!","v":{"$error":"#REF!"}},{"$f":"#REF!","v":{"$error":"#REF!"}},"A.1.1.0",{"$f":"VLOOKUP(O717,#REF!:#REF!,3,)","v":{"$error":"#REF!"}},{"$error":"#REF!"}]
[null,3,"Pas. Bouwplank",{"$nulls":9},{"$f":"#REF!","v":{"$error":"#REF!"}},{"$f":"#REF!","v":{"$error":"#REF!"}},"A.1.2.0",{"$f":"VLOOKUP(O718,#REF!:#REF!,3,)","v":{"$error":"#REF!"}},{"$error":"#REF!"}]
[null,4,"Pek. Anti Rayap",{"$nulls":9},{"$f":"#REF!","v":{"$error":"#REF!"}},{"$f":"#REF!","v":{"$error":"#REF!"}},null,20000,{"$error":"#REF!"}]
[null,5,"Pek. Galian Tanah ",{"$nulls":9},{"$f":"#REF!","v":{"$error":"#REF!"}},null,"A.1.5.0",{"$f":"VLOOKUP(O720,#REF!:#REF!,3,)","v":{"$error":"#REF!"}},{"$f":"M720*P720","v":{"$error":"#REF!"}}]
[null,6,"Urug Tanah Kembali",{"$nulls":9},{"$f":"#REF!","v":{"$error":"#REF!"}},{"$f":"#REF!","v":{"$error":"#REF!"}},"A.1.7.0",{"$f":"VLOOKUP(O721,#REF!:#REF!,3,)","v":{"$error":"#REF!"}},{"$f":"M721*P721","v":{"$error":"#REF!"}}]
[null,7,"Pas. Pasir Urug",{"$nulls":9},{"$f":"#REF!","v":{"$error":"#REF!"}},{"$f":"#REF!","v":{"$error":"#REF!"}},"A.1.9.0",{"$f":"VLOOKUP(O722,#REF!:#REF!,3,)","v":{"$error":"#REF!"}},{"$error":"#REF!"}]
[null,8,"Pas. Lantai Kerja",{"$nulls":9},{"$f":"#REF!","v":{"$error":"#REF!"}},{"$f":"#REF!","v":{"$error":"#REF!"}},"A.3.0.0",{"$f":"VLOOKUP(O723,#REF!:#REF!,3,)","v":{"$error":"#REF!"}},{"$error":"#REF!"}]
[null,9,"Pas. Pondasi Batu Kosong (Aastamping)",{"$nulls":9},{"$f":"#REF!","v":{"$error":"#REF!"}},{"$f":"#REF!","v":{"$error":"#REF!"}},"A.2.2.0",{"$f":"VLOOKUP(O724,#REF!:#REF!,3,)","v":{"$error":"#REF!"}},{"$error":"#REF!"}]
[null,10,"Pas. Pondasi Batu Kali",{"$nulls":9},{"$f":"#REF!","v":{"$error":"#REF!"}},{"$f":"#REF!","v":{"$error":"#REF!"}},"A.2.3.0",{"$f":"VLOOKUP(O725,#REF!:#REF!,3,)","v":{"$error":"#REF!"}},{"$error":"#REF!"}]
[null,"B","Pekerjaan Struktur"]
[null,1,"Pas. Pondasi Tapak"]
[null,null,"-","Beton",{"$nulls":8},{"$f":"#REF!","v":{"$error":"#REF!"}},{"$f":"#REF!","v":{"$error":"#REF!"}},"A.3.3.0",{"$f":"VLOOKUP(O728,#REF!:#REF!,3,)","v":{"$error":"#REF!"}},{"$error":"#REF!"}]
[null,null,"-","Pembesian",{"$nulls":8},{"$f":"#REF!","v":{"$error":"#REF!"}},{"$f":"#REF!","v":{"$error":"#REF!"}},"A.3.2.0",{"$f":"VLOOKUP(O729,#REF!:#REF!,3,)","v":{"$error":"#REF!"}},{"$error":"#REF!"}]
[null,null,"-","Bekisting Pondasi",{"$nulls":8},{"$f":"#REF!","v":{"$error":"#REF!"}},{"$f":"#REF!","v":{"$error":"#REF!"}},"A.3.4.0",{"$f":"VLOOKUP(O730,#REF!:#REF!,3,)","v":{"$error":"#REF!"}},{"$error":"#REF!"}]
[null,2,"Pas. Kolom Pedestal FP 1"]
[null,null,"-","Beton",{"$nulls":8},{"$f":"#REF!","v":{"$error":"#REF!"}},{"$f":"#REF!","v":{"$error":"#REF!"}},"A.3.3.0",{"$f":"VLOOKUP(O732,#REF!:#REF!,3,)","v":{"$error":"#REF!"}},{"$error":"#REF!"}]
[null,null,"-","Pembesian",{"$nulls":8},{"$f":"#REF!","v":{"$error":"#REF!"}},{"$f":"#REF!","v":{"$error":"#REF!"}},"A.3.2.0",{"$f":"VLOOKUP(O733,#REF!:#REF!,3,)","v":{"$error":"#REF!"}},{"$error":"#REF!"}]
[null,null,"-","Bekisting Kolom",{"$nulls":8},{"$f":"#REF!","v":{"$error":"#REF!"}},{"$f":"#REF!","v":{"$error":"#REF!"}},"A.3.4.0",{"$f":"VLOOKUP(O734,#REF!:#REF!,3,)","v":{"$error":"#REF!"}},{"$error":"#REF!"}]
[null,3,"Pas. Kolom Pedestal FP 2"]
[null,null,"-","Beton",{"$nulls":8},{"$f":"#REF!","v":{"$error":"#REF!"}},{"$f":"#REF!","v":{"$error":"#REF!"}},"A.3.3.0",{"$f":"VLOOKUP(O736,#REF!:#REF!,3,)","v":{"$error":"#REF!"}},{"$error":"#REF!"}]
[null,null,"-","Pembesian",{"$nulls":8},{"$f":"#REF!","v":{"$error":"#REF!"}},{"$f":"#REF!","v":{"$error":"#REF!"}},"A.3.2.0",{"$f":"VLOOKUP(O737,#REF!:#REF!,3,)","v":{"$error":"#REF!"}},{"$error":"#REF!"}]
[null,null,"-","Bekisting Kolom",{"$nulls":8},{"$f":"#REF!","v":{"$error":"#REF!"}},{"$f":"#REF!","v":{"$error":"#REF!"}},"A.3.4.0",{"$f":"VLOOKUP(O738,#REF!:#REF!,3,)","v":{"$error":"#REF!"}},{"$error":"#REF!"}]
[null,4,"Pas. Kolom Pedestal FP 3"]
[null,null,"-","Beton",{"$nulls":8},{"$f":"#REF!","v":{"$error":"#REF!"}},{"$f":"#REF!","v":{"$error":"#REF!"}},"A.3.3.0",{"$f":"VLOOKUP(O740,#REF!:#REF!,3,)","v":{"$error":"#REF!"}},{"$error":"#REF!"}]
[null,null,"-","Pembesian",{"$nulls":8},{"$f":"#REF!","v":{"$error":"#REF!"}},{"$f":"#REF!","v":{"$error":"#REF!"}},"A.3.2.0",{"$f":"VLOOKUP(O741,#REF!:#REF!,3,)","v":{"$error":"#REF!"}},{"$error":"#REF!"}]
[null,null,"-","Bekisting Kolom",{"$nulls":8},{"$f":"#REF!","v":{"$error":"#REF!"}},{"$f":"#REF!","v":{"$error":"#REF!"}},"A.3.4.0",{"$f":"VLOOKUP(O742,#REF!:#REF!,3,)","v":{"$error":"#REF!"}},{"$error":"#REF!"}]
[null,5,"Pek. Tie Beam SL-01"]
[null,null,"-","Beton",{"$nulls":8},{"$f":"#REF!","v":{"$error":"#REF!"}},{"$f":"#REF!","v":{"$error":"#REF!"}},"A.3.3.0",{"$f":"VLOOKUP(O744,#REF!:#REF!,3,)","v":{"$error":"#REF!"}},{"$error":"#REF!"}]
[null,null,"-","Pembesian",{"$nulls":8},{"$f":"#REF!","v":{"$error":"#REF!"}},{"$f":"#REF!","v":{"$error":"#REF!"}},"A.3.2.0",{"$f":"VLOOKUP(O745,#REF!:#REF!,3,)","v":{"$error":"#REF!"}},{"$error":"#REF!"}]
[null,null,"-","Bekisting Tie Beam",{"$nulls":8},{"$f":"#REF!","v":{"$error":"#REF!"}},{"$f":"#REF!","v":{"$error":"#REF!"}},"A.3.5.0",{"$f":"VLOOKUP(O746,#REF!:#REF!,3,)","v":{"$error":"#REF!"}},{"$error":"#REF!"}]
[null,6,"Pek. Kolom K-01"]
[null,null,"-","Beton",{"$nulls":8},{"$f":"#REF!","v":{"$error":"#REF!"}},{"$f":"#REF!","v":{"$error":"#REF!"}},"A.3.3.0",{"$f":"VLOOKUP(O748,#REF!:#REF!,3,)","v":{"$error":"#REF!"}},{"$error":"#REF!"}]
[null,null,"-","Pembesian",{"$nulls":8},{"$f":"#REF!","v":{"$error":"#REF!"}},{"$f":"#REF!","v":{"$error":"#REF!"}},"A.3.2.0",{"$f":"VLOOKUP(O749,#REF!:#REF!,3,)","v":{"$error":"#REF!"}},{"$error":"#REF!"}]
[null,null,"-","Bekisting Kolom",{"$nulls":8},{"$f":"#REF!","v":{"$error":"#REF!"}},{"$f":"#REF!","v":{"$error":"#REF!"}},"A.3.6.0",{"$f":"VLOOKUP(O750,#REF!:#REF!,3,)","v":{"$error":"#REF!"}},{"$error":"#REF!"}]
[null,7,"Pek. Kolom K-02"]
[null,null,"-","Beton",{"$nulls":8},{"$f":"#REF!","v":{"$error":"#REF!"}},{"$f":"#REF!","v":{"$error":"#REF!"}},"A.3.3.0",{"$f":"VLOOKUP(O752,#REF!:#REF!,3,)","v":{"$error":"#REF!"}},{"$error":"#REF!"}]
[null,null,"-","Pembesian",{"$nulls":8},{"$f":"#REF!","v":{"$error":"#REF!"}},{"$f":"#REF!","v":{"$error":"#REF!"}},"A.3.2.0",{"$f":"VLOOKUP(O753,#REF!:#REF!,3,)","v":{"$error":"#REF!"}},{"$error":"#REF!"}]
[null,null,"-","Bekisting Kolom",{"$nulls":8},{"$f":"#REF!","v":{"$error":"#REF!"}},{"$f":"#REF!","v":{"$error":"#REF!"}},"A.3.6.0",{"$f":"VLOOKUP(O754,#REF!:#REF!,3,)","v":{"$error":"#REF!"}},{"$error":"#REF!"}]
[null,8,"Pek. Kolom K-03"]
[null,null,"-","Beton",{"$nulls":8},{"$f":"#REF!","v":{"$error":"#REF!"}},{"$f":"#REF!","v":{"$error":"#REF!"}},"A.3.3.0",{"$f":"VLOOKUP(O756,#REF!:#REF!,3,)","v":{"$error":"#REF!"}},{"$error":"#REF!"}]
[null,null,"-","Pembesian",{"$nulls":8},{"$f":"#REF!","v":{"$error":"#REF!"}},{"$f":"#REF!","v":{"$error":"#REF!"}},"A.3.2.0",{"$f":"VLOOKUP(O757,#REF!:#REF!,3,)","v":{"$error":"#REF!"}},{"$error":"#REF!"}]
[null,null,"-","Bekisting Kolom",{"$nulls":8},{"$f":"#REF!","v":{"$error":"#REF!"}},{"$f":"#REF!","v":{"$error":"#REF!"}},"A.3.6.0",{"$f":"VLOOKUP(O758,#REF!:#REF!,3,)","v":{"$error":"#REF!"}},{"$error":"#REF!"}]
[null,9,"Pek. Ring Balok RB-01"]
[null,null,"-","Beton",{"$nulls":8},{"$f":"#REF!","v":{"$error":"#REF!"}},{"$f":"#REF!","v":{"$error":"#REF!"}},"A.3.3.0",{"$f":"VLOOKUP(O760,#REF!:#REF!,3,)","v":{"$error":"#REF!"}},{"$error":"#REF!"}]
[null,null,"-","Pembesian",{"$nulls":8},{"$f":"#REF!","v":{"$error":"#REF!"}},{"$f":"#REF!","v":{"$error":"#REF!"}},"A.3.2.0",{"$f":"VLOOKUP(O761,#REF!:#REF!,3,)","v":{"$error":"#REF!"}},{"$error":"#REF!"}]
[null,null,"-","Bekisting Balok",{"$nulls":8},{"$f":"#REF!","v":{"$error":"#REF!"}},{"$f":"#REF!","v":{"$error":"#REF!"}},"A.3.7.0",{"$f":"VLOOKUP(O762,#REF!:#REF!,3,)","v":{"$error":"#REF!"}},{"$error":"#REF!"}]
[null,10,"Pekerjaan Atap"]
[null,null,"-","Pas. Kuda-kuda Baja Ringan",{"$nulls":8},{"$f":"#REF!","v":{"$error":"#REF!"}},{"$f":"#REF!","v":{"$error":"#REF!"}},"A.4.3.0",{"$f":"VLOOKUP(O764,#REF!:#REF!,3,)","v":{"$error":"#REF!"}},{"$error":"#REF!"}]
[null,null,"-","Pas. Penutup Atap",{"$nulls":8},{"$f":"#REF!","v":{"$error":"#REF!"}},{"$f":"#REF!","v":{"$error":"#REF!"}},"A.4.8.0",{"$f":"VLOOKUP(O765,#REF!:#REF!,3,)","v":{"$error":"#REF!"}},{"$error":"#REF!"}]
[null,null,"-","Pas. Nok Atap",{"$nulls":8},{"$f":"#REF!","v":{"$error":"#REF!"}},{"$f":"#REF!","v":{"$error":"#REF!"}},"A.4.9.0",{"$f":"VLOOKUP(O766,#REF!:#REF!,3,)","v":{"$error":"#REF!"}},{"$error":"#REF!"}]
[null,null,"-","Pas. Listplank",{"$nulls":8},{"$f":"#REF!","v":{"$error":"#REF!"}},{"$f":"#REF!","v":{"$error":"#REF!"}},"A.4.7.0",{"$f":"VLOOKUP(O767,#REF!:#REF!,3,)","v":{"$error":"#REF!"}},{"$error":"#REF!"}]
[null,null,"-","Pas. Talang",{"$nulls":8},{"$f":"#REF!","v":{"$error":"#REF!"}},{"$f":"#REF!","v":{"$error":"#REF!"}},"A.5.7.0",{"$f":"VLOOKUP(O768,#REF!:#REF!,3,)","v":{"$error":"#REF!"}},{"$error":"#REF!"}]
[null,11,"Pek. Plat Lantai"]
[null,null,"-","Beton",{"$nulls":8},{"$f":"#REF!","v":{"$error":"#REF!"}},"M3","A.3.1.0",{"$f":"VLOOKUP(O770,#REF!:#REF!,3,)","v":{"$error":"#REF!"}},{"$error":"#REF!"}]
[null,null,"-","Pasir Urug",{"$nulls":8},{"$f":"#REF!","v":{"$error":"#REF!"}},"M3","A.1.9.0",{"$f":"VLOOKUP(O771,#REF!:#REF!,3,)","v":{"$error":"#REF!"}},{"$error":"#REF!"}]
[null,null,"-","Wiremash M-6 (1 Layer)",{"$nulls":8},{"$f":"#REF!","v":{"$error":"#REF!"}},{"$f":"#REF!","v":{"$error":"#REF!"}},"A.3.2.1",{"$f":"VLOOKUP(O772,#REF!:#REF!,3,)","v":{"$error":"#REF!"}},{"$error":"#REF!"}]
[null,12,"Pekerjaan Ram Pengangkutan Barang"]
[null,"b","Plat Lantai"]
[null,null,"-","Beton",{"$nulls":8},{"$f":"#REF!","v":{"$error":"#REF!"}},{"$f":"#REF!","v":{"$error":"#REF!"}},"A.3.3.0",{"$f":"VLOOKUP(O775,#REF!:#REF!,3,)","v":{"$error":"#REF!"}},{"$error":"#REF!"}]
[null,null,"-","Wiremash M-6 (1layer)",{"$nulls":8},{"$f":"#REF!","v":{"$error":"#REF!"}},{"$f":"#REF!","v":{"$error":"#REF!"}},"A.3.2.1",{"$f":"VLOOKUP(O776,#REF!:#REF!,3,)","v":{"$error":"#REF!"}},{"$error":"#REF!"}]
[null,null,"-","Pasir Urug",{"$nulls":8},{"$f":"#REF!","v":{"$error":"#REF!"}},"M3","A.1.9.0",{"$f":"VLOOKUP(O777,#REF!:#REF!,3,)","v":{"$error":"#REF!"}},{"$error":"#REF!"}]
[null,"C","Pekerjaan Arsitektur"]
[null,1,"Pas. Dinding Hebel t.10",{"$nulls":9},{"$f":"#REF!","v":{"$error":"#REF!"}},{"$f":"#REF!","v":{"$error":"#REF!"}},"A.2.7.0",{"$f":"VLOOKUP(O779,#REF!:#REF!,3,)","v":{"$error":"#REF!"}},{"$error":"#REF!"}]
[null,2,"Pek. Plesteran",{"$nulls":9},{"$f":"#REF!","v":{"$error":"#REF!"}},{"$f":"#REF!","v":{"$error":"#REF!"}},"A.2.8.0",{"$f":"VLOOKUP(O780,#REF!:#REF!,3,)","v":{"$error":"#REF!"}},{"$error":"#REF!"}]
[null,3,"Pek. Acian",{"$nulls":9},{"$f":"#REF!","v":{"$error":"#REF!"}},{"$f":"#REF!","v":{"$error":"#REF!"}},"A.2.9.0",{"$f":"VLOOKUP(O781,#REF!:#REF!,3,)","v":{"$error":"#REF!"}},{"$error":"#REF!"}]
[null,4,"Pas. Kusen AD-01 + Assesories",{"$nulls":9},{"$f":"#REF!","v":{"$error":"#REF!"}},{"$f":"#REF!","v":{"$error":"#REF!"}},"AD.01",{"$f":"VLOOKUP(O782,#REF!:#REF!,3,)","v":{"$error":"#REF!"}},{"$error":"#REF!"}]
[null,5,"Pas. Kusen AD-04 + Assesories",{"$nulls":9},{"$f":"#REF!","v":{"$error":"#REF!"}},{"$f":"#REF!","v":{"$error":"#REF!"}},"AD.04",{"$f":"VLOOKUP(O783,#REF!:#REF!,3,)","v":{"$error":"#REF!"}},{"$error":"#REF!"}]
[null,6,"Pas. Kusen AW-01 + Assesories",{"$nulls":9},{"$f":"#REF!","v":{"$error":"#REF!"}},{"$f":"#REF!","v":{"$error":"#REF!"}},"AW.01",{"$f":"VLOOKUP(O784,#REF!:#REF!,3,)","v":{"$error":"#REF!"}},{"$f":"M784*P784","v":{"$error":"#REF!"}}]
[null,7,"Pas. Kusen AD2 + Assesories",{"$nulls":9},{"$f":"#REF!","v":{"$error":"#REF!"}},{"$f":"#REF!","v":{"$error":"#REF!"}},"AD.02",{"$f":"VLOOKUP(O785,#REF!:#REF!,3,)","v":{"$error":"#REF!"}},{"$error":"#REF!"}]
[null,8,"Pas. Variasi grill/louvre",{"$nulls":9},{"$f":"#REF!","v":{"$error":"#REF!"}},{"$f":"#REF!","v":{"$error":"#REF!"}},"A.6.0.0",{"$f":"VLOOKUP(O786,#REF!:#REF!,3,)","v":{"$error":"#REF!"}},{"$error":"#REF!"}]
[null,9,"Pas. Plafond Gypsum + Rangka",{"$nulls":9},{"$f":"#REF!","v":{"$error":"#REF!"}},{"$f":"#REF!","v":{"$error":"#REF!"}},"A.4.6.0",{"$f":"VLOOKUP(O787,#REF!:#REF!,3,)","v":{"$error":"#REF!"}},{"$error":"#REF!"}]
[null,10,"Pas. Plafond GRC + Rangka",{"$nulls":9},{"$f":"#REF!","v":{"$error":"#REF!"}},{"$f":"#REF!","v":{"$error":"#REF!"}},"A.4.5.0",{"$f":"VLOOKUP(O788,#REF!:#REF!,3,)","v":{"$error":"#REF!"}},{"$error":"#REF!"}]
[null,11,"Pas. Keramik 60/60",{"$nulls":9},{"$f":"#REF!","v":{"$error":"#REF!"}},{"$f":"#REF!","v":{"$error":"#REF!"}},"A.7.0.0",{"$f":"VLOOKUP(O789,#REF!:#REF!,3,)","v":{"$error":"#REF!"}},{"$error":"#REF!"}]
[null,12,"Pas. Keramik 60/60 Anti Slip",{"$nulls":9},{"$f":"#REF!","v":{"$error":"#REF!"}},{"$f":"#REF!","v":{"$error":"#REF!"}},"A.7.0.0",{"$f":"VLOOKUP(O790,#REF!:#REF!,3,)","v":{"$error":"#REF!"}},{"$error":"#REF!"}]
[null,13,"Pas. Keramik 25/25",{"$nulls":9},{"$f":"#REF!","v":{"$error":"#REF!"}},{"$f":"#REF!","v":{"$error":"#REF!"}},"A.6.7.1",{"$f":"VLOOKUP(O791,#REF!:#REF!,3,)","v":{"$error":"#REF!"}},{"$error":"#REF!"}]
[null,14,"Pas. Dinding Keramik 25/50",{"$nulls":9},{"$f":"#REF!","v":{"$error":"#REF!"}},{"$f":"#REF!","v":{"$error":"#REF!"}},"A.7.0.2",{"$f":"VLOOKUP(O792,#REF!:#REF!,3,)","v":{"$error":"#REF!"}},{"$error":"#REF!"}]
[null,15,"Transram ",{"$nulls":9},{"$f":"#REF!","v":{"$error":"#REF!"}},{"$f":"#REF!","v":{"$error":"#REF!"}},"A.2.8.0",{"$f":"VLOOKUP(O793,#REF!:#REF!,3,)","v":{"$error":"#REF!"}},{"$error":"#REF!"}]
[null,16,"Plint Lantai t 10",{"$nulls":9},{"$f":"#REF!","v":{"$error":"#REF!"}},{"$f":"#REF!","v":{"$error":"#REF!"}},"A.7.0.1",{"$f":"VLOOKUP(O794,#REF!:#REF!,3,)","v":{"$error":"#REF!"}},{"$error":"#REF!"}]
[null,17,"Pekerjaan Pengecatan Dinding Interior Jotun Majectic",{"$nulls":9},{"$f":"#REF!","v":{"$error":"#REF!"}},{"$f":"#REF!","v":{"$error":"#REF!"}},"A.7.3.0",{"$f":"VLOOKUP(O795,#REF!:#REF!,3,)","v":{"$error":"#REF!"}},{"$error":"#REF!"}]
[null,18,"Pekerjaan Pengecatan DInding Eksterior Dulux Wheatershield",{"$nulls":9},{"$f":"#REF!","v":{"$error":"#REF!"}},{"$f":"#REF!","v":{"$error":"#REF!"}},"A.7.2.0",{"$f":"VLOOKUP(O796,#REF!:#REF!,3,)","v":{"$error":"#REF!"}},{"$error":"#REF!"}]
[null,19,"Pekerjaan Pengecatan Plafond vinilex",{"$nulls":9},{"$f":"#REF!","v":{"$error":"#REF!"}},{"$f":"#REF!","v":{"$error":"#REF!"}},"A.7.5.0",{"$f":"VLOOKUP(O797,#REF!:#REF!,3,)","v":{"$error":"#REF!"}},{"$error":"#REF!"}]
[null,20,"Pas. Closet Jongkok",{"$nulls":9},{"$f":"#REF!","v":{"$error":"#REF!"}},{"$f":"#REF!","v":{"$error":"#REF!"}},"A.5.1.0",{"$f":"VLOOKUP(O798,#REF!:#REF!,3,)","v":{"$error":"#REF!"}},{"$error":"#REF!"}]
[null,21,"Pas. Wastafel",{"$nulls":9},{"$f":"#REF!","v":{"$error":"#REF!"}},{"$f":"#REF!","v":{"$error":"#REF!"}},"A.5.3.0",{"$f":"VLOOKUP(O799,#REF!:#REF!,3,)","v":{"$error":"#REF!"}},{"$error":"#REF!"}]
[null,22,"Pas. Floor Drain",{"$nulls":9},{"$f":"#REF!","v":{"$error":"#REF!"}},{"$f":"#REF!","v":{"$error":"#REF!"}},"A.5.5.0",{"$f":"VLOOKUP(O800,#REF!:#REF!,3,)","v":{"$error":"#REF!"}},{"$error":"#REF!"}]
[null,23,"Pas. Ralling Door Pengangkut Barang",{"$nulls":9},{"$f":"#REF!","v":{"$error":"#REF!"}},{"$f":"#REF!","v":{"$error":"#REF!"}},"ROLL",{"$f":"VLOOKUP(O801,#REF!:#REF!,3,)","v":{"$error":"#REF!"}},{"$error":"#REF!"}]
[null,24,"Pas. Kran Air",{"$nulls":9},{"$f":"#REF!","v":{"$error":"#REF!"}},{"$f":"#REF!","v":{"$error":"#REF!"}},"A.5.4.0",{"$f":"VLOOKUP(O802,#REF!:#REF!,3,)","v":{"$error":"#REF!"}},{"$error":"#REF!"}]
[null,25,"Pas. Urinoir",{"$nulls":9},{"$f":"#REF!","v":{"$error":"#REF!"}},{"$f":"#REF!","v":{"$error":"#REF!"}},"A.5.2.0",{"$f":"VLOOKUP(O803,#REF!:#REF!,3,)","v":{"$error":"#REF!"}},{"$error":"#REF!"}]
[null,26,"Pek. Pemasangan ACP",{"$nulls":9},{"$f":"#REF!","v":{"$error":"#REF!"}},{"$f":"#REF!","v":{"$error":"#REF!"}},"A.6.1.0",{"$f":"VLOOKUP(O804,#REF!:#REF!,3,)","v":{"$error":"#REF!"}},{"$error":"#REF!"}]
[null,27,"Pek. Tangga"]
[null,null,"-","Beton",{"$nulls":8},{"$f":"#REF!","v":{"$error":"#REF!"}},{"$f":"#REF!","v":{"$error":"#REF!"}},"A.3.1.0",{"$f":"VLOOKUP(O806,#REF!:#REF!,3,)","v":{"$error":"#REF!"}},{"$error":"#REF!"}]
[null,28,"Pek. Balok Latei"]
[null,null,"-","Beton",{"$nulls":8},{"$f":"#REF!","v":{"$error":"#REF!"}},"M3","A.3.1.0",{"$f":"VLOOKUP(O808,#REF!:#REF!,3,)","v":{"$error":"#REF!"}},{"$error":"#REF!"}]
[null,null,"-","Pembesian",{"$nulls":8},{"$f":"#REF!","v":{"$error":"#REF!"}},"Kg","A.3.2.0",{"$f":"VLOOKUP(O809,#REF!:#REF!,3,)","v":{"$error":"#REF!"}},{"$error":"#REF!"}]
[null,null,"-","Bekisting ",{"$nulls":8},{"$f":"#REF!","v":{"$error":"#REF!"}},"M2","A.3.7.0",{"$f":"VLOOKUP(O810,#REF!:#REF!,3,)","v":{"$error":"#REF!"}},{"$error":"#REF!"}]
[]
[null,"X.","PEMBANGUNAN MUSHOLAH",{"$nulls":14},{"$f":"SUM(Q814:Q883)","v":{"$error":"#REF!"}}]
[null,"A","Pekerjaan Tanah dan Pondasi"]
[null,1,"Pembersihan Lapangan",{"$nulls":9},{"$f":"#REF!","v":{"$error":"#REF!"}},{"$f":"#REF!","v":{"$error":"#REF!"}},"A.1.2.1",{"$f":"VLOOKUP(O814,#REF!:#REF!,3,)","v":{"$error":"#REF!"}},{"$error":"#REF!"}]
[null,2,"Pagar Pengaman Proyek, t = 2m",{"$nulls":9},{"$f":"#REF!","v":{"$error":"#REF!"}},{"$f":"#REF!","v":{"$error":"#REF!"}},"A.1.1.0",{"$f":"VLOOKUP(O815,#REF!:#REF!,3,)","v":{"$error":"#REF!"}},{"$error":"#REF!"}]
[null,3,"Pas. Bouwplank",{"$nulls":9},{"$f":"#REF!","v":{"$error":"#REF!"}},{"$f":"#REF!","v":{"$error":"#REF!"}},"A.1.2.0",{"$f":"VLOOKUP(O816,#REF!:#REF!,3,)","v":{"$error":"#REF!"}},{"$error":"#REF!"}]
[null,4,"Pek. Anti Rayap",{"$nulls":9},{"$f":"#REF!","v":{"$error":"#REF!"}},{"$f":"#REF!","v":{"$error":"#REF!"}},null,20000,{"$error":"#REF!"}]
[null,5,"Pek. Galian Tanah ",{"$nulls":9},{"$f":"#REF!","v":{"$error":"#REF!"}},{"$f":"#REF!","v":{"$error":"#REF!"}},"A.1.5.0",{"$f":"VLOOKUP(O818,#REF!:#REF!,3,)","v":{"$error":"#REF!"}},{"$error":"#REF!"}]
[null,6,"Urug Tanah Kembali",{"$nulls":9},{"$f":"#REF!","v":{"$error":"#REF!"}},{"$f":"#REF!","v":{"$error":"#REF!"}},"A.1.7.0",{"$f":"VLOOKUP(O819,#REF!:#REF!,3,)","v":{"$error":"#REF!"}},{"$error":"#REF!"}]
[null,7,"Pas. Pasir Urug",{"$nulls":9},{"$f":"#REF!","v":{"$error":"#REF!"}},{"$f":"#REF!","v":{"$error":"#REF!"}},"A.1.9.0",{"$f":"VLOOKUP(O820,#REF!:#REF!,3,)","v":{"$error":"#REF!"}},{"$error":"#REF!"}]
[null,8,"Pas. Lantai Kerja",{"$nulls":9},{"$f":"#REF!","v":{"$error":"#REF!"}},{"$f":"#REF!","v":{"$error":"#REF!"}},"A.3.0.0",{"$f":"VLOOKUP(O821,#REF!:#REF!,3,)","v":{"$error":"#REF!"}},{"$error":"#REF!"}]
[null,9,"Pas. Pondasi Batu Kosong (Aastamping)",{"$nulls":9},{"$f":"#REF!","v":{"$error":"#REF!"}},{"$f":"#REF!","v":{"$error":"#REF!"}},"A.2.2.0",{"$f":"VLOOKUP(O822,#REF!:#REF!,3,)","v":{"$error":"#REF!"}},{"$error":"#REF!"}]
[null,10,"Pas. Pondasi Batu Kali",{"$nulls":9},{"$f":"#REF!","v":{"$error":"#REF!"}},{"$f":"#REF!","v":{"$error":"#REF!"}},"A.2.3.0",{"$f":"VLOOKUP(O823,#REF!:#REF!,3,)","v":{"$error":"#REF!"}},{"$error":"#REF!"}]
[null,"B","Pekerjaan Struktur"]
[null,1,"Pas. Pondasi Tapak"]
[null,null,"-","Beton",{"$nulls":8},{"$f":"#REF!","v":{"$error":"#REF!"}},{"$f":"#REF!","v":{"$error":"#REF!"}},"A.3.3.0",{"$f":"VLOOKUP(O826,#REF!:#REF!,3,)","v":{"$error":"#REF!"}},{"$error":"#REF!"}]
[null,null,"-","Pembesian",{"$nulls":8},{"$f":"#REF!","v":{"$error":"#REF!"}},{"$f":"#REF!","v":{"$error":"#REF!"}},"A.3.2.0",{"$f":"VLOOKUP(O827,#REF!:#REF!,3,)","v":{"$error":"#REF!"}},{"$error":"#REF!"}]
[null,null,"-","Bekisting Pondasi",{"$nulls":8},{"$f":"#REF!","v":{"$error":"#REF!"}},{"$f":"#REF!","v":{"$error":"#REF!"}},"A.3.4.0",{"$f":"VLOOKUP(O828,#REF!:#REF!,3,)","v":{"$error":"#REF!"}},{"$error":"#REF!"}]
[null,2,"Pas. Kolom Pedestal FP 3"]
[null,null,"-","Beton",{"$nulls":8},{"$f":"#REF!","v":{"$error":"#REF!"}},{"$f":"#REF!","v":{"$error":"#REF!"}},"A.3.3.0",{"$f":"VLOOKUP(O830,#REF!:#REF!,3,)","v":{"$error":"#REF!"}},{"$error":"#REF!"}]
[null,null,"-","Pembesian",{"$nulls":8},{"$f":"#REF!","v":{"$error":"#REF!"}},{"$f":"#REF!","v":{"$error":"#REF!"}},"A.3.2.0",{"$f":"VLOOKUP(O831,#REF!:#REF!,3,)","v":{"$error":"#REF!"}},{"$error":"#REF!"}]
[null,null,"-","Bekisting Kolom",{"$nulls":8},{"$f":"#REF!","v":{"$error":"#REF!"}},{"$f":"#REF!","v":{"$error":"#REF!"}},"A.3.4.0",{"$f":"VLOOKUP(O832,#REF!:#REF!,3,)","v":{"$error":"#REF!"}},{"$error":"#REF!"}]
[null,3,"Pek. Tie Beam SL-01"]
[null,null,"-","Beton",{"$nulls":8},{"$f":"#REF!","v":{"$error":"#REF!"}},{"$f":"#REF!","v":{"$error":"#REF!"}},"A.3.3.0",{"$f":"VLOOKUP(O834,#REF!:#REF!,3,)","v":{"$error":"#REF!"}},{"$error":"#REF!"}]
[null,null,"-","Pembesian",{"$nulls":8},{"$f":"#REF!","v":{"$error":"#REF!"}},{"$f":"#REF!","v":{"$error":"#REF!"}},"A.3.2.0",{"$f":"VLOOKUP(O835,#REF!:#REF!,3,)","v":{"$error":"#REF!"}},{"$error":"#REF!"}]
[null,null,"-","Bekisting Tie Beam",{"$nulls":8},{"$f":"#REF!","v":{"$error":"#REF!"}},{"$f":"#REF!","v":{"$error":"#REF!"}},"A.3.5.0",{"$f":"VLOOKUP(O836,#REF!:#REF!,3,)","v":{"$error":"#REF!"}},{"$error":"#REF!"}]
[null,4,"Pek. Kolom K-04"]
[null,null,"-","Beton",{"$nulls":8},{"$f":"#REF!","v":{"$error":"#REF!"}},{"$f":"#REF!","v":{"$error":"#REF!"}},"A.3.3.0",{"$f":"VLOOKUP(O838,#REF!:#REF!,3,)","v":{"$error":"#REF!"}},{"$error":"#REF!"}]
[null,null,"-","Pembesian",{"$nulls":8},{"$f":"#REF!","v":{"$error":"#REF!"}},{"$f":"#REF!","v":{"$error":"#REF!"}},"A.3.2.0",{"$f":"VLOOKUP(O839,#REF!:#REF!,3,)","v":{"$error":"#REF!"}},{"$error":"#REF!"}]
[null,null,"-","Bekisting Kolom",{"$nulls":8},{"$f":"#REF!","v":{"$error":"#REF!"}},{"$f":"#REF!","v":{"$error":"#REF!"}},"A.3.6.0",{"$f":"VLOOKUP(O840,#REF!:#REF!,3,)","v":{"$error":"#REF!"}},{"$error":"#REF!"}]
[null,5,"Pek. Kolom K-03"]
[null,null,"-","Beton",{"$nulls":8},{"$f":"#REF!","v":{"$error":"#REF!"}},{"$f":"#REF!","v":{"$error":"#REF!"}},"A.3.3.0",{"$f":"VLOOKUP(O842,#REF!:#REF!,3,)","v":{"$error":"#REF!"}},{"$error":"#REF!"}]
[null,null,"-","Pembesian",{"$nulls":8},{"$f":"#REF!","v":{"$error":"#REF!"}},{"$f":"#REF!","v":{"$error":"#REF!"}},"A.3.2.0",{"$f":"VLOOKUP(O843,#REF!:#REF!,3,)","v":{"$error":"#REF!"}},{"$error":"#REF!"}]
[null,null,"-","Bekisting Kolom",{"$nulls":8},{"$f":"#REF!","v":{"$error":"#REF!"}},{"$f":"#REF!","v":{"$error":"#REF!"}},"A.3.6.0",{"$f":"VLOOKUP(O844,#REF!:#REF!,3,)","v":{"$error":"#REF!"}},{"$error":"#REF!"}]
[null,6,"Pek. Ring Balok RB-01"]
[null,null,"-","Beton",{"$nulls":8},{"$f":"#REF!","v":{"$error":"#REF!"}},{"$f":"#REF!","v":{"$error":"#REF!"}},"A.3.3.0",{"$f":"VLOOKUP(O846,#REF!:#REF!,3,)","v":{"$error":"#REF!"}},{"$error":"#REF!"}]
[null,null,"-","Pembesian",{"$nulls":8},{"$f":"#REF!","v":{"$error":"#REF!"}},{"$f":"#REF!","v":{"$error":"#REF!"}},"A.3.2.0",{"$f":"VLOOKUP(O847,#REF!:#REF!,3,)","v":{"$error":"#REF!"}},{"$error":"#REF!"}]
[null,null,"-","Bekisting Balok",{"$nulls":8},{"$f":"#REF!","v":{"$error":"#REF!"}},{"$f":"#REF!","v":{"$error":"#REF!"}},"A.3.7.0",{"$f":"VLOOKUP(O848,#REF!:#REF!,3,)","v":{"$error":"#REF!"}},{"$error":"#REF!"}]
[null,7,"Pekerjaan Atap"]
[null,null,"-","Pas. Kuda-kuda Baja Ringan",{"$nulls":8},{"$f":"#REF!","v":{"$error":"#REF!"}},{"$f":"#REF!","v":{"$error":"#REF!"}},"A.4.3.0",{"$f":"VLOOKUP(O850,#REF!:#REF!,3,)","v":{"$error":"#REF!"}},{"$f":"M850*P850","v":{"$error":"#REF!"}}]
[null,null,"-","Pas. Penutup Atap",{"$nulls":8},{"$f":"#REF!","v":{"$error":"#REF!"}},{"$f":"#REF!","v":{"$error":"#REF!"}},"A.4.8.0",{"$f":"VLOOKUP(O851,#REF!:#REF!,3,)","v":{"$error":"#REF!"}},{"$error":"#REF!"}]
[null,null,"-","Pas. Nok Atap",{"$nulls":8},{"$f":"#REF!","v":{"$error":"#REF!"}},{"$f":"#REF!","v":{"$error":"#REF!"}},"A.4.9.0",{"$f":"VLOOKUP(O852,#REF!:#REF!,3,)","v":{"$error":"#REF!"}},{"$error":"#REF!"}]
[null,null,"-","Pas. Listplank",{"$nulls":8},{"$f":"#REF!","v":{"$error":"#REF!"}},{"$f":"#REF!","v":{"$error":"#REF!"}},"A.4.7.0",{"$f":"VLOOKUP(O853,#REF!:#REF!,3,)","v":{"$error":"#REF!"}},{"$error":"#REF!"}]
[null,null,"-","Pas. Talang",{"$nulls":8},{"$f":"#REF!","v":{"$error":"#REF!"}},{"$f":"#REF!","v":{"$error":"#REF!"}},"A.5.7.0",{"$f":"VLOOKUP(O854,#REF!:#REF!,3,)","v":{"$error":"#REF!"}},{"$error":"#REF!"}]
[null,8,"Pek. Plat Lantai"]
[null,null,"-","Beton",{"$nulls":8},{"$f":"#REF!","v":{"$error":"#REF!"}},"M3","A.3.1.0",{"$f":"VLOOKUP(O856,#REF!:#REF!,3,)","v":{"$error":"#REF!"}},{"$error":"#REF!"}]
[null,null,"-","Pasir Urug",{"$nulls":8},{"$f":"#REF!","v":{"$error":"#REF!"}},"M3","A.1.9.0",{"$f":"VLOOKUP(O857,#REF!:#REF!,3,)","v":{"$error":"#REF!"}},{"$error":"#REF!"}]
[null,null,"-","Wiremash M-6 (1 Layer)",{"$nulls":8},{"$f":"#REF!","v":{"$error":"#REF!"}},{"$f":"#REF!","v":{"$error":"#REF!"}},"A.3.2.1",{"$f":"VLOOKUP(O858,#REF!:#REF!,3,)","v":{"$error":"#REF!"}},{"$error":"#REF!"}]
[null,"C","Pekerjaan Arsitektur"]
[null,1,"Pas. Dinding Hebel t.10",{"$nulls":9},{"$f":"#REF!","v":{"$error":"#REF!"}},{"$f":"#REF!","v":{"$error":"#REF!"}},"A.2.7.0",{"$f":"VLOOKUP(O860,#REF!:#REF!,3,)","v":{"$error":"#REF!"}},{"$error":"#REF!"}]
[null,2,"Pek. Plesteran",{"$nulls":9},{"$f":"#REF!","v":{"$error":"#REF!"}},{"$f":"#REF!","v":{"$error":"#REF!"}},"A.2.8.0",{"$f":"VLOOKUP(O861,#REF!:#REF!,3,)","v":{"$error":"#REF!"}},{"$error":"#REF!"}]
[null,3,"Pek. Acian",{"$nulls":9},{"$f":"#REF!","v":{"$error":"#REF!"}},{"$f":"#REF!","v":{"$error":"#REF!"}},"A.2.9.0",{"$f":"VLOOKUP(O862,#REF!:#REF!,3,)","v":{"$error":"#REF!"}},{"$error":"#REF!"}]
[null,4,"Pas. Kusen AD-01 + Assesories",{"$nulls":9},{"$f":"#REF!","v":{"$error":"#REF!"}},{"$f":"#REF!","v":{"$error":"#REF!"}},"AD.01",{"$f":"VLOOKUP(O863,#REF!:#REF!,3,)","v":{"$error":"#REF!"}},{"$error":"#REF!"}]
[null,5,"Pas. Kusen AW-01 + Assesories",{"$nulls":9},{"$f":"#REF!","v":{"$error":"#REF!"}},{"$f":"#REF!","v":{"$error":"#REF!"}},"AW.01",{"$f":"VLOOKUP(O864,#REF!:#REF!,3,)","v":{"$error":"#REF!"}},{"$error":"#REF!"}]
[null,6,"Pas. Variasi grill/louvre",{"$nulls":9},{"$f":"#REF!","v":{"$error":"#REF!"}},{"$f":"#REF!","v":{"$error":"#REF!"}},"A.6.0.0",{"$f":"VLOOKUP(O865,#REF!:#REF!,3,)","v":{"$error":"#REF!"}},{"$error":"#REF!"}]
[null,7,"Pas. Plafond Gypsum + Rangka",{"$nulls":9},{"$f":"#REF!","v":{"$error":"#REF!"}},{"$f":"#REF!","v":{"$error":"#REF!"}},"A.4.6.0",{"$f":"VLOOKUP(O866,#REF!:#REF!,3,)","v":{"$error":"#REF!"}},{"$error":"#REF!"}]
[null,8,"Pas. Plafond GRC + Rangka",{"$nulls":9},{"$f":"#REF!","v":{"$error":"#REF!"}},{"$f":"#REF!","v":{"$error":"#REF!"}},"A.4.5.0",{"$f":"VLOOKUP(O867,#REF!:#REF!,3,)","v":{"$error":"#REF!"}},{"$error":"#REF!"}]
[null,9,"Pas. Keramik 60/60",{"$nulls":9},{"$f":"#REF!","v":{"$error":"#REF!"}},{"$f":"#REF!","v":{"$error":"#REF!"}},"A.7.0.0",{"$f":"VLOOKUP(O868,#REF!:#REF!,3,)","v":{"$error":"#REF!"}},{"$error":"#REF!"}]
[null,10,"Pas. Keramik 60/60 Anti Slip",{"$nulls":9},{"$f":"#REF!","v":{"$error":"#REF!"}},{"$f":"#REF!","v":{"$error":"#REF!"}},"A.7.0.0",{"$f":"VLOOKUP(O869,#REF!:#REF!,3,)","v":{"$error":"#REF!"}},{"$error":"#REF!"}]
[null,11,"Pas. Keramik 25/25",{"$nulls":9},{"$f":"#REF!","v":{"$error":"#REF!"}},{"$f":"#REF!","v":{"$error":"#REF!"}},"A.6.7.1",{"$f":"VLOOKUP(O870,#REF!:#REF!,3,)","v":{"$error":"#REF!"}},{"$error":"#REF!"}]
[null,12,"Plint Lantai t 10",{"$nulls":9},{"$f":"#REF!","v":{"$error":"#REF!"}},{"$f":"#REF!","v":{"$error":"#REF!"}},"A.7.0.1",{"$f":"VLOOKUP(O871,#REF!:#REF!,3,)","v":{"$error":"#REF!"}},{"$error":"#REF!"}]
[null,13,"Pekerjaan Pengecatan Dinding Interior Jotun Majectic",{"$nulls":9},{"$f":"#REF!","v":{"$error":"#REF!"}},{"$f":"#REF!","v":{"$error":"#REF!"}},"A.7.3.0",{"$f":"VLOOKUP(O872,#REF!:#REF!,3,)","v":{"$error":"#REF!"}},{"$error":"#REF!"}]
[null,14,"Pekerjaan Pengecatan DInding Eksterior Dulux Wheatershield",{"$nulls":9},{"$f":"#REF!","v":{"$error":"#REF!"}},{"$f":"#REF!","v":{"$error":"#REF!"}},"A.7.2.0",{"$f":"VLOOKUP(O873,#REF!:#REF!,3,)","v":{"$error":"#REF!"}},{"$error":"#REF!"}]
[null,15,"Pekerjaan Pengecatan Plafond vinilex",{"$nulls":9},{"$f":"#REF!","v":{"$error":"#REF!"}},{"$f":"#REF!","v":{"$error":"#REF!"}},"A.7.5.0",{"$f":"VLOOKUP(O874,#REF!:#REF!,3,)","v":{"$error":"#REF!"}},{"$error":"#REF!"}]
[null,16,"Pas. Floor Drain",{"$nulls":9},{"$f":"#REF!","v":{"$error":"#REF!"}},{"$f":"#REF!","v":{"$error":"#REF!"}},"A.5.5.0",{"$f":"VLOOKUP(O875,#REF!:#REF!,3,)","v":{"$error":"#REF!"}},{"$error":"#REF!"}]
[null,17,"Pas. Kran Air",{"$nulls":9},{"$f":"#REF!","v":{"$error":"#REF!"}},{"$f":"#REF!","v":{"$error":"#REF!"}},"A.5.4.0",{"$f":"VLOOKUP(O876,#REF!:#REF!,3,)","v":{"$error":"#REF!"}},{"$error":"#REF!"}]
[null,18,"Pek. Pemasangan ACP",{"$nulls":9},{"$f":"#REF!","v":{"$error":"#REF!"}},{"$f":"#REF!","v":{"$error":"#REF!"}},"A.6.1.0",{"$f":"VLOOKUP(O877,#REF!:#REF!,3,)","v":{"$error":"#REF!"}},{"$error":"#REF!"}]
[null,19,"Pek. Tangga"]
[null,null,"-","Beton",{"$nulls":8},{"$f":"#REF!","v":{"$error":"#REF!"}},{"$f":"#REF!","v":{"$error":"#REF!"}},"A.3.1.0",{"$f":"VLOOKUP(O879,#REF!:#REF!,3,)","v":{"$error":"#REF!"}},{"$error":"#REF!"}]
[null,20,"Pek. Balok Latei"]
[null,null,"-","Beton",{"$nulls":8},{"$f":"#REF!","v":{"$error":"#REF!"}},"M3","A.3.1.0",{"$f":"VLOOKUP(O881,#REF!:#REF!,3,)","v":{"$error":"#REF!"}},{"$error":"#REF!"}]
[null,null,"-","Pembesian",{"$nulls":8},{"$f":"#REF!","v":{"$error":"#REF!"}},"Kg","A.3.2.0",{"$f":"VLOOKUP(O882,#REF!:#REF!,3,)","v":{"$error":"#REF!"}},{"$error":"#REF!"}]
[null,null,"-","Bekisting",{"$nulls":8},{"$f":"#REF!","v":{"$error":"#REF!"}},"M2","A.3.7.0",{"$f":"VLOOKUP(O883,#REF!:#REF!,3,)","v":{"$error":"#REF!"}},{"$error":"#REF!"}]
[]
[null,"XI.","PEMBANGUNAN RPS TATA BOGA",{"$nulls":14},{"$f":"SUM(Q887:Q972)","v":{"$error":"#REF!"}}]
[null,"A","Pekerjaan Tanah dan Pondasi"]
[null,1,"Pembersihan Lapangan",{"$nulls":9},{"$f":"#REF!","v":{"$error":"#REF!"}},{"$f":"#REF!","v":{"$error":"#REF!"}},"A.1.2.1",{"$f":"VLOOKUP(O887,#REF!:#REF!,3,)","v":{"$error":"#REF!"}},{"$f":"M887*P887","v":{"$error":"#REF!"}}]
[null,2,"Pagar Pengaman Proyek, t = 2m",{"$nulls":9},{"$f":"#REF!","v":{"$error":"#REF!"}},{"$f":"#REF!","v":{"$error":"#REF!"}},"A.1.1.0",{"$f":"VLOOKUP(O888,#REF!:#REF!,3,)","v":{"$error":"#REF!"}},{"$error":"#REF!"}]
[null,3,"Pas. Bouwplank",{"$nulls":9},{"$f":"#REF!","v":{"$error":"#REF!"}},{"$f":"#REF!","v":{"$error":"#REF!"}},"A.1.2.0",{"$f":"VLOOKUP(O889,#REF!:#REF!,3,)","v":{"$error":"#REF!"}},{"$error":"#REF!"}]
[null,4,"Pek. Anti Rayap",{"$nulls":9},{"$f":"#REF!","v":{"$error":"#REF!"}},{"$f":"#REF!","v":{"$error":"#REF!"}},null,20000,{"$error":"#REF!"}]
[null,5,"Pek. Galian Tanah ",{"$nulls":9},{"$f":"#REF!","v":{"$error":"#REF!"}},null,"A.1.5.0",{"$f":"VLOOKUP(O891,#REF!:#REF!,3,)","v":{"$error":"#REF!"}},{"$error":"#REF!"}]
[null,6,"Urug Tanah Kembali",{"$nulls":9},{"$f":"#REF!","v":{"$error":"#REF!"}},{"$f":"#REF!","v":{"$error":"#REF!"}},"A.1.7.0",{"$f":"VLOOKUP(O892,#REF!:#REF!,3,)","v":{"$error":"#REF!"}},{"$error":"#REF!"}]
[null,7,"Pas. Pasir Urug",{"$nulls":9},{"$f":"#REF!","v":{"$error":"#REF!"}},{"$f":"#REF!","v":{"$error":"#REF!"}},"A.1.9.0",{"$f":"VLOOKUP(O893,#REF!:#REF!,3,)","v":{"$error":"#REF!"}},{"$error":"#REF!"}]
[null,8,"Pas. Lantai Kerja",{"$nulls":9},{"$f":"#REF!","v":{"$error":"#REF!"}},{"$f":"#REF!","v":{"$error":"#REF!"}},"A.3.0.0",{"$f":"VLOOKUP(O894,#REF!:#REF!,3,)","v":{"$error":"#REF!"}},{"$error":"#REF!"}]
[null,9,"Pas. Pondasi Batu Kosong (Aastamping)",{"$nulls":9},{"$f":"#REF!","v":{"$error":"#REF!"}},{"$f":"#REF!","v":{"$error":"#REF!"}},"A.2.2.0",{"$f":"VLOOKUP(O895,#REF!:#REF!,3,)","v":{"$error":"#REF!"}},{"$error":"#REF!"}]
[null,10,"Pas. Pondasi Batu Kali",{"$nulls":9},{"$f":"#REF!","v":{"$error":"#REF!"}},{"$f":"#REF!","v":{"$error":"#REF!"}},"A.2.3.0",{"$f":"VLOOKUP(O896,#REF!:#REF!,3,)","v":{"$error":"#REF!"}},{"$error":"#REF!"}]
[null,"B","Pekerjaan Struktur"]
[null,1,"Pas. Pondasi Tapak"]
[null,null,"-","Beton",{"$nulls":8},{"$f":"#REF!","v":{"$error":"#REF!"}},{"$f":"#REF!","v":{"$error":"#REF!"}},"A.3.3.0",{"$f":"VLOOKUP(O899,#REF!:#REF!,3,)","v":{"$error":"#REF!"}},{"$error":"#REF!"}]
[null,null,"-","Pembesian",{"$nulls":8},{"$f":"#REF!","v":{"$error":"#REF!"}},{"$f":"#REF!","v":{"$error":"#REF!"}},"A.3.2.0",{"$f":"VLOOKUP(O900,#REF!:#REF!,3,)","v":{"$error":"#REF!"}},{"$error":"#REF!"}]
[null,null,"-","Bekisting Pondasi",{"$nulls":8},{"$f":"#REF!","v":{"$error":"#REF!"}},{"$f":"#REF!","v":{"$error":"#REF!"}},"A.3.4.0",{"$f":"VLOOKUP(O901,#REF!:#REF!,3,)","v":{"$error":"#REF!"}},{"$error":"#REF!"}]
[null,2,"Pas. Kolom Pedestal FP 1"]
[null,null,"-","Beton",{"$nulls":8},{"$f":"#REF!","v":{"$error":"#REF!"}},{"$f":"#REF!","v":{"$error":"#REF!"}},"A.3.3.0",{"$f":"VLOOKUP(O903,#REF!:#REF!,3,)","v":{"$error":"#REF!"}},{"$error":"#REF!"}]
[null,null,"-","Pembesian",{"$nulls":8},{"$f":"#REF!","v":{"$error":"#REF!"}},{"$f":"#REF!","v":{"$error":"#REF!"}},"A.3.2.0",{"$f":"VLOOKUP(O904,#REF!:#REF!,3,)","v":{"$error":"#REF!"}},{"$error":"#REF!"}]
[null,null,"-","Bekisting Kolom",{"$nulls":8},{"$f":"#REF!","v":{"$error":"#REF!"}},{"$f":"#REF!","v":{"$error":"#REF!"}},"A.3.4.0",{"$f":"VLOOKUP(O905,#REF!:#REF!,3,)","v":{"$error":"#REF!"}},{"$error":"#REF!"}]
[null,3,"Pek. Tie Beam SL-01"]
[null,null,"-","Beton",{"$nulls":8},{"$f":"#REF!","v":{"$error":"#REF!"}},{"$f":"#REF!","v":{"$error":"#REF!"}},"A.3.3.0",{"$f":"VLOOKUP(O907,#REF!:#REF!,3,)","v":{"$error":"#REF!"}},{"$error":"#REF!"}]
[null,null,"-","Pembesian",{"$nulls":8},{"$f":"#REF!","v":{"$error":"#REF!"}},{"$f":"#REF!","v":{"$error":"#REF!"}},"A.3.2.0",{"$f":"VLOOKUP(O908,#REF!:#REF!,3,)","v":{"$error":"#REF!"}},{"$error":"#REF!"}]
[null,null,"-","Bekisting Tie Beam",{"$nulls":8},{"$f":"#REF!","v":{"$error":"#REF!"}},{"$f":"#REF!","v":{"$error":"#REF!"}},"A.3.5.0",{"$f":"VLOOKUP(O909,#REF!:#REF!,3,)","v":{"$error":"#REF!"}},{"$error":"#REF!"}]
[null,4,"Pek. Kolom K-01"]
[null,null,"-","Beton",{"$nulls":8},{"$f":"#REF!","v":{"$error":"#REF!"}},{"$f":"#REF!","v":{"$error":"#REF!"}},"A.3.3.0",{"$f":"VLOOKUP(O911,#REF!:#REF!,3,)","v":{"$error":"#REF!"}},{"$error":"#REF!"}]
[null,null,"-","Pembesian",{"$nulls":8},{"$f":"#REF!","v":{"$error":"#REF!"}},{"$f":"#REF!","v":{"$error":"#REF!"}},"A.3.2.0",{"$f":"VLOOKUP(O912,#REF!:#REF!,3,)","v":{"$error":"#REF!"}},{"$error":"#REF!"}]
[null,null,"-","Bekisting Kolom",{"$nulls":8},{"$f":"#REF!","v":{"$error":"#REF!"}},{"$f":"#REF!","v":{"$error":"#REF!"}},"A.3.6.0",{"$f":"VLOOKUP(O913,#REF!:#REF!,3,)","v":{"$error":"#REF!"}},{"$error":"#REF!"}]
[null,5,"Pek. Kolom K-02"]
[null,null,"-","Beton",{"$nulls":8},{"$f":"#REF!","v":{"$error":"#REF!"}},{"$f":"#REF!","v":{"$error":"#REF!"}},"A.3.3.0",{"$f":"VLOOKUP(O915,#REF!:#REF!,3,)","v":{"$error":"#REF!"}},{"$error":"#REF!"}]
[null,null,"-","Pembesian",{"$nulls":8},{"$f":"#REF!","v":{"$error":"#REF!"}},{"$f":"#REF!","v":{"$error":"#REF!"}},"A.3.2.0",{"$f":"VLOOKUP(O916,#REF!:#REF!,3,)","v":{"$error":"#REF!"}},{"$error":"#REF!"}]
[null,null,"-","Bekisting Kolom",{"$nulls":8},{"$f":"#REF!","v":{"$error":"#REF!"}},{"$f":"#REF!","v":{"$error":"#REF!"}},"A.3.6.0",{"$f":"VLOOKUP(O917,#REF!:#REF!,3,)","v":{"$error":"#REF!"}},{"$error":"#REF!"}]
[null,6,"Pek. Kolom K-03"]
[null,null,"-","Beton",{"$nulls":8},{"$f":"#REF!","v":{"$error":"#REF!"}},{"$f":"#REF!","v":{"$error":"#REF!"}},"A.3.3.0",{"$f":"VLOOKUP(O919,#REF!:#REF!,3,)","v":{"$error":"#REF!"}},{"$error":"#REF!"}]
[null,null,"-","Pembesian",{"$nulls":8},{"$f":"#REF!","v":{"$error":"#REF!"}},{"$f":"#REF!","v":{"$error":"#REF!"}},"A.3.2.0",{"$f":"VLOOKUP(O920,#REF!:#REF!,3,)","v":{"$error":"#REF!"}},{"$error":"#REF!"}]
[null,null,"-","Bekisting Kolom",{"$nulls":8},{"$f":"#REF!","v":{"$error":"#REF!"}},{"$f":"#REF!","v":{"$error":"#REF!"}},"A.3.6.0",{"$f":"VLOOKUP(O921,#REF!:#REF!,3,)","v":{"$error":"#REF!"}},{"$error":"#REF!"}]
[null,7,"Pek. Ring Balok RB-01"]
[null,null,"-","Beton",{"$nulls":8},{"$f":"#REF!","v":{"$error":"#REF!"}},{"$f":"#REF!","v":{"$error":"#REF!"}},"A.3.3.0",{"$f":"VLOOKUP(O923,#REF!:#REF!,3,)","v":{"$error":"#REF!"}},{"$error":"#REF!"}]
[null,null,"-","Pembesian",{"$nulls":8},{"$f":"#REF!","v":{"$error":"#REF!"}},{"$f":"#REF!","v":{"$error":"#REF!"}},"A.3.2.0",{"$f":"VLOOKUP(O924,#REF!:#REF!,3,)","v":{"$error":"#REF!"}},{"$error":"#REF!"}]
[null,null,"-","Bekisting Balok",{"$nulls":8},{"$f":"#REF!","v":{"$error":"#REF!"}},{"$f":"#REF!","v":{"$error":"#REF!"}},"A.3.7.0",{"$f":"VLOOKUP(O925,#REF!:#REF!,3,)","v":{"$error":"#REF!"}},{"$error":"#REF!"}]
[null,8,"Pekerjaan Atap"]
[null,null,"-","Pas. Kuda-kuda Baja Ringan",{"$nulls":8},{"$f":"#REF!","v":{"$error":"#REF!"}},{"$f":"#REF!","v":{"$error":"#REF!"}},"A.4.3.0",{"$f":"VLOOKUP(O927,#REF!:#REF!,3,)","v":{"$error":"#REF!"}},{"$error":"#REF!"}]
[null,null,"-","Pas. Penutup Atap",{"$nulls":8},{"$f":"#REF!","v":{"$error":"#REF!"}},{"$f":"#REF!","v":{"$error":"#REF!"}},"A.4.8.0",{"$f":"VLOOKUP(O928,#REF!:#REF!,3,)","v":{"$error":"#REF!"}},{"$error":"#REF!"}]
[null,null,"-","Pas. Nok Atap",{"$nulls":8},{"$f":"#REF!","v":{"$error":"#REF!"}},{"$f":"#REF!","v":{"$error":"#REF!"}},"A.4.9.0",{"$f":"VLOOKUP(O929,#REF!:#REF!,3,)","v":{"$error":"#REF!"}},{"$error":"#REF!"}]
[null,null,"-","Pas. Listplank",{"$nulls":8},{"$f":"#REF!","v":{"$error":"#REF!"}},{"$f":"#REF!","v":{"$error":"#REF!"}},"A.4.7.0",{"$f":"VLOOKUP(O930,#REF!:#REF!,3,)","v":{"$error":"#REF!"}},{"$error":"#REF!"}]
[null,null,"-","Pas. Talang",{"$nulls":8},{"$f":"#REF!","v":{"$error":"#REF!"}},{"$f":"#REF!","v":{"$error":"#REF!"}},"A.5.7.0",{"$f":"VLOOKUP(O931,#REF!:#REF!,3,)","v":{"$error":"#REF!"}},{"$error":"#REF!"}]
[null,9,"Pek. Plat Lantai"]
[null,null,"-","Beton",{"$nulls":8},{"$f":"#REF!","v":{"$error":"#REF!"}},"M3","A.3.1.0",{"$f":"VLOOKUP(O933,#REF!:#REF!,3,)","v":{"$error":"#REF!"}},{"$error":"#REF!"}]
[null,null,"-","Pasir Urug",{"$nulls":8},{"$f":"#REF!","v":{"$error":"#REF!"}},"M3","A.1.9.0",{"$f":"VLOOKUP(O934,#REF!:#REF!,3,)","v":{"$error":"#REF!"}},{"$error":"#REF!"}]
[null,null,"-","Wiremash M-6 (1 Layer)",{"$nulls":8},{"$f":"#REF!","v":{"$error":"#REF!"}},{"$f":"#REF!","v":{"$error":"#REF!"}},"A.3.2.1",{"$f":"VLOOKUP(O935,#REF!:#REF!,3,)","v":{"$error":"#REF!"}},{"$error":"#REF!"}]
[null,10,"Pekerjaan Ram Pengangkutan Barang"]
[null,"b","Plat Lantai"]
[null,null,"-","Beton",{"$nulls":8},{"$f":"#REF!","v":{"$error":"#REF!"}},{"$f":"#REF!","v":{"$error":"#REF!"}},"A.3.1.0",{"$f":"VLOOKUP(O938,#REF!:#REF!,3,)","v":{"$error":"#REF!"}},{"$error":"#REF!"}]
[null,null,"-","Wiremash M-6 (1layer)",{"$nulls":8},{"$f":"#REF!","v":{"$error":"#REF!"}},{"$f":"#REF!","v":{"$error":"#REF!"}},"A.3.2.1",{"$f":"VLOOKUP(O939,#REF!:#REF!,3,)","v":{"$error":"#REF!"}},{"$error":"#REF!"}]
[null,null,"-","Pasir Urug",{"$nulls":8},{"$f":"#REF!","v":{"$error":"#REF!"}},"M3","A.1.9.0",{"$f":"VLOOKUP(O940,#REF!:#REF!,3,)","v":{"$error":"#REF!"}},{"$error":"#REF!"}]
[null,"C","Pekerjaan Arsitektur"]
[null,1,"Pas. Dinding Hebel t.10",{"$nulls":9},{"$f":"#REF!","v":{"$error":"#REF!"}},{"$f":"#REF!","v":{"$error":"#REF!"}},"A.2.7.0",{"$f":"VLOOKUP(O942,#REF!:#REF!,3,)","v":{"$error":"#REF!"}},{"$error":"#REF!"}]
[null,2,"Pek. Plesteran",{"$nulls":9},{"$f":"#REF!","v":{"$error":"#REF!"}},{"$f":"#REF!","v":{"$error":"#REF!"}},"A.2.8.0",{"$f":"VLOOKUP(O943,#REF!:#REF!,3,)","v":{"$error":"#REF!"}},{"$error":"#REF!"}]
[null,3,"Pek. Acian",{"$nulls":9},{"$f":"#REF!","v":{"$error":"#REF!"}},{"$f":"#REF!","v":{"$error":"#REF!"}},"A.2.9.0",{"$f":"VLOOKUP(O944,#REF!:#REF!,3,)","v":{"$error":"#REF!"}},{"$error":"#REF!"}]
[null,4,"Pas. Kusen AD-01 + Assesories",{"$nulls":9},{"$f":"#REF!","v":{"$error":"#REF!"}},{"$f":"#REF!","v":{"$error":"#REF!"}},"AD.01",{"$f":"VLOOKUP(O945,#REF!:#REF!,3,)","v":{"$error":"#REF!"}},{"$error":"#REF!"}]
[null,6,"Pas. Kusen AD-04 + Assesories",{"$nulls":9},{"$f":"#REF!","v":{"$error":"#REF!"}},{"$f":"#REF!","v":{"$error":"#REF!"}},"AD.04",{"$f":"VLOOKUP(O946,#REF!:#REF!,3,)","v":{"$error":"#REF!"}},{"$error":"#REF!"}]
[null,8,"Pas. Kusen AW-01 + Assesories",{"$nulls":9},{"$f":"#REF!","v":{"$error":"#REF!"}},{"$f":"#REF!","v":{"$error":"#REF!"}},"AW.01",{"$f":"VLOOKUP(O947,#REF!:#REF!,3,)","v":{"$error":"#REF!"}},{"$f":"M947*P947","v":{"$error":"#REF!"}}]
[null,9,"Pas. Kusen AD2 + Assesories",{"$nulls":9},{"$f":"#REF!","v":{"$error":"#REF!"}},{"$f":"#REF!","v":{"$error":"#REF!"}},"AD.02",{"$f":"VLOOKUP(O948,#REF!:#REF!,3,)","v":{"$error":"#REF!"}},{"$error":"#REF!"}]
[null,10,"Pas. Variasi grill/louvre",{"$nulls":9},{"$f":"#REF!","v":{"$error":"#REF!"}},{"$f":"#REF!","v":{"$error":"#REF!"}},"A.6.0.0",{"$f":"VLOOKUP(O949,#REF!:#REF!,3,)","v":{"$error":"#REF!"}},{"$error":"#REF!"}]
[null,11,"Pas. Plafond Gypsum + Rangka",{"$nulls":9},{"$f":"#REF!","v":{"$error":"#REF!"}},{"$f":"#REF!","v":{"$error":"#REF!"}},"A.4.6.0",{"$f":"VLOOKUP(O950,#REF!:#REF!,3,)","v":{"$error":"#REF!"}},{"$error":"#REF!"}]
[null,12,"Pas. Plafond GRC + Rangka",{"$nulls":9},{"$f":"#REF!","v":{"$error":"#REF!"}},{"$f":"#REF!","v":{"$error":"#REF!"}},"A.4.5.0",{"$f":"VLOOKUP(O951,#REF!:#REF!,3,)","v":{"$error":"#REF!"}},{"$error":"#REF!"}]
[null,13,"Pas. Keramik 60/60",{"$nulls":9},{"$f":"#REF!","v":{"$error":"#REF!"}},{"$f":"#REF!","v":{"$error":"#REF!"}},"A.7.0.0",{"$f":"VLOOKUP(O952,#REF!:#REF!,3,)","v":{"$error":"#REF!"}},{"$error":"#REF!"}]
[null,14,"Pas. Keramik 60/60 Anti Slip",{"$nulls":9},{"$f":"#REF!","v":{"$error":"#REF!"}},{"$f":"#REF!","v":{"$error":"#REF!"}},"A.7.0.0",{"$f":"VLOOKUP(O953,#REF!:#REF!,3,)","v":{"$error":"#REF!"}},{"$error":"#REF!"}]
[null,15,"Pas. Keramik 25/25",{"$nulls":9},{"$f":"#REF!","v":{"$error":"#REF!"}},{"$f":"#REF!","v":{"$error":"#REF!"}},"A.6.7.1",{"$f":"VLOOKUP(O954,#REF!:#REF!,3,)","v":{"$error":"#REF!"}},{"$error":"#REF!"}]
[null,16,"Pas. Dinding Keramik 25/50",{"$nulls":9},{"$f":"#REF!","v":{"$error":"#REF!"}},{"$f":"#REF!","v":{"$error":"#REF!"}},"A.7.0.2",{"$f":"VLOOKUP(O955,#REF!:#REF!,3,)","v":{"$error":"#REF!"}},{"$error":"#REF!"}]
[null,17,"Transram ",{"$nulls":9},{"$f":"#REF!","v":{"$error":"#REF!"}},{"$f":"#REF!","v":{"$error":"#REF!"}},"A.2.8.0",{"$f":"VLOOKUP(O956,#REF!:#REF!,3,)","v":{"$error":"#REF!"}},{"$error":"#REF!"}]
[null,18,"Plint Lantai t 10",{"$nulls":9},{"$f":"#REF!","v":{"$error":"#REF!"}},{"$f":"#REF!","v":{"$error":"#REF!"}},"A.7.0.1",{"$f":"VLOOKUP(O957,#REF!:#REF!,3,)","v":{"$error":"#REF!"}},{"$error":"#REF!"}]
[null,19,"Pekerjaan Pengecatan Dinding Interior Jotun Majectic",{"$nulls":9},{"$f":"#REF!","v":{"$error":"#REF!"}},{"$f":"#REF!","v":{"$error":"#REF!"}},"A.7.3.0",{"$f":"VLOOKUP(O958,#REF!:#REF!,3,)","v":{"$error":"#REF!"}},{"$error":"#REF!"}]
[null,20,"Pekerjaan Pengecatan DInding Eksterior Dulux Wheatershield",{"$nulls":9},{"$f":"#REF!","v":{"$error":"#REF!"}},{"$f":"#REF!","v":{"$error":"#REF!"}},"A.7.2.0",{"$f":"VLOOKUP(O959,#REF!:#REF!,3,)","v":{"$error":"#REF!"}},{"$error":"#REF!"}]
[null,21,"Pekerjaan Pengecatan Plafond vinilex",{"$nulls":9},{"$f":"#REF!","v":{"$error":"#REF!"}},{"$f":"#REF!","v":{"$error":"#REF!"}},"A.7.5.0",{"$f":"VLOOKUP(O960,#REF!:#REF!,3,)","v":{"$error":"#REF!"}},{"$error":"#REF!"}]
[null,22,"Pas. Closet Jongkok",{"$nulls":9},{"$f":"#REF!","v":{"$error":"#REF!"}},{"$f":"#REF!","v":{"$error":"#REF!"}},"A.5.1.0",{"$f":"VLOOKUP(O961,#REF!:#REF!,3,)","v":{"$error":"#REF!"}},{"$error":"#REF!"}]
[null,23,"Pas. Wastafel",{"$nulls":9},{"$f":"#REF!","v":{"$error":"#REF!"}},{"$f":"#REF!","v":{"$error":"#REF!"}},"A.5.3.0",{"$f":"VLOOKUP(O962,#REF!:#REF!,3,)","v":{"$error":"#REF!"}},{"$error":"#REF!"}]
[null,24,"Pas. Floor Drain",{"$nulls":9},{"$f":"#REF!","v":{"$error":"#REF!"}},{"$f":"#REF!","v":{"$error":"#REF!"}},"A.5.5.0",{"$f":"VLOOKUP(O963,#REF!:#REF!,3,)","v":{"$error":"#REF!"}},{"$error":"#REF!"}]
[null,25,"Pas. Ralling Door Pengangkut Barang",{"$nulls":9},{"$f":"#REF!","v":{"$error":"#REF!"}},{"$f":"#REF!","v":{"$error":"#REF!"}},"ROLL",{"$f":"VLOOKUP(O964,#REF!:#REF!,3,)","v":{"$error":"#REF!"}},{"$error":"#REF!"}]
[null,26,"Pas. Kran Air",{"$nulls":9},{"$f":"#REF!","v":{"$error":"#REF!"}},{"$f":"#REF!","v":{"$error":"#REF!"}},"A.5.4.0",{"$f":"VLOOKUP(O965,#REF!:#REF!,3,)","v":{"$error":"#REF!"}},{"$error":"#REF!"}]
[null,27,"Pek. Pemasangan ACP",{"$nulls":9},{"$f":"#REF!","v":{"$error":"#REF!"}},{"$f":"#REF!","v":{"$error":"#REF!"}},"A.6.1.0",{"$f":"VLOOKUP(O966,#REF!:#REF!,3,)","v":{"$error":"#REF!"}},{"$error":"#REF!"}]
[null,28,"Pek. Tangga"]
[null,null,"-","Beton",{"$nulls":8},{"$f":"#REF!","v":{"$error":"#REF!"}},{"$f":"#REF!","v":{"$error":"#REF!"}},"A.3.1.0",{"$f":"VLOOKUP(O968,#REF!:#REF!,3,)","v":{"$error":"#REF!"}},{"$error":"#REF!"}]
[null,29,"Pek. Balok Latei"]
[null,null,"-","Beton",{"$nulls":8},{"$f":"#REF!","v":{"$error":"#REF!"}},"M3","A.3.1.0",{"$f":"VLOOKUP(O970,#REF!:#REF!,3,)","v":{"$error":"#REF!"}},{"$error":"#REF!"}]
[null,null,"-","Pembesian",{"$nulls":8},{"$f":"#REF!","v":{"$error":"#REF!"}},"Kg","A.3.2.0",{"$f":"VLOOKUP(O971,#REF!:#REF!,3,)","v":{"$error":"#REF!"}},{"$error":"#REF!"}]
[null,null,"-","Bekisting",{"$nulls":8},{"$f":"#REF!","v":{"$error":"#REF!"}},"M2","A.3.7.0",{"$f":"VLOOKUP(O972,#REF!:#REF!,3,)","v":{"$error":"#REF!"}},{"$error":"#REF!"}]
[]
[null,"XII.","PEMBANGUNAN LABORATORIUM",{"$nulls":14},{"$f":"SUM(Q976:Q1038)","v":{"$error":"#REF!"}}]
[null,"A","Pekerjaan Tanah dan Pondasi"]
[null,1,"Pembersihan Lapangan",{"$nulls":9},{"$f":"#REF!","v":{"$error":"#REF!"}},"M2","A.1.2.1",{"$f":"VLOOKUP(O976,#REF!:#REF!,3,)","v":{"$error":"#REF!"}},{"$error":"#REF!"}]
[null,2,"Pagar Pengaman Proyek, t = 2m",{"$nulls":9},{"$f":"#REF!","v":{"$error":"#REF!"}},"M","A.1.1.0",{"$f":"VLOOKUP(O977,#REF!:#REF!,3,)","v":{"$error":"#REF!"}},{"$error":"#REF!"}]
[null,3,"Pas. Bouwplank",{"$nulls":9},{"$f":"#REF!","v":{"$error":"#REF!"}},"M","A.1.2.0",{"$f":"VLOOKUP(O978,#REF!:#REF!,3,)","v":{"$error":"#REF!"}},{"$error":"#REF!"}]
[null,4,"Pek. Anti Rayap",{"$nulls":9},{"$f":"#REF!","v":{"$error":"#REF!"}},"M2",null,20000,{"$error":"#REF!"}]
[null,5,"Pek. Galian Tanah",{"$nulls":9},{"$f":"#REF!","v":{"$error":"#REF!"}},"M3","A.1.5.0",{"$f":"VLOOKUP(O980,#REF!:#REF!,3,)","v":{"$error":"#REF!"}},{"$error":"#REF!"}]
[null,6,"Urug Tanah Kembali",{"$nulls":9},{"$f":"#REF!","v":{"$error":"#REF!"}},"M3","A.1.7.0",{"$f":"VLOOKUP(O981,#REF!:#REF!,3,)","v":{"$error":"#REF!"}},{"$error":"#REF!"}]
[null,7,"Pas. Pasir Urug",{"$nulls":9},{"$f":"#REF!","v":{"$error":"#REF!"}},"M3","A.1.9.0",{"$f":"VLOOKUP(O982,#REF!:#REF!,3,)","v":{"$error":"#REF!"}},{"$error":"#REF!"}]
[null,8,"Pas. Lantai Kerja",{"$nulls":9},{"$f":"#REF!","v":{"$error":"#REF!"}},"M3","A.3.0.0",{"$f":"VLOOKUP(O983,#REF!:#REF!,3,)","v":{"$error":"#REF!"}},{"$error":"#REF!"}]
[null,9,"Pas. Pondasi Batu Kosong (Aastamping)",{"$nulls":9},{"$f":"#REF!","v":{"$error":"#REF!"}},"M3","A.2.2.0",{"$f":"VLOOKUP(O984,#REF!:#REF!,3,)","v":{"$error":"#REF!"}},{"$error":"#REF!"}]
[null,10,"Pas. Pondasi Batu Kali",{"$nulls":9},{"$f":"#REF!","v":{"$error":"#REF!"}},"M3","A.2.3.0",{"$f":"VLOOKUP(O985,#REF!:#REF!,3,)","v":{"$error":"#REF!"}},{"$error":"#REF!"}]
[null,"B","Pekerjaan Struktur"]
[null,1,"Pas. Pondasi Tapak"]
[null,null,"-","Beton",{"$nulls":8},{"$f":"#REF!","v":{"$error":"#REF!"}},"M3","A.3.3.0",{"$f":"VLOOKUP(O988,#REF!:#REF!,3,)","v":{"$error":"#REF!"}},{"$error":"#REF!"}]
[null,null,"-","Pembesian",{"$nulls":8},{"$f":"#REF!","v":{"$error":"#REF!"}},"Kg","A.3.2.0",{"$f":"VLOOKUP(O989,#REF!:#REF!,3,)","v":{"$error":"#REF!"}},{"$error":"#REF!"}]
[null,null,"-","Bekisting Pondasi",{"$nulls":8},{"$f":"#REF!","v":{"$error":"#REF!"}},"M2","A.3.4.0",{"$f":"VLOOKUP(O990,#REF!:#REF!,3,)","v":{"$error":"#REF!"}},{"$error":"#REF!"}]
[null,2,"Pas. Kolom Pedestal FP 2"]
[null,null,"-","Beton",{"$nulls":8},{"$f":"#REF!","v":{"$error":"#REF!"}},"M3","A.3.3.0",{"$f":"VLOOKUP(O992,#REF!:#REF!,3,)","v":{"$error":"#REF!"}},{"$error":"#REF!"}]
[null,null,"-","Pembesian",{"$nulls":8},{"$f":"#REF!","v":{"$error":"#REF!"}},"Kg","A.3.2.0",{"$f":"VLOOKUP(O993,#REF!:#REF!,3,)","v":{"$error":"#REF!"}},{"$error":"#REF!"}]
[null,null,"-","Bekisting Kolom",{"$nulls":8},{"$f":"#REF!","v":{"$error":"#REF!"}},"M2","A.3.4.0",{"$f":"VLOOKUP(O994,#REF!:#REF!,3,)","v":{"$error":"#REF!"}},{"$error":"#REF!"}]
[null,3,"Pek. Tie Beam SL-01"]
[null,null,"-","Beton",{"$nulls":8},{"$f":"#REF!","v":{"$error":"#REF!"}},"M3","A.3.3.0",{"$f":"VLOOKUP(O996,#REF!:#REF!,3,)","v":{"$error":"#REF!"}},{"$error":"#REF!"}]
[null,null,"-","Pembesian",{"$nulls":8},{"$f":"#REF!","v":{"$error":"#REF!"}},"Kg","A.3.2.0",{"$f":"VLOOKUP(O997,#REF!:#REF!,3,)","v":{"$error":"#REF!"}},{"$error":"#REF!"}]
[null,null,"-","Bekisting Tie Beam",{"$nulls":8},{"$f":"#REF!","v":{"$error":"#REF!"}},"M2","A.3.5.0",{"$f":"VLOOKUP(O998,#REF!:#REF!,3,)","v":{"$error":"#REF!"}},{"$error":"#REF!"}]
[null,4,"Pek. Kolom K-01"]
[null,null,"-","Beton",{"$nulls":8},{"$f":"#REF!","v":{"$error":"#REF!"}},"M3","A.3.3.0",{"$f":"VLOOKUP(O1000,#REF!:#REF!,3,)","v":{"$error":"#REF!"}},{"$error":"#REF!"}]
[null,null,"-","Pembesian",{"$nulls":8},{"$f":"#REF!","v":{"$error":"#REF!"}},"Kg","A.3.2.0",{"$f":"VLOOKUP(O1001,#REF!:#REF!,3,)","v":{"$error":"#REF!"}},{"$error":"#REF!"}]
[null,null,"-","Bekisting Kolom",{"$nulls":8},{"$f":"#REF!","v":{"$error":"#REF!"}},"M2","A.3.6.0",{"$f":"VLOOKUP(O1002,#REF!:#REF!,3,)","v":{"$error":"#REF!"}},{"$error":"#REF!"}]
[null,5,"Pek. Ring Balok RB-01"]
[null,null,"-","Beton",{"$nulls":8},{"$f":"#REF!","v":{"$error":"#REF!"}},"M3","A.3.3.0",{"$f":"VLOOKUP(O1004,#REF!:#REF!,3,)","v":{"$error":"#REF!"}},{"$error":"#REF!"}]
[null,null,"-","Pembesian",{"$nulls":8},{"$f":"#REF!","v":{"$error":"#REF!"}},"Kg","A.3.2.0",{"$f":"VLOOKUP(O1005,#REF!:#REF!,3,)","v":{"$error":"#REF!"}},{"$error":"#REF!"}]
[null,null,"-","Bekisting Balok",{"$nulls":8},{"$f":"#REF!","v":{"$error":"#REF!"}},"M2","A.3.7.0",{"$f":"VLOOKUP(O1006,#REF!:#REF!,3,)","v":{"$error":"#REF!"}},{"$error":"#REF!"}]
[null,6,"Pekerjaan Atap"]
[null,null,"-","Pas. Kuda-kuda Baja Ringan",{"$nulls":8},{"$f":"#REF!","v":{"$error":"#REF!"}},"M2","A.4.3.0",{"$f":"VLOOKUP(O1008,#REF!:#REF!,3,)","v":{"$error":"#REF!"}},{"$error":"#REF!"}]
[null,null,"-","Pas. Penutup Atap",{"$nulls":8},{"$f":"#REF!","v":{"$error":"#REF!"}},"M2","A.4.8.0",{"$f":"VLOOKUP(O1009,#REF!:#REF!,3,)","v":{"$error":"#REF!"}},{"$error":"#REF!"}]
[null,null,"-","Pas. Nok Atap",{"$nulls":8},{"$f":"#REF!","v":{"$error":"#REF!"}},"M","A.4.9.0",{"$f":"VLOOKUP(O1010,#REF!:#REF!,3,)","v":{"$error":"#REF!"}},{"$error":"#REF!"}]
[null,null,"-","Pas. Listplank",{"$nulls":8},{"$f":"#REF!","v":{"$error":"#REF!"}},"M","A.4.7.0",{"$f":"VLOOKUP(O1011,#REF!:#REF!,3,)","v":{"$error":"#REF!"}},{"$error":"#REF!"}]
[null,null,"-","Pas. Talang",{"$nulls":8},{"$f":"#REF!","v":{"$error":"#REF!"}},"M","A.5.7.0",{"$f":"VLOOKUP(O1012,#REF!:#REF!,3,)","v":{"$error":"#REF!"}},{"$error":"#REF!"}]
[null,7,"Pek. Plat Lantai"]
[null,null,"-","Beton",{"$nulls":8},{"$f":"#REF!","v":{"$error":"#REF!"}},"M3","A.3.1.0",{"$f":"VLOOKUP(O1014,#REF!:#REF!,3,)","v":{"$error":"#REF!"}},{"$error":"#REF!"}]
[null,null,"-","Pasir Urug",{"$nulls":8},{"$f":"#REF!","v":{"$error":"#REF!"}},"M3","A.1.9.0",{"$f":"VLOOKUP(O1015,#REF!:#REF!,3,)","v":{"$error":"#REF!"}},{"$error":"#REF!"}]
[null,null,"-","Wiremash M-6 (1 Layer)",{"$nulls":8},{"$f":"#REF!","v":{"$error":"#REF!"}},"M2","A.3.2.1",{"$f":"VLOOKUP(O1016,#REF!:#REF!,3,)","v":{"$error":"#REF!"}},{"$f":"M1016*P1016","v":{"$error":"#REF!"}}]
[null,"C","Pekerjaan Arsitektur"]
[null,1,"Pas. Dinding Hebel t.10",{"$nulls":9},{"$f":"#REF!","v":{"$error":"#REF!"}},"M2","A.2.7.0",{"$f":"VLOOKUP(O1018,#REF!:#REF!,3,)","v":{"$error":"#REF!"}},{"$error":"#REF!"}]
[null,2,"Pek. Plesteran",{"$nulls":9},{"$f":"#REF!","v":{"$error":"#REF!"}},"M2","A.2.8.0",{"$f":"VLOOKUP(O1019,#REF!:#REF!,3,)","v":{"$error":"#REF!"}},{"$error":"#REF!"}]
[null,3,"Pek. Acian",{"$nulls":9},{"$f":"#REF!","v":{"$error":"#REF!"}},"M2","A.2.9.0",{"$f":"VLOOKUP(O1020,#REF!:#REF!,3,)","v":{"$error":"#REF!"}},{"$error":"#REF!"}]
[null,4,"Pas. Kusen AD-01 + Assesories",{"$nulls":9},{"$f":"#REF!","v":{"$error":"#REF!"}},"Bh","AD.01",{"$f":"VLOOKUP(O1021,#REF!:#REF!,3,)","v":{"$error":"#REF!"}},{"$error":"#REF!"}]
[null,5,"Pas. Kusen AW-01 + Assesories",{"$nulls":9},{"$f":"#REF!","v":{"$error":"#REF!"}},"Bh","AW.01",{"$f":"VLOOKUP(O1022,#REF!:#REF!,3,)","v":{"$error":"#REF!"}},{"$error":"#REF!"}]
[null,6,"Pas. Variasi grill/louvre",{"$nulls":9},{"$f":"#REF!","v":{"$error":"#REF!"}},"M2","A.6.0.0",{"$f":"VLOOKUP(O1023,#REF!:#REF!,3,)","v":{"$error":"#REF!"}},{"$error":"#REF!"}]
[null,7,"Pas. Plafond Gypsum + Rangka",{"$nulls":9},{"$f":"#REF!","v":{"$error":"#REF!"}},"M2","A.4.6.0",{"$f":"VLOOKUP(O1024,#REF!:#REF!,3,)","v":{"$error":"#REF!"}},{"$error":"#REF!"}]
[null,8,"Pas. Plafond GRC + Rangka",{"$nulls":9},{"$f":"#REF!","v":{"$error":"#REF!"}},"M2","A.4.5.0",{"$f":"VLOOKUP(O1025,#REF!:#REF!,3,)","v":{"$error":"#REF!"}},{"$error":"#REF!"}]
[null,9,"Pas. Keramik 60/60",{"$nulls":9},{"$f":"#REF!","v":{"$error":"#REF!"}},"M2","A.7.0.0",{"$f":"VLOOKUP(O1026,#REF!:#REF!,3,)","v":{"$error":"#REF!"}},{"$error":"#REF!"}]
[null,10,"Pas. Keramik 60/60 Anti Slip",{"$nulls":9},{"$f":"#REF!","v":{"$error":"#REF!"}},"M2","A.7.0.0",{"$f":"VLOOKUP(O1027,#REF!:#REF!,3,)","v":{"$error":"#REF!"}},{"$error":"#REF!"}]
[null,11,"Plint Lantai t 10",{"$nulls":9},{"$f":"#REF!","v":{"$error":"#REF!"}},"M","A.7.0.1",{"$f":"VLOOKUP(O1028,#REF!:#REF!,3,)","v":{"$error":"#REF!"}},{"$error":"#REF!"}]
[null,12,"Pekerjaan Pengecatan Dinding Interior Jotun Majectic",{"$nulls":9},{"$f":"#REF!","v":{"$error":"#REF!"}},"M2","A.7.3.0",{"$f":"VLOOKUP(O1029,#REF!:#REF!,3,)","v":{"$error":"#REF!"}},{"$error":"#REF!"}]
[null,13,"Pekerjaan Pengecatan DInding Eksterior Dulux Wheatershield",{"$nulls":9},{"$f":"#REF!","v":{"$error":"#REF!"}},"M2","A.7.2.0",{"$f":"VLOOKUP(O1030,#REF!:#REF!,3,)","v":{"$error":"#REF!"}},{"$error":"#REF!"}]
[null,14,"Pekerjaan Pengecatan Plafond vinilex",{"$nulls":9},{"$f":"#REF!","v":{"$error":"#REF!"}},"M2","A.7.5.0",{"$f":"VLOOKUP(O1031,#REF!:#REF!,3,)","v":{"$error":"#REF!"}},{"$error":"#REF!"}]
[null,15,"Pek. Pemasangan ACP",{"$nulls":9},{"$f":"#REF!","v":{"$error":"#REF!"}},"M2","A.6.1.0",{"$f":"VLOOKUP(O1032,#REF!:#REF!,3,)","v":{"$error":"#REF!"}},{"$error":"#REF!"}]
[null,16,"Pek. Tangga"]
[null,null,"-","Beton",{"$nulls":8},{"$f":"#REF!","v":{"$error":"#REF!"}},"M2","A.3.1.0",{"$f":"VLOOKUP(O1034,#REF!:#REF!,3,)","v":{"$error":"#REF!"}},{"$error":"#REF!"}]
[null,17,"Pek. Balok Latei"]
[null,null,"-","Beton",{"$nulls":8},{"$f":"#REF!","v":{"$error":"#REF!"}},"M3","A.3.1.0",{"$f":"VLOOKUP(O1036,#REF!:#REF!,3,)","v":{"$error":"#REF!"}},{"$error":"#REF!"}]
[null,null,"-","Pembesian",{"$nulls":8},{"$f":"#REF!","v":{"$error":"#REF!"}},"Kg","A.3.2.0",{"$f":"VLOOKUP(O1037,#REF!:#REF!,3,)","v":{"$error":"#REF!"}},{"$error":"#REF!"}]
[null,null,"-","Bekisting Balok",{"$nulls":8},{"$f":"#REF!","v":{"$error":"#REF!"}},"M2","A.3.7.0",{"$f":"VLOOKUP(O1038,#REF!:#REF!,3,)","v":{"$error":"#REF!"}},{"$error":"#REF!"}]
[]
[null,"XIII.","PEMBANGUNAN RPS PERHOTELAN",{"$nulls":14},{"$f":"SUM(Q1042:Q1128)","v":{"$error":"#REF!"}}]
[null,"A","Pek. Galian Tanah dan Pondasi"]
[null,1,"Pembersihan Lapangan",{"$nulls":9},{"$f":"#REF!","v":{"$error":"#REF!"}},{"$f":"#REF!","v":{"$error":"#REF!"}},"A.1.2.1",{"$f":"VLOOKUP(O1042,#REF!:#REF!,3,)","v":{"$error":"#REF!"}},{"$error":"#REF!"}]
[null,2,"Pagar Pengaman Proyek, t=2m",{"$nulls":9},{"$f":"#REF!","v":{"$error":"#REF!"}},{"$f":"#REF!","v":{"$error":"#REF!"}},"A.1.1.0",{"$f":"VLOOKUP(O1043,#REF!:#REF!,3,)","v":{"$error":"#REF!"}},{"$error":"#REF!"}]
[null,3,"Pas. Bouwplank",{"$nulls":9},{"$f":"#REF!","v":{"$error":"#REF!"}},{"$f":"#REF!","v":{"$error":"#REF!"}},"A.1.2.0",{"$f":"VLOOKUP(O1044,#REF!:#REF!,3,)","v":{"$error":"#REF!"}},{"$error":"#REF!"}]
[null,4,"Pek. Anti Rayap",{"$nulls":9},{"$f":"#REF!","v":{"$error":"#REF!"}},{"$f":"#REF!","v":{"$error":"#REF!"}},null,20000,{"$error":"#REF!"}]
[null,5,"Pek. Galian Tanah ",{"$nulls":9},{"$f":"#REF!","v":{"$error":"#REF!"}},{"$f":"#REF!","v":{"$error":"#REF!"}},"A.1.5.0",{"$f":"VLOOKUP(O1046,#REF!:#REF!,3,)","v":{"$error":"#REF!"}},{"$error":"#REF!"}]
[null,6,"Urug Tanah Kembali",{"$nulls":9},{"$f":"#REF!","v":{"$error":"#REF!"}},{"$f":"#REF!","v":{"$error":"#REF!"}},"A.1.7.0",{"$f":"VLOOKUP(O1047,#REF!:#REF!,3,)","v":{"$error":"#REF!"}},{"$error":"#REF!"}]
[null,7,"Pas. Pasir Urug",{"$nulls":9},{"$f":"#REF!","v":{"$error":"#REF!"}},{"$f":"#REF!","v":{"$error":"#REF!"}},"A.1.9.0",{"$f":"VLOOKUP(O1048,#REF!:#REF!,3,)","v":{"$error":"#REF!"}},{"$error":"#REF!"}]
[null,8,"Pas. Lantai Kerja",{"$nulls":9},{"$f":"#REF!","v":{"$error":"#REF!"}},{"$f":"#REF!","v":{"$error":"#REF!"}},"A.3.0.0",{"$f":"VLOOKUP(O1049,#REF!:#REF!,3,)","v":{"$error":"#REF!"}},{"$error":"#REF!"}]
[null,5,"Pas. Pondasi Batu Kosong (Aastamping)",{"$nulls":9},{"$f":"#REF!","v":{"$error":"#REF!"}},{"$f":"#REF!","v":{"$error":"#REF!"}},"A.2.2.0",{"$f":"VLOOKUP(O1050,#REF!:#REF!,3,)","v":{"$error":"#REF!"}},{"$error":"#REF!"}]
[null,6,"Pas. Pondasi Batu Kali",{"$nulls":9},{"$f":"#REF!","v":{"$error":"#REF!"}},{"$f":"#REF!","v":{"$error":"#REF!"}},"A.2.3.0",{"$f":"VLOOKUP(O1051,#REF!:#REF!,3,)","v":{"$error":"#REF!"}},{"$error":"#REF!"}]
[null,"B","Pekerjaan Struktur"]
[null,1,"Pas. Pondasi Tapak"]
[null,null,"-","Beton",{"$nulls":8},{"$f":"#REF!","v":{"$error":"#REF!"}},{"$f":"#REF!","v":{"$error":"#REF!"}},"A.3.3.0",{"$f":"VLOOKUP(O1054,#REF!:#REF!,3,)","v":{"$error":"#REF!"}},{"$error":"#REF!"}]
[null,null,"-","Pembesian",{"$nulls":8},{"$f":"#REF!","v":{"$error":"#REF!"}},{"$f":"#REF!","v":{"$error":"#REF!"}},"A.3.2.0",{"$f":"VLOOKUP(O1055,#REF!:#REF!,3,)","v":{"$error":"#REF!"}},{"$error":"#REF!"}]
[null,null,"-","Bekisting Pondasi",{"$nulls":8},{"$f":"#REF!","v":{"$error":"#REF!"}},{"$f":"#REF!","v":{"$error":"#REF!"}},"A.3.4.0",{"$f":"VLOOKUP(O1056,#REF!:#REF!,3,)","v":{"$error":"#REF!"}},{"$error":"#REF!"}]
[null,2,"Pas. Kolom Pedestal FP 1"]
[null,null,"-","Beton",{"$nulls":8},{"$f":"#REF!","v":{"$error":"#REF!"}},{"$f":"#REF!","v":{"$error":"#REF!"}},"A.3.3.0",{"$f":"VLOOKUP(O1058,#REF!:#REF!,3,)","v":{"$error":"#REF!"}},{"$error":"#REF!"}]
[null,null,"-","Pembesian",{"$nulls":8},{"$f":"#REF!","v":{"$error":"#REF!"}},{"$f":"#REF!","v":{"$error":"#REF!"}},"A.3.2.0",{"$f":"VLOOKUP(O1059,#REF!:#REF!,3,)","v":{"$error":"#REF!"}},{"$error":"#REF!"}]
[null,null,"-","Bekisting Kolom",{"$nulls":8},{"$f":"#REF!","v":{"$error":"#REF!"}},{"$f":"#REF!","v":{"$error":"#REF!"}},"A.3.4.0",{"$f":"VLOOKUP(O1060,#REF!:#REF!,3,)","v":{"$error":"#REF!"}},{"$error":"#REF!"}]
[null,3,"Pas. Kolom Pedestal FP 2"]
[null,null,"-","Beton",{"$nulls":8},{"$f":"#REF!","v":{"$error":"#REF!"}},{"$f":"#REF!","v":{"$error":"#REF!"}},"A.3.3.0",{"$f":"VLOOKUP(O1062,#REF!:#REF!,3,)","v":{"$error":"#REF!"}},{"$error":"#REF!"}]
[null,null,"-","Pembesian",{"$nulls":8},{"$f":"#REF!","v":{"$error":"#REF!"}},{"$f":"#REF!","v":{"$error":"#REF!"}},"A.3.2.0",{"$f":"VLOOKUP(O1063,#REF!:#REF!,3,)","v":{"$error":"#REF!"}},{"$error":"#REF!"}]
[null,null,"-","Bekisting Kolom",{"$nulls":8},{"$f":"#REF!","v":{"$error":"#REF!"}},{"$f":"#REF!","v":{"$error":"#REF!"}},"A.3.4.0",{"$f":"VLOOKUP(O1064,#REF!:#REF!,3,)","v":{"$error":"#REF!"}},{"$error":"#REF!"}]
[null,5,"Pek. Tie Beam SL-01"]
[null,null,"-","Beton",{"$nulls":8},{"$f":"#REF!","v":{"$error":"#REF!"}},{"$f":"#REF!","v":{"$error":"#REF!"}},"A.3.3.0",{"$f":"VLOOKUP(O1066,#REF!:#REF!,3,)","v":{"$error":"#REF!"}},{"$error":"#REF!"}]
[null,null,"-","Pembesian",{"$nulls":8},{"$f":"#REF!","v":{"$error":"#REF!"}},{"$f":"#REF!","v":{"$error":"#REF!"}},"A.3.2.0",{"$f":"VLOOKUP(O1067,#REF!:#REF!,3,)","v":{"$error":"#REF!"}},{"$error":"#REF!"}]
[null,null,"-","Bekisting Tie Beam",{"$nulls":8},{"$f":"#REF!","v":{"$error":"#REF!"}},{"$f":"#REF!","v":{"$error":"#REF!"}},"A.3.5.0",{"$f":"VLOOKUP(O1068,#REF!:#REF!,3,)","v":{"$error":"#REF!"}},{"$error":"#REF!"}]
[null,4,"Pek. Kolom K-01"]
[null,null,"-","Beton",{"$nulls":8},{"$f":"#REF!","v":{"$error":"#REF!"}},{"$f":"#REF!","v":{"$error":"#REF!"}},"A.3.3.0",{"$f":"VLOOKUP(O1070,#REF!:#REF!,3,)","v":{"$error":"#REF!"}},{"$error":"#REF!"}]
[null,null,"-","Pembesian",{"$nulls":8},{"$f":"#REF!","v":{"$error":"#REF!"}},{"$f":"#REF!","v":{"$error":"#REF!"}},"A.3.2.0",{"$f":"VLOOKUP(O1071,#REF!:#REF!,3,)","v":{"$error":"#REF!"}},{"$error":"#REF!"}]
[null,null,"-","Bekisting Kolom",{"$nulls":8},{"$f":"#REF!","v":{"$error":"#REF!"}},{"$f":"#REF!","v":{"$error":"#REF!"}},"A.3.6.0",{"$f":"VLOOKUP(O1072,#REF!:#REF!,3,)","v":{"$error":"#REF!"}},{"$error":"#REF!"}]
[null,5,"Pek. Kolom K-02"]
[null,null,"-","Beton",{"$nulls":8},{"$f":"#REF!","v":{"$error":"#REF!"}},{"$f":"#REF!","v":{"$error":"#REF!"}},"A.3.3.0",{"$f":"VLOOKUP(O1074,#REF!:#REF!,3,)","v":{"$error":"#REF!"}},{"$error":"#REF!"}]
[null,null,"-","Pembesian",{"$nulls":8},{"$f":"#REF!","v":{"$error":"#REF!"}},{"$f":"#REF!","v":{"$error":"#REF!"}},"A.3.2.0",{"$f":"VLOOKUP(O1075,#REF!:#REF!,3,)","v":{"$error":"#REF!"}},{"$error":"#REF!"}]
[null,null,"-","Bekisting Kolom",{"$nulls":8},{"$f":"#REF!","v":{"$error":"#REF!"}},{"$f":"#REF!","v":{"$error":"#REF!"}},"A.3.6.0",{"$f":"VLOOKUP(O1076,#REF!:#REF!,3,)","v":{"$error":"#REF!"}},{"$error":"#REF!"}]
[null,6,"Pek. Kolom K-03"]
[null,null,"-","Beton",{"$nulls":8},{"$f":"#REF!","v":{"$error":"#REF!"}},{"$f":"#REF!","v":{"$error":"#REF!"}},"A.3.3.0",{"$f":"VLOOKUP(O1078,#REF!:#REF!,3,)","v":{"$error":"#REF!"}},{"$error":"#REF!"}]
[null,null,"-","Pembesian",{"$nulls":8},{"$f":"#REF!","v":{"$error":"#REF!"}},{"$f":"#REF!","v":{"$error":"#REF!"}},"A.3.2.0",{"$f":"VLOOKUP(O1079,#REF!:#REF!,3,)","v":{"$error":"#REF!"}},{"$error":"#REF!"}]
[null,null,"-","Bekisting Kolom",{"$nulls":8},{"$f":"#REF!","v":{"$error":"#REF!"}},{"$f":"#REF!","v":{"$error":"#REF!"}},"A.3.6.0",{"$f":"VLOOKUP(O1080,#REF!:#REF!,3,)","v":{"$error":"#REF!"}},{"$error":"#REF!"}]
[null,7,"Pek. Ring Balok RB-01"]
[null,null,"-","Beton",{"$nulls":8},{"$f":"#REF!","v":{"$error":"#REF!"}},{"$f":"#REF!","v":{"$error":"#REF!"}},"A.3.3.0",{"$f":"VLOOKUP(O1082,#REF!:#REF!,3,)","v":{"$error":"#REF!"}},{"$f":"M1082*P1082","v":{"$error":"#REF!"}}]
[null,null,"-","Pembesian",{"$nulls":8},{"$f":"#REF!","v":{"$error":"#REF!"}},{"$f":"#REF!","v":{"$error":"#REF!"}},"A.3.2.0",{"$f":"VLOOKUP(O1083,#REF!:#REF!,3,)","v":{"$error":"#REF!"}},{"$error":"#REF!"}]
[null,null,"-","Bekisting Balok",{"$nulls":8},{"$f":"#REF!","v":{"$error":"#REF!"}},{"$f":"#REF!","v":{"$error":"#REF!"}},"A.3.7.0",{"$f":"VLOOKUP(O1084,#REF!:#REF!,3,)","v":{"$error":"#REF!"}},{"$error":"#REF!"}]
[null,8,"Pek. Balok Latei"]
[null,null,"-","Beton",{"$nulls":8},{"$f":"#REF!","v":{"$error":"#REF!"}},{"$f":"#REF!","v":{"$error":"#REF!"}},"A.3.1.0",{"$f":"VLOOKUP(O1086,#REF!:#REF!,3,)","v":{"$error":"#REF!"}},{"$error":"#REF!"}]
[null,null,"-","Pembesian",{"$nulls":8},{"$f":"#REF!","v":{"$error":"#REF!"}},{"$f":"#REF!","v":{"$error":"#REF!"}},"A.3.2.0",{"$f":"VLOOKUP(O1087,#REF!:#REF!,3,)","v":{"$error":"#REF!"}},{"$error":"#REF!"}]
[null,null,"-","Bekisting Balok",{"$nulls":8},{"$f":"#REF!","v":{"$error":"#REF!"}},{"$f":"#REF!","v":{"$error":"#REF!"}},"A.3.7.0",{"$f":"VLOOKUP(O1088,#REF!:#REF!,3,)","v":{"$error":"#REF!"}},{"$error":"#REF!"}]
[null,9,"Pekerjaan Atap"]
[null,10,"Pas. Kuda-kuda Baja Ringan",{"$nulls":9},{"$f":"#REF!","v":{"$error":"#REF!"}},{"$f":"#REF!","v":{"$error":"#REF!"}},"A.4.3.0",{"$f":"VLOOKUP(O1090,#REF!:#REF!,3,)","v":{"$error":"#REF!"}},{"$error":"#REF!"}]
[null,11,"Pas. Penutup Atap",{"$nulls":9},{"$f":"#REF!","v":{"$error":"#REF!"}},{"$f":"#REF!","v":{"$error":"#REF!"}},"A.4.8.0",{"$f":"VLOOKUP(O1091,#REF!:#REF!,3,)","v":{"$error":"#REF!"}},{"$error":"#REF!"}]
[null,12,"Pas. Nok Atap",{"$nulls":9},{"$f":"#REF!","v":{"$error":"#REF!"}},{"$f":"#REF!","v":{"$error":"#REF!"}},"A.4.9.0",{"$f":"VLOOKUP(O1092,#REF!:#REF!,3,)","v":{"$error":"#REF!"}},{"$error":"#REF!"}]
[null,13,"Pas. Listplank",{"$nulls":9},{"$f":"#REF!","v":{"$error":"#REF!"}},{"$f":"#REF!","v":{"$error":"#REF!"}},"A.4.7.0",{"$f":"VLOOKUP(O1093,#REF!:#REF!,3,)","v":{"$error":"#REF!"}},{"$error":"#REF!"}]
[null,14,"Pas. Talang",{"$nulls":9},{"$f":"#REF!","v":{"$error":"#REF!"}},{"$f":"#REF!","v":{"$error":"#REF!"}},"A.5.7.0",{"$f":"VLOOKUP(O1094,#REF!:#REF!,3,)","v":{"$error":"#REF!"}},{"$error":"#REF!"}]
[null,"C","Pekerjaan Arsitektur"]
[null,1,"Pek. Plat Lantai"]
[null,null,"-","Pak. Pasir Urug",{"$nulls":8},{"$f":"#REF!","v":{"$error":"#REF!"}},{"$f":"#REF!","v":{"$error":"#REF!"}},"A.1.9.0",{"$f":"VLOOKUP(O1097,#REF!:#REF!,3,)","v":{"$error":"#REF!"}},{"$error":"#REF!"}]
[null,null,"-","Beton",{"$nulls":8},{"$f":"#REF!","v":{"$error":"#REF!"}},{"$f":"#REF!","v":{"$error":"#REF!"}},"A.3.1.0",{"$f":"VLOOKUP(O1098,#REF!:#REF!,3,)","v":{"$error":"#REF!"}},{"$error":"#REF!"}]
[null,null,"-","Wiremash M-6 (1 Layer)",{"$nulls":8},{"$f":"#REF!","v":{"$error":"#REF!"}},{"$f":"#REF!","v":{"$error":"#REF!"}},"A.3.2.1",{"$f":"VLOOKUP(O1099,#REF!:#REF!,3,)","v":{"$error":"#REF!"}},{"$error":"#REF!"}]
[null,2,"Pek. RAM"]
[null,null,"-","Beton",{"$nulls":8},{"$f":"#REF!","v":{"$error":"#REF!"}},{"$f":"#REF!","v":{"$error":"#REF!"}},"A.3.1.0",{"$f":"VLOOKUP(O1101,#REF!:#REF!,3,)","v":{"$error":"#REF!"}},{"$error":"#REF!"}]
[null,3,"Pek. Tangga"]
[null,null,"-","Beton",{"$nulls":8},{"$f":"#REF!","v":{"$error":"#REF!"}},{"$f":"#REF!","v":{"$error":"#REF!"}},"A.3.0.0",{"$f":"VLOOKUP(O1103,#REF!:#REF!,3,)","v":{"$error":"#REF!"}},{"$error":"#REF!"}]
[null,4,"Pas. Dinding Hebel t.10",{"$nulls":9},{"$f":"#REF!","v":{"$error":"#REF!"}},{"$f":"#REF!","v":{"$error":"#REF!"}},"A.2.7.0",{"$f":"VLOOKUP(O1104,#REF!:#REF!,3,)","v":{"$error":"#REF!"}},{"$error":"#REF!"}]
[null,5,"Pek. Plesteran",{"$nulls":9},{"$f":"#REF!","v":{"$error":"#REF!"}},{"$f":"#REF!","v":{"$error":"#REF!"}},"A.2.8.0",{"$f":"VLOOKUP(O1105,#REF!:#REF!,3,)","v":{"$error":"#REF!"}},{"$error":"#REF!"}]
[null,6,"Pek. Acian",{"$nulls":9},{"$f":"#REF!","v":{"$error":"#REF!"}},{"$f":"#REF!","v":{"$error":"#REF!"}},"A.2.9.0",{"$f":"VLOOKUP(O1106,#REF!:#REF!,3,)","v":{"$error":"#REF!"}},{"$error":"#REF!"}]
[null,7,"Pas. Kusen AD-01 + Assesories",{"$nulls":9},{"$f":"#REF!","v":{"$error":"#REF!"}},{"$f":"#REF!","v":{"$error":"#REF!"}},"AD.01",{"$f":"VLOOKUP(O1107,#REF!:#REF!,3,)","v":{"$error":"#REF!"}},{"$error":"#REF!"}]
[null,8,"Pas. Kusen AD-02 + Assesories",{"$nulls":9},{"$f":"#REF!","v":{"$error":"#REF!"}},{"$f":"#REF!","v":{"$error":"#REF!"}},"AD.02",{"$f":"VLOOKUP(O1108,#REF!:#REF!,3,)","v":{"$error":"#REF!"}},{"$error":"#REF!"}]
[null,9,"Pas. Kusen AD-04 + Assesories",{"$nulls":9},{"$f":"#REF!","v":{"$error":"#REF!"}},{"$f":"#REF!","v":{"$error":"#REF!"}},"AD.04",{"$f":"VLOOKUP(O1109,#REF!:#REF!,3,)","v":{"$error":"#REF!"}},{"$error":"#REF!"}]
[null,10,"Pas. Kusen AW-01 + Assesories",{"$nulls":9},{"$f":"#REF!","v":{"$error":"#REF!"}},{"$f":"#REF!","v":{"$error":"#REF!"}},"AW.01",{"$f":"VLOOKUP(O1110,#REF!:#REF!,3,)","v":{"$error":"#REF!"}},{"$error":"#REF!"}]
[null,11,"Pas. Kusen BV-01 + Assesories",{"$nulls":9},{"$f":"#REF!","v":{"$error":"#REF!"}},{"$f":"#REF!","v":{"$error":"#REF!"}},"BV.01",{"$f":"VLOOKUP(O1111,#REF!:#REF!,3,)","v":{"$error":"#REF!"}},{"$error":"#REF!"}]
[null,12,"Pas. RD-01 + Assesories",{"$nulls":9},{"$f":"#REF!","v":{"$error":"#REF!"}},{"$f":"#REF!","v":{"$error":"#REF!"}},"AD.01",{"$f":"VLOOKUP(O1112,#REF!:#REF!,3,)","v":{"$error":"#REF!"}},{"$error":"#REF!"}]
[null,13,"Pas. Variasi grill/louvre",{"$nulls":9},{"$f":"#REF!","v":{"$error":"#REF!"}},{"$f":"#REF!","v":{"$error":"#REF!"}},"A.6.0.0",{"$f":"VLOOKUP(O1113,#REF!:#REF!,3,)","v":{"$error":"#REF!"}},{"$error":"#REF!"}]
[null,14,"Pas. Plafond Gypsum + Rangka",{"$nulls":9},{"$f":"#REF!","v":{"$error":"#REF!"}},{"$f":"#REF!","v":{"$error":"#REF!"}},"A.4.6.0",{"$f":"VLOOKUP(O1114,#REF!:#REF!,3,)","v":{"$error":"#REF!"}},{"$error":"#REF!"}]
[null,15,"Pas. Plafond GRC + Rangka",{"$nulls":9},{"$f":"#REF!","v":{"$error":"#REF!"}},{"$f":"#REF!","v":{"$error":"#REF!"}},"A.4.5.0",{"$f":"VLOOKUP(O1115,#REF!:#REF!,3,)","v":{"$error":"#REF!"}},{"$error":"#REF!"}]
[null,16,"Pas. Keramik 60/60",{"$nulls":9},{"$f":"#REF!","v":{"$error":"#REF!"}},{"$f":"#REF!","v":{"$error":"#REF!"}},"A.7.0.0",{"$f":"VLOOKUP(O1116,#REF!:#REF!,3,)","v":{"$error":"#REF!"}},{"$error":"#REF!"}]
[null,17,"Pas. Keramik 60/60 Anti Slip",{"$nulls":9},{"$f":"#REF!","v":{"$error":"#REF!"}},{"$f":"#REF!","v":{"$error":"#REF!"}},"A.7.0.0",{"$f":"VLOOKUP(O1117,#REF!:#REF!,3,)","v":{"$error":"#REF!"}},{"$error":"#REF!"}]
[null,18,"Pas. Keramik 25/25",{"$nulls":9},{"$f":"#REF!","v":{"$error":"#REF!"}},{"$f":"#REF!","v":{"$error":"#REF!"}},"A.6.7.1",{"$f":"VLOOKUP(O1118,#REF!:#REF!,3,)","v":{"$error":"#REF!"}},{"$error":"#REF!"}]
[null,19,"Pas. Keramik Dinding 25/50",{"$nulls":9},{"$f":"#REF!","v":{"$error":"#REF!"}},{"$f":"#REF!","v":{"$error":"#REF!"}},"A.7.0.2",{"$f":"VLOOKUP(O1119,#REF!:#REF!,3,)","v":{"$error":"#REF!"}},{"$error":"#REF!"}]
[null,20,"Pas. Plint Keramik",{"$nulls":9},{"$f":"#REF!","v":{"$error":"#REF!"}},{"$f":"#REF!","v":{"$error":"#REF!"}},"A.7.0.1",{"$f":"VLOOKUP(O1120,#REF!:#REF!,3,)","v":{"$error":"#REF!"}},{"$error":"#REF!"}]
[null,21,"Pekerjaan Pengecatan Dinding Interior Jotun Majectic",{"$nulls":9},{"$f":"#REF!","v":{"$error":"#REF!"}},{"$f":"#REF!","v":{"$error":"#REF!"}},"A.7.3.0",{"$f":"VLOOKUP(O1121,#REF!:#REF!,3,)","v":{"$error":"#REF!"}},{"$error":"#REF!"}]
[null,22,"Pekerjaan Pengecatan DInding Eksterior Dulux Wheatershield",{"$nulls":9},{"$f":"#REF!","v":{"$error":"#REF!"}},{"$f":"#REF!","v":{"$error":"#REF!"}},"A.7.2.0",{"$f":"VLOOKUP(O1122,#REF!:#REF!,3,)","v":{"$error":"#REF!"}},{"$error":"#REF!"}]
[null,23,"Pekerjaan Pengecatan Plafond vinilex",{"$nulls":9},{"$f":"#REF!","v":{"$error":"#REF!"}},{"$f":"#REF!","v":{"$error":"#REF!"}},"A.7.5.0",{"$f":"VLOOKUP(O1123,#REF!:#REF!,3,)","v":{"$error":"#REF!"}},{"$error":"#REF!"}]
[null,24,"Pas. Closet Jongkok",{"$nulls":9},{"$f":"#REF!","v":{"$error":"#REF!"}},{"$f":"#REF!","v":{"$error":"#REF!"}},"A.5.1.0",{"$f":"VLOOKUP(O1124,#REF!:#REF!,3,)","v":{"$error":"#REF!"}},{"$error":"#REF!"}]
[null,25,"Pas. Wastafel",{"$nulls":9},{"$f":"#REF!","v":{"$error":"#REF!"}},{"$f":"#REF!","v":{"$error":"#REF!"}},"A.5.3.0",{"$f":"VLOOKUP(O1125,#REF!:#REF!,3,)","v":{"$error":"#REF!"}},{"$error":"#REF!"}]
[null,26,"Pas. Floor Drain",{"$nulls":9},{"$f":"#REF!","v":{"$error":"#REF!"}},{"$f":"#REF!","v":{"$error":"#REF!"}},"A.5.5.0",{"$f":"VLOOKUP(O1126,#REF!:#REF!,3,)","v":{"$error":"#REF!"}},{"$error":"#REF!"}]
[null,27,"Pas. Kran Air",{"$nulls":9},{"$f":"#REF!","v":{"$error":"#REF!"}},{"$f":"#REF!","v":{"$error":"#REF!"}},"A.5.4.0",{"$f":"VLOOKUP(O1127,#REF!:#REF!,3,)","v":{"$error":"#REF!"}},{"$error":"#REF!"}]
[null,28,"Pek. Pemasangan ACP",{"$nulls":9},{"$f":"#REF!","v":{"$error":"#REF!"}},{"$f":"#REF!","v":{"$error":"#REF!"}},"A.6.1.0",{"$f":"VLOOKUP(O1128,#REF!:#REF!,3,)","v":{"$error":"#REF!"}},{"$error":"#REF!"}]
[]
[null,"XIV.","PEMBANGUNAN LABORATORIUM DAN PERPUSTAKAAN",{"$nulls":14},{"$f":"SUM(Q1132:Q1196)","v":{"$error":"#REF!"}}]
[null,"A","Pek. Galian Tanah dan Pondasi"]
[null,1,"Pembersihan Lapangan",{"$nulls":9},{"$f":"#REF!","v":{"$error":"#REF!"}},{"$f":"#REF!","v":{"$error":"#REF!"}},"A.1.2.1",{"$f":"VLOOKUP(O1132,#REF!:#REF!,3,)","v":{"$error":"#REF!"}},{"$error":"#REF!"}]
[null,2,"Pagar Pengaman Proyek, t=2m",{"$nulls":9},{"$f":"#REF!","v":{"$error":"#REF!"}},{"$f":"#REF!","v":{"$error":"#REF!"}},"A.1.1.0",{"$f":"VLOOKUP(O1133,#REF!:#REF!,3,)","v":{"$error":"#REF!"}},{"$error":"#REF!"}]
[null,3,"Pas. Bouwplank",{"$nulls":9},{"$f":"#REF!","v":{"$error":"#REF!"}},{"$f":"#REF!","v":{"$error":"#REF!"}},"A.1.2.0",{"$f":"VLOOKUP(O1134,#REF!:#REF!,3,)","v":{"$error":"#REF!"}},{"$error":"#REF!"}]
[null,4,"Pek. Anti Rayap",{"$nulls":9},{"$f":"#REF!","v":{"$error":"#REF!"}},{"$f":"#REF!","v":{"$error":"#REF!"}},null,20000,{"$error":"#REF!"}]
[null,5,"Pek. Galian Tanah ",{"$nulls":9},{"$f":"#REF!","v":{"$error":"#REF!"}},null,"A.1.5.0",{"$f":"VLOOKUP(O1136,#REF!:#REF!,3,)","v":{"$error":"#REF!"}},{"$f":"M1136*P1136","v":{"$error":"#REF!"}}]
[null,6,"Urug Tanah Kembali",{"$nulls":9},{"$f":"#REF!","v":{"$error":"#REF!"}},{"$f":"#REF!","v":{"$error":"#REF!"}},"A.1.7.0",{"$f":"VLOOKUP(O1137,#REF!:#REF!,3,)","v":{"$error":"#REF!"}},{"$error":"#REF!"}]
[null,7,"Pas. Pasir Urug",{"$nulls":9},{"$f":"#REF!","v":{"$error":"#REF!"}},{"$f":"#REF!","v":{"$error":"#REF!"}},"A.1.9.0",{"$f":"VLOOKUP(O1138,#REF!:#REF!,3,)","v":{"$error":"#REF!"}},{"$error":"#REF!"}]
[null,8,"Pas. Lantai Kerja",{"$nulls":9},{"$f":"#REF!","v":{"$error":"#REF!"}},{"$f":"#REF!","v":{"$error":"#REF!"}},"A.3.0.0",{"$f":"VLOOKUP(O1139,#REF!:#REF!,3,)","v":{"$error":"#REF!"}},{"$f":"M1139*P1139","v":{"$error":"#REF!"}}]
[null,9,"Pas. Pondasi Batu Kosong (Aastamping)",{"$nulls":9},{"$f":"#REF!","v":{"$error":"#REF!"}},{"$f":"#REF!","v":{"$error":"#REF!"}},"A.2.2.0",{"$f":"VLOOKUP(O1140,#REF!:#REF!,3,)","v":{"$error":"#REF!"}},{"$error":"#REF!"}]
[null,10,"Pas. Pondasi Batu Kali",{"$nulls":9},{"$f":"#REF!","v":{"$error":"#REF!"}},{"$f":"#REF!","v":{"$error":"#REF!"}},"A.2.3.0",{"$f":"VLOOKUP(O1141,#REF!:#REF!,3,)","v":{"$error":"#REF!"}},{"$error":"#REF!"}]
[null,"B","Pekerjaan Struktur"]
[null,1,"Pas. Pondasi Tapak"]
[null,null,"-","Beton",{"$nulls":8},{"$f":"#REF!","v":{"$error":"#REF!"}},{"$f":"#REF!","v":{"$error":"#REF!"}},"A.3.3.0",{"$f":"VLOOKUP(O1144,#REF!:#REF!,3,)","v":{"$error":"#REF!"}},{"$error":"#REF!"}]
[null,null,"-","Pembesian",{"$nulls":8},{"$f":"#REF!","v":{"$error":"#REF!"}},{"$f":"#REF!","v":{"$error":"#REF!"}},"A.3.2.0",{"$f":"VLOOKUP(O1145,#REF!:#REF!,3,)","v":{"$error":"#REF!"}},{"$error":"#REF!"}]
[null,null,"-","Bekisting Pondasi",{"$nulls":8},{"$f":"#REF!","v":{"$error":"#REF!"}},{"$f":"#REF!","v":{"$error":"#REF!"}},"A.3.4.0",{"$f":"VLOOKUP(O1146,#REF!:#REF!,3,)","v":{"$error":"#REF!"}},{"$error":"#REF!"}]
[null,2,"Pas. Kolom Pedestal FP 1"]
[null,null,"-","Beton",{"$nulls":8},{"$f":"#REF!","v":{"$error":"#REF!"}},{"$f":"#REF!","v":{"$error":"#REF!"}},"A.3.3.0",{"$f":"VLOOKUP(O1148,#REF!:#REF!,3,)","v":{"$error":"#REF!"}},{"$error":"#REF!"}]
[null,null,"-","Pembesian",{"$nulls":8},{"$f":"#REF!","v":{"$error":"#REF!"}},{"$f":"#REF!","v":{"$error":"#REF!"}},"A.3.2.0",{"$f":"VLOOKUP(O1149,#REF!:#REF!,3,)","v":{"$error":"#REF!"}},{"$error":"#REF!"}]
[null,null,"-","Bekisting Kolom",{"$nulls":8},{"$f":"#REF!","v":{"$error":"#REF!"}},{"$f":"#REF!","v":{"$error":"#REF!"}},"A.3.4.0",{"$f":"VLOOKUP(O1150,#REF!:#REF!,3,)","v":{"$error":"#REF!"}},{"$error":"#REF!"}]
[null,3,"Pek. Tie Beam SL-01"]
[null,null,"-","Beton",{"$nulls":8},{"$f":"#REF!","v":{"$error":"#REF!"}},{"$f":"#REF!","v":{"$error":"#REF!"}},"A.3.3.0",{"$f":"VLOOKUP(O1152,#REF!:#REF!,3,)","v":{"$error":"#REF!"}},{"$error":"#REF!"}]
[null,null,"-","Pembesian",{"$nulls":8},{"$f":"#REF!","v":{"$error":"#REF!"}},{"$f":"#REF!","v":{"$error":"#REF!"}},"A.3.2.0",{"$f":"VLOOKUP(O1153,#REF!:#REF!,3,)","v":{"$error":"#REF!"}},{"$error":"#REF!"}]
[null,null,"-","Bekisting Tie Beam",{"$nulls":8},{"$f":"#REF!","v":{"$error":"#REF!"}},{"$f":"#REF!","v":{"$error":"#REF!"}},"A.3.5.0",{"$f":"VLOOKUP(O1154,#REF!:#REF!,3,)","v":{"$error":"#REF!"}},{"$error":"#REF!"}]
[null,4,"Pek. Kolom K-01"]
[null,null,"-","Beton",{"$nulls":8},{"$f":"#REF!","v":{"$error":"#REF!"}},{"$f":"#REF!","v":{"$error":"#REF!"}},"A.3.3.0",{"$f":"VLOOKUP(O1156,#REF!:#REF!,3,)","v":{"$error":"#REF!"}},{"$error":"#REF!"}]
[null,null,"-","Pembesian",{"$nulls":8},{"$f":"#REF!","v":{"$error":"#REF!"}},{"$f":"#REF!","v":{"$error":"#REF!"}},"A.3.2.0",{"$f":"VLOOKUP(O1157,#REF!:#REF!,3,)","v":{"$error":"#REF!"}},{"$error":"#REF!"}]
[null,null,"-","Bekisting Kolom",{"$nulls":8},{"$f":"#REF!","v":{"$error":"#REF!"}},{"$f":"#REF!","v":{"$error":"#REF!"}},"A.3.6.0",{"$f":"VLOOKUP(O1158,#REF!:#REF!,3,)","v":{"$error":"#REF!"}},{"$error":"#REF!"}]
[null,5,"Pek. Ring Balok RB-01"]
[null,null,"-","Beton",{"$nulls":8},{"$f":"#REF!","v":{"$error":"#REF!"}},{"$f":"#REF!","v":{"$error":"#REF!"}},"A.3.3.0",{"$f":"VLOOKUP(O1160,#REF!:#REF!,3,)","v":{"$error":"#REF!"}},{"$error":"#REF!"}]
[null,null,"-","Pembesian",{"$nulls":8},{"$f":"#REF!","v":{"$error":"#REF!"}},{"$f":"#REF!","v":{"$error":"#REF!"}},"A.3.2.0",{"$f":"VLOOKUP(O1161,#REF!:#REF!,3,)","v":{"$error":"#REF!"}},{"$error":"#REF!"}]
[null,null,"-","Bekisting Balok",{"$nulls":8},{"$f":"#REF!","v":{"$error":"#REF!"}},{"$f":"#REF!","v":{"$error":"#REF!"}},"A.3.7.0",{"$f":"VLOOKUP(O1162,#REF!:#REF!,3,)","v":{"$error":"#REF!"}},{"$error":"#REF!"}]
[null,6,"Pek. Balok Latei"]
[null,null,"-","Beton",{"$nulls":8},{"$f":"#REF!","v":{"$error":"#REF!"}},{"$f":"#REF!","v":{"$error":"#REF!"}},"A.3.1.0",{"$f":"VLOOKUP(O1164,#REF!:#REF!,3,)","v":{"$error":"#REF!"}},{"$error":"#REF!"}]
[null,null,"-","Pembesian",{"$nulls":8},{"$f":"#REF!","v":{"$error":"#REF!"}},{"$f":"#REF!","v":{"$error":"#REF!"}},"A.3.2.0",{"$f":"VLOOKUP(O1165,#REF!:#REF!,3,)","v":{"$error":"#REF!"}},{"$error":"#REF!"}]
[null,null,"-","Bekisting Balok",{"$nulls":8},{"$f":"#REF!","v":{"$error":"#REF!"}},{"$f":"#REF!","v":{"$error":"#REF!"}},"A.3.7.0",{"$f":"VLOOKUP(O1166,#REF!:#REF!,3,)","v":{"$error":"#REF!"}},{"$error":"#REF!"}]
[null,7,"Pekerjaan Atap"]
[null,8,"Pas. Kuda-kuda Baja Ringan",{"$nulls":9},{"$f":"#REF!","v":{"$error":"#REF!"}},{"$f":"#REF!","v":{"$error":"#REF!"}},"A.4.3.0",{"$f":"VLOOKUP(O1168,#REF!:#REF!,3,)","v":{"$error":"#REF!"}},{"$error":"#REF!"}]
[null,9,"Pas. Penutup Atap",{"$nulls":9},{"$f":"#REF!","v":{"$error":"#REF!"}},{"$f":"#REF!","v":{"$error":"#REF!"}},"A.4.8.0",{"$f":"VLOOKUP(O1169,#REF!:#REF!,3,)","v":{"$error":"#REF!"}},{"$error":"#REF!"}]
[null,10,"Pas. Nok Atap",{"$nulls":9},{"$f":"#REF!","v":{"$error":"#REF!"}},{"$f":"#REF!","v":{"$error":"#REF!"}},"A.4.9.0",{"$f":"VLOOKUP(O1170,#REF!:#REF!,3,)","v":{"$error":"#REF!"}},{"$error":"#REF!"}]
[null,11,"Pas. Listplank",{"$nulls":9},{"$f":"#REF!","v":{"$error":"#REF!"}},{"$f":"#REF!","v":{"$error":"#REF!"}},"A.4.7.0",{"$f":"VLOOKUP(O1171,#REF!:#REF!,3,)","v":{"$error":"#REF!"}},{"$error":"#REF!"}]
[null,12,"Pas. Talang",{"$nulls":9},{"$f":"#REF!","v":{"$error":"#REF!"}},{"$f":"#REF!","v":{"$error":"#REF!"}},"A.5.7.0",{"$f":"VLOOKUP(O1172,#REF!:#REF!,3,)","v":{"$error":"#REF!"}},{"$error":"#REF!"}]
[null,"C","Pekerjaan Arsitektur"]
[null,1,"Pek. Plat Lantai"]
[null,null,"-","Pak. Pasir Urug",{"$nulls":8},{"$f":"#REF!","v":{"$error":"#REF!"}},{"$f":"#REF!","v":{"$error":"#REF!"}},"A.1.9.0",{"$f":"VLOOKUP(O1175,#REF!:#REF!,3,)","v":{"$error":"#REF!"}},{"$error":"#REF!"}]
[null,null,"-","Beton",{"$nulls":8},{"$f":"#REF!","v":{"$error":"#REF!"}},{"$f":"#REF!","v":{"$error":"#REF!"}},"A.3.1.0",{"$f":"VLOOKUP(O1176,#REF!:#REF!,3,)","v":{"$error":"#REF!"}},{"$error":"#REF!"}]
[null,null,"-","Wiremash M-6 (1 Layer)",{"$nulls":8},{"$f":"#REF!","v":{"$error":"#REF!"}},{"$f":"#REF!","v":{"$error":"#REF!"}},"A.3.2.1",{"$f":"VLOOKUP(O1177,#REF!:#REF!,3,)","v":{"$error":"#REF!"}},{"$error":"#REF!"}]
[null,2,"Pek. RAM"]
[null,null,"-","Beton",{"$nulls":8},{"$f":"#REF!","v":{"$error":"#REF!"}},{"$f":"#REF!","v":{"$error":"#REF!"}},"A.3.1.0",{"$f":"VLOOKUP(O1179,#REF!:#REF!,3,)","v":{"$error":"#REF!"}},{"$error":"#REF!"}]
[null,3,"Pek. Tangga"]
[null,null,"-","Beton",{"$nulls":8},{"$f":"#REF!","v":{"$error":"#REF!"}},{"$f":"#REF!","v":{"$error":"#REF!"}},"A.3.1.0",{"$f":"VLOOKUP(O1181,#REF!:#REF!,3,)","v":{"$error":"#REF!"}},{"$error":"#REF!"}]
[null,4,"Pas. Dinding Hebel t.10",{"$nulls":9},{"$f":"#REF!","v":{"$error":"#REF!"}},{"$f":"#REF!","v":{"$error":"#REF!"}},"A.2.7.0",{"$f":"VLOOKUP(O1182,#REF!:#REF!,3,)","v":{"$error":"#REF!"}},{"$error":"#REF!"}]
[null,5,"Pek. Plesteran",{"$nulls":9},{"$f":"#REF!","v":{"$error":"#REF!"}},{"$f":"#REF!","v":{"$error":"#REF!"}},"A.2.8.0",{"$f":"VLOOKUP(O1183,#REF!:#REF!,3,)","v":{"$error":"#REF!"}},{"$error":"#REF!"}]
[null,6,"Pek. Acian",{"$nulls":9},{"$f":"#REF!","v":{"$error":"#REF!"}},{"$f":"#REF!","v":{"$error":"#REF!"}},"A.2.9.0",{"$f":"VLOOKUP(O1184,#REF!:#REF!,3,)","v":{"$error":"#REF!"}},{"$error":"#REF!"}]
[null,7,"Pas. Kusen AD-01 + Assesories",{"$nulls":9},{"$f":"#REF!","v":{"$error":"#REF!"}},{"$f":"#REF!","v":{"$error":"#REF!"}},"AD.01",{"$f":"VLOOKUP(O1185,#REF!:#REF!,3,)","v":{"$error":"#REF!"}},{"$error":"#REF!"}]
[null,8,"Pas. Kusen AW-01 + Assesories",{"$nulls":9},{"$f":"#REF!","v":{"$error":"#REF!"}},{"$f":"#REF!","v":{"$error":"#REF!"}},"AW.01",{"$f":"VLOOKUP(O1186,#REF!:#REF!,3,)","v":{"$error":"#REF!"}},{"$error":"#REF!"}]
[null,9,"Pas. Variasi grill/louvre",{"$nulls":9},{"$f":"#REF!","v":{"$error":"#REF!"}},{"$f":"#REF!","v":{"$error":"#REF!"}},"A.6.0.0",{"$f":"VLOOKUP(O1187,#REF!:#REF!,3,)","v":{"$error":"#REF!"}},{"$error":"#REF!"}]
[null,10,"Pas. Plafond Gypsum + Rangka",{"$nulls":9},{"$f":"#REF!","v":{"$error":"#REF!"}},{"$f":"#REF!","v":{"$error":"#REF!"}},"A.4.6.0",{"$f":"VLOOKUP(O1188,#REF!:#REF!,3,)","v":{"$error":"#REF!"}},{"$error":"#REF!"}]
[null,11,"Pas. Plafond GRC + Rangka",{"$nulls":9},{"$f":"#REF!","v":{"$error":"#REF!"}},{"$f":"#REF!","v":{"$error":"#REF!"}},"A.4.5.0",{"$f":"VLOOKUP(O1189,#REF!:#REF!,3,)","v":{"$error":"#REF!"}},{"$error":"#REF!"}]
[null,12,"Pas. Keramik 60/60",{"$nulls":9},{"$f":"#REF!","v":{"$error":"#REF!"}},{"$f":"#REF!","v":{"$error":"#REF!"}},"A.7.0.0",{"$f":"VLOOKUP(O1190,#REF!:#REF!,3,)","v":{"$error":"#REF!"}},{"$error":"#REF!"}]
[null,13,"Pas. Keramik 60/60 Anti Slip",{"$nulls":9},{"$f":"#REF!","v":{"$error":"#REF!"}},{"$f":"#REF!","v":{"$error":"#REF!"}},"A.7.0.0",{"$f":"VLOOKUP(O1191,#REF!:#REF!,3,)","v":{"$error":"#REF!"}},{"$error":"#REF!"}]
[null,14,"Pas. Plint Keramik",{"$nulls":9},{"$f":"#REF!","v":{"$error":"#REF!"}},{"$f":"#REF!","v":{"$error":"#REF!"}},"A.7.0.1",{"$f":"VLOOKUP(O1192,#REF!:#REF!,3,)","v":{"$error":"#REF!"}},{"$error":"#REF!"}]
[null,15,"Pekerjaan Pengecatan Dinding Interior Jotun Majectic",{"$nulls":9},{"$f":"#REF!","v":{"$error":"#REF!"}},{"$f":"#REF!","v":{"$error":"#REF!"}},"A.7.3.0",{"$f":"VLOOKUP(O1193,#REF!:#REF!,3,)","v":{"$error":"#REF!"}},{"$error":"#REF!"}]
[null,16,"Pekerjaan Pengecatan DInding Eksterior Dulux Wheatershield",{"$nulls":9},{"$f":"#REF!","v":{"$error":"#REF!"}},{"$f":"#REF!","v":{"$error":"#REF!"}},"A.7.2.0",{"$f":"VLOOKUP(O1194,#REF!:#REF!,3,)","v":{"$error":"#REF!"}},{"$error":"#REF!"}]
[null,17,"Pekerjaan Pengecatan Plafond vinilex",{"$nulls":9},{"$f":"#REF!","v":{"$error":"#REF!"}},{"$f":"#REF!","v":{"$error":"#REF!"}},"A.7.5.0",{"$f":"VLOOKUP(O1195,#REF!:#REF!,3,)","v":{"$error":"#REF!"}},{"$error":"#REF!"}]
[null,18,"Pek. Pemasangan ACP",{"$nulls":9},{"$f":"#REF!","v":{"$error":"#REF!"}},{"$f":"#REF!","v":{"$error":"#REF!"}},"A.6.1.0",{"$f":"VLOOKUP(O1196,#REF!:#REF!,3,)","v":{"$error":"#REF!"}},{"$error":"#REF!"}]
[]
[null,"XV","PEMBANGUNAN TPS 3R",{"$nulls":14},{"$f":"SUM(Q1200:Q1264)","v":{"$error":"#REF!"}}]
[null,"A","Pek. Galian Tanah dan Pondasi"]
[null,1,"Pembersihan Lapangan",{"$nulls":9},61.75,{"$f":"#REF!","v":{"$error":"#REF!"}},"A.1.2.1",{"$f":"VLOOKUP(O1200,#REF!:#REF!,3,)","v":{"$error":"#REF!"}},{"$f":"M1200*P1200","v":{"$error":"#REF!"}}]
[null,2,"Pagar Pengaman Proyek, t=2m",{"$nulls":9},48,{"$f":"#REF!","v":{"$error":"#REF!"}},"A.1.1.0",{"$f":"VLOOKUP(O1201,#REF!:#REF!,3,)","v":{"$error":"#REF!"}},{"$error":"#REF!"}]
[null,3,"Pas. Bouwplank",{"$nulls":9},40,{"$f":"#REF!","v":{"$error":"#REF!"}},"A.1.2.0",{"$f":"VLOOKUP(O1202,#REF!:#REF!,3,)","v":{"$error":"#REF!"}},{"$error":"#REF!"}]
[null,4,"Pek. Anti Rayap",{"$nulls":9},61.75,{"$f":"#REF!","v":{"$error":"#REF!"}},null,20000,1235000]
[null,5,"Pek. Galian Tanah",{"$nulls":9},4.7039999999999997,{"$f":"#REF!","v":{"$error":"#REF!"}},"A.1.5.0",{"$f":"VLOOKUP(O1204,#REF!:#REF!,3,)","v":{"$error":"#REF!"}},{"$error":"#REF!"}]
[null,6,"Urug Tanah Kembali",{"$nulls":9},1.5679999999999998,{"$f":"#REF!","v":{"$error":"#REF!"}},"A.1.7.0",{"$f":"VLOOKUP(O1205,#REF!:#REF!,3,)","v":{"$error":"#REF!"}},{"$error":"#REF!"}]
[null,7,"Pas. Pasir Urug",{"$nulls":9},0.29399999999999998,{"$f":"#REF!","v":{"$error":"#REF!"}},"A.3.0.0",{"$f":"VLOOKUP(O1206,#REF!:#REF!,3,)","v":{"$error":"#REF!"}},{"$error":"#REF!"}]
[null,8,"Pas. Pondasi Tapak"]
[null,null,"- Beton",{"$nulls":9},0.86399999999999988,{"$f":"#REF!","v":{"$error":"#REF!"}},"A.3.3.0",{"$f":"VLOOKUP(O1208,#REF!:#REF!,3,)","v":{"$error":"#REF!"}},{"$error":"#REF!"}]
[null,null,"- Pembesian",{"$nulls":9},203.90399999999997,{"$f":"#REF!","v":{"$error":"#REF!"}},"A.3.2.0",{"$f":"VLOOKUP(O1209,#REF!:#REF!,3,)","v":{"$error":"#REF!"}},{"$error":"#REF!"}]
[null,null,"- Bekisting Pondasi",{"$nulls":9},2.8797119999999996,{"$f":"#REF!","v":{"$error":"#REF!"}},"A.3.4.0",{"$f":"VLOOKUP(O1210,#REF!:#REF!,3,)","v":{"$error":"#REF!"}},{"$error":"#REF!"}]
[null,9,"Pas. Kolom Pedestal"]
[null,null,"- Beton",{"$nulls":9},1.1069999999999998,{"$f":"#REF!","v":{"$error":"#REF!"}},"A.3.3.0",{"$f":"VLOOKUP(O1212,#REF!:#REF!,3,)","v":{"$error":"#REF!"}},{"$error":"#REF!"}]
[null,null,"- Pembesian",{"$nulls":9},253.50299999999996,{"$f":"#REF!","v":{"$error":"#REF!"}},"A.3.2.0",{"$f":"VLOOKUP(O1213,#REF!:#REF!,3,)","v":{"$error":"#REF!"}},{"$error":"#REF!"}]
[null,null,"- Bekisting Pondasi",{"$nulls":9},11.069999999999997,{"$f":"#REF!","v":{"$error":"#REF!"}},"A.3.4.0",{"$f":"VLOOKUP(O1214,#REF!:#REF!,3,)","v":{"$error":"#REF!"}},{"$error":"#REF!"}]
[null,"B","Pekerjaan Struktur"]
[null,1,"Pek. Tie Beam SL-01"]
[null,null,"- Beton",{"$nulls":9},2.7089999999999996,{"$f":"#REF!","v":{"$error":"#REF!"}},"A.3.3.0",{"$f":"VLOOKUP(O1217,#REF!:#REF!,3,)","v":{"$error":"#REF!"}},{"$error":"#REF!"}]
[null,null,"- Pembesian",{"$nulls":9},577.01699999999994,{"$f":"#REF!","v":{"$error":"#REF!"}},"A.3.2.0",{"$f":"VLOOKUP(O1218,#REF!:#REF!,3,)","v":{"$error":"#REF!"}},{"$error":"#REF!"}]
[null,null,"- Bekisting Tie Beam",{"$nulls":9},36.119096999999996,{"$f":"#REF!","v":{"$error":"#REF!"}},"A.3.5.0",{"$f":"VLOOKUP(O1219,#REF!:#REF!,3,)","v":{"$error":"#REF!"}},{"$error":"#REF!"}]
[null,2,"Pek. Kolom K-01"]
[null,null,"- Beton",{"$nulls":9},1.1069999999999998,{"$f":"#REF!","v":{"$error":"#REF!"}},"A.3.3.0",{"$f":"VLOOKUP(O1221,#REF!:#REF!,3,)","v":{"$error":"#REF!"}},{"$error":"#REF!"}]
[null,null,"- Pembesian",{"$nulls":9},189.29699999999997,{"$f":"#REF!","v":{"$error":"#REF!"}},"A.3.2.0",{"$f":"VLOOKUP(O1222,#REF!:#REF!,3,)","v":{"$error":"#REF!"}},{"$error":"#REF!"}]
[null,null,"- Bekisting Kolom",{"$nulls":9},7.3803689999999982,{"$f":"#REF!","v":{"$error":"#REF!"}},"A.3.6.0",{"$f":"VLOOKUP(O1223,#REF!:#REF!,3,)","v":{"$error":"#REF!"}},{"$error":"#REF!"}]
[null,3,"Pek. Ring Balok RB-01"]
[null,null,"- Beton",{"$nulls":9},1.4849999999999999,{"$f":"#REF!","v":{"$error":"#REF!"}},"A.3.3.0",{"$f":"VLOOKUP(O1225,#REF!:#REF!,3,)","v":{"$error":"#REF!"}},{"$error":"#REF!"}]
[null,null,"- Pembesian",{"$nulls":9},259.875,{"$f":"#REF!","v":{"$error":"#REF!"}},"A.3.2.0",{"$f":"VLOOKUP(O1226,#REF!:#REF!,3,)","v":{"$error":"#REF!"}},{"$error":"#REF!"}]
[null,null,"- Bekisting Balok",{"$nulls":9},24.750495000000001,{"$f":"#REF!","v":{"$error":"#REF!"}},"A.3.7.0",{"$f":"VLOOKUP(O1227,#REF!:#REF!,3,)","v":{"$error":"#REF!"}},{"$error":"#REF!"}]
[null,4,"Pekerjaan Atap"]
[null,"a","Pas. Kuda-kuda Baja Ringan",{"$nulls":9},85.918000000000006,{"$f":"#REF!","v":{"$error":"#REF!"}},"A.4.3.0",{"$f":"VLOOKUP(O1229,#REF!:#REF!,3,)","v":{"$error":"#REF!"}},{"$error":"#REF!"}]
[null,"b","Pas. Penutup Atap",{"$nulls":9},85.918000000000006,{"$f":"#REF!","v":{"$error":"#REF!"}},"A.4.8.0",{"$f":"VLOOKUP(O1230,#REF!:#REF!,3,)","v":{"$error":"#REF!"}},{"$error":"#REF!"}]
[null,"c","Pas. Nok Atap",{"$nulls":9},9.5,{"$f":"#REF!","v":{"$error":"#REF!"}},"A.4.9.0",{"$f":"VLOOKUP(O1231,#REF!:#REF!,3,)","v":{"$error":"#REF!"}},{"$error":"#REF!"}]
[null,"d","Pas. Listplank",{"$nulls":9},19,{"$f":"#REF!","v":{"$error":"#REF!"}},"A.4.7.0",{"$f":"VLOOKUP(O1232,#REF!:#REF!,3,)","v":{"$error":"#REF!"}},{"$error":"#REF!"}]
[null,"d","Pas. Talang",{"$nulls":9},18.088000000000001,{"$f":"#REF!","v":{"$error":"#REF!"}},"A.5.7.0",{"$f":"VLOOKUP(O1233,#REF!:#REF!,3,)","v":{"$error":"#REF!"}},{"$error":"#REF!"}]
[null,"C","Pekerjaan Arsitektur"]
[null,1,"Pek. Plat Lantai 1"]
[null,null,"- Pas. Pasir Urug",{"$nulls":9},3.0875000000000004,{"$f":"#REF!","v":{"$error":"#REF!"}},"A.1.9.0",{"$f":"VLOOKUP(O1236,#REF!:#REF!,3,)","v":{"$error":"#REF!"}},{"$error":"#REF!"}]
[null,null,"- Beton",{"$nulls":9},6.1750000000000007,{"$f":"#REF!","v":{"$error":"#REF!"}},"A.3.1.0",{"$f":"VLOOKUP(O1237,#REF!:#REF!,3,)","v":{"$error":"#REF!"}},{"$error":"#REF!"}]
[null,null,"- Wiremesh M-6 (1 Layer)",{"$nulls":9},61.75,{"$f":"#REF!","v":{"$error":"#REF!"}},"A.3.2.1",{"$f":"VLOOKUP(O1238,#REF!:#REF!,3,)","v":{"$error":"#REF!"}},{"$error":"#REF!"}]
[null,2,"Pek. Balok Latei"]
[null,null,"- Beton",{"$nulls":9},0.11999000000000001,{"$f":"#REF!","v":{"$error":"#REF!"}},"A.3.1.0",{"$f":"VLOOKUP(O1240,#REF!:#REF!,3,)","v":{"$error":"#REF!"}},{"$error":"#REF!"}]
[null,null,"- Pembesian",{"$nulls":9},302.94,{"$f":"#REF!","v":{"$error":"#REF!"}},"A.3.2.0",{"$f":"VLOOKUP(O1241,#REF!:#REF!,3,)","v":{"$error":"#REF!"}},{"$error":"#REF!"}]
[null,null,"- Bekisting ",{"$nulls":9},37.384740000000001,{"$f":"#REF!","v":{"$error":"#REF!"}},"A.3.7.0",{"$f":"VLOOKUP(O1242,#REF!:#REF!,3,)","v":{"$error":"#REF!"}},{"$error":"#REF!"}]
[null,3,"Pas. Dinding Hebel t.10",{"$nulls":9},109.8737,{"$f":"#REF!","v":{"$error":"#REF!"}},"A.2.7.0",{"$f":"VLOOKUP(O1243,#REF!:#REF!,3,)","v":{"$error":"#REF!"}},{"$error":"#REF!"}]
[null,4,"Pek. Plesteran",{"$nulls":9},219.7474,"M²","A.2.8.0",{"$f":"VLOOKUP(O1244,#REF!:#REF!,3,)","v":{"$error":"#REF!"}},{"$error":"#REF!"}]
[null,5,"Pek. Acian",{"$nulls":9},219.7474,"M²","A.2.9.0",{"$f":"VLOOKUP(O1245,#REF!:#REF!,3,)","v":{"$error":"#REF!"}},{"$error":"#REF!"}]
[null,6,"Pas. Kusen AD-01 + Assesories",{"$nulls":9},2,"Bh","AD.01",{"$f":"VLOOKUP(O1246,#REF!:#REF!,3,)","v":{"$error":"#REF!"}},{"$f":"M1246*P1246","v":{"$error":"#REF!"}}]
[null,7,"Pas. Kusen AD-02 + Assesories",{"$nulls":9},1,"Bh","AD.02",{"$f":"VLOOKUP(O1247,#REF!:#REF!,3,)","v":{"$error":"#REF!"}},{"$error":"#REF!"}]
[null,8,"Pas. Kusen AW-01 + Assesories",{"$nulls":9},1,"Bh","AW.01",{"$f":"VLOOKUP(O1248,#REF!:#REF!,3,)","v":{"$error":"#REF!"}},{"$error":"#REF!"}]
[null,9,"Pas. Glass Block",{"$nulls":9},1,"Bh","A.2.6.0",{"$f":"VLOOKUP(O1249,#REF!:#REF!,3,)","v":{"$error":"#REF!"}},{"$error":"#REF!"}]
[null,10,"Pas. Plafond Gypsum + Rangka",{"$nulls":9},17.872500000000002,"M²","A.4.6.0",{"$f":"VLOOKUP(O1250,#REF!:#REF!,3,)","v":{"$error":"#REF!"}},{"$error":"#REF!"}]
[null,11,"Pas. Plafond GRC + Rangka",{"$nulls":9},1.8225000000000002,"M²","A.4.5.0",{"$f":"VLOOKUP(O1251,#REF!:#REF!,3,)","v":{"$error":"#REF!"}},{"$error":"#REF!"}]
[null,12,"Pas. Keramik 30/30",{"$nulls":9},17.872500000000002,"M²","A.6.8.0",{"$f":"VLOOKUP(O1252,#REF!:#REF!,3,)","v":{"$error":"#REF!"}},{"$error":"#REF!"}]
[null,13,"Pas. Keramik 25/25",{"$nulls":9},2.7225000000000001,"M²","A.6.7.1",{"$f":"VLOOKUP(O1253,#REF!:#REF!,3,)","v":{"$error":"#REF!"}},{"$error":"#REF!"}]
[null,16,"Pekerjaan Pengecatan Dinding Interior Jotun Majectic",{"$nulls":9},109.8737,"M²","A.7.3.0",{"$f":"VLOOKUP(O1254,#REF!:#REF!,3,)","v":{"$error":"#REF!"}},{"$error":"#REF!"}]
[null,17,"Pekerjaan Pengecatan DInding Eksterior Dulux Wheatershield",{"$nulls":9},109.8737,"M²","A.7.2.0",{"$f":"VLOOKUP(O1255,#REF!:#REF!,3,)","v":{"$error":"#REF!"}},{"$error":"#REF!"}]
[null,18,"Pekerjaan Pengecatan Plafond vinilex",{"$nulls":9},19.695000000000004,"M²","A.7.5.0",{"$f":"VLOOKUP(O1256,#REF!:#REF!,3,)","v":{"$error":"#REF!"}},{"$error":"#REF!"}]
[null,19,"Pas. Closet Jongkok",{"$nulls":9},1,"Bh","A.5.1.0",{"$f":"VLOOKUP(O1257,#REF!:#REF!,3,)","v":{"$error":"#REF!"}},{"$error":"#REF!"}]
[null,20,"Pas. Kran Air",{"$nulls":9},2,"Bh","A.5.4.0",{"$f":"VLOOKUP(O1258,#REF!:#REF!,3,)","v":{"$error":"#REF!"}},{"$error":"#REF!"}]
[null,21,"Pas. Floor Drain",{"$nulls":9},2,"Bh","A.5.5.0",{"$f":"VLOOKUP(O1259,#REF!:#REF!,3,)","v":{"$error":"#REF!"}},{"$f":"M1259*P1259","v":{"$error":"#REF!"}}]
[null,22,"Pek. RAM"]
[null,null,"- Beton",{"$nulls":9},0.69541200000000003,"M³","A.3.1.0",{"$f":"VLOOKUP(O1261,#REF!:#REF!,3,)","v":{"$error":"#REF!"}},{"$error":"#REF!"}]
[null,null,"- Wiremesh M-6",{"$nulls":9},5.7951000000000006,"M²","A.3.2.1",{"$f":"VLOOKUP(O1262,#REF!:#REF!,3,)","v":{"$error":"#REF!"}},{"$error":"#REF!"}]
[null,23,"Pas. Pintu Besi 80 x 270",{"$nulls":9},3,"Bh","A.7.5.2",{"$f":"VLOOKUP(O1263,#REF!:#REF!,3,)","v":{"$error":"#REF!"}},{"$error":"#REF!"}]
[null,24,"Pas. Grill Saluran 15 x 175",{"$nulls":9},2,"Bh","A.7.5.3",{"$f":"VLOOKUP(O1264,#REF!:#REF!,3,)","v":{"$error":"#REF!"}},{"$error":"#REF!"}]
[]
[null,"XVI.","PEKERJAAN   ELEKTRIKAL",{"$nulls":14},{"$f":"SUM(Q1270:Q1846)","v":{"$error":"#REF!"}}]
[null,"A","PENGADAAN DAN PEMASANGAN PANEL LISTRIK"]
[null,1,"Panel Induk Utama M-DP-PG"]
[null,"a","Pengadaan"]
[null," -","Panel Uk 800x600x200, sheet steel, wall mounted",{"$nulls":9},{"$f":"#REF!","v":{"$error":"#REF!"}},{"$f":"#REF!","v":{"$error":"#REF!"}},null,2724480,{"$f":"M1270*P1270","v":{"$error":"#REF!"}}]
[null," -","Pilot lamp , Ø 22 mm, plastic 220-240 VAC, LED",{"$nulls":9},{"$f":"#REF!","v":{"$error":"#REF!"}},{"$f":"#REF!","v":{"$error":"#REF!"}},null,95460,{"$f":"M1271*P1271","v":{"$error":"#REF!"}}]
[null," -","MCCB 3P/80A, 15KA",{"$nulls":9},{"$f":"#REF!","v":{"$error":"#REF!"}},{"$f":"#REF!","v":{"$error":"#REF!"}},null,1035540,{"$error":"#REF!"}]
[null," -","MCB 3P/25A, 6 KA",{"$nulls":9},"-",{"$f":"#REF!","v":{"$error":"#REF!"}},null,534600,"-"]
[null," -","MCB 3P/16A, 6 KA",{"$nulls":9},{"$f":"#REF!","v":{"$error":"#REF!"}},{"$f":"#REF!","v":{"$error":"#REF!"}},null,502260,{"$error":"#REF!"}]
[null," -","MCB 3P/10A, 6 KA",{"$nulls":9},{"$f":"#REF!","v":{"$error":"#REF!"}},{"$f":"#REF!","v":{"$error":"#REF!"}},null,502260,{"$error":"#REF!"}]
[null," -","Aksessories, komplit terminal, fuse, busbar dll",{"$nulls":9},{"$f":"#REF!","v":{"$error":"#REF!"}},{"$f":"#REF!","v":{"$error":"#REF!"}},null,50000,{"$error":"#REF!"}]
[null," -","Perakitan panel",{"$nulls":9},{"$f":"#REF!","v":{"$error":"#REF!"}},{"$f":"#REF!","v":{"$error":"#REF!"}},null,818000,{"$error":"#REF!"}]
[null,"b","Pemasangan",{"$nulls":9},{"$f":"#REF!","v":{"$error":"#REF!"}},{"$f":"#REF!","v":{"$error":"#REF!"}},null,313000,{"$error":"#REF!"}]
[null,2,"Panel Sub distribusi (Penerangan PP-SMKN-PG-1) - ADMINISTRASI/RGURU"]
[null,"a","Pengadaan"]
[null," -","Box plastic mini pragma pintu transparat,inbow, 2 baris, 24 modul",{"$nulls":9},{"$f":"#REF!","v":{"$error":"#REF!"}},{"$f":"#REF!","v":{"$error":"#REF!"}},null,592020,{"$f":"M1281*P1281","v":{"$error":"#REF!"}}]
[null,null,"Ukuran 377 (T) x 294 (L) x 98 (Tb) mm, termasuk blok terminal"]
[null," -","MCB 3P/25A, 6 KA",{"$nulls":9},{"$f":"#REF!","v":{"$error":"#REF!"}},{"$f":"#REF!","v":{"$error":"#REF!"}},null,534600,{"$f":"M1283*P1283","v":{"$error":"#REF!"}}]
[null,null,"MCB 1P/6A, 4,5 KA",{"$nulls":9},{"$f":"#REF!","v":{"$error":"#REF!"}},{"$f":"#REF!","v":{"$error":"#REF!"}},null,72720,{"$error":"#REF!"}]
[null,null,"MCB 1P/10A, 4,5 KA",{"$nulls":9},{"$f":"#REF!","v":{"$error":"#REF!"}},{"$f":"#REF!","v":{"$error":"#REF!"}},null,72720,{"$error":"#REF!"}]
[null,null,"MCB 3P/10A, 4,5 KA",{"$nulls":9},{"$f":"#REF!","v":{"$error":"#REF!"}},{"$f":"#REF!","v":{"$error":"#REF!"}},null,343200,{"$error":"#REF!"}]
[null," -","Aksessories, komplit terminal dll",{"$nulls":9},{"$f":"#REF!","v":{"$error":"#REF!"}},{"$f":"#REF!","v":{"$error":"#REF!"}},null,50000,{"$error":"#REF!"}]
[null," -","Perakitan panel",{"$nulls":9},{"$f":"#REF!","v":{"$error":"#REF!"}},{"$f":"#REF!","v":{"$error":"#REF!"}},null,421000,{"$error":"#REF!"}]
[null,"b","Pemasangan",{"$nulls":9},{"$f":"#REF!","v":{"$error":"#REF!"}},{"$f":"#REF!","v":{"$error":"#REF!"}},null,263000,{"$error":"#REF!"}]
[null,3,"Panel Sub distribusi (Penerangan PP-SMKN-PG-2) - RPS TATA BOGA"]
[null,"a","Pengadaan"]
[null," -","Box plastic mini pragma pintu transparat,inbow, 2 baris, 24 modul",{"$nulls":9},{"$f":"#REF!","v":{"$error":"#REF!"}},{"$f":"#REF!","v":{"$error":"#REF!"}},null,592020,{"$f":"M1292*P1292","v":{"$error":"#REF!"}}]
[null,null,"Ukuran 377 (T) x 294 (L) x 98 (Tb) mm, termasuk blok terminal"]
[null," -","MCB 3P/16A, 6 KA",{"$nulls":9},{"$f":"#REF!","v":{"$error":"#REF!"}},{"$f":"#REF!","v":{"$error":"#REF!"}},null,502260,{"$error":"#REF!"}]
[null,null,"MCB 1P/6A, 4,5 KA",{"$nulls":9},{"$f":"#REF!","v":{"$error":"#REF!"}},{"$f":"#REF!","v":{"$error":"#REF!"}},null,72720,{"$error":"#REF!"}]
[null,null,"MCB 1P/10A, 4,5 KA",{"$nulls":9},{"$f":"#REF!","v":{"$error":"#REF!"}},{"$f":"#REF!","v":{"$error":"#REF!"}},null,72720,{"$error":"#REF!"}]
[null," -","Aksessories, komplit terminal dll",{"$nulls":9},{"$f":"#REF!","v":{"$error":"#REF!"}},{"$f":"#REF!","v":{"$error":"#REF!"}},null,50000,{"$error":"#REF!"}]
[null," -","Perakitan panel",{"$nulls":9},{"$f":"#REF!","v":{"$error":"#REF!"}},{"$f":"#REF!","v":{"$error":"#REF!"}},null,421000,{"$error":"#REF!"}]
[null,"b","Pemasangan",{"$nulls":9},{"$f":"#REF!","v":{"$error":"#REF!"}},{"$f":"#REF!","v":{"$error":"#REF!"}},null,263000,{"$error":"#REF!"}]
[null,4,"Panel Sub distribusi (Penerangan PP-SMKN-PG-3) - RPS DARING"]
[null,"a","Pengadaan"]
[null," -","Box plastic mini pragma pintu transparat,inbow, 2 baris, 24 modul",{"$nulls":9},{"$f":"#REF!","v":{"$error":"#REF!"}},{"$f":"#REF!","v":{"$error":"#REF!"}},null,592020,{"$f":"M1302*P1302","v":{"$error":"#REF!"}}]
[null,null,"Ukuran 377 (T) x 294 (L) x 98 (Tb) mm, termasuk blok terminal"]
[null," -","MCB 3P/16A, 6 KA",{"$nulls":9},{"$f":"#REF!","v":{"$error":"#REF!"}},{"$f":"#REF!","v":{"$error":"#REF!"}},null,502260,{"$f":"M1304*P1304","v":{"$error":"#REF!"}}]
[null,null,"MCB 1P/6A, 4,5 KA",{"$nulls":9},{"$f":"#REF!","v":{"$error":"#REF!"}},{"$f":"#REF!","v":{"$error":"#REF!"}},null,72720,{"$error":"#REF!"}]
[null,null,"MCB 1P/10A, 4,5 KA",{"$nulls":9},{"$f":"#REF!","v":{"$error":"#REF!"}},{"$f":"#REF!","v":{"$error":"#REF!"}},null,72720,{"$error":"#REF!"}]
[null," -","Aksessories, komplit terminal dll",{"$nulls":9},{"$f":"#REF!","v":{"$error":"#REF!"}},{"$f":"#REF!","v":{"$error":"#REF!"}},null,50000,{"$error":"#REF!"}]
[null," -","Perakitan panel",{"$nulls":9},{"$f":"#REF!","v":{"$error":"#REF!"}},{"$f":"#REF!","v":{"$error":"#REF!"}},null,421000,{"$error":"#REF!"}]
[null,"b","Pemasangan",{"$nulls":9},{"$f":"#REF!","v":{"$error":"#REF!"}},{"$f":"#REF!","v":{"$error":"#REF!"}},null,263000,{"$error":"#REF!"}]
[null,5,"Panel Sub distribusi (Penerangan PP-SMKN-PG-4) - RPS UASAHA PERJALANAN"]
[null,"a","Pengadaan"]
[null," -","Box plastic mini pragma pintu transparat,inbow, 2 baris, 24 modul",{"$nulls":9},{"$f":"#REF!","v":{"$error":"#REF!"}},{"$f":"#REF!","v":{"$error":"#REF!"}},null,592020,{"$f":"M1312*P1312","v":{"$error":"#REF!"}}]
[null,null,"Ukuran 377 (T) x 294 (L) x 98 (Tb) mm, termasuk blok terminal"]
[null," -","MCB 3P/16A, 6 KA",{"$nulls":9},{"$f":"#REF!","v":{"$error":"#REF!"}},{"$f":"#REF!","v":{"$error":"#REF!"}},null,502260,{"$f":"M1314*P1314","v":{"$error":"#REF!"}}]
[null,null,"MCB 1P/6A, 4,5 KA",{"$nulls":9},{"$f":"#REF!","v":{"$error":"#REF!"}},{"$f":"#REF!","v":{"$error":"#REF!"}},null,72720,{"$error":"#REF!"}]
[null,null,"MCB 1P/10A, 4,5 KA",{"$nulls":9},{"$f":"#REF!","v":{"$error":"#REF!"}},{"$f":"#REF!","v":{"$error":"#REF!"}},null,72720,{"$error":"#REF!"}]
[null," -","Aksessories, komplit terminal dll",{"$nulls":9},{"$f":"#REF!","v":{"$error":"#REF!"}},{"$f":"#REF!","v":{"$error":"#REF!"}},null,50000,{"$error":"#REF!"}]
[null," -","Perakitan panel",{"$nulls":9},{"$f":"#REF!","v":{"$error":"#REF!"}},{"$f":"#REF!","v":{"$error":"#REF!"}},null,421000,{"$error":"#REF!"}]
[null,"b","Pemasangan",{"$nulls":9},{"$f":"#REF!","v":{"$error":"#REF!"}},{"$f":"#REF!","v":{"$error":"#REF!"}},null,263000,{"$error":"#REF!"}]
[null,6,"Panel Sub distribusi (Penerangan PP-SMKN-PG-5) - MOSQUE"]
[null,"a","Pengadaan"]
[null," -","Box plastic mini pragma pintu transparat,inbow, 2 baris, 24 modul",{"$nulls":9},{"$f":"#REF!","v":{"$error":"#REF!"}},{"$f":"#REF!","v":{"$error":"#REF!"}},null,592020,{"$f":"M1322*P1322","v":{"$error":"#REF!"}}]
[null,null,"Ukuran 377 (T) x 294 (L) x 98 (Tb) mm, termasuk blok terminal"]
[null," -","MCB 3P/16A, 6 KA",{"$nulls":9},{"$f":"#REF!","v":{"$error":"#REF!"}},{"$f":"#REF!","v":{"$error":"#REF!"}},null,502260,{"$f":"M1324*P1324","v":{"$error":"#REF!"}}]
[null,null,"MCB 1P/6A, 4,5 KA",{"$nulls":9},{"$f":"#REF!","v":{"$error":"#REF!"}},{"$f":"#REF!","v":{"$error":"#REF!"}},null,72720,{"$error":"#REF!"}]
[null,null,"MCB 1P/10A, 4,5 KA",{"$nulls":9},{"$f":"#REF!","v":{"$error":"#REF!"}},{"$f":"#REF!","v":{"$error":"#REF!"}},null,72720,{"$error":"#REF!"}]
[null," -","Aksessories, komplit terminal dll",{"$nulls":9},{"$f":"#REF!","v":{"$error":"#REF!"}},{"$f":"#REF!","v":{"$error":"#REF!"}},null,50000,{"$error":"#REF!"}]
[null," -","Perakitan panel",{"$nulls":9},{"$f":"#REF!","v":{"$error":"#REF!"}},{"$f":"#REF!","v":{"$error":"#REF!"}},null,421000,{"$error":"#REF!"}]
[null,"b","Pemasangan",{"$nulls":9},{"$f":"#REF!","v":{"$error":"#REF!"}},{"$f":"#REF!","v":{"$error":"#REF!"}},null,263000,{"$error":"#REF!"}]
[null,7,"Panel Sub distribusi (Penerangan PP-SMKN-PG-6) - - LAB & PERPUSTAKAAN"]
[null,"a","Pengadaan"]
[null," -","Box plastic mini pragma pintu transparat,inbow, 2 baris, 24 modul",{"$nulls":9},{"$f":"#REF!","v":{"$error":"#REF!"}},{"$f":"#REF!","v":{"$error":"#REF!"}},null,592020,{"$f":"M1332*P1332","v":{"$error":"#REF!"}}]
[null,null,"Ukuran 377 (T) x 294 (L) x 98 (Tb) mm, termasuk blok terminal"]
[null," -","MCB 3P/16A, 6 KA",{"$nulls":9},{"$f":"#REF!","v":{"$error":"#REF!"}},{"$f":"#REF!","v":{"$error":"#REF!"}},null,502260,{"$f":"M1334*P1334","v":{"$error":"#REF!"}}]
[null,null,"MCB 1P/6A, 4,5 KA",{"$nulls":9},{"$f":"#REF!","v":{"$error":"#REF!"}},{"$f":"#REF!","v":{"$error":"#REF!"}},null,72720,{"$error":"#REF!"}]
[null,null,"MCB 1P/10A, 4,5 KA",{"$nulls":9},{"$f":"#REF!","v":{"$error":"#REF!"}},{"$f":"#REF!","v":{"$error":"#REF!"}},null,72720,{"$error":"#REF!"}]
[null," -","Aksessories, komplit terminal dll",{"$nulls":9},{"$f":"#REF!","v":{"$error":"#REF!"}},{"$f":"#REF!","v":{"$error":"#REF!"}},null,50000,{"$error":"#REF!"}]
[null," -","Perakitan panel",{"$nulls":9},{"$f":"#REF!","v":{"$error":"#REF!"}},{"$f":"#REF!","v":{"$error":"#REF!"}},null,421000,{"$error":"#REF!"}]
[null,"b","Pemasangan",{"$nulls":9},{"$f":"#REF!","v":{"$error":"#REF!"}},{"$f":"#REF!","v":{"$error":"#REF!"}},null,263000,{"$error":"#REF!"}]
[null,8,"Panel Sub distribusi (Penerangan PP-SMKN-PG-7) - RPS PERHOTELAN"]
[null,"a","Pengadaan"]
[null," -","Box plastic mini pragma pintu transparat,inbow, 2 baris, 24 modul",{"$nulls":9},{"$f":"#REF!","v":{"$error":"#REF!"}},{"$f":"#REF!","v":{"$error":"#REF!"}},null,592020,{"$f":"M1342*P1342","v":{"$error":"#REF!"}}]
[null,null,"Ukuran 377 (T) x 294 (L) x 98 (Tb) mm, termasuk blok terminal"]
[null," -","MCB 3P/16A, 6 KA",{"$nulls":9},{"$f":"#REF!","v":{"$error":"#REF!"}},{"$f":"#REF!","v":{"$error":"#REF!"}},null,502260,{"$f":"M1344*P1344","v":{"$error":"#REF!"}}]
[null,null,"MCB 1P/6A, 4,5 KA",{"$nulls":9},{"$f":"#REF!","v":{"$error":"#REF!"}},{"$f":"#REF!","v":{"$error":"#REF!"}},null,72720,{"$error":"#REF!"}]
[null,null,"MCB 1P/10A, 4,5 KA",{"$nulls":9},{"$f":"#REF!","v":{"$error":"#REF!"}},{"$f":"#REF!","v":{"$error":"#REF!"}},null,72720,{"$error":"#REF!"}]
[null," -","Aksessories, komplit terminal dll",{"$nulls":9},{"$f":"#REF!","v":{"$error":"#REF!"}},{"$f":"#REF!","v":{"$error":"#REF!"}},null,50000,{"$error":"#REF!"}]
[null," -","Perakitan panel",{"$nulls":9},{"$f":"#REF!","v":{"$error":"#REF!"}},{"$f":"#REF!","v":{"$error":"#REF!"}},null,421000,{"$error":"#REF!"}]
[null,"b","Pemasangan",{"$nulls":9},{"$f":"#REF!","v":{"$error":"#REF!"}},{"$f":"#REF!","v":{"$error":"#REF!"}},null,263000,{"$error":"#REF!"}]
[null,9,"Panel Sub distribusi (Penerangan PP-SMKN-PG-8) - LABORATORIUM"]
[null,"a","Pengadaan"]
[null," -","Box plastic mini pragma pintu transparat,inbow, 2 baris, 24 modul",{"$nulls":9},{"$f":"#REF!","v":{"$error":"#REF!"}},{"$f":"#REF!","v":{"$error":"#REF!"}},null,592020,{"$f":"M1352*P1352","v":{"$error":"#REF!"}}]
[null,null,"Ukuran 377 (T) x 294 (L) x 98 (Tb) mm, termasuk blok terminal"]
[null," -","MCB 3P/16A, 6 KA",{"$nulls":9},{"$f":"#REF!","v":{"$error":"#REF!"}},{"$f":"#REF!","v":{"$error":"#REF!"}},null,502260,{"$f":"M1354*P1354","v":{"$error":"#REF!"}}]
[null,null,"MCB 1P/6A, 4,5 KA",{"$nulls":9},{"$f":"#REF!","v":{"$error":"#REF!"}},{"$f":"#REF!","v":{"$error":"#REF!"}},null,72720,{"$f":"M1355*P1355","v":{"$error":"#REF!"}}]
[null,null,"MCB 1P/10A, 4,5 KA",{"$nulls":9},{"$f":"#REF!","v":{"$error":"#REF!"}},{"$f":"#REF!","v":{"$error":"#REF!"}},null,72720,{"$error":"#REF!"}]
[null," -","Aksessories, komplit terminal dll",{"$nulls":9},{"$f":"#REF!","v":{"$error":"#REF!"}},{"$f":"#REF!","v":{"$error":"#REF!"}},null,50000,{"$error":"#REF!"}]
[null," -","Perakitan panel",{"$nulls":9},{"$f":"#REF!","v":{"$error":"#REF!"}},{"$f":"#REF!","v":{"$error":"#REF!"}},null,421000,{"$error":"#REF!"}]
[null,"b","Pemasangan",{"$nulls":9},{"$f":"#REF!","v":{"$error":"#REF!"}},{"$f":"#REF!","v":{"$error":"#REF!"}},null,263000,{"$error":"#REF!"}]
[null,10,"Panel Sub distribusi (Penerangan PP-SMKN-PG-9) - CLASSROOM A"]
[null,"a","Pengadaan"]
[null," -","Box plastic mini pragma pintu transparat,inbow, 2 baris, 24 modul",{"$nulls":9},{"$f":"#REF!","v":{"$error":"#REF!"}},{"$f":"#REF!","v":{"$error":"#REF!"}},null,592020,{"$f":"M1362*P1362","v":{"$error":"#REF!"}}]
[null,null,"Ukuran 377 (T) x 294 (L) x 98 (Tb) mm, termasuk blok terminal"]
[null," -","MCB 3P/16A, 6 KA",{"$nulls":9},{"$f":"#REF!","v":{"$error":"#REF!"}},{"$f":"#REF!","v":{"$error":"#REF!"}},null,502260,{"$f":"M1364*P1364","v":{"$error":"#REF!"}}]
[null,null,"MCB 1P/6A, 4,5 KA",{"$nulls":9},{"$f":"#REF!","v":{"$error":"#REF!"}},{"$f":"#REF!","v":{"$error":"#REF!"}},null,72720,{"$error":"#REF!"}]
[null,null,"MCB 1P/10A, 4,5 KA",{"$nulls":9},{"$f":"#REF!","v":{"$error":"#REF!"}},{"$f":"#REF!","v":{"$error":"#REF!"}},null,72720,{"$error":"#REF!"}]
[null," -","Aksessories, komplit terminal dll",{"$nulls":9},{"$f":"#REF!","v":{"$error":"#REF!"}},{"$f":"#REF!","v":{"$error":"#REF!"}},null,50000,{"$error":"#REF!"}]
[null," -","Perakitan panel",{"$nulls":9},{"$f":"#REF!","v":{"$error":"#REF!"}},{"$f":"#REF!","v":{"$error":"#REF!"}},null,421000,{"$error":"#REF!"}]
[null,"b","Pemasangan",{"$nulls":9},{"$f":"#REF!","v":{"$error":"#REF!"}},{"$f":"#REF!","v":{"$error":"#REF!"}},null,263000,{"$error":"#REF!"}]
[null,11,"Panel Sub distribusi (Penerangan PP-SMKN-PG-10) - CLASSROOM B1"]
[null,"a","Pengadaan"]
[null," -","Box plastic mini pragma pintu transparat,inbow, 2 baris, 24 modul",{"$nulls":9},{"$f":"#REF!","v":{"$error":"#REF!"}},{"$f":"#REF!","v":{"$error":"#REF!"}},null,592020,{"$f":"M1372*P1372","v":{"$error":"#REF!"}}]
[null,null,"Ukuran 377 (T) x 294 (L) x 98 (Tb) mm, termasuk blok terminal"]
[null," -","MCB 3P/16A, 6 KA",{"$nulls":9},{"$f":"#REF!","v":{"$error":"#REF!"}},{"$f":"#REF!","v":{"$error":"#REF!"}},null,502260,{"$error":"#REF!"}]
[null,null,"MCB 1P/6A, 4,5 KA",{"$nulls":9},{"$f":"#REF!","v":{"$error":"#REF!"}},{"$f":"#REF!","v":{"$error":"#REF!"}},null,72720,{"$error":"#REF!"}]
[null,null,"MCB 1P/10A, 4,5 KA",{"$nulls":9},{"$f":"#REF!","v":{"$error":"#REF!"}},{"$f":"#REF!","v":{"$error":"#REF!"}},null,72720,{"$error":"#REF!"}]
[null," -","Aksessories, komplit terminal dll",{"$nulls":9},{"$f":"#REF!","v":{"$error":"#REF!"}},{"$f":"#REF!","v":{"$error":"#REF!"}},null,50000,{"$error":"#REF!"}]
[null," -","Perakitan panel",{"$nulls":9},{"$f":"#REF!","v":{"$error":"#REF!"}},{"$f":"#REF!","v":{"$error":"#REF!"}},null,421000,{"$error":"#REF!"}]
[null,"b","Pemasangan",{"$nulls":9},{"$f":"#REF!","v":{"$error":"#REF!"}},{"$f":"#REF!","v":{"$error":"#REF!"}},null,263000,{"$error":"#REF!"}]
[null,12,"Panel Sub distribusi (Penerangan PP-SMKN-PG-11) - CLASSROOM B2"]
[null,"a","Pengadaan"]
[null," -","Box plastic mini pragma pintu transparat,inbow, 2 baris, 24 modul",{"$nulls":9},{"$f":"#REF!","v":{"$error":"#REF!"}},{"$f":"#REF!","v":{"$error":"#REF!"}},null,592020,{"$f":"M1382*P1382","v":{"$error":"#REF!"}}]
[null,null,"Ukuran 377 (T) x 294 (L) x 98 (Tb) mm, termasuk blok terminal"]
[null," -","MCB 3P/16A, 6 KA",{"$nulls":9},{"$f":"#REF!","v":{"$error":"#REF!"}},{"$f":"#REF!","v":{"$error":"#REF!"}},null,502260,{"$f":"M1384*P1384","v":{"$error":"#REF!"}}]
[null,null,"MCB 1P/6A, 4,5 KA",{"$nulls":9},{"$f":"#REF!","v":{"$error":"#REF!"}},{"$f":"#REF!","v":{"$error":"#REF!"}},null,72720,{"$error":"#REF!"}]
[null," -","MCB 1P/10A, 4,5 KA",{"$nulls":9},{"$f":"#REF!","v":{"$error":"#REF!"}},{"$f":"#REF!","v":{"$error":"#REF!"}},null,72720,{"$error":"#REF!"}]
[null," -","Aksessories, komplit terminal dll",{"$nulls":9},{"$f":"#REF!","v":{"$error":"#REF!"}},{"$f":"#REF!","v":{"$error":"#REF!"}},null,50000,{"$error":"#REF!"}]
[null," -","Perakitan panel",{"$nulls":9},{"$f":"#REF!","v":{"$error":"#REF!"}},{"$f":"#REF!","v":{"$error":"#REF!"}},null,421000,{"$error":"#REF!"}]
[null,"b","Pemasangan",{"$nulls":9},{"$f":"#REF!","v":{"$error":"#REF!"}},{"$f":"#REF!","v":{"$error":"#REF!"}},null,263000,{"$error":"#REF!"}]
[null,13,"Panel Sub distribusi (Penerangan PP-SMKN-PG-12) - CLASSROOM C"]
[null,"a","Pengadaan"]
[null," -","Box plastic mini pragma pintu transparat,inbow, 2 baris, 24 modul",{"$nulls":9},{"$f":"#REF!","v":{"$error":"#REF!"}},{"$f":"#REF!","v":{"$error":"#REF!"}},null,592020,{"$f":"M1392*P1392","v":{"$error":"#REF!"}}]
[null,null,"Ukuran 377 (T) x 294 (L) x 98 (Tb) mm, termasuk blok terminal"]
[null," -","MCB 3P/10A, 6 KA",{"$nulls":9},{"$f":"#REF!","v":{"$error":"#REF!"}},{"$f":"#REF!","v":{"$error":"#REF!"}},null,502260,{"$f":"M1394*P1394","v":{"$error":"#REF!"}}]
[null,null,"MCB 1P/6A, 4,5 KA",{"$nulls":9},{"$f":"#REF!","v":{"$error":"#REF!"}},{"$f":"#REF!","v":{"$error":"#REF!"}},null,72720,{"$error":"#REF!"}]
[null," -","MCB 1P/10A, 4,5 KA",{"$nulls":9},{"$f":"#REF!","v":{"$error":"#REF!"}},{"$f":"#REF!","v":{"$error":"#REF!"}},null,72720,"-"]
[null," -","Aksessories, komplit terminal dll",{"$nulls":9},{"$f":"#REF!","v":{"$error":"#REF!"}},{"$f":"#REF!","v":{"$error":"#REF!"}},null,50000,{"$error":"#REF!"}]
[null," -","Perakitan panel",{"$nulls":9},{"$f":"#REF!","v":{"$error":"#REF!"}},{"$f":"#REF!","v":{"$error":"#REF!"}},null,421000,{"$error":"#REF!"}]
[null,"b","Pemasangan",{"$nulls":9},{"$f":"#REF!","v":{"$error":"#REF!"}},{"$f":"#REF!","v":{"$error":"#REF!"}},null,263000,{"$error":"#REF!"}]
[null,14,"Panel Sub distribusi (Penerangan PP-SMKN-PG-13) - CLASSROOM D"]
[null,"a","Pengadaan"]
[null," -","Box plastic mini pragma pintu transparat,inbow, 2 baris, 24 modul",{"$nulls":9},{"$f":"#REF!","v":{"$error":"#REF!"}},{"$f":"#REF!","v":{"$error":"#REF!"}},null,592020,{"$f":"M1402*P1402","v":{"$error":"#REF!"}}]
[null,null,"Ukuran 377 (T) x 294 (L) x 98 (Tb) mm, termasuk blok terminal"]
[null," -","MCB 3P/10A, 6 KA",{"$nulls":9},{"$f":"#REF!","v":{"$error":"#REF!"}},{"$f":"#REF!","v":{"$error":"#REF!"}},null,502260,{"$f":"M1404*P1404","v":{"$error":"#REF!"}}]
[null,null,"MCB 1P/6A, 4,5 KA",{"$nulls":9},{"$f":"#REF!","v":{"$error":"#REF!"}},{"$f":"#REF!","v":{"$error":"#REF!"}},null,72720,{"$error":"#REF!"}]
[null," -","MCB 1P/10A, 4,5 KA",{"$nulls":9},"-",{"$f":"#REF!","v":{"$error":"#REF!"}},null,72720,"-"]
[null," -","Aksessories, komplit terminal dll",{"$nulls":9},{"$f":"#REF!","v":{"$error":"#REF!"}},{"$f":"#REF!","v":{"$error":"#REF!"}},null,50000,{"$error":"#REF!"}]
[null," -","Perakitan panel",{"$nulls":9},{"$f":"#REF!","v":{"$error":"#REF!"}},{"$f":"#REF!","v":{"$error":"#REF!"}},null,421000,{"$error":"#REF!"}]
[null,"b","Pemasangan",{"$nulls":9},{"$f":"#REF!","v":{"$error":"#REF!"}},{"$f":"#REF!","v":{"$error":"#REF!"}},null,263000,{"$error":"#REF!"}]
[null,15,"Panel Sub distribusi (Penerangan PP-SMKN-PG-14) - CLASSROOM E"]
[null,"a","Pengadaan"]
[null," -","Box plastic mini pragma pintu transparat,inbow, 2 baris, 24 modul",{"$nulls":9},{"$f":"#REF!","v":{"$error":"#REF!"}},{"$f":"#REF!","v":{"$error":"#REF!"}},null,592020,{"$f":"M1412*P1412","v":{"$error":"#REF!"}}]
[null,null,"Ukuran 377 (T) x 294 (L) x 98 (Tb) mm, termasuk blok terminal"]
[null," -","MCB 3P/10A, 6 KA",{"$nulls":9},{"$f":"#REF!","v":{"$error":"#REF!"}},{"$f":"#REF!","v":{"$error":"#REF!"}},null,502260,{"$f":"M1414*P1414","v":{"$error":"#REF!"}}]
[null,null,"MCB 1P/6A, 4,5 KA",{"$nulls":9},{"$f":"#REF!","v":{"$error":"#REF!"}},{"$f":"#REF!","v":{"$error":"#REF!"}},null,72720,{"$error":"#REF!"}]
[null,null,"MCB 1P/10A, 4,5 KA",{"$nulls":9},{"$f":"#REF!","v":{"$error":"#REF!"}},{"$f":"#REF!","v":{"$error":"#REF!"}},null,72720,{"$error":"#REF!"}]
[null," -","Aksessories, komplit terminal dll",{"$nulls":9},{"$f":"#REF!","v":{"$error":"#REF!"}},{"$f":"#REF!","v":{"$error":"#REF!"}},null,50000,{"$error":"#REF!"}]
[null," -","Perakitan panel",{"$nulls":9},{"$f":"#REF!","v":{"$error":"#REF!"}},{"$f":"#REF!","v":{"$error":"#REF!"}},null,421000,{"$error":"#REF!"}]
[null,"b","Pemasangan",{"$nulls":9},{"$f":"#REF!","v":{"$error":"#REF!"}},{"$f":"#REF!","v":{"$error":"#REF!"}},null,263000,{"$error":"#REF!"}]
[null,16,"Grounding system lengkap box control dan electrode rod",{"$nulls":9},{"$f":"#REF!","v":{"$error":"#REF!"}},{"$f":"#REF!","v":{"$error":"#REF!"}},null,5000000]
[null,null,"(5 Ohm, Max)"]
[null,"B","PENGADAAN DAN PEMASANGAN LAMPU PENERANGAN DAN STOP KONTAK"]
[null,1,"Dari Panel PP-SMKN-PG-1- ADMINISTRASI"]
[null,"a","Pengadaan"]
[null,null,"Penerangan"]
[null," -","Down light LED bulb 13 Watt",{"$nulls":9},{"$f":"#REF!","v":{"$error":"#REF!"}},{"$f":"#REF!","v":{"$error":"#REF!"}},null,160000,{"$f":"M1426*P1426","v":{"$error":"#REF!"}}]
[null," -","Baret circulair 20 Watt",{"$nulls":9},{"$f":"#REF!","v":{"$error":"#REF!"}},{"$f":"#REF!","v":{"$error":"#REF!"}},null,220000,"-"]
[null," -","Lampu RM LED TL 2 x 18 W / 220 V, Office, komplit",{"$nulls":9},{"$f":"#REF!","v":{"$error":"#REF!"}},{"$f":"#REF!","v":{"$error":"#REF!"}},null,383600,{"$error":"#REF!"}]
[null," -","Saklar tunggal  220 V, inbow",{"$nulls":9},{"$f":"#REF!","v":{"$error":"#REF!"}},{"$f":"#REF!","v":{"$error":"#REF!"}},null,27000,{"$error":"#REF!"}]
[null," -","Saklar ganda  220 V, inbow",{"$nulls":9},{"$f":"#REF!","v":{"$error":"#REF!"}},{"$f":"#REF!","v":{"$error":"#REF!"}},null,25000,{"$error":"#REF!"}]
[null,null,"Stop Kontak"]
[null," -","Stop Kontak 10 A / 220 V, inbow",{"$nulls":9},{"$f":"#REF!","v":{"$error":"#REF!"}},{"$f":"#REF!","v":{"$error":"#REF!"}},null,20000,{"$error":"#REF!"}]
[null," -","Stop Kontak AC 13A / 220 V,2P+E, inbow",{"$nulls":9},{"$f":"#REF!","v":{"$error":"#REF!"}},{"$f":"#REF!","v":{"$error":"#REF!"}},null,65000,{"$error":"#REF!"}]
[null,null,"Air Conditioning"]
[null," -","Air conditioning, Rotary Compressor, Wall Mounted type",{"$nulls":9},{"$f":"#REF!","v":{"$error":"#REF!"}},{"$f":"#REF!","v":{"$error":"#REF!"}},null,4164000,{"$error":"#REF!"}]
[null,null,"Cooling Capacity 9000 BTU/Hr, 1 PK"]
[null,null,"Power Input : 880 Watt, single phase, 220 Vlt, 50 Hz"]
[null,null,"Dilengkapi dengan remote control, pipe, bracket dan supporting serta "]
[null,null,"pelindung untuk outdoor serta kabel supply"]
[null,"b","Pemasangan"]
[null,null,"Dari Panel PP-SMKN-PG-1- ADMINISTRASI"]
[null,null,"Penerangan"]
[null," -","Titik lampu/ stop kontak ",{"$nulls":9},{"$f":"#REF!","v":{"$error":"#REF!"}},{"$f":"#REF!","v":{"$error":"#REF!"}},null,267075,{"$f":"M1443*P1443","v":{"$error":"#REF!"}}]
[null," -","Down light LED bulb 13 Watt",{"$nulls":9},{"$f":"#REF!","v":{"$error":"#REF!"}},{"$f":"#REF!","v":{"$error":"#REF!"}},null,76300,{"$error":"#REF!"}]
[null,null,"Baret circulair 20 Watt",{"$nulls":9},{"$f":"#REF!","v":{"$error":"#REF!"}},{"$f":"#REF!","v":{"$error":"#REF!"}},null,76300,"-"]
[null," -","Lampu RM LED TL 2 x 18 W / 220 V, Office, komplit",{"$nulls":9},{"$f":"#REF!","v":{"$error":"#REF!"}},{"$f":"#REF!","v":{"$error":"#REF!"}},null,86300,{"$error":"#REF!"}]
[null," -","Saklar tunggal  220 V, inbow",{"$nulls":9},{"$f":"#REF!","v":{"$error":"#REF!"}},{"$f":"#REF!","v":{"$error":"#REF!"}},null,69800,{"$error":"#REF!"}]
[null," -","Saklar ganda  220 V, inbow",{"$nulls":9},{"$f":"#REF!","v":{"$error":"#REF!"}},{"$f":"#REF!","v":{"$error":"#REF!"}},null,69800,{"$error":"#REF!"}]
[null,null,"Stop Kontak"]
[null," -","Stop Kontak 10 A / 220 V, inbow",{"$nulls":9},{"$f":"#REF!","v":{"$error":"#REF!"}},{"$f":"#REF!","v":{"$error":"#REF!"}},null,69800,{"$error":"#REF!"}]
[null,null,"Stop Kontak AC 13A / 220 V,2P+E, inbow",{"$nulls":9},{"$f":"#REF!","v":{"$error":"#REF!"}},{"$f":"#REF!","v":{"$error":"#REF!"}},null,69800,{"$error":"#REF!"}]
[null,null,"Air Conditioning"]
[null," -","Air conditioning, Rotary Compressor, Wall Mounted type",{"$nulls":9},{"$f":"#REF!","v":{"$error":"#REF!"}},{"$f":"#REF!","v":{"$error":"#REF!"}},null,1174500,{"$error":"#REF!"}]
[null,null,"Cooling Capacity 9000 BTU/Hr, 1 PK"]
[null,null,"Power Input : 880 Watt, single phase, 220 Vlt, 50 Hz"]
[null,null,"Dilengkapi dengan remote control, pipe, bracket dan supporting serta "]
[null,null,"pelindung untuk outdoor serta kabel supply"]
[null,2,"Dari Panel PP-SMKN-PG-2 - RPS TATA BOGA"]
[null,"a","Pengadaan "]
[null,null,"Penerangan"]
[null," -","Down light LED bulb 13 Watt",{"$nulls":9},{"$f":"#REF!","v":{"$error":"#REF!"}},{"$f":"#REF!","v":{"$error":"#REF!"}},null,160000,{"$f":"M1461*P1461","v":{"$error":"#REF!"}}]
[null," -","Baret circulair 20 Watt",{"$nulls":9},{"$f":"#REF!","v":{"$error":"#REF!"}},{"$f":"#REF!","v":{"$error":"#REF!"}},null,220000,"-"]
[null," -","Lampu RM LED TL 2 x 18 W / 220 V, Office, komplit",{"$nulls":9},{"$f":"#REF!","v":{"$error":"#REF!"}},{"$f":"#REF!","v":{"$error":"#REF!"}},null,383600,{"$error":"#REF!"}]
[null," -","Saklar tunggal  220 V, inbow",{"$nulls":9},{"$f":"#REF!","v":{"$error":"#REF!"}},{"$f":"#REF!","v":{"$error":"#REF!"}},null,27000,{"$error":"#REF!"}]
[null," -","Saklar ganda  220 V, inbow",{"$nulls":9},{"$f":"#REF!","v":{"$error":"#REF!"}},{"$f":"#REF!","v":{"$error":"#REF!"}},null,25000,{"$error":"#REF!"}]
[null,null,"Stop Kontak "]
[null," -","Stop Kontak 10 A / 220 V, inbow",{"$nulls":9},{"$f":"#REF!","v":{"$error":"#REF!"}},{"$f":"#REF!","v":{"$error":"#REF!"}},null,20000,{"$error":"#REF!"}]
[null," -","Stop Kontak AC 13A / 220 V,2P+E, inbow",{"$nulls":9},"-",{"$f":"#REF!","v":{"$error":"#REF!"}},null,65000,"-"]
[null,"b","Pemasangan"]
[null,null,"Penerangan"]
[null," -","Titik lampu/ stop kontak ",{"$nulls":9},{"$f":"#REF!","v":{"$error":"#REF!"}},{"$f":"#REF!","v":{"$error":"#REF!"}},null,267075,{"$f":"M1471*P1471","v":{"$error":"#REF!"}}]
[null," -","Down light LED bulb 13 Watt",{"$nulls":9},{"$f":"#REF!","v":{"$error":"#REF!"}},{"$f":"#REF!","v":{"$error":"#REF!"}},null,76300,{"$error":"#REF!"}]
[null," -","Baret circulair 20 Watt",{"$nulls":9},"-",{"$f":"#REF!","v":{"$error":"#REF!"}},null,76300,"-"]
[null," -","Lampu RM LED TL 2 x 18 W / 220 V, Office, komplit",{"$nulls":9},{"$f":"#REF!","v":{"$error":"#REF!"}},{"$f":"#REF!","v":{"$error":"#REF!"}},null,86300,{"$error":"#REF!"}]
[null," -","Saklar tunggal  220 V, inbow",{"$nulls":9},{"$f":"#REF!","v":{"$error":"#REF!"}},{"$f":"#REF!","v":{"$error":"#REF!"}},null,69800,{"$error":"#REF!"}]
[null," -","Saklar ganda  220 V, inbow",{"$nulls":9},{"$f":"#REF!","v":{"$error":"#REF!"}},{"$f":"#REF!","v":{"$error":"#REF!"}},null,69800,{"$error":"#REF!"}]
[null,null,"Stop Kontak "]
[null," -","Stop Kontak 10 A / 220 V, inbow",{"$nulls":9},{"$f":"#REF!","v":{"$error":"#REF!"}},{"$f":"#REF!","v":{"$error":"#REF!"}},null,69800,{"$error":"#REF!"}]
[null,3,"Dari Panel PP-SMKN-PG-3 - RPS DARING"]
[null,"a","Pengadaan "]
[null,null,"Penerangan"]
[null," -","Down light LED bulb 13 Watt",{"$nulls":9},{"$f":"#REF!","v":{"$error":"#REF!"}},{"$f":"#REF!","v":{"$error":"#REF!"}},null,160000,{"$f":"M1482*P1482","v":{"$error":"#REF!"}}]
[null," -","Baret circulair 20 Watt",{"$nulls":9},"-",{"$f":"#REF!","v":{"$error":"#REF!"}},null,220000,"-"]
[null," -","Lampu RM LED TL 2 x 18 W / 220 V, Office, komplit",{"$nulls":9},{"$f":"#REF!","v":{"$error":"#REF!"}},{"$f":"#REF!","v":{"$error":"#REF!"}},null,383600,{"$error":"#REF!"}]
[null," -","Saklar tunggal  220 V, inbow",{"$nulls":9},{"$f":"#REF!","v":{"$error":"#REF!"}},{"$f":"#REF!","v":{"$error":"#REF!"}},null,27000,{"$error":"#REF!"}]
[null," -","Saklar ganda  220 V, inbow",{"$nulls":9},{"$f":"#REF!","v":{"$error":"#REF!"}},{"$f":"#REF!","v":{"$error":"#REF!"}},null,25000,{"$error":"#REF!"}]
[null,null,"Stop Kontak "]
[null," -","Stop Kontak 10 A / 220 V, inbow",{"$nulls":9},{"$f":"#REF!","v":{"$error":"#REF!"}},{"$f":"#REF!","v":{"$error":"#REF!"}},null,20000,{"$error":"#REF!"}]
[null,"b","Pemasangan"]
[null,null,"Penerangan"]
[null," -","Titik lampu/ stop kontak ",{"$nulls":9},{"$f":"#REF!","v":{"$error":"#REF!"}},{"$f":"#REF!","v":{"$error":"#REF!"}},null,267075,{"$f":"M1491*P1491","v":{"$error":"#REF!"}}]
[null," -","Down light LED bulb 13 Watt",{"$nulls":9},{"$f":"#REF!","v":{"$error":"#REF!"}},{"$f":"#REF!","v":{"$error":"#REF!"}},null,76300,{"$error":"#REF!"}]
[null," -","Baret circulair 20 Watt",{"$nulls":9},{"$f":"#REF!","v":{"$error":"#REF!"}},{"$f":"#REF!","v":{"$error":"#REF!"}},null,76300,"-"]
[null," -","Lampu RM LED TL 2 x 18 W / 220 V, Office, komplit",{"$nulls":9},{"$f":"#REF!","v":{"$error":"#REF!"}},{"$f":"#REF!","v":{"$error":"#REF!"}},null,86300,{"$error":"#REF!"}]
[null," -","Saklar tunggal  220 V, inbow",{"$nulls":9},{"$f":"#REF!","v":{"$error":"#REF!"}},{"$f":"#REF!","v":{"$error":"#REF!"}},null,69800,{"$error":"#REF!"}]
[null," -","Saklar ganda  220 V, inbow",{"$nulls":9},{"$f":"#REF!","v":{"$error":"#REF!"}},{"$f":"#REF!","v":{"$error":"#REF!"}},null,69800,{"$error":"#REF!"}]
[null,null,"Stop Kontak "]
[null," -","Stop Kontak 10 A / 220 V, inbow",{"$nulls":9},{"$f":"#REF!","v":{"$error":"#REF!"}},{"$f":"#REF!","v":{"$error":"#REF!"}},null,69800,{"$error":"#REF!"}]
[null,4,"Dari Panel PP-SMKN-PG-4  - RPS UASAHA PERJALANAN"]
[null,"a","Pengadaan "]
[null,null,"Penerangan"]
[null," -","Down light LED bulb 13 Watt",{"$nulls":9},{"$f":"#REF!","v":{"$error":"#REF!"}},{"$f":"#REF!","v":{"$error":"#REF!"}},null,160000,{"$f":"M1502*P1502","v":{"$error":"#REF!"}}]
[null," -","Baret circulair 20 Watt",{"$nulls":9},"-",{"$f":"#REF!","v":{"$error":"#REF!"}},null,220000,"-"]
[null," -","Lampu RM LED TL 2 x 18 W / 220 V, Office, komplit",{"$nulls":9},{"$f":"#REF!","v":{"$error":"#REF!"}},{"$f":"#REF!","v":{"$error":"#REF!"}},null,383600,{"$error":"#REF!"}]
[null," -","Saklar tunggal  220 V, inbow",{"$nulls":9},{"$f":"#REF!","v":{"$error":"#REF!"}},{"$f":"#REF!","v":{"$error":"#REF!"}},null,27000,{"$error":"#REF!"}]
[null," -","Saklar ganda  220 V, inbow",{"$nulls":9},{"$f":"#REF!","v":{"$error":"#REF!"}},{"$f":"#REF!","v":{"$error":"#REF!"}},null,25000,{"$error":"#REF!"}]
[null,null,"Stop Kontak "]
[null," -","Stop Kontak 10 A / 220 V, inbow",{"$nulls":9},{"$f":"#REF!","v":{"$error":"#REF!"}},{"$f":"#REF!","v":{"$error":"#REF!"}},null,20000,{"$error":"#REF!"}]
[null,"b","Pemasangan"]
[null,null,"Penerangan"]
[null," -","Titik lampu/ stop kontak ",{"$nulls":9},{"$f":"#REF!","v":{"$error":"#REF!"}},{"$f":"#REF!","v":{"$error":"#REF!"}},null,267075,{"$f":"M1511*P1511","v":{"$error":"#REF!"}}]
[null," -","Down light LED bulb 13 Watt",{"$nulls":9},{"$f":"#REF!","v":{"$error":"#REF!"}},{"$f":"#REF!","v":{"$error":"#REF!"}},null,76300,{"$error":"#REF!"}]
[null," -","Baret circulair 20 Watt",{"$nulls":9},{"$f":"#REF!","v":{"$error":"#REF!"}},{"$f":"#REF!","v":{"$error":"#REF!"}},null,76300,"-"]
[null," -","Lampu RM LED TL 2 x 18 W / 220 V, Office, komplit",{"$nulls":9},{"$f":"#REF!","v":{"$error":"#REF!"}},{"$f":"#REF!","v":{"$error":"#REF!"}},null,86300,{"$error":"#REF!"}]
[null," -","Saklar tunggal  220 V, inbow",{"$nulls":9},{"$f":"#REF!","v":{"$error":"#REF!"}},{"$f":"#REF!","v":{"$error":"#REF!"}},null,69800,{"$error":"#REF!"}]
[null," -","Saklar ganda  220 V, inbow",{"$nulls":9},{"$f":"#REF!","v":{"$error":"#REF!"}},{"$f":"#REF!","v":{"$error":"#REF!"}},null,69800,{"$error":"#REF!"}]
[null,null,"Stop Kontak "]
[null," -","Stop Kontak 10 A / 220 V, inbow",{"$nulls":9},{"$f":"#REF!","v":{"$error":"#REF!"}},{"$f":"#REF!","v":{"$error":"#REF!"}},null,69800,{"$error":"#REF!"}]
[null,5,"Dari Panel PP-SMKN-PG-5 - MOSQUE"]
[null,"a","Pengadaan "]
[null,null,"Penerangan"]
[null," -","Down light LED bulb 13 Watt",{"$nulls":9},{"$f":"#REF!","v":{"$error":"#REF!"}},{"$f":"#REF!","v":{"$error":"#REF!"}},null,160000,{"$f":"M1522*P1522","v":{"$error":"#REF!"}}]
[null," -","Baret circulair 20 Watt",{"$nulls":9},{"$f":"#REF!","v":{"$error":"#REF!"}},{"$f":"#REF!","v":{"$error":"#REF!"}},null,27000,"-"]
[null," -","Lampu RM LED TL 2 x 18 W / 220 V, Office, komplit",{"$nulls":9},{"$f":"#REF!","v":{"$error":"#REF!"}},{"$f":"#REF!","v":{"$error":"#REF!"}},null,383600,{"$error":"#REF!"}]
[null," -","Saklar tunggal  220 V, inbow",{"$nulls":9},{"$f":"#REF!","v":{"$error":"#REF!"}},{"$f":"#REF!","v":{"$error":"#REF!"}},null,27000,{"$error":"#REF!"}]
[null," -","Saklar ganda  220 V, inbow",{"$nulls":9},{"$f":"#REF!","v":{"$error":"#REF!"}},{"$f":"#REF!","v":{"$error":"#REF!"}},null,25000,{"$error":"#REF!"}]
[null,null,"Stop Kontak "]
[null," -","Stop Kontak 10 A / 220 V, inbow",{"$nulls":9},{"$f":"#REF!","v":{"$error":"#REF!"}},{"$f":"#REF!","v":{"$error":"#REF!"}},null,20000,{"$error":"#REF!"}]
[null,"b","Pemasangan"]
[null,null,"Penerangan"]
[null," -","Titik lampu/ stop kontak ",{"$nulls":9},{"$f":"#REF!","v":{"$error":"#REF!"}},{"$f":"#REF!","v":{"$error":"#REF!"}},null,267075,{"$f":"M1531*P1531","v":{"$error":"#REF!"}}]
[null," -","Down light LED bulb 13 Watt",{"$nulls":9},{"$f":"#REF!","v":{"$error":"#REF!"}},{"$f":"#REF!","v":{"$error":"#REF!"}},null,76300,{"$error":"#REF!"}]
[null," -","Baret circulair 20 Watt",{"$nulls":9},"-",{"$f":"#REF!","v":{"$error":"#REF!"}},null,76300,"-"]
[null," -","Lampu RM LED TL 2 x 18 W / 220 V, Office, komplit",{"$nulls":9},{"$f":"#REF!","v":{"$error":"#REF!"}},{"$f":"#REF!","v":{"$error":"#REF!"}},null,86300,{"$error":"#REF!"}]
[null," -","Saklar tunggal  220 V, inbow",{"$nulls":9},{"$f":"#REF!","v":{"$error":"#REF!"}},{"$f":"#REF!","v":{"$error":"#REF!"}},null,69800,{"$error":"#REF!"}]
[null," -","Saklar ganda  220 V, inbow",{"$nulls":9},{"$f":"#REF!","v":{"$error":"#REF!"}},{"$f":"#REF!","v":{"$error":"#REF!"}},null,69800,{"$error":"#REF!"}]
[null,null,"Stop Kontak "]
[null," -","Stop Kontak 10 A / 220 V, inbow",{"$nulls":9},{"$f":"#REF!","v":{"$error":"#REF!"}},{"$f":"#REF!","v":{"$error":"#REF!"}},null,69800,{"$error":"#REF!"}]
[null,6,"Dari Panel PP-SMKN-PG-6  - LAB & PERPUSTAKAAN"]
[null,"a","Pengadaan "]
[null,null,"Penerangan"]
[null," -","Down light LED bulb 13 Watt",{"$nulls":9},{"$f":"#REF!","v":{"$error":"#REF!"}},{"$f":"#REF!","v":{"$error":"#REF!"}},null,160000,{"$f":"M1542*P1542","v":{"$error":"#REF!"}}]
[null," -","Baret circulair 20 Watt",{"$nulls":9},{"$f":"#REF!","v":{"$error":"#REF!"}},{"$f":"#REF!","v":{"$error":"#REF!"}},null,27000,{"$error":"#REF!"}]
[null," -","Lampu RM LED TL 2 x 18 W / 220 V, Office, komplit",{"$nulls":9},{"$f":"#REF!","v":{"$error":"#REF!"}},{"$f":"#REF!","v":{"$error":"#REF!"}},null,383600,{"$error":"#REF!"}]
[null," -","Saklar tunggal  220 V, inbow",{"$nulls":9},{"$f":"#REF!","v":{"$error":"#REF!"}},{"$f":"#REF!","v":{"$error":"#REF!"}},null,27000,{"$error":"#REF!"}]
[null," -","Saklar ganda  220 V, inbow",{"$nulls":9},{"$f":"#REF!","v":{"$error":"#REF!"}},{"$f":"#REF!","v":{"$error":"#REF!"}},null,25000,{"$error":"#REF!"}]
[null,null,"Stop Kontak "]
[null," -","Stop Kontak 10 A / 220 V, inbow",{"$nulls":9},{"$f":"#REF!","v":{"$error":"#REF!"}},{"$f":"#REF!","v":{"$error":"#REF!"}},null,20000,{"$error":"#REF!"}]
[null,"b","Pemasangan"]
[null,null,"Penerangan"]
[null," -","Titik lampu/ stop kontak ",{"$nulls":9},{"$f":"#REF!","v":{"$error":"#REF!"}},{"$f":"#REF!","v":{"$error":"#REF!"}},null,267075,{"$f":"M1551*P1551","v":{"$error":"#REF!"}}]
[null," -","Down light LED bulb 13 Watt",{"$nulls":9},{"$f":"#REF!","v":{"$error":"#REF!"}},{"$f":"#REF!","v":{"$error":"#REF!"}},null,76300,{"$error":"#REF!"}]
[null," -","Baret circulair 20 Watt",{"$nulls":9},{"$f":"#REF!","v":{"$error":"#REF!"}},{"$f":"#REF!","v":{"$error":"#REF!"}},null,76300,{"$error":"#REF!"}]
[null," -","Lampu RM LED TL 2 x 18 W / 220 V, Office, komplit",{"$nulls":9},{"$f":"#REF!","v":{"$error":"#REF!"}},{"$f":"#REF!","v":{"$error":"#REF!"}},null,86300,{"$error":"#REF!"}]
[null," -","Saklar tunggal  220 V, inbow",{"$nulls":9},{"$f":"#REF!","v":{"$error":"#REF!"}},{"$f":"#REF!","v":{"$error":"#REF!"}},null,69800,{"$error":"#REF!"}]
[null," -","Saklar ganda  220 V, inbow",{"$nulls":9},{"$f":"#REF!","v":{"$error":"#REF!"}},{"$f":"#REF!","v":{"$error":"#REF!"}},null,69800,{"$error":"#REF!"}]
[null,null,"Stop Kontak "]
[null," -","Stop Kontak 10 A / 220 V, inbow",{"$nulls":9},{"$f":"#REF!","v":{"$error":"#REF!"}},{"$f":"#REF!","v":{"$error":"#REF!"}},null,69800,{"$error":"#REF!"}]
[null,7,"Dari Panel PP-SMKN-PG-7 - RPS PERHOTELAN"]
[null,"a","Pengadaan "]
[null,null,"Penerangan"]
[null," -","Down light LED bulb 13 Watt",{"$nulls":9},{"$f":"#REF!","v":{"$error":"#REF!"}},{"$f":"#REF!","v":{"$error":"#REF!"}},null,160000,{"$f":"M1562*P1562","v":{"$error":"#REF!"}}]
[null," -","Baret circulair 20 Watt",{"$nulls":9},{"$f":"#REF!","v":{"$error":"#REF!"}},{"$f":"#REF!","v":{"$error":"#REF!"}},null,27000,{"$error":"#REF!"}]
[null," -","Lampu RM LED TL 2 x 18 W / 220 V, Office, komplit",{"$nulls":9},{"$f":"#REF!","v":{"$error":"#REF!"}},{"$f":"#REF!","v":{"$error":"#REF!"}},null,383600,{"$error":"#REF!"}]
[null," -","Saklar tunggal  220 V, inbow",{"$nulls":9},{"$f":"#REF!","v":{"$error":"#REF!"}},{"$f":"#REF!","v":{"$error":"#REF!"}},null,27000,{"$error":"#REF!"}]
[null," -","Saklar ganda  220 V, inbow",{"$nulls":9},{"$f":"#REF!","v":{"$error":"#REF!"}},{"$f":"#REF!","v":{"$error":"#REF!"}},null,25000,{"$error":"#REF!"}]
[null,null,"Stop Kontak "]
[null," -","Stop Kontak 10 A / 220 V, inbow",{"$nulls":9},{"$f":"#REF!","v":{"$error":"#REF!"}},{"$f":"#REF!","v":{"$error":"#REF!"}},null,20000,{"$error":"#REF!"}]
[null,"b","Pemasangan"]
[null,null,"Penerangan"]
[null," -","Titik lampu/ stop kontak ",{"$nulls":9},{"$f":"#REF!","v":{"$error":"#REF!"}},{"$f":"#REF!","v":{"$error":"#REF!"}},null,267075,{"$f":"M1571*P1571","v":{"$error":"#REF!"}}]
[null," -","Down light LED bulb 13 Watt",{"$nulls":9},{"$f":"#REF!","v":{"$error":"#REF!"}},{"$f":"#REF!","v":{"$error":"#REF!"}},null,76300,{"$error":"#REF!"}]
[null," -","Baret circulair 20 Watt",{"$nulls":9},{"$f":"#REF!","v":{"$error":"#REF!"}},{"$f":"#REF!","v":{"$error":"#REF!"}},null,76300,{"$error":"#REF!"}]
[null," -","Lampu RM LED TL 2 x 18 W / 220 V, Office, komplit",{"$nulls":9},{"$f":"#REF!","v":{"$error":"#REF!"}},{"$f":"#REF!","v":{"$error":"#REF!"}},null,86300,{"$error":"#REF!"}]
[null," -","Saklar tunggal  220 V, inbow",{"$nulls":9},{"$f":"#REF!","v":{"$error":"#REF!"}},{"$f":"#REF!","v":{"$error":"#REF!"}},null,69800,{"$error":"#REF!"}]
[null," -","Saklar ganda  220 V, inbow",{"$nulls":9},{"$f":"#REF!","v":{"$error":"#REF!"}},{"$f":"#REF!","v":{"$error":"#REF!"}},null,69800,{"$error":"#REF!"}]
[null,null,"Stop Kontak "]
[null," -","Stop Kontak 10 A / 220 V, inbow",{"$nulls":9},{"$f":"#REF!","v":{"$error":"#REF!"}},{"$f":"#REF!","v":{"$error":"#REF!"}},null,69800,{"$error":"#REF!"}]
[null,8,"Dari Panel PP-SMKN-PG-8 - LABORATORIUM"]
[null,"a","Pengadaan "]
[null,null,"Penerangan"]
[null," -","Down light LED bulb 13 Watt",{"$nulls":9},{"$f":"#REF!","v":{"$error":"#REF!"}},{"$f":"#REF!","v":{"$error":"#REF!"}},null,160000,{"$f":"M1582*P1582","v":{"$error":"#REF!"}}]
[null," -","Baret circulair 20 Watt",{"$nulls":9},{"$f":"#REF!","v":{"$error":"#REF!"}},{"$f":"#REF!","v":{"$error":"#REF!"}},null,27000,{"$error":"#REF!"}]
[null," -","Lampu RM LED TL 2 x 18 W / 220 V, Office, komplit",{"$nulls":9},{"$f":"#REF!","v":{"$error":"#REF!"}},{"$f":"#REF!","v":{"$error":"#REF!"}},null,383600,{"$error":"#REF!"}]
[null," -","Saklar tunggal  220 V, inbow",{"$nulls":9},{"$f":"#REF!","v":{"$error":"#REF!"}},{"$f":"#REF!","v":{"$error":"#REF!"}},null,27000,{"$error":"#REF!"}]
[null," -","Saklar ganda  220 V, inbow",{"$nulls":9},{"$f":"#REF!","v":{"$error":"#REF!"}},{"$f":"#REF!","v":{"$error":"#REF!"}},null,25000,{"$error":"#REF!"}]
[null,0,"Stop Kontak "]
[null," -","Stop Kontak 10 A / 220 V, inbow",{"$nulls":9},{"$f":"#REF!","v":{"$error":"#REF!"}},{"$f":"#REF!","v":{"$error":"#REF!"}},null,20000,{"$error":"#REF!"}]
[null,"b","Pemasangan"]
[null,0,"Penerangan"]
[null," -","Titik lampu/ stop kontak ",{"$nulls":9},{"$f":"#REF!","v":{"$error":"#REF!"}},{"$f":"#REF!","v":{"$error":"#REF!"}},null,267075,{"$f":"M1591*P1591","v":{"$error":"#REF!"}}]
[null," -","Down light LED bulb 13 Watt",{"$nulls":9},{"$f":"#REF!","v":{"$error":"#REF!"}},{"$f":"#REF!","v":{"$error":"#REF!"}},null,76300,{"$error":"#REF!"}]
[null," -","Baret circulair 20 Watt",{"$nulls":9},{"$f":"#REF!","v":{"$error":"#REF!"}},{"$f":"#REF!","v":{"$error":"#REF!"}},null,76300,{"$error":"#REF!"}]
[null," -","Lampu RM LED TL 2 x 18 W / 220 V, Office, komplit",{"$nulls":9},{"$f":"#REF!","v":{"$error":"#REF!"}},{"$f":"#REF!","v":{"$error":"#REF!"}},null,86300,{"$error":"#REF!"}]
[null," -","Saklar tunggal  220 V, inbow",{"$nulls":9},{"$f":"#REF!","v":{"$error":"#REF!"}},{"$f":"#REF!","v":{"$error":"#REF!"}},null,69800,{"$error":"#REF!"}]
[null," -","Saklar ganda  220 V, inbow",{"$nulls":9},{"$f":"#REF!","v":{"$error":"#REF!"}},{"$f":"#REF!","v":{"$error":"#REF!"}},null,69800,{"$error":"#REF!"}]
[null,null,"Stop Kontak "]
[null," -","Stop Kontak 10 A / 220 V, inbow",{"$nulls":9},{"$f":"#REF!","v":{"$error":"#REF!"}},{"$f":"#REF!","v":{"$error":"#REF!"}},null,69800,{"$error":"#REF!"}]
[null,9,"Dari Panel PP-SMKN-PG-9- CLASSROOM A"]
[null,"a","Pengadaan "]
[null,null,"Penerangan"]
[null," -","Down light LED bulb 13 Watt",{"$nulls":9},{"$f":"#REF!","v":{"$error":"#REF!"}},{"$f":"#REF!","v":{"$error":"#REF!"}},null,160000,{"$f":"M1602*P1602","v":{"$error":"#REF!"}}]
[null," -","Baret circulair 20 Watt",{"$nulls":9},{"$f":"#REF!","v":{"$error":"#REF!"}},{"$f":"#REF!","v":{"$error":"#REF!"}},null,27000,{"$error":"#REF!"}]
[null," -","Lampu RM LED TL 2 x 18 W / 220 V, Office, komplit",{"$nulls":9},{"$f":"#REF!","v":{"$error":"#REF!"}},{"$f":"#REF!","v":{"$error":"#REF!"}},null,383600,{"$error":"#REF!"}]
[null," -","Saklar tunggal  220 V, inbow",{"$nulls":9},{"$f":"#REF!","v":{"$error":"#REF!"}},{"$f":"#REF!","v":{"$error":"#REF!"}},null,27000,{"$error":"#REF!"}]
[null," -","Saklar ganda  220 V, inbow",{"$nulls":9},{"$f":"#REF!","v":{"$error":"#REF!"}},{"$f":"#REF!","v":{"$error":"#REF!"}},null,25000,{"$error":"#REF!"}]
[null,0,"Stop Kontak "]
[null," -","Stop Kontak 10 A / 220 V, inbow",{"$nulls":9},{"$f":"#REF!","v":{"$error":"#REF!"}},{"$f":"#REF!","v":{"$error":"#REF!"}},null,20000,{"$error":"#REF!"}]
[null,"b","Pemasangan"]
[null,0,"Penerangan"]
[null," -","Titik lampu/ stop kontak ",{"$nulls":9},{"$f":"#REF!","v":{"$error":"#REF!"}},{"$f":"#REF!","v":{"$error":"#REF!"}},null,267075,{"$f":"M1611*P1611","v":{"$error":"#REF!"}}]
[null," -","Down light LED bulb 13 Watt",{"$nulls":9},{"$f":"#REF!","v":{"$error":"#REF!"}},{"$f":"#REF!","v":{"$error":"#REF!"}},null,76300,{"$error":"#REF!"}]
[null," -","Baret circulair 20 Watt",{"$nulls":9},{"$f":"#REF!","v":{"$error":"#REF!"}},{"$f":"#REF!","v":{"$error":"#REF!"}},null,76300,{"$error":"#REF!"}]
[null," -","Lampu RM LED TL 2 x 18 W / 220 V, Office, komplit",{"$nulls":9},{"$f":"#REF!","v":{"$error":"#REF!"}},{"$f":"#REF!","v":{"$error":"#REF!"}},null,86300,{"$error":"#REF!"}]
[null," -","Saklar tunggal  220 V, inbow",{"$nulls":9},{"$f":"#REF!","v":{"$error":"#REF!"}},{"$f":"#REF!","v":{"$error":"#REF!"}},null,69800,{"$error":"#REF!"}]
[null," -","Saklar ganda  220 V, inbow",{"$nulls":9},{"$f":"#REF!","v":{"$error":"#REF!"}},{"$f":"#REF!","v":{"$error":"#REF!"}},null,69800,{"$error":"#REF!"}]
[null,null,"Stop Kontak "]
[null," -","Stop Kontak 10 A / 220 V, inbow",{"$nulls":9},{"$f":"#REF!","v":{"$error":"#REF!"}},{"$f":"#REF!","v":{"$error":"#REF!"}},null,69800,{"$error":"#REF!"}]
[null,10,"Dari Panel PP-SMKN-PG-10- CLASSROOM B1 "]
[null,"a","Pengadaan "]
[null,null,"Penerangan"]
[null," -","Down light LED bulb 13 Watt",{"$nulls":9},{"$f":"#REF!","v":{"$error":"#REF!"}},{"$f":"#REF!","v":{"$error":"#REF!"}},null,160000,{"$f":"M1622*P1622","v":{"$error":"#REF!"}}]
[null," -","Baret circulair 20 Watt",{"$nulls":9},{"$f":"#REF!","v":{"$error":"#REF!"}},{"$f":"#REF!","v":{"$error":"#REF!"}},null,27000,{"$error":"#REF!"}]
[null," -","Lampu RM LED TL 2 x 18 W / 220 V, Office, komplit",{"$nulls":9},{"$f":"#REF!","v":{"$error":"#REF!"}},{"$f":"#REF!","v":{"$error":"#REF!"}},null,383600,{"$error":"#REF!"}]
[null," -","Saklar tunggal  220 V, inbow",{"$nulls":9},{"$f":"#REF!","v":{"$error":"#REF!"}},{"$f":"#REF!","v":{"$error":"#REF!"}},null,27000,{"$error":"#REF!"}]
[null," -","Saklar ganda  220 V, inbow",{"$nulls":9},{"$f":"#REF!","v":{"$error":"#REF!"}},{"$f":"#REF!","v":{"$error":"#REF!"}},null,25000,{"$error":"#REF!"}]
[null,null,"Stop Kontak "]
[null," -","Stop Kontak 10 A / 220 V, inbow",{"$nulls":9},{"$f":"#REF!","v":{"$error":"#REF!"}},{"$f":"#REF!","v":{"$error":"#REF!"}},null,20000,{"$error":"#REF!"}]
[null,"b","Pemasangan"]
[null,null,"Penerangan"]
[null," -","Titik lampu/ stop kontak ",{"$nulls":9},{"$f":"#REF!","v":{"$error":"#REF!"}},{"$f":"#REF!","v":{"$error":"#REF!"}},null,267075,{"$f":"M1631*P1631","v":{"$error":"#REF!"}}]
[null," -","Down light LED bulb 13 Watt",{"$nulls":9},{"$f":"#REF!","v":{"$error":"#REF!"}},{"$f":"#REF!","v":{"$error":"#REF!"}},null,76300,{"$error":"#REF!"}]
[null," -","Baret circulair 20 Watt",{"$nulls":9},{"$f":"#REF!","v":{"$error":"#REF!"}},{"$f":"#REF!","v":{"$error":"#REF!"}},null,76300,{"$error":"#REF!"}]
[null," -","Lampu RM LED TL 2 x 18 W / 220 V, Office, komplit",{"$nulls":9},{"$f":"#REF!","v":{"$error":"#REF!"}},{"$f":"#REF!","v":{"$error":"#REF!"}},null,86300,{"$error":"#REF!"}]
[null," -","Saklar tunggal  220 V, inbow",{"$nulls":9},{"$f":"#REF!","v":{"$error":"#REF!"}},{"$f":"#REF!","v":{"$error":"#REF!"}},null,69800,{"$error":"#REF!"}]
[null," -","Saklar ganda  220 V, inbow",{"$nulls":9},{"$f":"#REF!","v":{"$error":"#REF!"}},{"$f":"#REF!","v":{"$error":"#REF!"}},null,69800,{"$error":"#REF!"}]
[null,null,"Stop Kontak "]
[null," -","Stop Kontak 10 A / 220 V, inbow",{"$nulls":9},{"$f":"#REF!","v":{"$error":"#REF!"}},{"$f":"#REF!","v":{"$error":"#REF!"}},null,69800,{"$error":"#REF!"}]
[null,11,"Dari Panel PP-SMKN-PG-11- CLASSROOM B2"]
[null,"a","Pengadaan "]
[null,null,"Penerangan"]
[null," -","Down light LED bulb 13 Watt",{"$nulls":9},{"$f":"#REF!","v":{"$error":"#REF!"}},{"$f":"#REF!","v":{"$error":"#REF!"}},null,160000,{"$f":"M1642*P1642","v":{"$error":"#REF!"}}]
[null," -","Baret circulair 20 Watt",{"$nulls":9},{"$f":"#REF!","v":{"$error":"#REF!"}},{"$f":"#REF!","v":{"$error":"#REF!"}},null,27000,{"$error":"#REF!"}]
[null," -","Lampu RM LED TL 2 x 18 W / 220 V, Office, komplit",{"$nulls":9},{"$f":"#REF!","v":{"$error":"#REF!"}},{"$f":"#REF!","v":{"$error":"#REF!"}},null,383600,{"$error":"#REF!"}]
[null," -","Saklar tunggal  220 V, inbow",{"$nulls":9},{"$f":"#REF!","v":{"$error":"#REF!"}},{"$f":"#REF!","v":{"$error":"#REF!"}},null,27000,{"$error":"#REF!"}]
[null," -","Saklar ganda  220 V, inbow",{"$nulls":9},{"$f":"#REF!","v":{"$error":"#REF!"}},{"$f":"#REF!","v":{"$error":"#REF!"}},null,25000,{"$error":"#REF!"}]
[null,null,"Stop Kontak "]
[null," -","Stop Kontak 10 A / 220 V, inbow",{"$nulls":9},{"$f":"#REF!","v":{"$error":"#REF!"}},{"$f":"#REF!","v":{"$error":"#REF!"}},null,20000,{"$error":"#REF!"}]
[null,"b","Pemasangan"]
[null,null,"Penerangan"]
[null," -","Titik lampu/ stop kontak ",{"$nulls":9},{"$f":"#REF!","v":{"$error":"#REF!"}},{"$f":"#REF!","v":{"$error":"#REF!"}},null,267075,{"$f":"M1651*P1651","v":{"$error":"#REF!"}}]
[null," -","Down light LED bulb 13 Watt",{"$nulls":9},{"$f":"#REF!","v":{"$error":"#REF!"}},{"$f":"#REF!","v":{"$error":"#REF!"}},null,76300,{"$error":"#REF!"}]
[null," -","Baret circulair 20 Watt",{"$nulls":9},"-",{"$f":"#REF!","v":{"$error":"#REF!"}},null,76300,"-"]
[null," -","Lampu RM LED TL 2 x 18 W / 220 V, Office, komplit",{"$nulls":9},{"$f":"#REF!","v":{"$error":"#REF!"}},{"$f":"#REF!","v":{"$error":"#REF!"}},null,86300,{"$error":"#REF!"}]
[null," -","Saklar tunggal  220 V, inbow",{"$nulls":9},{"$f":"#REF!","v":{"$error":"#REF!"}},{"$f":"#REF!","v":{"$error":"#REF!"}},null,69800,{"$error":"#REF!"}]
[null," -","Saklar ganda  220 V, inbow",{"$nulls":9},{"$f":"#REF!","v":{"$error":"#REF!"}},{"$f":"#REF!","v":{"$error":"#REF!"}},null,69800,{"$error":"#REF!"}]
[null,null,"Stop Kontak "]
[null," -","Stop Kontak 10 A / 220 V, inbow",{"$nulls":9},{"$f":"#REF!","v":{"$error":"#REF!"}},{"$f":"#REF!","v":{"$error":"#REF!"}},null,69800,{"$error":"#REF!"}]
[null,12,"Dari Panel PP-SMKN-PG-12- CLASSROOM C"]
[null,"a","Pengadaan "]
[null,null,"Penerangan"]
[null," -","Down light LED bulb 13 Watt",{"$nulls":9},{"$f":"#REF!","v":{"$error":"#REF!"}},{"$f":"#REF!","v":{"$error":"#REF!"}},null,160000,{"$f":"M1662*P1662","v":{"$error":"#REF!"}}]
[null," -","Baret circulair 20 Watt",{"$nulls":9},{"$f":"#REF!","v":{"$error":"#REF!"}},{"$f":"#REF!","v":{"$error":"#REF!"}},null,27000,{"$error":"#REF!"}]
[null," -","Lampu RM LED TL 2 x 18 W / 220 V, Office, komplit",{"$nulls":9},{"$f":"#REF!","v":{"$error":"#REF!"}},{"$f":"#REF!","v":{"$error":"#REF!"}},null,383600,{"$error":"#REF!"}]
[null," -","Saklar tunggal  220 V, inbow",{"$nulls":9},{"$f":"#REF!","v":{"$error":"#REF!"}},{"$f":"#REF!","v":{"$error":"#REF!"}},null,27000,{"$error":"#REF!"}]
[null," -","Saklar ganda  220 V, inbow",{"$nulls":9},{"$f":"#REF!","v":{"$error":"#REF!"}},{"$f":"#REF!","v":{"$error":"#REF!"}},null,25000,{"$error":"#REF!"}]
[null," -","Stop Kontak 10 A / 220 V, inbow",{"$nulls":9},{"$f":"#REF!","v":{"$error":"#REF!"}},{"$f":"#REF!","v":{"$error":"#REF!"}},null,20000,{"$error":"#REF!"}]
[null,"b","Pemasangan"]
[null,null,"Penerangan"]
[null," -","Titik lampu/ stop kontak ",{"$nulls":9},{"$f":"#REF!","v":{"$error":"#REF!"}},{"$f":"#REF!","v":{"$error":"#REF!"}},null,267075,{"$f":"M1670*P1670","v":{"$error":"#REF!"}}]
[null," -","Down light LED bulb 13 Watt",{"$nulls":9},{"$f":"#REF!","v":{"$error":"#REF!"}},{"$f":"#REF!","v":{"$error":"#REF!"}},null,76300,{"$error":"#REF!"}]
[null," -","Baret circulair 20 Watt",{"$nulls":9},{"$f":"#REF!","v":{"$error":"#REF!"}},{"$f":"#REF!","v":{"$error":"#REF!"}},null,76300,{"$error":"#REF!"}]
[null," -","Lampu RM LED TL 2 x 18 W / 220 V, Office, komplit",{"$nulls":9},{"$f":"#REF!","v":{"$error":"#REF!"}},{"$f":"#REF!","v":{"$error":"#REF!"}},null,86300,{"$error":"#REF!"}]
[null," -","Saklar tunggal  220 V, inbow",{"$nulls":9},{"$f":"#REF!","v":{"$error":"#REF!"}},{"$f":"#REF!","v":{"$error":"#REF!"}},null,69800,{"$error":"#REF!"}]
[null," -","Saklar ganda  220 V, inbow",{"$nulls":9},{"$f":"#REF!","v":{"$error":"#REF!"}},{"$f":"#REF!","v":{"$error":"#REF!"}},null,69800,{"$error":"#REF!"}]
[null,null,"Stop Kontak "]
[null," -","Stop Kontak 10 A / 220 V, inbow",{"$nulls":9},{"$f":"#REF!","v":{"$error":"#REF!"}},{"$f":"#REF!","v":{"$error":"#REF!"}},null,69800,{"$error":"#REF!"}]
[null,13,"Dari Panel PP-SMKN-PG-13- CLASSROOM D"]
[null,"a","Pengadaan "]
[null,null,"Penerangan"]
[null," -","Down light LED bulb 13 Watt",{"$nulls":9},{"$f":"#REF!","v":{"$error":"#REF!"}},{"$f":"#REF!","v":{"$error":"#REF!"}},null,160000,{"$f":"M1681*P1681","v":{"$error":"#REF!"}}]
[null," -","Baret circulair 20 Watt",{"$nulls":9},{"$f":"#REF!","v":{"$error":"#REF!"}},{"$f":"#REF!","v":{"$error":"#REF!"}},null,27000,"-"]
[null," -","Lampu RM LED TL 2 x 18 W / 220 V, Office, komplit",{"$nulls":9},{"$f":"#REF!","v":{"$error":"#REF!"}},{"$f":"#REF!","v":{"$error":"#REF!"}},null,383600,{"$error":"#REF!"}]
[null," -","Saklar tunggal  220 V, inbow",{"$nulls":9},{"$f":"#REF!","v":{"$error":"#REF!"}},{"$f":"#REF!","v":{"$error":"#REF!"}},null,27000,{"$error":"#REF!"}]
[null," -","Saklar ganda  220 V, inbow",{"$nulls":9},{"$f":"#REF!","v":{"$error":"#REF!"}},{"$f":"#REF!","v":{"$error":"#REF!"}},null,25000,{"$error":"#REF!"}]
[null,null,"Stop Kontak "]
[null," -","Stop Kontak 10 A / 220 V, inbow",{"$nulls":9},{"$f":"#REF!","v":{"$error":"#REF!"}},{"$f":"#REF!","v":{"$error":"#REF!"}},null,20000,{"$error":"#REF!"}]
[null,"b","Pemasangan"]
[null,null,"Penerangan"]
[null," -","Titik lampu/ stop kontak ",{"$nulls":9},{"$f":"#REF!","v":{"$error":"#REF!"}},{"$f":"#REF!","v":{"$error":"#REF!"}},null,267075,{"$f":"M1690*P1690","v":{"$error":"#REF!"}}]
[null," -","Down light LED bulb 13 Watt",{"$nulls":9},{"$f":"#REF!","v":{"$error":"#REF!"}},{"$f":"#REF!","v":{"$error":"#REF!"}},null,76300,{"$error":"#REF!"}]
[null," -","Baret circulair 20 Watt",{"$nulls":9},"-",{"$f":"#REF!","v":{"$error":"#REF!"}},null,76300,"-"]
[null," -","Lampu RM LED TL 2 x 18 W / 220 V, Office, komplit",{"$nulls":9},{"$f":"#REF!","v":{"$error":"#REF!"}},{"$f":"#REF!","v":{"$error":"#REF!"}},null,86300,{"$error":"#REF!"}]
[null," -","Saklar tunggal  220 V, inbow",{"$nulls":9},{"$f":"#REF!","v":{"$error":"#REF!"}},{"$f":"#REF!","v":{"$error":"#REF!"}},null,69800,{"$error":"#REF!"}]
[null," -","Saklar ganda  220 V, inbow",{"$nulls":9},{"$f":"#REF!","v":{"$error":"#REF!"}},{"$f":"#REF!","v":{"$error":"#REF!"}},null,69800,{"$error":"#REF!"}]
[null,null,"Stop Kontak "]
[null," -","Stop Kontak 10 A / 220 V, inbow",{"$nulls":9},{"$f":"#REF!","v":{"$error":"#REF!"}},{"$f":"#REF!","v":{"$error":"#REF!"}},null,69800,{"$error":"#REF!"}]
[null,13,"Dari Panel PP-SMKN-PG-14- CLASSROOM E"]
[null,"a","Pengadaan "]
[null,null,"Penerangan"]
[null," -","Down light LED bulb 13 Watt",{"$nulls":9},{"$f":"#REF!","v":{"$error":"#REF!"}},{"$f":"#REF!","v":{"$error":"#REF!"}},null,160000,{"$f":"M1701*P1701","v":{"$error":"#REF!"}}]
[null," -","Baret circulair 20 Watt",{"$nulls":9},{"$f":"#REF!","v":{"$error":"#REF!"}},{"$f":"#REF!","v":{"$error":"#REF!"}},null,27000,{"$error":"#REF!"}]
[null," -","Lampu RM LED TL 2 x 18 W / 220 V, Office, komplit",{"$nulls":9},{"$f":"#REF!","v":{"$error":"#REF!"}},{"$f":"#REF!","v":{"$error":"#REF!"}},null,383600,{"$error":"#REF!"}]
[null," -","High bay LED 100 W",{"$nulls":9},{"$f":"#REF!","v":{"$error":"#REF!"}},{"$f":"#REF!","v":{"$error":"#REF!"}},null,1800000,{"$error":"#REF!"}]
[null," -","Saklar tunggal  220 V, inbow",{"$nulls":9},{"$f":"#REF!","v":{"$error":"#REF!"}},{"$f":"#REF!","v":{"$error":"#REF!"}},null,27000,{"$error":"#REF!"}]
[null," -","Saklar ganda  220 V, inbow",{"$nulls":9},{"$f":"#REF!","v":{"$error":"#REF!"}},{"$f":"#REF!","v":{"$error":"#REF!"}},null,25000,{"$error":"#REF!"}]
[null,null,"Stop Kontak "]
[null," -","Stop Kontak 10 A / 220 V, inbow",{"$nulls":9},{"$f":"#REF!","v":{"$error":"#REF!"}},{"$f":"#REF!","v":{"$error":"#REF!"}},null,20000,{"$error":"#REF!"}]
[null," -","Stop Kontak AC 13A / 220 V,2P+E, inbow",{"$nulls":9},{"$f":"#REF!","v":{"$error":"#REF!"}},{"$f":"#REF!","v":{"$error":"#REF!"}},null,65000,{"$f":"M1709*P1709","v":{"$error":"#REF!"}}]
[null,null,"Air Conditioning"]
[null,null,"Air conditioning, Rotary Compressor, Wall Mounted type",{"$nulls":9},{"$f":"#REF!","v":{"$error":"#REF!"}},{"$f":"#REF!","v":{"$error":"#REF!"}},null,4164000,{"$f":"M1711*P1711","v":{"$error":"#REF!"}}]
[null,null,"Cooling Capacity 9000 BTU/Hr, 1 PK"]
[null,null,"Power Input : 880 Watt, single phase, 220 Vlt, 50 Hz"]
[null,null,"Dilengkapi dengan remote control, pipe, bracket dan supporting serta "]
[null,null,"pelindung untuk outdoor serta kabel supply"]
[null,"b","Pemasangan"]
[null,null,"Penerangan"]
[null," -","Titik lampu/ stop kontak ",{"$nulls":9},{"$f":"#REF!","v":{"$error":"#REF!"}},{"$f":"#REF!","v":{"$error":"#REF!"}},null,267075,{"$f":"M1718*P1718","v":{"$error":"#REF!"}}]
[null," -","Down light LED bulb 13 Watt",{"$nulls":9},{"$f":"#REF!","v":{"$error":"#REF!"}},{"$f":"#REF!","v":{"$error":"#REF!"}},null,76300,{"$error":"#REF!"}]
[null," -","Baret circulair 20 Watt",{"$nulls":9},{"$f":"#REF!","v":{"$error":"#REF!"}},{"$f":"#REF!","v":{"$error":"#REF!"}},null,76300,{"$error":"#REF!"}]
[null," -","Lampu RM LED TL 2 x 18 W / 220 V, Office, komplit",{"$nulls":9},{"$f":"#REF!","v":{"$error":"#REF!"}},{"$f":"#REF!","v":{"$error":"#REF!"}},null,86300,{"$error":"#REF!"}]
[null," -","High bay LED 100 W",{"$nulls":9},{"$f":"#REF!","v":{"$error":"#REF!"}},{"$f":"#REF!","v":{"$error":"#REF!"}},null,137166.66666666666,{"$error":"#REF!"}]
[null," -","Saklar tunggal  220 V, inbow",{"$nulls":9},{"$f":"#REF!","v":{"$error":"#REF!"}},{"$f":"#REF!","v":{"$error":"#REF!"}},null,69800,{"$error":"#REF!"}]
[null," -","Saklar ganda  220 V, inbow",{"$nulls":9},{"$f":"#REF!","v":{"$error":"#REF!"}},{"$f":"#REF!","v":{"$error":"#REF!"}},null,69800,{"$error":"#REF!"}]
[null,null,"Stop Kontak "]
[null," -","Stop Kontak 10 A / 220 V, inbow",{"$nulls":9},{"$f":"#REF!","v":{"$error":"#REF!"}},{"$f":"#REF!","v":{"$error":"#REF!"}},null,69800,{"$error":"#REF!"}]
[null," -","Stop Kontak AC 13A / 220 V,2P+E, inbow",{"$nulls":9},{"$f":"#REF!","v":{"$error":"#REF!"}},{"$f":"#REF!","v":{"$error":"#REF!"}},null,84750,{"$f":"M1727*P1727","v":{"$error":"#REF!"}}]
[null,null,"Air Conditioning"]
[null," -","Air conditioning, Rotary Compressor, Wall Mounted type",{"$nulls":9},{"$f":"#REF!","v":{"$error":"#REF!"}},{"$f":"#REF!","v":{"$error":"#REF!"}},null,1174500,{"$f":"M1729*P1729","v":{"$error":"#REF!"}}]
[null,null,"Cooling Capacity 9000 BTU/Hr, 1 PK"]
[null,null,"Power Input : 880 Watt, single phase, 220 Vlt, 50 Hz"]
[null,null,"Dilengkapi dengan remote control, pipe, bracket dan supporting serta "]
[null,null,"pelindung untuk outdoor serta kabel supply"]
[null,"C","PENGADAAN DAN PEMASANGAN KABEL"]
[null,"a","Pengadaan"]
[null,null,"(Dari PLN ke M-DP)"]
[null," -","Kabel NYY  4 x 16 mm2 ",{"$nulls":9},{"$f":"#REF!","v":{"$error":"#REF!"}},{"$f":"#REF!","v":{"$error":"#REF!"}},null,145800,{"$f":"M1737*P1737","v":{"$error":"#REF!"}}]
[null," -","Kabel NYA  1 x 16 mm2 ",{"$nulls":9},{"$f":"#REF!","v":{"$error":"#REF!"}},{"$f":"#REF!","v":{"$error":"#REF!"}},null,28080,{"$error":"#REF!"}]
[null,null,"(Dari  M-DP ke LP-SMKM-PG1 )"]
[null," -","Kabel NYY  4 x 6 mm2 ",{"$nulls":9},{"$f":"#REF!","v":{"$error":"#REF!"}},{"$f":"#REF!","v":{"$error":"#REF!"}},null,87750,{"$f":"M1740*P1740","v":{"$error":"#REF!"}}]
[null," -","Kabel NYA  1 x 6 mm2 ",{"$nulls":9},{"$f":"#REF!","v":{"$error":"#REF!"}},{"$f":"#REF!","v":{"$error":"#REF!"}},null,13200,{"$error":"#REF!"}]
[null,null,"(Dari  M-DP ke LP-SMKM-PG2 )"]
[null," -","Kabel NYY  4 x 4 mm2 ",{"$nulls":9},{"$f":"#REF!","v":{"$error":"#REF!"}},{"$f":"#REF!","v":{"$error":"#REF!"}},null,47250,{"$f":"M1743*P1743","v":{"$error":"#REF!"}}]
[null," -","Kabel NYA  1 x 6 mm2 ",{"$nulls":9},{"$f":"#REF!","v":{"$error":"#REF!"}},{"$f":"#REF!","v":{"$error":"#REF!"}},null,13200,{"$f":"M1744*P1744","v":{"$error":"#REF!"}}]
[null,null,"(Dari  M-DP ke LP-SMKM-PG3 )"]
[null," -","Kabel NYY  4 x 4 mm2 ",{"$nulls":9},{"$f":"#REF!","v":{"$error":"#REF!"}},{"$f":"#REF!","v":{"$error":"#REF!"}},null,47250,{"$f":"M1746*P1746","v":{"$error":"#REF!"}}]
[null," -","Kabel NYA  1 x 6 mm2 ",{"$nulls":9},{"$f":"#REF!","v":{"$error":"#REF!"}},{"$f":"#REF!","v":{"$error":"#REF!"}},null,13200,{"$error":"#REF!"}]
[null,null,"(Dari  M-DP ke LP-SMKM-PG4 )"]
[null," -","Kabel NYY  4 x 4 mm2 ",{"$nulls":9},{"$f":"#REF!","v":{"$error":"#REF!"}},{"$f":"#REF!","v":{"$error":"#REF!"}},null,47250,{"$f":"M1749*P1749","v":{"$error":"#REF!"}}]
[null," -","Kabel NYA  1 x 6 mm2 ",{"$nulls":9},{"$f":"#REF!","v":{"$error":"#REF!"}},{"$f":"#REF!","v":{"$error":"#REF!"}},null,13200,{"$error":"#REF!"}]
[null,null,"(Dari  M-DP ke LP-SMKM-PG5 )"]
[null," -","Kabel NYY  4 x 4 mm2 ",{"$nulls":9},{"$f":"#REF!","v":{"$error":"#REF!"}},{"$f":"#REF!","v":{"$error":"#REF!"}},null,47250,{"$f":"M1752*P1752","v":{"$error":"#REF!"}}]
[null," -","Kabel NYA  1 x 6 mm2 ",{"$nulls":9},{"$f":"#REF!","v":{"$error":"#REF!"}},{"$f":"#REF!","v":{"$error":"#REF!"}},null,13200,{"$error":"#REF!"}]
[null,null,"(Dari  M-DP ke LP-SMKM-PG6 )"]
[null," -","Kabel NYY  4 x 4 mm2 ",{"$nulls":9},{"$f":"#REF!","v":{"$error":"#REF!"}},{"$f":"#REF!","v":{"$error":"#REF!"}},null,47250,{"$f":"M1755*P1755","v":{"$error":"#REF!"}}]
[null," -","Kabel NYA  1 x 6 mm2 ",{"$nulls":9},{"$f":"#REF!","v":{"$error":"#REF!"}},{"$f":"#REF!","v":{"$error":"#REF!"}},null,13200,{"$error":"#REF!"}]
[null,null,"(Dari  M-DP ke LP-SMKM-PG7 )"]
[null," -","Kabel NYY  4 x 4 mm2 ",{"$nulls":9},{"$f":"#REF!","v":{"$error":"#REF!"}},{"$f":"#REF!","v":{"$error":"#REF!"}},null,47250,{"$f":"M1758*P1758","v":{"$error":"#REF!"}}]
[null," -","Kabel NYA  1 x 6 mm2 ",{"$nulls":9},{"$f":"#REF!","v":{"$error":"#REF!"}},{"$f":"#REF!","v":{"$error":"#REF!"}},null,13200,{"$error":"#REF!"}]
[null,null,"(Dari  M-DP ke LP-SMKM-PG8 )"]
[null," -","Kabel NYY  4 x 4 mm2 ",{"$nulls":9},{"$f":"#REF!","v":{"$error":"#REF!"}},{"$f":"#REF!","v":{"$error":"#REF!"}},null,47250,{"$f":"M1761*P1761","v":{"$error":"#REF!"}}]
[null," -","Kabel NYA  1 x 6 mm2 ",{"$nulls":9},{"$f":"#REF!","v":{"$error":"#REF!"}},{"$f":"#REF!","v":{"$error":"#REF!"}},null,13200,{"$error":"#REF!"}]
[null,null,"(Dari  M-DP ke LP-SMKM-PG9 )"]
[null," -","Kabel NYY  4 x 4 mm2 ",{"$nulls":9},{"$f":"#REF!","v":{"$error":"#REF!"}},{"$f":"#REF!","v":{"$error":"#REF!"}},null,47250,{"$f":"M1764*P1764","v":{"$error":"#REF!"}}]
[null," -","Kabel NYA  1 x 6 mm2 ",{"$nulls":9},{"$f":"#REF!","v":{"$error":"#REF!"}},{"$f":"#REF!","v":{"$error":"#REF!"}},null,13200,{"$f":"M1765*P1765","v":{"$error":"#REF!"}}]
[null,null,"(Dari  M-DP ke LP-SMKM-PG10 )"]
[null," -","Kabel NYY  4 x 4 mm2 ",{"$nulls":9},{"$f":"#REF!","v":{"$error":"#REF!"}},{"$f":"#REF!","v":{"$error":"#REF!"}},null,47250,{"$f":"M1767*P1767","v":{"$error":"#REF!"}}]
[null," -","Kabel NYA  1 x 6 mm2 ",{"$nulls":9},{"$f":"#REF!","v":{"$error":"#REF!"}},{"$f":"#REF!","v":{"$error":"#REF!"}},null,13200,{"$error":"#REF!"}]
[null,null,"(Dari  M-DP ke LP-SMKM-PG11 )"]
[null," -","Kabel NYY  4 x 4 mm2 ",{"$nulls":9},{"$f":"#REF!","v":{"$error":"#REF!"}},{"$f":"#REF!","v":{"$error":"#REF!"}},null,47250,{"$f":"M1770*P1770","v":{"$error":"#REF!"}}]
[null," -","Kabel NYA  1 x 6 mm2 ",{"$nulls":9},{"$f":"#REF!","v":{"$error":"#REF!"}},{"$f":"#REF!","v":{"$error":"#REF!"}},null,13200,{"$f":"M1771*P1771","v":{"$error":"#REF!"}}]
[null,null,"(Dari  M-DP ke LP-SMKM-PG12 )"]
[null," -","Kabel NYY  4 x 4 mm2 ",{"$nulls":9},{"$f":"#REF!","v":{"$error":"#REF!"}},{"$f":"#REF!","v":{"$error":"#REF!"}},null,47250,{"$f":"M1773*P1773","v":{"$error":"#REF!"}}]
[null," -","Kabel NYA  1 x 6 mm2 ",{"$nulls":9},{"$f":"#REF!","v":{"$error":"#REF!"}},{"$f":"#REF!","v":{"$error":"#REF!"}},null,13200,{"$error":"#REF!"}]
[null,null,"(Dari  M-DP ke LP-SMKM-PG13 )"]
[null," -","Kabel NYY  4 x 4 mm2 ",{"$nulls":9},{"$f":"#REF!","v":{"$error":"#REF!"}},{"$f":"#REF!","v":{"$error":"#REF!"}},null,47250,{"$f":"M1776*P1776","v":{"$error":"#REF!"}}]
[null," -","Kabel NYA  1 x 6 mm2 ",{"$nulls":9},{"$f":"#REF!","v":{"$error":"#REF!"}},{"$f":"#REF!","v":{"$error":"#REF!"}},null,13200,{"$error":"#REF!"}]
[null,null,"(Dari  M-DP ke LP-SMKM-PG14 )"]
[null," -","Kabel NYY  4 x 4 mm2 ",{"$nulls":9},{"$f":"#REF!","v":{"$error":"#REF!"}},{"$f":"#REF!","v":{"$error":"#REF!"}},null,47250,{"$f":"M1779*P1779","v":{"$error":"#REF!"}}]
[null," -","Kabel NYA  1 x 6 mm2 ",{"$nulls":9},{"$f":"#REF!","v":{"$error":"#REF!"}},{"$f":"#REF!","v":{"$error":"#REF!"}},null,13200,{"$error":"#REF!"}]
[null," -","Akssessories termasuk isolasi, konduit dll",{"$nulls":9},{"$f":"#REF!","v":{"$error":"#REF!"}},{"$f":"#REF!","v":{"$error":"#REF!"}},null,200000,{"$error":"#REF!"}]
[null,"b","Pemasangan"]
[null,null,"(Dari PLN ke M-DP)"]
[null," -","Kabel NYY  4 x 16 mm2 ",{"$nulls":9},{"$f":"#REF!","v":{"$error":"#REF!"}},{"$f":"#REF!","v":{"$error":"#REF!"}},null,5843.4,{"$f":"M1784*P1784","v":{"$error":"#REF!"}}]
[null," -","Kabel NYA  1 x 16 mm2 ",{"$nulls":9},{"$f":"#REF!","v":{"$error":"#REF!"}},{"$f":"#REF!","v":{"$error":"#REF!"}},null,3310.68,{"$error":"#REF!"}]
[null,null,"(Dari  M-DP ke LP-SMKM-PG1 )"]
[null," -","Kabel NYY  4 x 6 mm2 ",{"$nulls":9},{"$f":"#REF!","v":{"$error":"#REF!"}},{"$f":"#REF!","v":{"$error":"#REF!"}},null,5121.3599999999997,{"$f":"M1787*P1787","v":{"$error":"#REF!"}}]
[null," -","Kabel NYA  1 x 6 mm2 ",{"$nulls":9},{"$f":"#REF!","v":{"$error":"#REF!"}},{"$f":"#REF!","v":{"$error":"#REF!"}},null,3310.68,{"$error":"#REF!"}]
[null,null,"(Dari  M-DP ke LP-SMKM-PG2 )"]
[null," -","Kabel NYY  4 x 4 mm2 ",{"$nulls":9},{"$f":"#REF!","v":{"$error":"#REF!"}},{"$f":"#REF!","v":{"$error":"#REF!"}},null,4517.8,{"$f":"M1790*P1790","v":{"$error":"#REF!"}}]
[null," -","Kabel NYA  1 x 6 mm2 ",{"$nulls":9},{"$f":"#REF!","v":{"$error":"#REF!"}},{"$f":"#REF!","v":{"$error":"#REF!"}},null,3310.68,{"$error":"#REF!"}]
[null,null,"(Dari  M-DP ke LP-SMKM-PG3 )"]
[null," -","Kabel NYY  4 x 4 mm2 ",{"$nulls":9},{"$f":"#REF!","v":{"$error":"#REF!"}},{"$f":"#REF!","v":{"$error":"#REF!"}},null,4517.8,{"$f":"M1793*P1793","v":{"$error":"#REF!"}}]
[null," -","Kabel NYA  1 x 6 mm2 ",{"$nulls":9},{"$f":"#REF!","v":{"$error":"#REF!"}},{"$f":"#REF!","v":{"$error":"#REF!"}},null,3310.68,{"$error":"#REF!"}]
[null,null,"(Dari  M-DP ke LP-SMKM-PG4 )"]
[null," -","Kabel NYY  4 x 4 mm2 ",{"$nulls":9},{"$f":"#REF!","v":{"$error":"#REF!"}},{"$f":"#REF!","v":{"$error":"#REF!"}},null,4517.8,{"$f":"M1796*P1796","v":{"$error":"#REF!"}}]
[null," -","Kabel NYA  1 x 6 mm2 ",{"$nulls":9},{"$f":"#REF!","v":{"$error":"#REF!"}},{"$f":"#REF!","v":{"$error":"#REF!"}},null,3310.68,{"$error":"#REF!"}]
[null,null,"(Dari  M-DP ke LP-SMKM-PG5 )"]
[null," -","Kabel NYY  4 x 4 mm2 ",{"$nulls":9},{"$f":"#REF!","v":{"$error":"#REF!"}},{"$f":"#REF!","v":{"$error":"#REF!"}},null,4517.8,{"$f":"M1799*P1799","v":{"$error":"#REF!"}}]
[null," -","Kabel NYA  1 x 6 mm2 ",{"$nulls":9},{"$f":"#REF!","v":{"$error":"#REF!"}},{"$f":"#REF!","v":{"$error":"#REF!"}},null,3517.8,{"$error":"#REF!"}]
[null,null,"(Dari  M-DP ke LP-SMKM-PG6 )"]
[null," -","Kabel NYY  4 x 4 mm2 ",{"$nulls":9},{"$f":"#REF!","v":{"$error":"#REF!"}},{"$f":"#REF!","v":{"$error":"#REF!"}},null,4517.8,{"$f":"M1802*P1802","v":{"$error":"#REF!"}}]
[null," -","Kabel NYA  1 x 6 mm2 ",{"$nulls":9},{"$f":"#REF!","v":{"$error":"#REF!"}},{"$f":"#REF!","v":{"$error":"#REF!"}},null,220,{"$error":"#REF!"}]
[null,null,"(Dari  M-DP ke LP-SMKM-PG7 )"]
[null," -","Kabel NYY  4 x 4 mm2 ",{"$nulls":9},{"$f":"#REF!","v":{"$error":"#REF!"}},{"$f":"#REF!","v":{"$error":"#REF!"}},null,4517.8,{"$f":"M1805*P1805","v":{"$error":"#REF!"}}]
[null," -","Kabel NYA  1 x 6 mm2 ",{"$nulls":9},{"$f":"#REF!","v":{"$error":"#REF!"}},{"$f":"#REF!","v":{"$error":"#REF!"}},null,3310.68,{"$error":"#REF!"}]
[null,null,"(Dari  M-DP ke LP-SMKM-PG8 )"]
[null," -","Kabel NYY  4 x 4 mm2 ",{"$nulls":9},{"$f":"#REF!","v":{"$error":"#REF!"}},{"$f":"#REF!","v":{"$error":"#REF!"}},null,4517.8,{"$f":"M1808*P1808","v":{"$error":"#REF!"}}]
[null," -","Kabel NYA  1 x 6 mm2 ",{"$nulls":9},{"$f":"#REF!","v":{"$error":"#REF!"}},{"$f":"#REF!","v":{"$error":"#REF!"}},null,3310.68,{"$error":"#REF!"}]
[null,null,"(Dari  M-DP ke LP-SMKM-PG9 )"]
[null," -","Kabel NYY  4 x 4 mm2 ",{"$nulls":9},{"$f":"#REF!","v":{"$error":"#REF!"}},{"$f":"#REF!","v":{"$error":"#REF!"}},null,4517.8,{"$f":"M1811*P1811","v":{"$error":"#REF!"}}]
[null," -","Kabel NYA  1 x 6 mm2 ",{"$nulls":9},{"$f":"#REF!","v":{"$error":"#REF!"}},{"$f":"#REF!","v":{"$error":"#REF!"}},null,3310.68,{"$error":"#REF!"}]
[null,null,"(Dari  M-DP ke LP-SMKM-PG10 )"]
[null," -","Kabel NYY  4 x 4 mm2 ",{"$nulls":9},{"$f":"#REF!","v":{"$error":"#REF!"}},{"$f":"#REF!","v":{"$error":"#REF!"}},null,4517.8,{"$f":"M1814*P1814","v":{"$error":"#REF!"}}]
[null," -","Kabel NYA  1 x 6 mm2 ",{"$nulls":9},{"$f":"#REF!","v":{"$error":"#REF!"}},{"$f":"#REF!","v":{"$error":"#REF!"}},null,3310.68,{"$error":"#REF!"}]
[null,null,"(Dari  M-DP ke LP-SMKM-PG11 )"]
[null," -","Kabel NYY  4 x 4 mm2 ",{"$nulls":9},{"$f":"#REF!","v":{"$error":"#REF!"}},{"$f":"#REF!","v":{"$error":"#REF!"}},null,4517.8,{"$f":"M1817*P1817","v":{"$error":"#REF!"}}]
[null," -","Kabel NYA  1 x 6 mm2 ",{"$nulls":9},{"$f":"#REF!","v":{"$error":"#REF!"}},{"$f":"#REF!","v":{"$error":"#REF!"}},null,3310.68,{"$f":"M1818*P1818","v":{"$error":"#REF!"}}]
[null,null,"(Dari  M-DP ke LP-SMKM-PG12 )"]
[null," -","Kabel NYY  4 x 4 mm2 ",{"$nulls":9},{"$f":"#REF!","v":{"$error":"#REF!"}},{"$f":"#REF!","v":{"$error":"#REF!"}},null,4517.8,{"$f":"M1820*P1820","v":{"$error":"#REF!"}}]
[null," -","Kabel NYA  1 x 6 mm2 ",{"$nulls":9},{"$f":"#REF!","v":{"$error":"#REF!"}},{"$f":"#REF!","v":{"$error":"#REF!"}},null,3310.68,{"$error":"#REF!"}]
[null,null,"(Dari  M-DP ke LP-SMKM-PG13 )"]
[null," -","Kabel NYY  4 x 4 mm2 ",{"$nulls":9},{"$f":"#REF!","v":{"$error":"#REF!"}},{"$f":"#REF!","v":{"$error":"#REF!"}},null,4517.8,{"$f":"M1823*P1823","v":{"$error":"#REF!"}}]
[null," -","Kabel NYA  1 x 6 mm2 ",{"$nulls":9},{"$f":"#REF!","v":{"$error":"#REF!"}},{"$f":"#REF!","v":{"$error":"#REF!"}},null,3310.68,{"$error":"#REF!"}]
[null,null,"(Dari  M-DP ke LP-SMKM-PG14 )"]
[null,null,"Kabel NYY  4 x 4 mm2 ",{"$nulls":9},{"$f":"#REF!","v":{"$error":"#REF!"}},{"$f":"#REF!","v":{"$error":"#REF!"}},null,4517.8,{"$f":"M1826*P1826","v":{"$error":"#REF!"}}]
[null,null,"Kabel NYA  1 x 6 mm2 ",{"$nulls":9},{"$f":"#REF!","v":{"$error":"#REF!"}},{"$f":"#REF!","v":{"$error":"#REF!"}},null,3310.68,{"$error":"#REF!"}]
[null,"D","PENGADAAN DAN PEMASANGAN PENANGKAL PETIR"]
[null,1,"Gedung Utama"]
[null,"a","Pengadaan"]
[null," -","BC 50 mm2",{"$nulls":9},{"$f":"#REF!","v":{"$error":"#REF!"}},{"$f":"#REF!","v":{"$error":"#REF!"}},null,60800,{"$f":"M1831*P1831","v":{"$error":"#REF!"}}]
[null," -","Clamp BC, 50 mm2",{"$nulls":9},{"$f":"#REF!","v":{"$error":"#REF!"}},{"$f":"#REF!","v":{"$error":"#REF!"}},null,6400,{"$error":"#REF!"}]
[null," -","Air terminal splitzen copper Ø 1' x 50-60 cm, termasuk dudukan, komplit",{"$nulls":9},{"$f":"#REF!","v":{"$error":"#REF!"}},{"$f":"#REF!","v":{"$error":"#REF!"}},null,960000,{"$error":"#REF!"}]
[null," -","Grounding rod copper   Ø 3/4 \", 4 m termasuk clamp",{"$nulls":9},{"$f":"#REF!","v":{"$error":"#REF!"}},{"$f":"#REF!","v":{"$error":"#REF!"}},null,2000000,{"$error":"#REF!"}]
[null," -","Pipa PVC AW Ø 1",{"$nulls":9},{"$f":"#REF!","v":{"$error":"#REF!"}},{"$f":"#REF!","v":{"$error":"#REF!"}},null,40000,{"$error":"#REF!"}]
[null," -","Box control 30x30x30 cm",{"$nulls":9},{"$f":"#REF!","v":{"$error":"#REF!"}},{"$f":"#REF!","v":{"$error":"#REF!"}},null,150000,{"$error":"#REF!"}]
[null,"b","Pemasangan ",{"$nulls":9},{"$f":"#REF!","v":{"$error":"#REF!"}},{"$f":"#REF!","v":{"$error":"#REF!"}},null,4000000,{"$error":"#REF!"}]
[null,"E","PENGADAAN DAN PEMASANGAN FIRE EXTINGUISHER "]
[null,"a","Pengadaan dan pemasangan"]
[null," -","Fire extinguisher, dry powder 2 kG",{"$nulls":9},{"$f":"#REF!","v":{"$error":"#REF!"}},{"$f":"#REF!","v":{"$error":"#REF!"}},null,350000,{"$f":"M1840*P1840","v":{"$error":"#REF!"}}]
[null,"F","PENYAMBUNGAN DAYA PLN 53000 VA"]
[null," -","Biaya Penyambungan           ",{"$nulls":9},{"$f":"#REF!","v":{"$error":"#REF!"}},{"$f":"#REF!","v":{"$error":"#REF!"}},null,775,{"$f":"M1842*P1842","v":{"$error":"#REF!"}}]
[null," -","Uang Jaminan Langgan     ",{"$nulls":9},{"$f":"#REF!","v":{"$error":"#REF!"}},{"$f":"#REF!","v":{"$error":"#REF!"}},null,165,{"$error":"#REF!"}]
[null," -","Jaminan Instalasi dan setifkat layak operasi",{"$nulls":9},{"$f":"#REF!","v":{"$error":"#REF!"}},{"$f":"#REF!","v":{"$error":"#REF!"}},null,150,{"$error":"#REF!"}]
[null," -","Jasa ( Pengurusan dan Teknis Lapangan )",{"$nulls":9},{"$f":"#REF!","v":{"$error":"#REF!"}},{"$f":"#REF!","v":{"$error":"#REF!"}},null,100,{"$error":"#REF!"}]
[null," -","Materai",{"$nulls":9},{"$f":"#REF!","v":{"$error":"#REF!"}},{"$f":"#REF!","v":{"$error":"#REF!"}},null,6000,{"$error":"#REF!"}]