{"text_format":"5","workbook":"xlsx","n_sheets":22,"sheets":["TABLERO GENERAL","TSE-TSN-ST","TPE-TPN-TORRE","TSE-TSN-PB","TSE-TSN-1P","TSE-TSN-2P","TSE-TSN-3P","TSE-TSN-AZ","TSE-ASC1","TSE-ASC2","TSN-CLI","ALIM.TSE-BAC","ALIM.TSN-PAT","ALIM.-RIEGO","ALIM.-FUENTE SECA","TSE-TSN-GU","TSE-TSN-SUM","TSE-TSN-CAF","TSE-ASC3","TSE-IE","ALIM.TE-PCI","ALIM.TSE-PRESAZ"],"props":{"creator":"Federico Maldonado","last_modified_by":"Rodrigo"},"read":"whole","date_system":"1900"}

{"sheet":"TABLERO GENERAL","index":0,"n_rows":48,"n_cols":12,"rows_kept":48,"merged":[[0,0,0,9],[1,0,2,0],[1,1,2,1],[1,2,2,2],[1,3,2,3],[1,4,1,7],[1,8,2,8],[1,9,2,9],[9,0,9,2],[23,0,23,9],[24,0,25,0],[24,1,25,1],[24,2,25,2],[24,3,25,3],[24,4,24,7],[24,8,25,8],[24,9,25,9],[35,0,35,2]]}
["CUADRO DE CARGAS ELÉCTRICAS TABLERO GENERAL NORMAL"]
["DEPENDENCIA","CTO.","DESCRIPCIÓN","POTENCIA TOTAL (W)","FASES",{"$nulls":3},"CORRIENTE (A)","TM (A)"]
[{"$nulls":4},"R","S","T","RST",null,null,"cap. Cond","cable"]
[null,"#1","Tablero Principal Normal Torre ",{"$f":"'TPE-TPN-TORRE'!F12","v":{"v":556910,"d":"556,910"}},{"$f":"'TPE-TPN-TORRE'!G12","v":{"v":181410,"d":"181,410"}},{"$f":"'TPE-TPN-TORRE'!H12","v":{"v":193000,"d":"193,000"}},{"$f":"'TPE-TPN-TORRE'!I12","v":{"v":182500,"d":"182,500"}},{"$f":"'TPE-TPN-TORRE'!J12","v":0},{"$f":"'TPE-TPN-TORRE'!K12","v":{"v":740.370055559461,"d":"740"}},{"$f":"'TPE-TPN-TORRE'!L12","v":"3x800"},{"$f":"344*3","v":1032},"3x4x(1x185)"]
[null,"#2","Tablero Principal Normal Sala Tecnica",{"$f":"'TSE-TSN-ST'!AL14","v":{"v":22500,"d":"22,500"}},{"$f":"'TSE-TSN-ST'!AM14","v":{"v":8900,"d":"8,900"}},{"$f":"'TSE-TSN-ST'!AN14","v":{"v":6800,"d":"6,800"}},{"$f":"'TSE-TSN-ST'!AO14","v":{"v":6800,"d":"6,800"}},{"$f":"'TSE-TSN-ST'!AP14","v":0},{"$f":"'TSE-TSN-ST'!AQ14","v":{"v":32.04863747557545,"d":"32"}},{"$f":"'TSE-TSN-ST'!AR14","v":"3x40"}]
[null,"#3","Tablero Principal Normal Guarderia",{"$f":"'TSE-TSN-GU'!AL18","v":{"v":62306,"d":"62,306"}},{"$f":"'TSE-TSN-GU'!AM18","v":{"v":20680,"d":"20,680"}},{"$f":"'TSE-TSN-GU'!AN18","v":{"v":20526,"d":"20,526"}},{"$f":"'TSE-TSN-GU'!AO18","v":{"v":21100,"d":"21,100"}},{"$f":"'TSE-TSN-GU'!AP18","v":0},{"$f":"'TSE-TSN-GU'!AQ18","v":{"v":82.831151679244,"d":"83"}},{"$f":"'TSE-TSN-GU'!AR18","v":"3x100"}]
[null,"#4","Tablero Princiapl Climatizacion",{"$f":"'TSN-CLI'!F9","v":{"v":344760,"d":"344,760"}},{"$f":"'TSN-CLI'!G9","v":{"v":114920,"d":"114,920"}},{"$f":"'TSN-CLI'!H9","v":{"v":114920,"d":"114,920"}},{"$f":"'TSN-CLI'!I9","v":{"v":114920,"d":"114,920"}},{"$f":"'TSN-CLI'!J9","v":{"v":344760,"d":"344,760"}},{"$f":"'TSN-CLI'!K9","v":{"v":622.0227462681731,"d":"622"}},{"$f":"'TSN-CLI'!L9","v":"3x630"}]
[null,"#5","Tablero de Emergencia",{"$f":"D36","v":{"v":269666,"d":"269,666"}},{"$f":"E36","v":{"v":90772.33333333333,"d":"90,772"}},{"v":89112.33333333333,"d":"89,112"},{"v":89781.33333333333,"d":"89,781"},{"v":37444,"d":"37,444"},{"v":512.1438739845054,"d":"512"},{"$f":"J36","v":"3x630"}]
[]
["TOTAL GENERAL",null,null,{"$f":"SUM(D4:D9)","v":{"v":1256142,"d":"1,256,142"}},{"$f":"SUM(E4:E9)","v":{"v":416682.3333333333,"d":"416,682"}},{"$f":"SUM(F4:F9)","v":{"v":424358.3333333333,"d":"424,358"}},{"$f":"SUM(G4:G9)","v":{"v":415101.3333333333,"d":"415,101"}},{"$f":"SUM(H4:H9)","v":{"v":382204,"d":"382,204"}}]
[]
[null,null,"Potencia instalada - Σpotencia ","PI",{"$f":"D10","v":{"v":1256142,"d":"1,256,142"}}]
[null,null,"factor de potencia - ","fp",0.8]
[null,null,"factor de demanda - Anexo 3 ANDE","fd",0.6]
[null,null,"Potencia Demandada - Pd = PI*fd","Pd",{"$f":"E12*E14","v":{"v":753685.2,"d":"753,685"}}]
[null,null,"Corriente - Id = Pd/(√3*380*fp)","Id",{"$f":"E15/(SQRT(3)*380*E13)","v":{"v":1431.3827404744636,"d":"1,431"}}]
[null,null,"LLave Limitadora",null,"3x1600"]
[null,null,"DIMENSIONAMIENTO DEL TRANSFORMADOR"]
[null,null,"Potencia aparente","S(kVA)",{"$f":"+(E15/E13)/1000","v":{"v":942.1064999999999,"d":"942"}}]
[null,null,"Transformador","T(kVA)",{"v":1000,"d":"1,000"},"cap. Cond","cable"]
[null,null,"Corriente maxima de transformador","I",{"$f":"+(E20*1000)/(380*1.73)","v":{"v":1521.1439002129603,"d":"1,521"}},{"$f":"577*3","v":1731},"3x4x(1x240)"]
[null,null,"Interruptor termomagnético de corte","TM","3x1600 reg"]
[]
["CUADRO DE CARGAS ELÉCTRICAS TABLERO GENERAL EMERGENCIA"]
["DEPENDENCIA","CTO.","DESCRIPCIÓN","POTENCIA TOTAL (W)","FASES",{"$nulls":3},"CORRIENTE (A)","TM (A)"]
[{"$nulls":4},"R","S","T","RST"]
[null,"#1","Tablero Principal Emergencia Torre ",{"$f":"'TPE-TPN-TORRE'!F37","v":{"v":208914,"d":"208,914"}},{"$f":"'TPE-TPN-TORRE'!G37","v":{"v":69897,"d":"69,897"}},{"$f":"'TPE-TPN-TORRE'!H37","v":{"v":69085,"d":"69,085"}},{"$f":"'TPE-TPN-TORRE'!I37","v":{"v":69932,"d":"69,932"}},{"$f":"'TPE-TPN-TORRE'!J37","v":{"v":22500,"d":"22,500"}},{"$f":"'TPE-TPN-TORRE'!K37","v":{"v":396.7649807153996,"d":"397"}},{"$f":"'TPE-TPN-TORRE'!L37","v":"3x500"}]
[null,"#2","Tablero Principal Emergencia Sala Tecnica",{"$f":"'TSE-TSN-ST'!AL38","v":{"v":7837,"d":"7,837"}},{"$f":"'TSE-TSN-ST'!AM38","v":{"v":2351,"d":"2,351"}},{"$f":"'TSE-TSN-ST'!AN38","v":{"v":2486,"d":"2,486"}},{"$f":"'TSE-TSN-ST'!AO38","v":{"v":3000,"d":"3,000"}},{"$f":"'TSE-TSN-ST'!AP38","v":0},{"$f":"'TSE-TSN-ST'!AQ38","v":{"v":14.883862038286503,"d":"15"}},{"$f":"'TSE-TSN-ST'!AR38","v":"3x25"}]
[null,"#3","Tablero Principal Emergencia Guarderia",{"$f":"'TSE-TSN-GU'!AL47","v":{"v":26490,"d":"26,490"}},{"$f":"'TSE-TSN-GU'!AM47","v":{"v":8077,"d":"8,077"}},{"$f":"'TSE-TSN-GU'!AN47","v":{"v":9244,"d":"9,244"}},{"$f":"'TSE-TSN-GU'!AO47","v":{"v":9169,"d":"9,169"}},{"$f":"'TSE-TSN-GU'!AP47","v":{"v":4500,"d":"4,500"}},{"$f":"'TSE-TSN-GU'!AQ47","v":{"v":50.30923891721443,"d":"50"}},{"$f":"'TSE-TSN-GU'!AR47","v":"3x63"}]
[null,"#4","Tablero Seccional BAC",{"$f":"'ALIM.TSE-BAC'!F10","v":{"v":11563,"d":"11,563"}},{"$f":"'ALIM.TSE-BAC'!G10","v":{"v":4600.333333333334,"d":"4,600"}},{"$f":"'ALIM.TSE-BAC'!H10","v":{"v":3481.3333333333335,"d":"3,481"}},{"$f":"'ALIM.TSE-BAC'!I10","v":{"v":3481.3333333333335,"d":"3,481"}},{"$f":"'ALIM.TSE-BAC'!J10","v":{"v":10444,"d":"10,444"}},{"$f":"'ALIM.TSE-BAC'!K10","v":{"v":21.960201192893564,"d":"22"}},{"$f":"'ALIM.TSE-BAC'!L10","v":"3x32"}]
[null,"#5","Tablero Planta de Tratamiento",{"$f":"+'ALIM.TSN-PAT'!F5","v":746},{"$f":"+'ALIM.TSN-PAT'!G5","v":0},{"$f":"+'ALIM.TSN-PAT'!H5","v":746},{"$f":"+'ALIM.TSN-PAT'!I5","v":0},{"$f":"+'ALIM.TSN-PAT'!J5","v":0},{"$f":"+'ALIM.TSN-PAT'!K5","v":{"v":3.390909090909091,"d":"3"}},{"$f":"'ALIM.TSN-PAT'!L5","v":"1x25"}]
[null,"#6","Tablero Bomba de Riego",{"$f":"+'ALIM.-RIEGO'!F5","v":{"v":1492,"d":"1,492"}},{"$f":"+'ALIM.-RIEGO'!G5","v":{"v":1492,"d":"1,492"}},{"$f":"+'ALIM.-RIEGO'!H5","v":0},{"$f":"+'ALIM.-RIEGO'!I5","v":0},{"$f":"+'ALIM.-RIEGO'!J5","v":0},{"$f":"+'ALIM.-RIEGO'!K5","v":{"v":6.781818181818182,"d":"7"}},{"$f":"+'ALIM.-RIEGO'!L5","v":"1x25"}]
[null,"#7","Tablero Fuente Seca",{"$f":"+'ALIM.-FUENTE SECA'!F5","v":{"v":6714,"d":"6,714"}},{"$f":"+'ALIM.-FUENTE SECA'!G5","v":{"v":2238,"d":"2,238"}},{"$f":"+'ALIM.-FUENTE SECA'!H5","v":{"v":2238,"d":"2,238"}},{"$f":"+'ALIM.-FUENTE SECA'!I5","v":{"v":2238,"d":"2,238"}},{"$f":"+'ALIM.-FUENTE SECA'!J5","v":0},{"$f":"+'ALIM.-FUENTE SECA'!K5","v":{"v":12.751084563615617,"d":"13"}},{"$f":"+'ALIM.-FUENTE SECA'!L5","v":"3x25"}]
[null,"#8","Tablero Seccional Iluminacion Exterior",{"$f":"'TSE-IE'!R19","v":{"v":5910,"d":"5,910"}},{"$f":"'TSE-IE'!S19","v":{"v":2117,"d":"2,117"}},{"$f":"'TSE-IE'!T19","v":{"v":1832,"d":"1,832"}},{"$f":"'TSE-IE'!U19","v":{"v":1961,"d":"1,961"}},{"$f":"'TSE-IE'!V19","v":0},{"$f":"'TSE-IE'!W19","v":{"v":11.224145035890423,"d":"11"}},{"$f":"'TSE-IE'!X19","v":"3x32"}]
[]
["TOTAL GENERAL",null,null,{"$f":"SUM(D27:D35)","v":{"v":269666,"d":"269,666"}},{"$f":"SUM(E27:E35)","v":{"v":90772.33333333333,"d":"90,772"}},{"$f":"SUM(F27:F35)","v":{"v":89112.33333333333,"d":"89,112"}},{"$f":"SUM(G27:G35)","v":{"v":89781.33333333333,"d":"89,781"}},{"$f":"SUM(H27:H35)","v":{"v":37444,"d":"37,444"}},{"$f":"E42","v":{"v":512.1438739845054,"d":"512"}},{"$f":"E43","v":"3x630"}]
[]
[null,null,"Potencia instalada - Σpotencia ","PI",{"$f":"D36","v":{"v":269666,"d":"269,666"}}]
[null,null,"factor de potencia - ","fp",0.8]
[null,null,"factor de demanda - Anexo 3 ANDE","fd",1]
[null,null,"Potencia Demandada - Pd = PI*fd","Pd",{"$f":"E38*E40","v":{"v":269666,"d":"269,666"}}]
[null,null,"Corriente - Id = Pd/(√3*380*fp)","Id",{"$f":"E41/(SQRT(3)*380*E39)","v":{"v":512.1438739845054,"d":"512"}}]
[null,null,"LLave Limitadora",null,"3x630"]
[null,null,"DIMENSIONAMIENTO DEL GENERADOR"]
[null,null,"Potencia aparente","S(kVA)",{"$f":"+(E41/E39)/1000","v":{"v":337.0825,"d":"337"}}]
[null,null,"Generador","G(kVA)",500]
[null,null,"Corriente maxima de transformador","I",{"$f":"+(E46*1000)/(380*1.73)","v":{"v":760.5719501064801,"d":"761"}},"cap. Cond","cable"]
[null,null,"Interruptor termomagnético de corte","TM","3x800 reg",{"$f":"364*2","v":728},"2x4x(1x150)"]

{"sheet":"TSE-TSN-ST","index":1,"n_rows":50,"n_cols":44,"rows_kept":50,"merged":[[0,0,0,43],[1,0,2,0],[1,1,2,1],[1,2,1,3],[1,4,1,5],[1,6,1,7],[1,8,1,9],[1,10,1,11],[1,12,1,13],[1,14,1,15],[1,16,1,17],[1,18,1,19],[1,20,1,21],[1,22,1,23],[1,24,1,25],[1,26,1,27],[1,28,1,29],[1,30,1,31],[1,32,1,33],[1,34,2,34],[1,35,2,35],[1,36,2,36],[1,37,2,37],[1,38,1,41],[1,42,2,42],[1,43,2,43],[13,0,13,34],[27,0,27,43],[28,0,29,0],[28,1,29,1],[28,2,28,3],[28,4,28,5],[28,6,28,7],[28,8,28,9],[28,10,28,11],[28,12,28,13],[28,14,28,15],[28,16,28,17],[28,18,28,19],[28,20,28,21],[28,22,28,23],[28,24,28,25],[28,26,28,27],[28,28,28,29],[28,30,28,31],[28,32,28,33],[28,34,29,34],[28,35,29,35],[28,36,29,36],[28,37,29,37],[28,38,28,41],[28,42,29,42],[28,43,29,43],[37,0,37,34]]}
["CUADRO DE CARGAS ELÉCTRICAS TABLERO-TSN-ST"]
["DEPENDENCIA","CTO.","TIPO 1 - LED 38 W",null,"TIPO 2 - LED Est. Adosar 39 W",null,"TIPO 3 - LED Circular Embutido 25 W",null,"TIPO 4 - Spot LED CIrcular Emb. 6 W",null,"TIPO 5 - Spot Cir. Movil LED 12 W",null,"TIPO 6 - Aplique de Adosar LED 5.5 W",null,"TIPO 7 - Adosar Resina LED 6 W",null,"TIPO 8 - LED Circular Embutido 23 W",null,"TIPO 9 - LED Colgante 35 W",null,"TIPO 10 - Proyector LED 50 W",null,"TIPO 11 - LED  Embutido Uni. 1.7 W",null,"TIPO 12 - LED Colgante 25 W",null,"TOMA SIMPLE",null,"TOMA SCHUKO",null,"ESTACIONES DE TRABAJO",null,"SECAMANOS",null,"DESCRIPCIÓN","CANT.","POTENCIA (W)","POTENCIA TOTAL (W)","FASES",{"$nulls":3},"CORRIENTE (A)","TM (A)"]
[null,null,"CANT.","POTENCIA UNIT. (W)","CANT.","POTENCIA UNIT. (W)","CANT.","POTENCIA UNIT. (W)","CANT.","POTENCIA UNIT. (W)","CANT.","POTENCIA UNIT. (W)","CANT.","POTENCIA UNIT. (W)","CANT.","POTENCIA UNIT. (W)","CANT.","POTENCIA UNIT. (W)","CANT.","POTENCIA UNIT. (W)","CANT.","POTENCIA UNIT. (W)","CANT.","POTENCIA UNIT. (W)","CANT.","POTENCIA UNIT. (W)","CANT.","POTENCIA UNIT. (W)","CANT.","POTENCIA UNIT. (W)","CANT.","POTENCIA UNIT. (W)","CANT.","POTENCIA UNIT. (W)",{"$nulls":4},"R","S","T","RST"]
[null,"TNST.01",{"$nulls":24},9,100,{"$nulls":9},{"$f":"(AE4*AF4)+(AG4*AH4)+(AJ4*AK4)+(AA4*AB4)+(AC4*AD4)","v":900},{"$f":"AL4","v":900},{"$nulls":3},{"$f":"AL4/220","v":{"v":4.090909090909091,"d":"4"}},"1x16"]
[null,"SmNST.01",{"$nulls":30},1,1800,{"$nulls":3},{"$f":"(AE5*AF5)+(AG5*AH5)+(AJ5*AK5)+(AA5*AB5)+(AC5*AD5)","v":1800},null,{"$f":"AL5","v":{"v":1800,"d":"1,800"}},null,null,{"v":8.181818181818182,"d":"8"},"1x16"]
[null,"SmNST.02",{"$nulls":30},1,1800,{"$nulls":3},1800,null,null,{"$f":"AL6","v":{"v":1800,"d":"1,800"}},null,{"v":8.181818181818182,"d":"8"},"1x16"]
[null,"DENST.01",{"$nulls":32},"Ducha Electrica",1,3000,3000,{"$f":"AL7","v":{"v":3000,"d":"3,000"}},{"$nulls":3},{"v":13.636363636363637,"d":"14"},"1x16"]
[null,"DENST.02",{"$nulls":32},"Ducha Electrica",1,3000,3000,null,{"$f":"AL8","v":{"v":3000,"d":"3,000"}},null,null,{"v":13.636363636363637,"d":"14"},"1x16"]
[null,"DENST.03",{"$nulls":32},"Ducha Electrica",1,3000,3000,null,null,{"$f":"AL9","v":{"v":3000,"d":"3,000"}},null,{"v":13.636363636363637,"d":"14"},"1x16"]
[null,"DENST.04",{"$nulls":32},"Ducha Electrica",1,3000,3000,{"$f":"AL10","v":{"v":3000,"d":"3,000"}},{"$nulls":3},{"v":13.636363636363637,"d":"14"},"1x16"]
[null,"Rsva.",{"$nulls":33},1,2000,{"$f":"(AE11*AF11)+(AG11*AH11)+(AJ11*AK11)+(AA11*AB11)+(AC11*AD11)","v":2000},{"$f":"AL11","v":{"v":2000,"d":"2,000"}},{"$nulls":3},{"v":9.090909090909092,"d":"9"},"1x16"]
[null,"Rsva.",{"$nulls":33},1,2000,2000,null,{"$f":"AL12","v":{"v":2000,"d":"2,000"}},null,null,{"v":9.090909090909092,"d":"9"},"1x16"]
[null,"Rsva.",{"$nulls":33},1,2000,2000,null,null,{"$f":"AL13","v":{"v":2000,"d":"2,000"}},null,{"v":9.090909090909092,"d":"9"},"1x16"]
["TOTAL GENERAL",{"$nulls":35},"Σ ",{"$f":"SUM(AL4:AL13)","v":22500},{"$f":"SUM(AM4:AM13)","v":8900},{"$f":"SUM(AN4:AN13)","v":6800},{"$f":"SUM(AO4:AO13)","v":6800},{"$f":"SUM(AP4:AP13)","v":0},{"$f":"AK21","v":{"v":32.04863747557545,"d":"32"}},{"$f":"AK22","v":"3x40"}]
[]
[]
[{"$nulls":34},"Potencia instalada - Σpotencia ","PI",{"$f":"AL14","v":{"v":22500,"d":"22,500"}}]
[{"$nulls":34},"factor de potencia - ","fp",0.8]
[{"$nulls":34},"factor de demanda - Anexo 3 ANDE","fd",{"$f":"IF(AK17<=2700,1,\nIF(AK17<=3800,0.95,\nIF(AK17<=7200,0.9,\nIF(AK17<=12000,0.85,\nIF(AK17<=20000,0.8,\nIF(AK17<=30000,0.75,\nIF(AK17<=50000,0.7,\nIF(AK17<=80000,0.65,\nIF(AK17<=120000,0.6,\nIF(AK17<=170000,0.55,\nIF(AK17<=250000,0.5,\n0.45)))))))))))","v":0.75}]
[{"$nulls":34},"Potencia Demandada - Pd = PI*fd","Pd",{"$f":"AK17*AK19","v":{"v":16875,"d":"16,875"}}]
[{"$nulls":34},"Corriente - Id = Pd/(√3*380*fp)","Id",{"$f":"AK20/(SQRT(3)*380*AK18)","v":{"v":32.04863747557545,"d":"32"}}]
[{"$nulls":34},"LLave Limitadora","TM","3x40"]
[{"$nulls":34},"Alimentador","S","4x10"]
[{"$nulls":34},"Seccion de Conductor de Proteccion","S_p",{"$f":"_xlfn.CONCAT(\"1x\",IF(VALUE(RIGHT(AK23, LEN(AK23) - FIND(\"x\", AK23))) <= 16, VALUE(RIGHT(AK23, LEN(AK23) - FIND(\"x\", AK23))), IF(AND(VALUE(RIGHT(AK23, LEN(AK23) - FIND(\"x\", AK23))) > 16, VALUE(RIGHT(AK23, LEN(AK23) - FIND(\"x\", AK23))) <= 35), 16, VALUE(RIGHT(AK23, LEN(AK23) - FIND(\"x\", AK23)))/2)))","v":"1x10"}]
[{"$nulls":34},"Corriente admisible Conductor - Iz","Iz",68]
[{"$nulls":34},"Longitud (m)","L",5]
[]
["CUADRO DE CARGAS ELÉCTRICAS TABLERO-TSE-ST"]
["DEPENDENCIA","CTO.","TIPO 1 - LED 38 W",null,"TIPO 2 - LED Est. Adosar 39 W",null,"TIPO 3 - LED Circular Embutido 25 W",null,"TIPO 4 - Spot LED CIrcular Emb. 6 W",null,"TIPO 5 - Spot Cir. Movil LED 12 W",null,"TIPO 6 - Aplique de Adosar LED 5.5 W",null,"TIPO 7 - Adosar Resina LED 6 W",null,"TIPO 8 - LED Circular Embutido 23 W",null,"TIPO 9 - LED  50 W",null,"TIPO 10 - Proyector LED 50 W",null,"TIPO 11 - LED  Embutido Uni. 1.7 W",null,"TIPO 12 - LED Colgante 25 W",null,"TOMA SIMPLE",null,"TOMA SCHUKO",null,"ESTACIONES DE TRABAJO",null,"SECAMANOS",null,"DESCRIPCIÓN","CANT.","POTENCIA (W)","POTENCIA TOTAL (W)","FASES",{"$nulls":3},"CORRIENTE (A)","TM (A)"]
[null,null,"CANT.","POTENCIA UNIT. (W)","CANT.","POTENCIA UNIT. (W)","CANT.","POTENCIA UNIT. (W)","CANT.","POTENCIA UNIT. (W)","CANT.","POTENCIA UNIT. (W)","CANT.","POTENCIA UNIT. (W)","CANT.","POTENCIA UNIT. (W)","CANT.","POTENCIA UNIT. (W)","CANT.","POTENCIA UNIT. (W)","CANT.","POTENCIA UNIT. (W)","CANT.","POTENCIA UNIT. (W)","CANT.","POTENCIA UNIT. (W)","CANT.","POTENCIA UNIT. (W)","CANT.","POTENCIA UNIT. (W)","CANT.","POTENCIA UNIT. (W)","CANT.","POTENCIA UNIT. (W)",{"$nulls":4},"R","S","T","RST"]
[null,"IEST.01",null,null,9,39,{"$nulls":31},{"$f":"(C31*D31)+(E31*F31)+(G31*H31)+(I31*J31)+(K31*L31)+(M31*N31)+(O31*P31)+(Q31*R31)+(S31*T31)+(U31*V31)+(W31*X31)+(Y31*Z31)+(AA31*AB31)+(AC31*AD31)+(AE31*AF31)+(AG31*AH31)+(AJ31*AK31)","v":351},{"$f":"AL31","v":351},{"$nulls":3},{"$f":"AL31/220","v":{"v":1.5954545454545455,"d":"2"}},"1x10"]
[null,"IEST.02",null,null,8,39,6,25,4,6,{"$nulls":27},486,null,{"$f":"AL32","v":486},null,null,{"v":2.209090909090909,"d":"2"},"1x10"]
[null,"IEST.03",{"$nulls":16},5,50,{"$nulls":17},250,null,null,{"$f":"AL33","v":250},null,{"v":1.1363636363636365,"d":"1"},"1x10"]
[null,"TEST,01",{"$nulls":28},3,250,{"$nulls":5},750,null,null,{"$f":"AL34","v":750},null,{"v":3.409090909090909,"d":"3"},"1x16"]
[null,"Rsva.",{"$nulls":33},1,2000,2000,{"$f":"AL35","v":{"v":2000,"d":"2,000"}},{"$nulls":3},{"v":9.090909090909092,"d":"9"},"1x16"]
[null,"Rsva.",{"$nulls":33},1,2000,2000,null,{"$f":"AL36","v":{"v":2000,"d":"2,000"}},null,null,{"v":9.090909090909092,"d":"9"},"1x16"]
[null,"Rsva.",{"$nulls":33},1,2000,2000,null,null,{"$f":"AL37","v":{"v":2000,"d":"2,000"}},null,{"v":9.090909090909092,"d":"9"},"1x16"]
["TOTAL GENERAL",{"$nulls":35},"Σ ",{"$f":"SUM(AL31:AL37)","v":7837},{"$f":"SUM(AM31:AM37)","v":2351},2486,3000,0,{"$f":"AK45","v":{"v":14.883862038286503,"d":"15"}},{"$f":"AK46","v":"3x25"}]
[]
[]
[{"$nulls":34},"Potencia instalada - Σpotencia ","PI",{"$f":"AL38","v":{"v":7837,"d":"7,837"}}]
[{"$nulls":34},"factor de potencia - ","fp",0.8]
[{"$nulls":34},"factor de demanda - Anexo 3 ANDE","fd",1]
[{"$nulls":34},"Potencia Demandada - Pd = PI*fd","Pd",{"$f":"AK41*AK43","v":{"v":7837,"d":"7,837"}}]
[{"$nulls":34},"Corriente - Id = Pd/(√3*380*fp)","Id",{"$f":"AK44/(SQRT(3)*380*AK42)","v":{"v":14.883862038286503,"d":"15"}}]
[{"$nulls":34},"LLave Limitadora","TM","3x25"]
[{"$nulls":34},"Alimentador","S","4x4"]
[{"$nulls":34},"Seccion de Conductor de Proteccion","S_p",{"$f":"_xlfn.CONCAT(\"1x\",IF(VALUE(RIGHT(AK47, LEN(AK47) - FIND(\"x\", AK47))) <= 16, VALUE(RIGHT(AK47, LEN(AK47) - FIND(\"x\", AK47))), IF(AND(VALUE(RIGHT(AK47, LEN(AK47) - FIND(\"x\", AK47))) > 16, VALUE(RIGHT(AK47, LEN(AK47) - FIND(\"x\", AK47))) <= 35), 16, VALUE(RIGHT(AK47, LEN(AK47) - FIND(\"x\", AK47)))/2)))","v":"1x4"}]
[{"$nulls":34},"Corriente admisible Conductor - Iz","Iz",42]
[{"$nulls":34},"Longitud (m)","L",5]

{"sheet":"TPE-TPN-TORRE","index":2,"n_rows":49,"n_cols":12,"rows_kept":49,"merged":[[0,0,0,11],[1,0,2,0],[1,1,2,1],[1,2,2,2],[1,3,2,3],[1,4,2,4],[1,5,2,5],[1,6,1,9],[1,10,2,10],[1,11,2,11],[11,0,11,2],[25,0,25,11],[26,0,27,0],[26,1,27,1],[26,2,27,2],[26,3,27,3],[26,4,27,4],[26,5,27,5],[26,6,26,9],[26,10,27,10],[26,11,27,11],[36,0,36,2]]}
["CUADRO DE CARGAS ELÉCTRICAS TABLERO-TPN-TORRE"]
["DEPENDENCIA","CTO.","DESCRIPCIÓN","CANT.","POTENCIA (W)","POTENCIA TOTAL (W)","FASES",{"$nulls":3},"CORRIENTE (A)","TM (A)"]
[{"$nulls":6},"R","S","T","RST"]
[null,"TSN-PB",{"$f":"_xlfn.CONCAT(\"Tablero Seccional -\",B4)","v":"Tablero Seccional -TSN-PB"},1,{"$f":"'TSE-TSN-PB'!AL93","v":153330},{"$f":"+(D4*E4)","v":153330},{"$f":"'TSE-TSN-PB'!AM93","v":{"v":48770,"d":"48,770"}},{"$f":"'TSE-TSN-PB'!AN93","v":{"v":57200,"d":"57,200"}},{"$f":"'TSE-TSN-PB'!AO93","v":{"v":47360,"d":"47,360"}},{"$f":"'TSE-TSN-PB'!AP93","v":0},{"$f":"'TSE-TSN-PB'!AQ93","v":{"v":174.72062521351052,"d":"175"}},{"$f":"'TSE-TSN-PB'!AR93","v":"3x200"}]
[null,"TSN-1P",{"$f":"_xlfn.CONCAT(\"Tablero Seccional -\",B5)","v":"Tablero Seccional -TSN-1P"},1,{"$f":"'TSE-TSN-1P'!AL81","v":130320},{"$f":"+(D5*E5)","v":130320},{"$f":"'TSE-TSN-1P'!AM81","v":{"v":43100,"d":"43,100"}},{"$f":"'TSE-TSN-1P'!AN81","v":{"v":43020,"d":"43,020"}},{"$f":"'TSE-TSN-1P'!AO81","v":{"v":44200,"d":"44,200"}},{"$f":"'TSE-TSN-1P'!AP81","v":0},{"$f":"'TSE-TSN-1P'!AQ81","v":{"v":136.12551938959086,"d":"136"}},{"$f":"'TSE-TSN-1P'!AR81","v":"3x150"}]
[null,"TSN-2P","Tablero Seccional -TSN-2P",1,{"$f":"'TSE-TSN-2P'!AL82","v":118390},118390,{"$f":"'TSE-TSN-2P'!AM82","v":{"v":39430,"d":"39,430"}},{"$f":"'TSE-TSN-2P'!AN82","v":{"v":39750,"d":"39,750"}},{"$f":"'TSE-TSN-2P'!AO82","v":{"v":39210,"d":"39,210"}},{"$f":"'TSE-TSN-2P'!AP82","v":0},{"$f":"'TSE-TSN-2P'!AQ82","v":{"v":134.90624678163118,"d":"135"}},{"$f":"'TSE-TSN-2P'!AR82","v":"3x150"}]
[null,"TSN-3P","Tablero Seccional -TSN-3P",1,{"$f":"'TSE-TSN-3P'!AL70","v":106990},106990,{"$f":"'TSE-TSN-3P'!AM70","v":{"v":35180,"d":"35,180"}},{"$f":"'TSE-TSN-3P'!AN70","v":{"v":35780,"d":"35,780"}},{"$f":"'TSE-TSN-3P'!AO70","v":{"v":36030,"d":"36,030"}},{"$f":"'TSE-TSN-3P'!AP70","v":0},{"$f":"'TSE-TSN-3P'!AQ70","v":{"v":121.9158657248646,"d":"122"}},{"$f":"'TSE-TSN-3P'!AR70","v":"3x150"}]
[null,"TSN-AZ","Tablero Seccional -TSN-AZ",1,{"$f":"'TSE-TSN-AZ'!AL29","v":41880},41880,{"$f":"'TSE-TSN-AZ'!AM29","v":{"v":12930,"d":"12,930"}},{"$f":"'TSE-TSN-AZ'!AN29","v":{"v":15250,"d":"15,250"}},{"$f":"'TSE-TSN-AZ'!AO29","v":{"v":13700,"d":"13,700"}},{"$f":"'TSE-TSN-AZ'!AP29","v":0},{"$f":"'TSE-TSN-AZ'!AQ29","v":{"v":55.67631740645746,"d":"56"}},{"$f":"'TSE-TSN-AZ'!AR29","v":"3x63"}]
[null,"Rsva.","Reserva",1,2000,2000,{"$f":"F9","v":{"v":2000,"d":"2,000"}},{"$nulls":3},{"$f":"F9/220","v":{"v":9.090909090909092,"d":"9"}},"1x16"]
[null,"Rsva.","Reserva",1,2000,2000,null,{"$f":"F10","v":{"v":2000,"d":"2,000"}},null,null,{"$f":"F10/220","v":{"v":9.090909090909092,"d":"9"}},"1x16"]
[null,"Rsva.","Reserva",1,2000,2000,null,null,{"$f":"F11","v":{"v":2000,"d":"2,000"}},null,{"v":9.090909090909092,"d":"9"},"1x16"]
["TOTAL GENERAL",{"$nulls":3},"Σ ",{"$f":"SUM(F4:F11)","v":556910},{"$f":"SUM(G4:G11)","v":181410},{"$f":"SUM(H4:H11)","v":193000},{"$f":"SUM(I4:I11)","v":182500},{"$f":"SUM(J4:J11)","v":0},{"$f":"E19","v":{"v":740.370055559461,"d":"740"}},{"$f":"E20","v":"3x800"}]
[]
[]
[null,null,"Potencia instalada - Σpotencia ","PI",{"$f":"F12","v":{"v":556910,"d":"556,910"}}]
[null,null,"factor de potencia - ","fp",0.8]
[null,null,"factor de demanda - Anexo 3 ANDE","fd",0.7]
[null,null,"Potencia Demandada - Pd = PI*fd","Pd",{"$f":"E15*E17","v":{"v":389837,"d":"389,837"}}]
[null,null,"Corriente - Id = Pd/(√3*380*fp)","Id",{"$f":"E18/(SQRT(3)*380*E16)","v":{"v":740.370055559461,"d":"740"}}]
[null,null,"LLave Limitadora","TM","3x800"]
[null,null,"Alimentador","S","3x4x(1x185)"]
[null,null,"Seccion de Conductor de Proteccion","S_p","1x50"]
[null,null,"Corriente admisible Conductor - Iz","Iz",{"$f":"344*3","v":1032}]
[null,null,"Longitud (m)","L",40]
[]
["CUADRO DE CARGAS ELÉCTRICAS TABLERO-TPE-TORRE"]
["DEPENDENCIA","CTO.","DESCRIPCIÓN","CANT.","POTENCIA (W)","POTENCIA TOTAL (W)","FASES",{"$nulls":3},"CORRIENTE (A)","TM (A)"]
[{"$nulls":6},"R","S","T","RST"]
[null,"TSE-PB",{"$f":"_xlfn.CONCAT(\"Tablero Seccional -\",B29)","v":"Tablero Seccional -TSE-PB"},1,{"$f":"'TSE-TSN-PB'!AL162","v":41840},{"$f":"+(D29*E29)","v":41840},{"$f":"'TSE-TSN-PB'!AM162","v":{"v":13715,"d":"13,715"}},{"$f":"'TSE-TSN-PB'!AN162","v":{"v":13952,"d":"13,952"}},{"$f":"'TSE-TSN-PB'!AO162","v":{"v":14173,"d":"14,173"}},{"$f":"'TSE-TSN-PB'!AP162","v":0},{"$f":"'TSE-TSN-PB'!AQ162","v":{"v":79.46162915425639,"d":"79"}},{"$f":"'TSE-TSN-PB'!AR162","v":"3x100"}]
[null,"TSE-1P",{"$f":"_xlfn.CONCAT(\"Tablero Seccional -\",B30)","v":"Tablero Seccional -TSE-1P"},1,{"$f":"'TSE-TSN-1P'!AL140","v":43262},43262,{"$f":"'TSE-TSN-1P'!AM140","v":{"v":14821,"d":"14,821"}},{"$f":"'TSE-TSN-1P'!AN140","v":{"v":14343,"d":"14,343"}},{"$f":"'TSE-TSN-1P'!AO140","v":{"v":14098,"d":"14,098"}},{"$f":"'TSE-TSN-1P'!AP140","v":0},{"$f":"'TSE-TSN-1P'!AQ140","v":{"v":82.16226100553155,"d":"82"}},{"$f":"'TSE-TSN-1P'!AR140","v":"3x100"}]
[null,"TSE-2P","Tablero Seccional -TSE-2P",1,{"$f":"'TSE-TSN-2P'!AL147","v":49752},49752,{"$f":"'TSE-TSN-2P'!AM147","v":{"v":16536,"d":"16,536"}},{"$f":"'TSE-TSN-2P'!AN147","v":{"v":16261,"d":"16,261"}},{"$f":"'TSE-TSN-2P'!AO147","v":{"v":16955,"d":"16,955"}},{"$f":"'TSE-TSN-2P'!AP147","v":{"v":4500,"d":"4,500"}},{"$f":"'TSE-TSN-2P'!AQ147","v":{"v":94.48792958132323,"d":"94"}},{"$f":"'TSE-TSN-2P'!AR147","v":"3x100"}]
[null,"TSE-3P","Tablero Seccional -TSE-3P",1,{"$f":"'TSE-TSN-3P'!AL121","v":31500},31500,{"$f":"'TSE-TSN-3P'!AM121","v":{"v":10425,"d":"10,425"}},{"$f":"'TSE-TSN-3P'!AN121","v":{"v":10249,"d":"10,249"}},{"$f":"'TSE-TSN-3P'!AO121","v":{"v":10826,"d":"10,826"}},{"$f":"'TSE-TSN-3P'!AP121","v":0},{"$f":"'TSE-TSN-3P'!AQ121","v":{"v":59.82412328774083,"d":"60"}},{"$f":"'TSE-TSN-3P'!AR121","v":"3x63"}]
[null,"TSE-AZ","Tablero Seccional -TSE-AZ",1,{"$f":"'TSE-TSN-AZ'!AL69","v":36560},36560,{"$f":"'TSE-TSN-AZ'!AM69","v":{"v":12400,"d":"12,400"}},{"$f":"'TSE-TSN-AZ'!AN69","v":{"v":12280,"d":"12,280"}},{"$f":"'TSE-TSN-AZ'!AO69","v":{"v":11880,"d":"11,880"}},{"$f":"'TSE-TSN-AZ'!AP69","v":{"v":18000,"d":"18,000"}},{"$f":"'TSE-TSN-AZ'!AQ69","v":{"v":69.43396658412078,"d":"69"}},{"$f":"'TSE-TSN-AZ'!AR69","v":"3x100"}]
[null,"Rsva.","Reserva",1,2000,2000,{"$f":"F34","v":{"v":2000,"d":"2,000"}},{"$nulls":3},{"$f":"F34/220","v":{"v":9.090909090909092,"d":"9"}},"1x16"]
[null,"Rsva.","Reserva",1,2000,2000,null,{"$f":"F35","v":{"v":2000,"d":"2,000"}},null,null,{"$f":"F35/220","v":{"v":9.090909090909092,"d":"9"}},"1x16"]
[null,"Rsva.","Reserva",1,2000,2000,null,null,{"$f":"F36","v":{"v":2000,"d":"2,000"}},null,{"v":9.090909090909092,"d":"9"},"1x16"]
["TOTAL GENERAL",{"$nulls":3},"Σ ",{"$f":"SUM(F29:F36)","v":208914},{"$f":"SUM(G29:G36)","v":69897},{"$f":"SUM(H29:H36)","v":69085},{"$f":"SUM(I29:I36)","v":69932},{"$f":"SUM(J29:J36)","v":22500},{"$f":"E44","v":{"v":396.7649807153996,"d":"397"}},{"$f":"E45","v":"3x500"}]
[]
[]
[null,null,"Potencia instalada - Σpotencia ","PI",{"$f":"F37","v":{"v":208914,"d":"208,914"}}]
[null,null,"factor de potencia - ","fp",0.8]
[null,null,"factor de demanda - Anexo 3 ANDE","fd",1]
[null,null,"Potencia Demandada - Pd = PI*fd","Pd",{"$f":"E40*E42","v":{"v":208914,"d":"208,914"}}]
[null,null,"Corriente - Id = Pd/(√3*380*fp)","Id",{"$f":"E43/(SQRT(3)*380*E41)","v":{"v":396.7649807153996,"d":"397"}}]
[null,null,"LLave Limitadora","TM","3x500"]
[null,null,"Alimentador","S","2x4x(1x150)"]
[null,null,"Seccion de Conductor de Proteccion","S_p","1x50"]
[null,null,"Corriente admisible Conductor - Iz","Iz",{"$f":"307*2","v":614}]
[null,null,"Longitud (m)","L",40]

{"sheet":"TSE-TSN-PB","index":3,"n_rows":174,"n_cols":44,"rows_kept":174,"merged":[[0,0,0,43],[1,0,2,0],[1,1,2,1],[1,2,1,3],[1,4,1,5],[1,6,1,7],[1,8,1,9],[1,10,1,11],[1,12,1,13],[1,14,1,15],[1,16,1,17],[1,18,1,19],[1,20,1,21],[1,22,1,23],[1,24,1,25],[1,26,1,27],[1,28,1,29],[1,30,1,31],[1,32,1,33],[1,34,2,34],[1,35,2,35],[1,36,2,36],[1,37,2,37],[1,38,1,41],[1,42,2,42],[1,43,2,43],[92,0,92,34],[106,0,106,43],[107,0,108,0],[107,1,108,1],[107,2,107,3],[107,4,107,5],[107,6,107,7],[107,8,107,9],[107,10,107,11],[107,12,107,13],[107,14,107,15],[107,16,107,17],[107,18,107,19],[107,20,107,21],[107,22,107,23],[107,24,107,25],[107,26,107,27],[107,28,107,29],[107,30,107,31],[107,32,107,33],[107,34,108,34],[107,35,108,35],[107,36,108,36],[107,37,108,37],[107,38,107,41],[107,42,108,42],[107,43,108,43],[161,0,161,34]]}
["CUADRO DE CARGAS ELÉCTRICAS TABLERO-TSN-2P"]
["DEPENDENCIA","CTO.","TIPO 1 - LED 38 W",null,"TIPO 2 - LED Est. Adosar 39 W",null,"TIPO 3 - LED Circular Embutido 25 W",null,"TIPO 4 - Spot LED CIrcular Emb. 6 W",null,"TIPO 5 - Spot Cir. Movil LED 12 W",null,"TIPO 6 - Aplique de Adosar LED 5.5 W",null,"TIPO 7 - Adosar Resina LED 6 W",null,"TIPO 8 - LED Circular Embutido 23 W",null,"TIPO 9 - LED Colgante 35 W",null,"TIPO 10 - Proyector LED 50 W",null,"TIPO 11 - LED  Embutido Uni. 1.7 W",null,"TIPO 12 - LED Colgante 25 W",null,"TOMA SIMPLE",null,"TOMA SCHUKO",null,"ESTACIONES DE TRABAJO",null,"SECAMANOS",null,"DESCRIPCIÓN","CANT.","POTENCIA (W)","POTENCIA TOTAL (W)","FASES",{"$nulls":3},"CORRIENTE (A)","TM (A)"]
[null,null,"CANT.","POTENCIA UNIT. (W)","CANT.","POTENCIA UNIT. (W)","CANT.","POTENCIA UNIT. (W)","CANT.","POTENCIA UNIT. (W)","CANT.","POTENCIA UNIT. (W)","CANT.","POTENCIA UNIT. (W)","CANT.","POTENCIA UNIT. (W)","CANT.","POTENCIA UNIT. (W)","CANT.","POTENCIA UNIT. (W)","CANT.","POTENCIA UNIT. (W)","CANT.","POTENCIA UNIT. (W)","CANT.","POTENCIA UNIT. (W)","CANT.","POTENCIA UNIT. (W)","CANT.","POTENCIA UNIT. (W)","CANT.","POTENCIA UNIT. (W)","CANT.","POTENCIA UNIT. (W)",{"$nulls":4},"R","S","T","RST"]
[null,"TNPB.01",{"$nulls":28},5,250,{"$nulls":5},{"$f":"(AE4*AF4)+(AG4*AH4)+(AJ4*AK4)+(AA4*AB4)+(AC4*AD4)","v":1250},{"$f":"AL4","v":{"v":1250,"d":"1,250"}},{"$nulls":3},{"$f":"AL4/220","v":{"v":5.681818181818182,"d":"6"}},"1x16"]
[null,"TNPB.02",{"$nulls":28},5,250,{"$nulls":5},{"$f":"(AE5*AF5)+(AG5*AH5)+(AJ5*AK5)+(AA5*AB5)+(AC5*AD5)","v":1250},null,{"$f":"AL5","v":{"v":1250,"d":"1,250"}},null,null,{"v":5.681818181818182,"d":"6"},"1x16"]
[null,"TNPB.03",{"$nulls":28},6,250,{"$nulls":5},1500,null,null,{"$f":"AL6","v":{"v":1500,"d":"1,500"}},null,{"v":6.818181818181818,"d":"7"},"1x16"]
[null,"TNPB.04",{"$nulls":28},3,250,{"$nulls":5},750,{"$f":"AL7","v":750},{"$nulls":3},{"v":3.409090909090909,"d":"3"},"1x16"]
[null,"TNPB.05",{"$nulls":28},3,250,{"$nulls":5},750,null,{"$f":"AL8","v":750},null,null,{"v":3.409090909090909,"d":"3"},"1x16"]
[null,"TNPB.06",{"$nulls":28},3,250,{"$nulls":5},750,null,null,{"$f":"AL9","v":750},null,{"v":3.409090909090909,"d":"3"},"1x16"]
[null,"TNPB.07",{"$nulls":28},3,250,{"$nulls":5},750,{"$f":"AL10","v":750},{"$nulls":3},{"v":3.409090909090909,"d":"3"},"1x16"]
[null,"TNPB.08",{"$nulls":28},3,250,{"$nulls":5},750,null,{"$f":"AL11","v":750},null,null,{"v":3.409090909090909,"d":"3"},"1x16"]
[null,"TNPB.09",{"$nulls":28},1,250,{"$nulls":5},250,null,null,{"$f":"AL12","v":250},null,{"v":1.1363636363636365,"d":"1"},"1x16"]
[null,"TNPB.10",{"$nulls":28},6,250,{"$nulls":5},1500,null,null,{"$f":"AL13","v":{"v":1500,"d":"1,500"}},null,{"v":6.818181818181818,"d":"7"},"1x16"]
[null,"TNPB.11",{"$nulls":28},3,250,{"$nulls":5},750,{"$f":"AL14","v":750},{"$nulls":3},{"v":3.409090909090909,"d":"3"},"1x16"]
[null,"TNPB.12",{"$nulls":28},2,250,{"$nulls":5},500,null,{"$f":"AL15","v":500},null,null,{"v":2.272727272727273,"d":"2"},"1x16"]
[null,"TNPB.13",{"$nulls":28},3,250,{"$nulls":5},750,null,{"$f":"AL16","v":750},null,null,{"v":3.409090909090909,"d":"3"},"1x16"]
[null,"TNPB.14",{"$nulls":28},5,250,{"$nulls":5},1250,{"$f":"AL17","v":{"v":1250,"d":"1,250"}},{"$nulls":3},{"v":5.681818181818182,"d":"6"},"1x16"]
[null,"TNPB.15",{"$nulls":28},6,250,{"$nulls":5},1500,null,{"$f":"AL18","v":{"v":1500,"d":"1,500"}},null,null,{"v":6.818181818181818,"d":"7"},"1x16"]
[null,"TNPB.16",{"$nulls":28},1,250,{"$nulls":5},250,null,null,{"$f":"AL19","v":250},null,{"v":1.1363636363636365,"d":"1"},"1x16"]
[null,"TNPB.17",{"$nulls":24},5,100,{"$nulls":9},500,null,null,{"$f":"AL20","v":500},null,{"v":2.272727272727273,"d":"2"},"1x16"]
[null,"TNPB.18",{"$nulls":24},4,100,{"$nulls":9},400,{"$f":"AL21","v":400},{"$nulls":3},{"v":1.8181818181818181,"d":"2"},"1x16"]
[null,"TNPB.19",{"$nulls":24},3,100,{"$nulls":9},300,null,null,{"$f":"AL22","v":300},null,{"v":1.3636363636363635,"d":"1"},"1x16"]
[null,"TNPB.20",{"$nulls":24},3,100,{"$nulls":9},300,null,null,{"$f":"AL23","v":300},null,{"v":1.3636363636363635,"d":"1"},"1x16"]
[null,"TNPB.21",{"$nulls":24},4,100,{"$nulls":9},400,{"$f":"AL24","v":400},{"$nulls":3},{"v":1.8181818181818181,"d":"2"},"1x16"]
[null,"TNPB.22",{"$nulls":24},2,100,{"$nulls":9},200,null,null,{"$f":"AL25","v":200},null,{"v":0.9090909090909091,"d":"1"},"1x16"]
[null,"TNPB.23",{"$nulls":24},2,100,{"$nulls":9},200,null,{"$f":"AL26","v":200},null,null,{"v":0.9090909090909091,"d":"1"},"1x16"]
[null,"TNPB.24",{"$nulls":24},8,100,{"$nulls":9},800,{"$f":"AL27","v":800},{"$nulls":3},{"v":3.6363636363636362,"d":"4"},"1x16"]
[null,"TNPB.25",{"$nulls":24},5,100,{"$nulls":9},500,null,null,{"$f":"AL28","v":500},null,{"v":2.272727272727273,"d":"2"},"1x16"]
[null,"TNPB.26",{"$nulls":24},2,100,{"$nulls":9},200,null,{"$f":"AL29","v":200},null,null,{"v":0.9090909090909091,"d":"1"},"1x16"]
[null,"TNPB.27",{"$nulls":24},2,100,{"$nulls":9},200,null,{"$f":"AL30","v":200},null,null,{"v":0.9090909090909091,"d":"1"},"1x16"]
[null,"TNPB.28",{"$nulls":24},5,100,{"$nulls":9},500,null,null,{"$f":"AL31","v":500},null,{"v":2.272727272727273,"d":"2"},"1x16"]
[null,"TNPB.29",{"$nulls":32},"Toma Datacenter",1,2500,{"$f":"(AE32*AF32)+(AG32*AH32)+(AJ32*AK32)+(AA32*AB32)+(AC32*AD32)","v":2500},null,{"$f":"AL32","v":{"v":2500,"d":"2,500"}},null,null,{"$f":"AL32/220","v":{"v":11.363636363636363,"d":"11"}},"1x16"]
[null,"TSPB.01",{"$nulls":26},1,1000,{"$nulls":7},1000,null,{"$f":"AL33","v":{"v":1000,"d":"1,000"}},null,null,{"v":4.545454545454546,"d":"5"},"1x16"]
[null,"TSPB.02",{"$nulls":26},1,1000,{"$nulls":7},1000,{"$f":"AL34","v":{"v":1000,"d":"1,000"}},{"$nulls":3},{"v":4.545454545454546,"d":"5"},"1x16"]
[null,"TSPB.03",{"$nulls":26},1,1000,{"$nulls":7},1000,null,null,{"$f":"AL35","v":{"v":1000,"d":"1,000"}},null,{"v":4.545454545454546,"d":"5"},"1x16"]
[null,"SMPB.01",{"$nulls":30},1,1800,{"$nulls":3},1800,null,{"$f":"AL36","v":{"v":1800,"d":"1,800"}},null,null,{"v":8.181818181818182,"d":"8"},"1x16"]
[null,"SMPB.02",{"$nulls":30},1,1800,{"$nulls":3},1800,{"$f":"AL37","v":{"v":1800,"d":"1,800"}},{"$nulls":3},{"$f":"AL37/220","v":{"v":8.181818181818182,"d":"8"}},"1x16"]
[null,"SMPB.03",{"$nulls":30},1,1800,{"$nulls":3},1800,null,null,{"$f":"AL38","v":{"v":1800,"d":"1,800"}},null,{"v":8.181818181818182,"d":"8"},"1x16"]
[null,"SMPB.04",{"$nulls":30},1,1800,{"$nulls":3},1800,null,{"$f":"AL39","v":{"v":1800,"d":"1,800"}},null,null,{"v":8.181818181818182,"d":"8"},"1x16"]
[null,"SMPB.05",{"$nulls":30},1,1800,{"$nulls":3},1800,{"$f":"AL40","v":{"v":1800,"d":"1,800"}},{"$nulls":3},{"v":8.181818181818182,"d":"8"},"1x16"]
[null,"SMPB.06",{"$nulls":30},1,1800,{"$nulls":3},1800,null,null,{"$f":"AL41","v":{"v":1800,"d":"1,800"}},null,{"v":8.181818181818182,"d":"8"},"1x16"]
[null,"SMPB.07",{"$nulls":30},1,1800,{"$nulls":3},1800,null,{"$f":"AL42","v":{"v":1800,"d":"1,800"}},null,null,{"v":8.181818181818182,"d":"8"},"1x16"]
[null,"PEPB.01",{"$nulls":32},"Toma Porton Electrico",2,100,200,{"$f":"AL43","v":200},{"$nulls":3},{"v":0.9090909090909091,"d":"1"},"1x16"]
[null,"PEPB.02",{"$nulls":32},"Toma Porton Electrico",1,100,100,{"$f":"AL44","v":100},{"$nulls":3},{"v":0.45454545454545453,"d":"0"},"1x16"]
[null,"RACK.01",{"$nulls":32},"Toma Rack ",1,2500,2500,null,null,{"$f":"AL45","v":{"v":2500,"d":"2,500"}},null,{"v":11.363636363636363,"d":"11"},"1x16"]
[null,"RACK.02",{"$nulls":32},"Toma Rack ",1,2500,2500,{"$f":"AL46","v":{"v":2500,"d":"2,500"}},{"$nulls":3},{"v":11.363636363636363,"d":"11"},"1x16"]
[null,"RACK.03",{"$nulls":32},"Toma Rack ",1,2500,2500,null,null,{"$f":"AL47","v":{"v":2500,"d":"2,500"}},null,{"v":11.363636363636363,"d":"11"},"1x16"]
[null,"RACK.04",{"$nulls":32},"Toma Rack ",1,2500,2500,{"$f":"AL48","v":{"v":2500,"d":"2,500"}},{"$nulls":3},{"v":11.363636363636363,"d":"11"},"1x16"]
[null,"RACK.05",{"$nulls":32},"Toma Rack ",1,2500,{"$f":"(AE49*AF49)+(AG49*AH49)+(AJ49*AK49)+(AA49*AB49)+(AC49*AD49)","v":2500},{"$f":"AL49","v":{"v":2500,"d":"2,500"}},{"$nulls":3},{"$f":"AL49/220","v":{"v":11.363636363636363,"d":"11"}},"1x16"]
[null,"DEPB.01",{"$nulls":32},"Ducha Electrica",1,3000,3000,null,{"$f":"AL50","v":{"v":3000,"d":"3,000"}},null,null,{"v":13.636363636363637,"d":"14"},"1x16"]
[null,"FCPB.01",{"$nulls":32},"Fancoil ",1,1500,1500,null,null,{"$f":"AL51","v":{"v":1500,"d":"1,500"}},null,{"v":6.818181818181818,"d":"7"},"1x16"]
[null,"RDCPB.02",{"$nulls":32},"Recuperador",1,520,520,{"$f":"AL52","v":520},{"$nulls":3},{"v":2.3636363636363638,"d":"2"},"1x16"]
[null,"FCPB.03",{"$nulls":32},"Fancoil ",1,1500,1500,null,null,{"$f":"AL53","v":{"v":1500,"d":"1,500"}},null,{"v":6.818181818181818,"d":"7"},"1x16"]
[null,"FCPB.04",{"$nulls":32},"Fancoil ",1,3500,3500,{"$f":"AL54","v":{"v":3500,"d":"3,500"}},{"$nulls":3},{"v":15.909090909090908,"d":"16"},"1x25"]
[null,"FCPB.05",{"$nulls":32},"Fancoil ",1,1500,1500,null,{"$f":"AL55","v":{"v":1500,"d":"1,500"}},null,null,{"v":6.818181818181818,"d":"7"},"1x16"]
[null,"FCPB.06",{"$nulls":32},"Fancoil ",1,3500,3500,null,null,{"$f":"AL56","v":{"v":3500,"d":"3,500"}},null,{"v":15.909090909090908,"d":"16"},"1x25"]
[null,"FCPB.07",{"$nulls":32},"Fancoil ",1,3900,3900,{"$f":"AL57","v":{"v":3900,"d":"3,900"}},{"$nulls":3},{"v":17.727272727272727,"d":"18"},"1x25"]
[null,"FCPB.08",{"$nulls":32},"Fancoil ",1,3900,3900,null,{"$f":"AL58","v":{"v":3900,"d":"3,900"}},null,null,{"v":17.727272727272727,"d":"18"},"1x25"]
[null,"FCPB.09",{"$nulls":32},"Fancoil ",1,1500,1500,null,null,{"$f":"AL59","v":{"v":1500,"d":"1,500"}},null,{"v":6.818181818181818,"d":"7"},"1x16"]
[null,"FCPB.10",{"$nulls":32},"Fancoil ",1,1500,1500,{"$f":"AL60","v":{"v":1500,"d":"1,500"}},{"$nulls":3},{"v":6.818181818181818,"d":"7"},"1x16"]
[null,"FCPB.11",{"$nulls":32},"Fancoil ",1,3900,3900,null,{"$f":"AL61","v":{"v":3900,"d":"3,900"}},null,null,{"v":17.727272727272727,"d":"18"},"1x25"]
[null,"FCPB.12",{"$nulls":32},"Fancoil ",1,1500,1500,null,null,{"$f":"AL62","v":{"v":1500,"d":"1,500"}},null,{"v":6.818181818181818,"d":"7"},"1x16"]
[null,"RDCPB.13",{"$nulls":32},"Recuperador",1,520,520,{"$f":"AL63","v":520},{"$nulls":3},{"v":2.3636363636363638,"d":"2"},"1x16"]
[null,"FCPB.14",{"$nulls":32},"Fancoil ",1,3900,3900,null,{"$f":"AL64","v":{"v":3900,"d":"3,900"}},null,null,{"v":17.727272727272727,"d":"18"},"1x25"]
[null,"RDCPB.15",{"$nulls":32},"Recuperador",1,1080,1080,null,null,{"$f":"AL65","v":{"v":1080,"d":"1,080"}},null,{"v":4.909090909090909,"d":"5"},"1x16"]
[null,"FCPB.16",{"$nulls":32},"Fancoil ",1,4200,4200,{"$f":"AL66","v":{"v":4200,"d":"4,200"}},{"$nulls":3},{"v":19.09090909090909,"d":"19"},"1x25"]
[null,"FCPB.17",{"$nulls":32},"Fancoil ",1,4200,4200,null,{"$f":"AL67","v":{"v":4200,"d":"4,200"}},null,null,{"v":19.09090909090909,"d":"19"},"1x25"]
[null,"FCPB.18",{"$nulls":32},"Fancoil ",1,4200,4200,null,null,{"$f":"AL68","v":{"v":4200,"d":"4,200"}},null,{"v":19.09090909090909,"d":"19"},"1x25"]
[null,"FCPB.19",{"$nulls":32},"Fancoil ",1,4200,4200,{"$f":"AL69","v":{"v":4200,"d":"4,200"}},{"$nulls":3},{"v":19.09090909090909,"d":"19"},"1x25"]
[null,"RDCPB.20",{"$nulls":32},"Recuperador",1,1080,1080,null,{"$f":"AL70","v":{"v":1080,"d":"1,080"}},null,null,{"$f":"AL70/220","v":{"v":4.909090909090909,"d":"5"}},"1x16"]
[null,"FCPB.21",{"$nulls":32},"Fancoil ",1,1500,{"$f":"(AE71*AF71)+(AG71*AH71)+(AJ71*AK71)+(AA71*AB71)+(AC71*AD71)","v":1500},null,null,{"$f":"AL71","v":{"v":1500,"d":"1,500"}},null,{"v":6.818181818181818,"d":"7"},"1x16"]
[null,"FCPB.22",{"$nulls":32},"Fancoil ",1,1700,1700,{"$f":"AL72","v":{"v":1700,"d":"1,700"}},{"$nulls":3},{"v":7.7272727272727275,"d":"8"},"1x16"]
[null,"FCPB.23",{"$nulls":32},"Fancoil ",1,3900,3900,null,{"$f":"AL73","v":{"v":3900,"d":"3,900"}},null,null,{"v":17.727272727272727,"d":"18"},"1x25"]
[null,"FCPB.24",{"$nulls":32},"Fancoil ",1,1500,1500,null,null,{"$f":"AL74","v":{"v":1500,"d":"1,500"}},null,{"v":6.818181818181818,"d":"7"},"1x16"]
[null,"FCPB.25",{"$nulls":32},"Fancoil ",1,1500,{"$f":"(AE75*AF75)+(AG75*AH75)+(AJ75*AK75)+(AA75*AB75)+(AC75*AD75)","v":1500},{"$f":"AL75","v":{"v":1500,"d":"1,500"}},{"$nulls":3},{"$f":"AL75/220","v":{"v":6.818181818181818,"d":"7"}},"1x16"]
[null,"FCPB.26",{"$nulls":32},"Fancoil ",1,3500,3500,null,{"$f":"AL76","v":{"v":3500,"d":"3,500"}},null,null,{"v":15.909090909090908,"d":"16"},"1x25"]
[null,"RDCPB.27",{"$nulls":32},"Recuperador",1,1080,1080,null,null,{"$f":"AL77","v":{"v":1080,"d":"1,080"}},null,{"v":4.909090909090909,"d":"5"},"1x16"]
[null,"FCPB.28",{"$nulls":32},"Fancoil ",1,1500,1500,{"$f":"AL78","v":{"v":1500,"d":"1,500"}},{"$nulls":3},{"v":6.818181818181818,"d":"7"},"1x16"]
[null,"FCPB.29",{"$nulls":32},"Fancoil ",1,3900,3900,null,{"$f":"AL79","v":{"v":3900,"d":"3,900"}},null,null,{"v":17.727272727272727,"d":"18"},"1x25"]
[null,"FCPB.30",{"$nulls":32},"Fancoil ",1,3900,3900,null,null,{"$f":"AL80","v":{"v":3900,"d":"3,900"}},null,{"v":17.727272727272727,"d":"18"},"1x25"]
[null,"RDCPB.31",{"$nulls":32},"Recuperador",1,1080,1080,{"$f":"AL81","v":{"v":1080,"d":"1,080"}},{"$nulls":3},{"v":4.909090909090909,"d":"5"},"1x16"]
[null,"FCPB.32",{"$nulls":32},"Fancoil ",1,1500,1500,null,{"$f":"AL82","v":{"v":1500,"d":"1,500"}},null,null,{"v":6.818181818181818,"d":"7"},"1x16"]
[null,"FCPB.33",{"$nulls":32},"Fancoil ",1,1500,1500,null,null,{"$f":"AL83","v":{"v":1500,"d":"1,500"}},null,{"v":6.818181818181818,"d":"7"},"1x16"]
[null,"FCPB.34",{"$nulls":32},"Fancoil ",1,3900,3900,{"$f":"AL84","v":{"v":3900,"d":"3,900"}},{"$nulls":3},{"v":17.727272727272727,"d":"18"},"1x25"]
[null,"FCPB.35",{"$nulls":32},"Fancoil ",1,3900,3900,null,{"$f":"AL85","v":{"v":3900,"d":"3,900"}},null,null,{"v":17.727272727272727,"d":"18"},"1x25"]
[null,"FCPB.36",{"$nulls":32},"Fancoil ",1,4200,4200,null,null,{"$f":"AL86","v":{"v":4200,"d":"4,200"}},null,{"v":19.09090909090909,"d":"19"},"1x25"]
[null,"AAPB.37",{"$nulls":32},"AA. 12000BTU",1,1500,1500,null,{"$f":"AL87","v":{"v":1500,"d":"1,500"}},null,null,{"v":6.818181818181818,"d":"7"},"1x16"]
[null,"MOT.01",{"$nulls":32},"Motor porton Eelctrico",1,520,520,null,{"$f":"AL88","v":520},null,null,{"v":2.3636363636363638,"d":"2"},"1x16"]
[null,"MOT.02",{"$nulls":32},"Motor porton Eelctrico",1,750,750,null,null,{"$f":"AL89","v":750},null,{"v":3.409090909090909,"d":"3"},"1x16"]
[null,"Rsva.",{"$nulls":32},"Reserva",1,2000,2000,null,{"$f":"AL90","v":{"v":2000,"d":"2,000"}},null,null,{"v":9.090909090909092,"d":"9"},"1x16"]
[null,"Rsva.",{"$nulls":32},"Reserva",1,2000,2000,{"$f":"AL91","v":{"v":2000,"d":"2,000"}},{"$nulls":3},{"v":9.090909090909092,"d":"9"},"1x16"]
[null,"Rsva.",{"$nulls":32},"Reserva",1,2000,2000,null,null,{"$f":"AL92","v":{"v":2000,"d":"2,000"}},null,{"v":9.090909090909092,"d":"9"},"1x16"]
["TOTAL GENERAL",{"$nulls":35},"Σ ",{"$f":"SUM(AL4:AL92)","v":153330},{"$f":"SUM(AM4:AM92)","v":48770},{"$f":"SUM(AN4:AN92)","v":57200},{"$f":"SUM(AO4:AO92)","v":47360},{"$f":"SUM(AP4:AP92)","v":0},{"$f":"AK100","v":{"v":174.72062521351052,"d":"175"}},{"$f":"AK101","v":"3x200"}]
[]
[]
[{"$nulls":34},"Potencia instalada - Σpotencia ","PI",{"$f":"AL93","v":{"v":153330,"d":"153,330"}}]
[{"$nulls":34},"factor de potencia - ","fp",0.8]
[{"$nulls":34},"factor de demanda - Anexo 3 ANDE","fd",0.6]
[{"$nulls":34},"Potencia Demandada - Pd = PI*fd","Pd",{"$f":"AK96*AK98","v":{"v":91998,"d":"91,998"}}]
[{"$nulls":34},"Corriente - Id = Pd/(√3*380*fp)","Id",{"$f":"AK99/(SQRT(3)*380*AK97)","v":{"v":174.72062521351052,"d":"175"}}]
[{"$nulls":34},"LLave Limitadora","TM","3x200"]
[{"$nulls":34},"Alimentador","S","4x70"]
[{"$nulls":34},"Seccion de Conductor de Proteccion","S_p",{"$f":"_xlfn.CONCAT(\"1x\",IF(VALUE(RIGHT(AK102, LEN(AK102) - FIND(\"x\", AK102))) <= 16, VALUE(RIGHT(AK102, LEN(AK102) - FIND(\"x\", AK102))), IF(AND(VALUE(RIGHT(AK102, LEN(AK102) - FIND(\"x\", AK102))) > 16, VALUE(RIGHT(AK102, LEN(AK102) - FIND(\"x\", AK102))) <= 35), 16, VALUE(RIGHT(AK102, LEN(AK102) - FIND(\"x\", AK102)))/2)))","v":"1x35"}]
[{"$nulls":34},"Corriente admisible Conductor - Iz","Iz",254]
[{"$nulls":34},"Longitud (m)","L",5]
[]
["CUADRO DE CARGAS ELÉCTRICAS TABLERO-TSE-2P"]
["DEPENDENCIA","CTO.","TIPO 1 - LED 38 W",null,"TIPO 2 - LED Est. Adosar 39 W",null,"TIPO 3 - LED Circular Embutido 25 W",null,"TIPO 4 - Spot LED CIrcular Emb. 6 W",null,"TIPO 5 - Spot Cir. Movil LED 12 W",null,"TIPO 6 - Aplique de Adosar LED 5.5 W",null,"TIPO 7 - Adosar Resina LED 6 W",null,"TIPO 8 - LED Circular Embutido 23 W",null,"TIPO 9 - LED Colgante 35 W",null,"TIPO 10 - Proyector LED 50 W",null,"TIPO 11 - LED  Embutido Uni. 1.7 W",null,"TIPO 12 - LED Colgante 25 W",null,"TOMA SIMPLE",null,"TOMA SCHUKO",null,"ESTACIONES DE TRABAJO",null,"SECAMANOS",null,"DESCRIPCIÓN","CANT.","POTENCIA (W)","POTENCIA TOTAL (W)","FASES",{"$nulls":3},"CORRIENTE (A)","TM (A)"]
[null,null,"CANT.","POTENCIA UNIT. (W)","CANT.","POTENCIA UNIT. (W)","CANT.","POTENCIA UNIT. (W)","CANT.","POTENCIA UNIT. (W)","CANT.","POTENCIA UNIT. (W)","CANT.","POTENCIA UNIT. (W)","CANT.","POTENCIA UNIT. (W)","CANT.","POTENCIA UNIT. (W)","CANT.","POTENCIA UNIT. (W)","CANT.","POTENCIA UNIT. (W)","CANT.","POTENCIA UNIT. (W)","CANT.","POTENCIA UNIT. (W)","CANT.","POTENCIA UNIT. (W)","CANT.","POTENCIA UNIT. (W)","CANT.","POTENCIA UNIT. (W)","CANT.","POTENCIA UNIT. (W)",{"$nulls":4},"R","S","T","RST"]
[null,"IEPB.01",{"$nulls":12},33,6,{"$nulls":21},{"$f":"(C110*D110)+(E110*F110)+(G110*H110)+(I110*J110)+(K110*L110)+(M110*N110)+(O110*P110)+(Q110*R110)+(S110*T110)+(U110*V110)+(W110*X110)+(Y110*Z110)+(AA110*AB110)+(AC110*AD110)+(AE110*AF110)+(AG110*AH110)+(AJ110*AK110)","v":198},{"$f":"AL110","v":198},{"$nulls":3},{"$f":"AL110/220","v":{"v":0.9,"d":"1"}},"1x10"]
[null,"IEPB.02",{"$nulls":12},24,6,{"$nulls":21},{"$f":"(C111*D111)+(E111*F111)+(G111*H111)+(I111*J111)+(K111*L111)+(M111*N111)+(O111*P111)+(Q111*R111)+(S111*T111)+(U111*V111)+(W111*X111)+(Y111*Z111)+(AA111*AB111)+(AC111*AD111)+(AE111*AF111)+(AG111*AH111)+(AJ111*AK111)","v":144},null,{"$f":"AL111","v":144},null,null,{"v":0.6545454545454545,"d":"1"},"1x10"]
[null,"IEPB.03",{"$nulls":12},31,6,{"$nulls":21},186,null,null,{"$f":"AL112","v":186},null,{"v":0.8454545454545455,"d":"1"},"1x10"]
[null,"IEPB.04",21,38,null,null,4,25,{"$nulls":29},898,null,null,{"$f":"AL113","v":898},null,{"v":4.081818181818182,"d":"4"},"1x10"]
[null,"IEPB.05",21,38,null,null,8,25,{"$nulls":29},998,{"$f":"AL114","v":998},{"$nulls":3},{"v":4.536363636363636,"d":"5"},"1x10"]
[null,"IEPB.06",20,38,{"$nulls":33},760,null,{"$f":"AL115","v":760},null,null,{"v":3.4545454545454546,"d":"3"},"1x10"]
[null,"IEPB.07",18,38,{"$nulls":33},684,null,null,{"$f":"AL116","v":684},null,{"v":3.109090909090909,"d":"3"},"1x10"]
[null,"IEPB.08",{"$nulls":8},3,12,{"$nulls":25},36,null,{"$f":"AL117","v":36},null,null,{"v":0.16363636363636364,"d":"0"},"1x10"]
[null,"IEPB.09",{"$nulls":4},8,25,{"$nulls":29},200,{"$f":"AL118","v":200},{"$nulls":3},{"v":0.9090909090909091,"d":"1"},"1x10"]
[null,"IEPB.10",16,38,{"$nulls":33},608,null,{"$f":"AL119","v":608},null,null,{"v":2.7636363636363637,"d":"3"},"1x10"]
[null,"IEPB.11",{"$nulls":8},3,12,{"$nulls":25},36,null,{"$f":"AL120","v":36},null,null,{"v":0.16363636363636364,"d":"0"},"1x10"]
[null,"IEPB.12",{"$nulls":4},8,25,{"$nulls":29},200,null,null,{"$f":"AL121","v":200},null,{"v":0.9090909090909091,"d":"1"},"1x10"]
[null,"IEPB.13",16,38,{"$nulls":33},608,{"$f":"AL122","v":608},{"$nulls":3},{"v":2.7636363636363637,"d":"3"},"1x10"]
[null,"IEPB.14",{"$nulls":14},19,23,{"$nulls":19},437,null,{"$f":"AL123","v":437},null,null,{"v":1.9863636363636363,"d":"2"},"1x10"]
[null,"IEPB.15",{"$nulls":4},12,25,{"$nulls":29},300,{"$f":"AL124","v":300},{"$nulls":3},{"v":1.3636363636363635,"d":"1"},"1x10"]
[null,"IEPB.16",19,38,null,null,1,25,{"$nulls":29},747,null,null,{"$f":"AL125","v":747},null,{"v":3.3954545454545455,"d":"3"},"1x10"]
[null,"IEPB.17",null,null,3,39,11,25,9,6,{"$nulls":27},446,null,null,{"$f":"AL126","v":446},null,{"v":2.0272727272727273,"d":"2"},"1x10"]
[null,"IEPB.18",{"$nulls":4},4,25,4,6,{"$nulls":27},124,{"$f":"AL127","v":124},{"$nulls":3},{"v":0.5636363636363636,"d":"1"},"1x10"]
[null,"IEPB.19",null,null,2,39,8,25,{"$nulls":6},3,6,{"$nulls":21},296,{"$f":"AL128","v":296},{"$nulls":3},{"v":1.3454545454545455,"d":"1"},"1x10"]
[null,"IEPB.20",1,38,null,null,2,25,{"$nulls":4},4,6,{"$nulls":23},112,null,null,{"$f":"AL129","v":112},null,{"v":0.509090909090909,"d":"1"},"1x10"]
[null,"IEPB.21",{"$nulls":16},3,35,{"$nulls":17},105,{"$f":"AL130","v":105},{"$nulls":3},{"v":0.4772727272727273,"d":"0"},"1x10"]
[null,"IEPB.22",{"$nulls":4},22,25,{"$nulls":29},550,null,{"$f":"AL131","v":550},null,null,{"v":2.5,"d":"3"},"1x10"]
[null,"IEPB.23",{"$nulls":4},12,25,6,6,{"$nulls":27},336,{"$f":"AL132","v":336},{"$nulls":3},{"v":1.5272727272727273,"d":"2"},"1x10"]
[null,"IEPB.24",{"$nulls":4},14,25,{"$nulls":29},350,null,null,{"$f":"AL133","v":350},null,{"v":1.5909090909090908,"d":"2"},"1x10"]
[null,"IEPB.25",{"$nulls":4},24,25,1,6,{"$nulls":27},606,null,{"$f":"AL134","v":606},null,null,{"v":2.7545454545454544,"d":"3"},"1x10"]
[null,"IEPB.26",{"$nulls":4},17,25,{"$nulls":29},{"$f":"(C135*D135)+(E135*F135)+(G135*H135)+(I135*J135)+(K135*L135)+(M135*N135)+(O135*P135)+(Q135*R135)+(S135*T135)+(U135*V135)+(W135*X135)+(Y135*Z135)+(AA135*AB135)+(AC135*AD135)+(AE135*AF135)+(AG135*AH135)+(AJ135*AK135)","v":425},null,{"$f":"AL135","v":425},null,null,{"$f":"AL135/220","v":{"v":1.9318181818181819,"d":"2"}},"1x10"]
[null,"TEPB.01",{"$nulls":28},7,250,{"$nulls":5},1750,{"$f":"AL136","v":{"v":1750,"d":"1,750"}},{"$nulls":3},{"v":7.954545454545454,"d":"8"},"1x16"]
[null,"TEPB.02",{"$nulls":28},6,250,{"$nulls":5},1500,null,null,{"$f":"AL137","v":{"v":1500,"d":"1,500"}},null,{"v":6.818181818181818,"d":"7"},"1x16"]
[null,"TEPB.03",{"$nulls":28},6,250,{"$nulls":5},1500,null,{"$f":"AL138","v":{"v":1500,"d":"1,500"}},null,null,{"v":6.818181818181818,"d":"7"},"1x16"]
[null,"TEPB.04",{"$nulls":28},5,250,{"$nulls":5},1250,null,null,{"$f":"AL139","v":{"v":1250,"d":"1,250"}},null,{"v":5.681818181818182,"d":"6"},"1x16"]
[null,"TEPB.05",{"$nulls":28},9,250,{"$nulls":5},2250,null,{"$f":"AL140","v":{"v":2250,"d":"2,250"}},null,null,{"v":10.227272727272727,"d":"10"},"1x16"]
[null,"TEPB.06",{"$nulls":28},8,250,{"$nulls":5},2000,{"$f":"AL141","v":{"v":2000,"d":"2,000"}},{"$nulls":3},{"v":9.090909090909092,"d":"9"},"1x16"]
[null,"TEPB.07",{"$nulls":28},8,250,{"$nulls":5},2000,null,null,{"$f":"AL142","v":{"v":2000,"d":"2,000"}},null,{"v":9.090909090909092,"d":"9"},"1x16"]
[null,"TEPB.08",{"$nulls":28},8,250,{"$nulls":5},2000,{"$f":"AL143","v":{"v":2000,"d":"2,000"}},{"$nulls":3},{"$f":"AL143/220","v":{"v":9.090909090909092,"d":"9"}},"1x16"]
[null,"TEPB.09",{"$nulls":28},5,250,{"$nulls":5},1250,null,{"$f":"AL144","v":{"v":1250,"d":"1,250"}},null,null,{"v":5.681818181818182,"d":"6"},"1x16"]
[null,"TEPB.10",{"$nulls":28},6,250,{"$nulls":5},1500,null,null,{"$f":"AL145","v":{"v":1500,"d":"1,500"}},null,{"v":6.818181818181818,"d":"7"},"1x16"]
[null,"TEPB.11",{"$nulls":28},7,250,{"$nulls":5},1750,null,{"$f":"AL146","v":{"v":1750,"d":"1,750"}},null,null,{"v":7.954545454545454,"d":"8"},"1x16"]
[null,"TEPB.12",{"$nulls":28},3,250,{"$nulls":5},750,{"$f":"AL147","v":750},{"$nulls":3},{"v":3.409090909090909,"d":"3"},"1x16"]
[null,"TEPB.13",{"$nulls":28},5,250,{"$nulls":5},1250,null,null,{"$f":"AL148","v":{"v":1250,"d":"1,250"}},null,{"v":5.681818181818182,"d":"6"},"1x16"]
[null,"TEPB.14",{"$nulls":28},5,250,{"$nulls":5},1250,{"$f":"AL149","v":{"v":1250,"d":"1,250"}},{"$nulls":3},{"v":5.681818181818182,"d":"6"},"1x16"]
[null,"TEPB.15",{"$nulls":28},6,250,{"$nulls":5},1500,null,{"$f":"AL150","v":{"v":1500,"d":"1,500"}},null,null,{"v":6.818181818181818,"d":"7"},"1x16"]
[null,"TEPB.16",{"$nulls":28},1,250,{"$nulls":5},250,null,null,{"$f":"AL151","v":250},null,{"v":1.1363636363636365,"d":"1"},"1x16"]
[null,"TEPB.17",{"$nulls":24},3,200,{"$nulls":9},600,{"$f":"AL152","v":600},{"$nulls":3},{"v":2.727272727272727,"d":"3"},"1x16"]
[null,"TEPB.18",{"$nulls":24},3,100,{"$nulls":9},300,null,null,{"$f":"AL153","v":300},null,{"v":1.3636363636363635,"d":"1"},"1x16"]
[null,"TEPB.19",{"$nulls":24},4,100,{"$nulls":9},{"$f":"(AE154*AF154)+(AG154*AH154)+(AJ154*AK154)+(AA154*AB154)+(AC154*AD154)","v":400},null,null,{"$f":"AL154","v":400},null,{"v":1.8181818181818181,"d":"2"},"1x16"]
[null,"TEPB.20",{"$nulls":24},1,100,{"$nulls":9},100,{"$f":"AL155","v":100},{"$nulls":3},{"v":0.45454545454545453,"d":"0"},"1x16"]
[null,"TEPB.21",{"$nulls":24},1,100,{"$nulls":9},100,null,{"$f":"AL156","v":100},null,null,{"v":0.45454545454545453,"d":"0"},"1x16"]
[null,"TEPB.22",{"$nulls":24},1,100,{"$nulls":9},100,{"$f":"AL157","v":100},{"$nulls":3},{"v":0.45454545454545453,"d":"0"},"1x16"]
[null,"TEPB.23",{"$nulls":24},1,100,{"$nulls":9},100,null,null,{"$f":"AL158","v":100},null,{"v":0.45454545454545453,"d":"0"},"1x16"]
[null,"Rsva.",{"$nulls":32},"Reserva",1,2000,2000,null,{"$f":"AL159","v":{"v":2000,"d":"2,000"}},null,null,{"v":9.090909090909092,"d":"9"},"1x16"]
[null,"Rsva.",{"$nulls":32},"Reserva",1,2000,2000,{"$f":"AL160","v":{"v":2000,"d":"2,000"}},{"$nulls":3},{"v":9.090909090909092,"d":"9"},"1x16"]
[null,"Rsva.",{"$nulls":32},"Reserva",1,2000,2000,null,null,{"$f":"AL161","v":{"v":2000,"d":"2,000"}},null,{"v":9.090909090909092,"d":"9"},"1x16"]
["TOTAL GENERAL",{"$nulls":35},"Σ ",{"$f":"SUM(AL110:AL161)","v":41840},{"$f":"SUM(AM110:AM161)","v":13715},13952,14173,0,{"$f":"AK169","v":{"v":79.46162915425639,"d":"79"}},{"$f":"AK170","v":"3x100"}]
[null,null,{"$f":"SUM(C110:C161)","v":132}]
[]
[{"$nulls":34},"Potencia instalada - Σpotencia ","PI",{"$f":"AL162","v":{"v":41840,"d":"41,840"}}]
[{"$nulls":34},"factor de potencia - ","fp",0.8]
[{"$nulls":34},"factor de demanda - Anexo 3 ANDE","fd",1]
[{"$nulls":34},"Potencia Demandada - Pd = PI*fd","Pd",{"$f":"AK165*AK167","v":{"v":41840,"d":"41,840"}}]
[{"$nulls":34},"Corriente - Id = Pd/(√3*380*fp)","Id",{"$f":"AK168/(SQRT(3)*380*AK166)","v":{"v":79.46162915425639,"d":"79"}}]
[{"$nulls":34},"LLave Limitadora","TM","3x100"]
[{"$nulls":34},"Alimentador","S","4x25"]
[{"$nulls":34},"Seccion de Conductor de Proteccion","S_p",{"$f":"_xlfn.CONCAT(\"1x\",IF(VALUE(RIGHT(AK171, LEN(AK171) - FIND(\"x\", AK171))) <= 16, VALUE(RIGHT(AK171, LEN(AK171) - FIND(\"x\", AK171))), IF(AND(VALUE(RIGHT(AK171, LEN(AK171) - FIND(\"x\", AK171))) > 16, VALUE(RIGHT(AK171, LEN(AK171) - FIND(\"x\", AK171))) <= 35), 16, VALUE(RIGHT(AK171, LEN(AK171) - FIND(\"x\", AK171)))/2)))","v":"1x16"}]
[{"$nulls":34},"Corriente admisible Conductor - Iz","Iz",115]
[{"$nulls":34},"Longitud (m)","L",5]

{"sheet":"TSE-TSN-1P","index":4,"n_rows":152,"n_cols":44,"rows_kept":152,"merged":[[0,0,0,43],[1,0,2,0],[1,1,2,1],[1,2,1,3],[1,4,1,5],[1,6,1,7],[1,8,1,9],[1,10,1,11],[1,12,1,13],[1,14,1,15],[1,16,1,17],[1,18,1,19],[1,20,1,21],[1,22,1,23],[1,24,1,25],[1,26,1,27],[1,28,1,29],[1,30,1,31],[1,32,1,33],[1,34,2,34],[1,35,2,35],[1,36,2,36],[1,37,2,37],[1,38,1,41],[1,42,2,42],[1,43,2,43],[80,0,80,34],[94,0,94,43],[95,0,96,0],[95,1,96,1],[95,2,95,3],[95,4,95,5],[95,6,95,7],[95,8,95,9],[95,10,95,11],[95,12,95,13],[95,14,95,15],[95,16,95,17],[95,18,95,19],[95,20,95,21],[95,22,95,23],[95,24,95,25],[95,26,95,27],[95,28,95,29],[95,30,95,31],[95,32,95,33],[95,34,96,34],[95,35,96,35],[95,36,96,36],[95,37,96,37],[95,38,95,41],[95,42,96,42],[95,43,96,43],[139,0,139,34]]}
["CUADRO DE CARGAS ELÉCTRICAS TABLERO-TSN-2P"]
["DEPENDENCIA","CTO.","TIPO 1 - LED 38 W",null,"TIPO 2 - LED Est. Adosar 39 W",null,"TIPO 3 - LED Circular Embutido 25 W",null,"TIPO 4 - Spot LED CIrcular Emb. 6 W",null,"TIPO 5 - Spot Cir. Movil LED 12 W",null,"TIPO 6 - Aplique de Adosar LED 5.5 W",null,"TIPO 7 - Adosar Resina LED 6 W",null,"TIPO 8 - LED Circular Embutido 23 W",null,"TIPO 9 - LED Colgante 35 W",null,"TIPO 10 - Proyector LED 50 W",null,"TIPO 11 - LED  Embutido Uni. 1.7 W",null,"TIPO 12 - LED Colgante 25 W",null,"TOMA SIMPLE",null,"TOMA SCHUKO",null,"ESTACIONES DE TRABAJO",null,"SECAMANOS",null,"DESCRIPCIÓN","CANT.","POTENCIA (W)","POTENCIA TOTAL (W)","FASES",{"$nulls":3},"CORRIENTE (A)","TM (A)"]
[null,null,"CANT.","POTENCIA UNIT. (W)","CANT.","POTENCIA UNIT. (W)","CANT.","POTENCIA UNIT. (W)","CANT.","POTENCIA UNIT. (W)","CANT.","POTENCIA UNIT. (W)","CANT.","POTENCIA UNIT. (W)","CANT.","POTENCIA UNIT. (W)","CANT.","POTENCIA UNIT. (W)","CANT.","POTENCIA UNIT. (W)","CANT.","POTENCIA UNIT. (W)","CANT.","POTENCIA UNIT. (W)","CANT.","POTENCIA UNIT. (W)","CANT.","POTENCIA UNIT. (W)","CANT.","POTENCIA UNIT. (W)","CANT.","POTENCIA UNIT. (W)","CANT.","POTENCIA UNIT. (W)",{"$nulls":4},"R","S","T","RST"]
[null,"TN1P.01",{"$nulls":28},4,250,{"$nulls":5},{"$f":"(AE4*AF4)+(AG4*AH4)+(AJ4*AK4)+(AA4*AB4)+(AC4*AD4)","v":1000},{"$f":"AL4","v":{"v":1000,"d":"1,000"}},{"$nulls":3},{"$f":"AL4/220","v":{"v":4.545454545454546,"d":"5"}},"1x16"]
[null,"TN1P.02",{"$nulls":28},2,250,{"$nulls":5},{"$f":"(AE5*AF5)+(AG5*AH5)+(AJ5*AK5)+(AA5*AB5)+(AC5*AD5)","v":500},null,{"$f":"AL5","v":500},null,null,{"v":2.272727272727273,"d":"2"},"1x16"]
[null,"TN1P.03",{"$nulls":28},3,250,{"$nulls":5},750,null,null,{"$f":"AL6","v":750},null,{"v":3.409090909090909,"d":"3"},"1x16"]
[null,"TN1P.04",{"$nulls":28},3,250,{"$nulls":5},750,null,{"$f":"AL7","v":750},null,null,{"v":3.409090909090909,"d":"3"},"1x16"]
[null,"TN1P.05",{"$nulls":28},2,250,{"$nulls":5},500,null,null,{"$f":"AL8","v":500},null,{"v":2.272727272727273,"d":"2"},"1x16"]
[null,"TN1P.06",{"$nulls":28},3,250,{"$nulls":5},750,{"$f":"AL9","v":750},{"$nulls":3},{"v":3.409090909090909,"d":"3"},"1x16"]
[null,"TN1P.07",{"$nulls":28},3,250,{"$nulls":5},750,null,{"$f":"AL10","v":750},null,null,{"v":3.409090909090909,"d":"3"},"1x16"]
[null,"TN1P.08",{"$nulls":28},3,250,{"$nulls":5},750,null,null,{"$f":"AL11","v":750},null,{"v":3.409090909090909,"d":"3"},"1x16"]
[null,"TN1P.10",{"$nulls":28},3,250,{"$nulls":5},750,{"$f":"AL12","v":750},{"$nulls":3},{"v":3.409090909090909,"d":"3"},"1x16"]
[null,"TN1P.11",{"$nulls":28},3,250,{"$nulls":5},750,null,{"$f":"AL13","v":750},null,null,{"v":3.409090909090909,"d":"3"},"1x16"]
[null,"TN1P.12",{"$nulls":28},4,250,{"$nulls":5},1000,null,null,{"$f":"AL14","v":{"v":1000,"d":"1,000"}},null,{"v":4.545454545454546,"d":"5"},"1x16"]
[null,"TN1P.13",{"$nulls":28},4,250,{"$nulls":5},1000,{"$f":"AL15","v":{"v":1000,"d":"1,000"}},{"$nulls":3},{"v":4.545454545454546,"d":"5"},"1x16"]
[null,"TN1P.14",{"$nulls":28},4,250,{"$nulls":5},1000,null,{"$f":"AL16","v":{"v":1000,"d":"1,000"}},null,null,{"v":4.545454545454546,"d":"5"},"1x16"]
[null,"TN1P.15",{"$nulls":28},4,250,{"$nulls":5},1000,null,null,{"$f":"AL17","v":{"v":1000,"d":"1,000"}},null,{"v":4.545454545454546,"d":"5"},"1x16"]
[null,"TN1P.16",{"$nulls":28},3,250,{"$nulls":5},750,{"$f":"AL18","v":750},{"$nulls":3},{"v":3.409090909090909,"d":"3"},"1x16"]
[null,"TN1P.17",{"$nulls":28},3,250,{"$nulls":5},750,null,{"$f":"AL19","v":750},null,null,{"v":3.409090909090909,"d":"3"},"1x16"]
[null,"TN1P.18",{"$nulls":28},2,250,{"$nulls":5},500,null,null,{"$f":"AL20","v":500},null,{"v":2.272727272727273,"d":"2"},"1x16"]
[null,"TN1P.19",{"$nulls":28},3,250,{"$nulls":5},750,{"$f":"AL21","v":750},{"$nulls":3},{"v":3.409090909090909,"d":"3"},"1x16"]
[null,"TN1P.20",{"$nulls":24},8,100,{"$nulls":9},800,null,{"$f":"AL22","v":800},null,null,{"v":3.6363636363636362,"d":"4"},"1x16"]
[null,"TN1P.21",{"$nulls":24},2,100,{"$nulls":9},200,null,null,{"$f":"AL23","v":200},null,{"v":0.9090909090909091,"d":"1"},"1x16"]
[null,"TN1P.22",{"$nulls":24},4,100,{"$nulls":9},400,null,null,{"$f":"AL24","v":400},null,{"v":1.8181818181818181,"d":"2"},"1x16"]
[null,"TN1P.23",{"$nulls":24},5,100,{"$nulls":9},500,{"$f":"AL25","v":500},{"$nulls":3},{"v":2.272727272727273,"d":"2"},"1x16"]
[null,"TN1P.24",{"$nulls":24},3,100,{"$nulls":9},300,null,null,{"$f":"AL26","v":300},null,{"v":1.3636363636363635,"d":"1"},"1x16"]
[null,"TN1P.25",{"$nulls":24},5,100,{"$nulls":9},500,null,{"$f":"AL27","v":500},null,null,{"v":2.272727272727273,"d":"2"},"1x16"]
[null,"TN1P.26",{"$nulls":24},6,100,{"$nulls":9},600,null,null,{"$f":"AL28","v":600},null,{"v":2.727272727272727,"d":"3"},"1x16"]
[null,"TN1P.27",{"$nulls":24},5,100,{"$nulls":9},500,{"$f":"AL29","v":500},{"$nulls":3},{"v":2.272727272727273,"d":"2"},"1x16"]
[null,"TS1P.01",{"$nulls":26},1,1000,{"$nulls":7},1000,null,{"$f":"AL30","v":{"v":1000,"d":"1,000"}},null,null,{"v":4.545454545454546,"d":"5"},"1x16"]
[null,"TS1P.02",{"$nulls":26},1,1000,{"$nulls":7},1000,{"$f":"AL31","v":{"v":1000,"d":"1,000"}},{"$nulls":3},{"v":4.545454545454546,"d":"5"},"1x16"]
[null,"SM1P.01",{"$nulls":30},1,1800,{"$nulls":3},1800,null,null,{"$f":"AL32","v":{"v":1800,"d":"1,800"}},null,{"v":8.181818181818182,"d":"8"},"1x16"]
[null,"SM1P.02",{"$nulls":30},1,1800,{"$nulls":3},1800,null,{"$f":"AL33","v":{"v":1800,"d":"1,800"}},null,null,{"v":8.181818181818182,"d":"8"},"1x16"]
[null,"SM1P.03",{"$nulls":30},1,1800,{"$nulls":3},1800,{"$f":"AL34","v":{"v":1800,"d":"1,800"}},{"$nulls":3},{"v":8.181818181818182,"d":"8"},"1x16"]
[null,"SM1P.04",{"$nulls":30},1,1800,{"$nulls":3},1800,null,null,{"$f":"AL35","v":{"v":1800,"d":"1,800"}},null,{"v":8.181818181818182,"d":"8"},"1x16"]
[null,"SM1P.05",{"$nulls":30},1,1800,{"$nulls":3},1800,null,{"$f":"AL36","v":{"v":1800,"d":"1,800"}},null,null,{"$f":"AL36/220","v":{"v":8.181818181818182,"d":"8"}},"1x16"]
[null,"SM1P.06",{"$nulls":30},1,1800,{"$nulls":3},1800,{"$f":"AL37","v":{"v":1800,"d":"1,800"}},{"$nulls":3},{"v":8.181818181818182,"d":"8"},"1x16"]
[null,"SM1P.07",{"$nulls":30},1,1800,{"$nulls":3},1800,null,null,{"$f":"AL38","v":{"v":1800,"d":"1,800"}},null,{"v":8.181818181818182,"d":"8"},"1x16"]
[null,"FC1P.01",{"$nulls":32},"Fancoil ",1,1500,1500,null,{"$f":"AL39","v":{"v":1500,"d":"1,500"}},null,null,{"v":6.818181818181818,"d":"7"},"1x16"]
[null,"FC1P.02",{"$nulls":32},"Fancoil ",1,1500,1500,{"$f":"AL40","v":{"v":1500,"d":"1,500"}},{"$nulls":3},{"v":6.818181818181818,"d":"7"},"1x16"]
[null,"FC1P.03",{"$nulls":32},"Fancoil ",1,1500,1500,null,null,{"$f":"AL41","v":{"v":1500,"d":"1,500"}},null,{"v":6.818181818181818,"d":"7"},"1x16"]
[null,"FC1P.04",{"$nulls":32},"Fancoil ",1,1500,1500,null,{"$f":"AL42","v":{"v":1500,"d":"1,500"}},null,null,{"v":6.818181818181818,"d":"7"},"1x16"]
[null,"FC1P.05",{"$nulls":32},"Fancoil ",1,1500,1500,{"$f":"AL43","v":{"v":1500,"d":"1,500"}},{"$nulls":3},{"v":6.818181818181818,"d":"7"},"1x16"]
[null,"FC1P.06",{"$nulls":32},"Fancoil ",1,1500,1500,null,null,{"$f":"AL44","v":{"v":1500,"d":"1,500"}},null,{"v":6.818181818181818,"d":"7"},"1x16"]
[null,"FC1P.07",{"$nulls":32},"Fancoil ",1,1500,1500,null,{"$f":"AL45","v":{"v":1500,"d":"1,500"}},null,null,{"v":6.818181818181818,"d":"7"},"1x16"]
[null,"FC1P.08",{"$nulls":32},"Fancoil ",1,1700,1700,{"$f":"AL46","v":{"v":1700,"d":"1,700"}},{"$nulls":3},{"v":7.7272727272727275,"d":"8"},"1x16"]
[null,"FC1P.09",{"$nulls":32},"Fancoil ",1,1700,1700,null,null,{"$f":"AL47","v":{"v":1700,"d":"1,700"}},null,{"v":7.7272727272727275,"d":"8"},"1x16"]
[null,"FC1P.10",{"$nulls":32},"Fancoil ",1,1700,1700,null,{"$f":"AL48","v":{"v":1700,"d":"1,700"}},null,null,{"v":7.7272727272727275,"d":"8"},"1x16"]
[null,"FC1P.11",{"$nulls":32},"Fancoil ",1,1700,1700,{"$f":"AL49","v":{"v":1700,"d":"1,700"}},{"$nulls":3},{"v":7.7272727272727275,"d":"8"},"1x16"]
[null,"FC1P.12",{"$nulls":32},"Fancoil ",1,1700,1700,null,null,{"$f":"AL50","v":{"v":1700,"d":"1,700"}},null,{"v":7.7272727272727275,"d":"8"},"1x16"]
[null,"FC1P.13",{"$nulls":32},"Fancoil ",1,1700,1700,null,{"$f":"AL51","v":{"v":1700,"d":"1,700"}},null,null,{"v":7.7272727272727275,"d":"8"},"1x16"]
[null,"FC1P.14",{"$nulls":32},"Fancoil ",1,1700,1700,{"$f":"AL52","v":{"v":1700,"d":"1,700"}},{"$nulls":3},{"v":7.7272727272727275,"d":"8"},"1x16"]
[null,"FC1P.15",{"$nulls":32},"Fancoil ",1,1700,1700,null,null,{"$f":"AL53","v":{"v":1700,"d":"1,700"}},null,{"v":7.7272727272727275,"d":"8"},"1x16"]
[null,"FC1P.16",{"$nulls":32},"Fancoil ",1,1700,1700,null,{"$f":"AL54","v":{"v":1700,"d":"1,700"}},null,null,{"v":7.7272727272727275,"d":"8"},"1x16"]
[null,"FC1P.17",{"$nulls":32},"Fancoil ",1,1700,1700,{"$f":"AL55","v":{"v":1700,"d":"1,700"}},{"$nulls":3},{"v":7.7272727272727275,"d":"8"},"1x16"]
[null,"FC1P.18",{"$nulls":32},"Fancoil ",1,1700,1700,null,null,{"$f":"AL56","v":{"v":1700,"d":"1,700"}},null,{"v":7.7272727272727275,"d":"8"},"1x16"]
[null,"FC1P.19",{"$nulls":32},"Fancoil ",1,1700,1700,null,{"$f":"AL57","v":{"v":1700,"d":"1,700"}},null,null,{"v":7.7272727272727275,"d":"8"},"1x16"]
[null,"FC1P.20",{"$nulls":32},"Fancoil ",1,1700,1700,{"$f":"AL58","v":{"v":1700,"d":"1,700"}},{"$nulls":3},{"v":7.7272727272727275,"d":"8"},"1x16"]
[null,"FC1P.21",{"$nulls":32},"Fancoil ",1,1700,1700,null,null,{"$f":"AL59","v":{"v":1700,"d":"1,700"}},null,{"v":7.7272727272727275,"d":"8"},"1x16"]
[null,"FC1P.22",{"$nulls":32},"Fancoil ",1,1700,1700,null,{"$f":"AL60","v":{"v":1700,"d":"1,700"}},null,null,{"v":7.7272727272727275,"d":"8"},"1x16"]
[null,"FC1P.23",{"$nulls":32},"Fancoil ",1,3500,3500,{"$f":"AL61","v":{"v":3500,"d":"3,500"}},{"$nulls":3},{"v":15.909090909090908,"d":"16"},"1x25"]
[null,"FC1P.24",{"$nulls":32},"Fancoil ",1,3500,3500,null,null,{"$f":"AL62","v":{"v":3500,"d":"3,500"}},null,{"v":15.909090909090908,"d":"16"},"1x25"]
[null,"FC1P.25",{"$nulls":32},"Fancoil ",1,3500,3500,null,{"$f":"AL63","v":{"v":3500,"d":"3,500"}},null,null,{"v":15.909090909090908,"d":"16"},"1x25"]
[null,"FC1P.26",{"$nulls":32},"Fancoil ",1,3500,3500,{"$f":"AL64","v":{"v":3500,"d":"3,500"}},{"$nulls":3},{"v":15.909090909090908,"d":"16"},"1x25"]
[null,"FC1P.27",{"$nulls":32},"Fancoil ",1,3500,3500,null,null,{"$f":"AL65","v":{"v":3500,"d":"3,500"}},null,{"v":15.909090909090908,"d":"16"},"1x25"]
[null,"FC1P.28",{"$nulls":32},"Fancoil ",1,3900,3900,null,{"$f":"AL66","v":{"v":3900,"d":"3,900"}},null,null,{"v":17.727272727272727,"d":"18"},"1x25"]
[null,"FC1P.29",{"$nulls":32},"Fancoil ",1,3900,3900,{"$f":"AL67","v":{"v":3900,"d":"3,900"}},{"$nulls":3},{"v":17.727272727272727,"d":"18"},"1x25"]
[null,"FC1P.30",{"$nulls":32},"Fancoil ",1,3900,3900,null,null,{"$f":"AL68","v":{"v":3900,"d":"3,900"}},null,{"$f":"AL68/220","v":{"v":17.727272727272727,"d":"18"}},"1x25"]
[null,"FC1P.31",{"$nulls":32},"Fancoil ",1,3900,{"$f":"(AE69*AF69)+(AG69*AH69)+(AJ69*AK69)+(AA69*AB69)+(AC69*AD69)","v":3900},null,{"$f":"AL69","v":{"v":3900,"d":"3,900"}},null,null,{"v":17.727272727272727,"d":"18"},"1x25"]
[null,"FC1P.32",{"$nulls":32},"Fancoil ",1,3900,3900,{"$f":"AL70","v":{"v":3900,"d":"3,900"}},{"$nulls":3},{"v":17.727272727272727,"d":"18"},"1x25"]
[null,"FC1P.33",{"$nulls":32},"Fancoil ",1,4200,4200,null,null,{"$f":"AL71","v":{"v":4200,"d":"4,200"}},null,{"v":19.09090909090909,"d":"19"},"1x25"]
[null,"FC1P.34",{"$nulls":32},"Fancoil ",1,4200,4200,null,{"$f":"AL72","v":{"v":4200,"d":"4,200"}},null,null,{"v":19.09090909090909,"d":"19"},"1x25"]
[null,"FC1P.35",{"$nulls":32},"Fancoil ",1,4200,4200,{"$f":"AL73","v":{"v":4200,"d":"4,200"}},{"$nulls":3},{"v":19.09090909090909,"d":"19"},"1x25"]
[null,"FC1P.36",{"$nulls":32},"Fancoil ",1,4200,4200,null,null,{"$f":"AL74","v":{"v":4200,"d":"4,200"}},null,{"v":19.09090909090909,"d":"19"},"1x25"]
[null,"FC1P.37",{"$nulls":32},"Fancoil ",1,1080,1080,null,{"$f":"AL75","v":{"v":1080,"d":"1,080"}},null,null,{"v":4.909090909090909,"d":"5"},"1x16"]
[null,"FC1P.38",{"$nulls":32},"Fancoil ",1,520,520,null,{"$f":"AL76","v":520},null,null,{"v":2.3636363636363638,"d":"2"},"1x16"]
[null,"FC1P.39",{"$nulls":32},"Fancoil ",1,520,520,null,{"$f":"AL77","v":520},null,null,{"v":2.3636363636363638,"d":"2"},"1x16"]
[null,"Rsva.",{"$nulls":32},"Reserva",1,2000,2000,null,{"$f":"AL78","v":{"v":2000,"d":"2,000"}},null,null,{"v":9.090909090909092,"d":"9"},"1x16"]
[null,"Rsva.",{"$nulls":32},"Reserva",1,2000,2000,{"$f":"AL79","v":{"v":2000,"d":"2,000"}},{"$nulls":3},{"v":9.090909090909092,"d":"9"},"1x16"]
[null,"Rsva.",{"$nulls":32},"Reserva",1,2000,2000,null,null,{"$f":"AL80","v":{"v":2000,"d":"2,000"}},null,{"v":9.090909090909092,"d":"9"},"1x16"]
["TOTAL GENERAL",{"$nulls":35},"Σ ",{"$f":"SUM(AL4:AL80)","v":130320},{"$f":"SUM(AM4:AM80)","v":43100},{"$f":"SUM(AN4:AN80)","v":43020},{"$f":"SUM(AO4:AO80)","v":44200},{"$f":"SUM(AP4:AP80)","v":0},{"$f":"AK88","v":{"v":136.12551938959086,"d":"136"}},{"$f":"AK89","v":"3x150"}]
[]
[]
[{"$nulls":34},"Potencia instalada - Σpotencia ","PI",{"$f":"AL81","v":{"v":130320,"d":"130,320"}}]
[{"$nulls":34},"factor de potencia - ","fp",0.8]
[{"$nulls":34},"factor de demanda - Anexo 3 ANDE","fd",{"$f":"IF(AK84<=2700,1,\nIF(AK84<=3800,0.95,\nIF(AK84<=7200,0.9,\nIF(AK84<=12000,0.85,\nIF(AK84<=20000,0.8,\nIF(AK84<=30000,0.75,\nIF(AK84<=50000,0.7,\nIF(AK84<=80000,0.65,\nIF(AK84<=120000,0.6,\nIF(AK84<=170000,0.55,\nIF(AK84<=250000,0.5,\n0.45)))))))))))","v":0.55}]
[{"$nulls":34},"Potencia Demandada - Pd = PI*fd","Pd",{"$f":"AK84*AK86","v":{"v":71676,"d":"71,676"}}]
[{"$nulls":34},"Corriente - Id = Pd/(√3*380*fp)","Id",{"$f":"AK87/(SQRT(3)*380*AK85)","v":{"v":136.12551938959086,"d":"136"}}]
[{"$nulls":34},"LLave Limitadora","TM","3x150"]
[{"$nulls":34},"Alimentador","S","4x50"]
[{"$nulls":34},"Seccion de Conductor de Proteccion","S_p",{"$f":"_xlfn.CONCAT(\"1x\",IF(VALUE(RIGHT(AK90, LEN(AK90) - FIND(\"x\", AK90))) <= 16, VALUE(RIGHT(AK90, LEN(AK90) - FIND(\"x\", AK90))), IF(AND(VALUE(RIGHT(AK90, LEN(AK90) - FIND(\"x\", AK90))) > 16, VALUE(RIGHT(AK90, LEN(AK90) - FIND(\"x\", AK90))) <= 35), 16, VALUE(RIGHT(AK90, LEN(AK90) - FIND(\"x\", AK90)))/2)))","v":"1x25"}]
[{"$nulls":34},"Corriente admisible Conductor - Iz","Iz",163]
[{"$nulls":34},"Longitud (m)","L",10]
[]
["CUADRO DE CARGAS ELÉCTRICAS TABLERO-TSE-2P"]
["DEPENDENCIA","CTO.","TIPO 1 - LED 38 W",null,"TIPO 2 - LED Est. Adosar 39 W",null,"TIPO 3 - LED Circular Embutido 25 W",null,"TIPO 4 - Spot LED CIrcular Emb. 6 W",null,"TIPO 5 - Spot Cir. Movil LED 12 W",null,"TIPO 6 - Aplique de Adosar LED 5.5 W",null,"TIPO 7 - Adosar Resina LED 6 W",null,"TIPO 8 - LED Circular Embutido 23 W",null,"TIPO 9 - LED Colgante 35 W",null,"TIPO 10 - Proyector LED 50 W",null,"TIPO 11 - LED  Embutido Uni. 1.7 W",null,"TIPO 12 - LED Colgante 25 W",null,"TOMA SIMPLE",null,"TOMA SCHUKO",null,"ESTACIONES DE TRABAJO",null,"SECAMANOS",null,"DESCRIPCIÓN","CANT.","POTENCIA (W)","POTENCIA TOTAL (W)","FASES",{"$nulls":3},"CORRIENTE (A)","TM (A)"]
[null,null,"CANT.","POTENCIA UNIT. (W)","CANT.","POTENCIA UNIT. (W)","CANT.","POTENCIA UNIT. (W)","CANT.","POTENCIA UNIT. (W)","CANT.","POTENCIA UNIT. (W)","CANT.","POTENCIA UNIT. (W)","CANT.","POTENCIA UNIT. (W)","CANT.","POTENCIA UNIT. (W)","CANT.","POTENCIA UNIT. (W)","CANT.","POTENCIA UNIT. (W)","CANT.","POTENCIA UNIT. (W)","CANT.","POTENCIA UNIT. (W)","CANT.","POTENCIA UNIT. (W)","CANT.","POTENCIA UNIT. (W)","CANT.","POTENCIA UNIT. (W)","CANT.","POTENCIA UNIT. (W)",{"$nulls":4},"R","S","T","RST"]
[null,"IE1P.01",22,38,null,null,2,25,2,6,{"$nulls":27},{"$f":"(C98*D98)+(E98*F98)+(G98*H98)+(I98*J98)+(K98*L98)+(M98*N98)+(O98*P98)+(Q98*R98)+(S98*T98)+(U98*V98)+(W98*X98)+(Y98*Z98)+(AA98*AB98)+(AC98*AD98)+(AE98*AF98)+(AG98*AH98)+(AJ98*AK98)","v":898},{"$f":"AL98","v":898},{"$nulls":3},{"$f":"AL98/220","v":{"v":4.081818181818182,"d":"4"}},"1x10"]
[null,"IE1P.02",21,38,null,null,2,25,{"$nulls":4},4,6,{"$nulls":23},{"$f":"(C99*D99)+(E99*F99)+(G99*H99)+(I99*J99)+(K99*L99)+(M99*N99)+(O99*P99)+(Q99*R99)+(S99*T99)+(U99*V99)+(W99*X99)+(Y99*Z99)+(AA99*AB99)+(AC99*AD99)+(AE99*AF99)+(AG99*AH99)+(AJ99*AK99)","v":872},null,{"$f":"AL99","v":872},null,null,{"v":3.963636363636364,"d":"4"},"1x10"]
[null,"IE1P.03",18,38,null,null,2,25,2,6,{"$nulls":27},746,null,null,{"$f":"AL100","v":746},null,{"v":3.390909090909091,"d":"3"},"1x10"]
[null,"IE1P.04",15,38,null,null,8,25,{"$nulls":29},770,null,null,{"$f":"AL101","v":770},null,{"v":3.5,"d":"4"},"1x10"]
[null,"IE1P.05",18,38,{"$nulls":33},684,null,{"$f":"AL102","v":684},null,null,{"v":3.109090909090909,"d":"3"},"1x10"]
[null,"IE1P.06",20,38,null,null,1,25,1,6,{"$nulls":27},791,{"$f":"AL103","v":791},{"$nulls":3},{"v":3.5954545454545452,"d":"4"},"1x10"]
[null,"IE1P.07",16,38,null,null,4,25,{"$nulls":29},708,null,null,{"$f":"AL104","v":708},null,{"v":3.2181818181818183,"d":"3"},"1x10"]
[null,"IE1P.08",19,38,{"$nulls":33},722,null,{"$f":"AL105","v":722},null,null,{"v":3.2818181818181817,"d":"3"},"1x10"]
[null,"IE1P.09",10,38,{"$nulls":33},380,{"$f":"AL106","v":380},{"$nulls":3},{"v":1.7272727272727273,"d":"2"},"1x10"]
[null,"IE1P.10",null,null,3,39,11,25,9,6,{"$nulls":27},446,{"$f":"AL107","v":446},{"$nulls":3},{"v":2.0272727272727273,"d":"2"},"1x10"]
[null,"IE1P.11",{"$nulls":4},4,25,4,6,{"$nulls":27},124,null,null,{"$f":"AL108","v":124},null,{"v":0.5636363636363636,"d":"1"},"1x10"]
[null,"IE1P.12",null,null,2,39,2,25,{"$nulls":6},2,6,{"$nulls":21},140,null,{"$f":"AL109","v":140},null,null,{"v":0.6363636363636364,"d":"1"},"1x10"]
[null,"IE1P.13",{"$nulls":4},16,25,{"$nulls":29},400,null,null,{"$f":"AL110","v":400},null,{"v":1.8181818181818181,"d":"2"},"1x10"]
[null,"IE1P.14",{"$nulls":4},23,25,{"$nulls":29},575,null,{"$f":"AL111","v":575},null,null,{"v":2.6136363636363638,"d":"3"},"1x10"]
[null,"IE1P.15",{"$nulls":4},30,25,1,6,{"$nulls":27},756,{"$f":"AL112","v":756},{"$nulls":3},{"v":3.4363636363636365,"d":"3"},"1x10"]
[null,"IE1P.16",{"$nulls":4},16,25,{"$nulls":29},400,null,null,{"$f":"AL113","v":400},null,{"v":1.8181818181818181,"d":"2"},"1x10"]
[null,"TE1P.01",{"$nulls":28},6,250,{"$nulls":5},1500,null,{"$f":"AL114","v":{"v":1500,"d":"1,500"}},null,null,{"v":6.818181818181818,"d":"7"},"1x16"]
[null,"TE1P.02",{"$nulls":28},4,250,{"$nulls":5},1000,{"$f":"AL115","v":{"v":1000,"d":"1,000"}},{"$nulls":3},{"v":4.545454545454546,"d":"5"},"1x16"]
[null,"TE1P.03",{"$nulls":28},6,250,{"$nulls":5},1500,null,null,{"$f":"AL116","v":{"v":1500,"d":"1,500"}},null,{"v":6.818181818181818,"d":"7"},"1x16"]
[null,"TE1P.04",{"$nulls":28},3,250,{"$nulls":5},750,{"$f":"AL117","v":750},{"$nulls":3},{"v":3.409090909090909,"d":"3"},"1x16"]
[null,"TE1P.05",{"$nulls":28},6,250,{"$nulls":5},1500,null,{"$f":"AL118","v":{"v":1500,"d":"1,500"}},null,null,{"v":6.818181818181818,"d":"7"},"1x16"]
[null,"TE1P.06",{"$nulls":28},7,250,{"$nulls":5},1750,null,null,{"$f":"AL119","v":{"v":1750,"d":"1,750"}},null,{"v":7.954545454545454,"d":"8"},"1x16"]
[null,"TE1P.07",{"$nulls":28},7,250,{"$nulls":5},1750,{"$f":"AL120","v":{"v":1750,"d":"1,750"}},{"$nulls":3},{"v":7.954545454545454,"d":"8"},"1x16"]
[null,"TE1P.08",{"$nulls":28},7,250,{"$nulls":5},1750,null,{"$f":"AL121","v":{"v":1750,"d":"1,750"}},null,null,{"v":7.954545454545454,"d":"8"},"1x16"]
[null,"TE1P.09",{"$nulls":28},5,250,{"$nulls":5},1250,null,null,{"$f":"AL122","v":{"v":1250,"d":"1,250"}},null,{"v":5.681818181818182,"d":"6"},"1x16"]
[null,"TE1P.10",{"$nulls":28},5,250,{"$nulls":5},1250,{"$f":"AL123","v":{"v":1250,"d":"1,250"}},{"$nulls":3},{"v":5.681818181818182,"d":"6"},"1x16"]
[null,"TE1P.11",{"$nulls":28},5,250,{"$nulls":5},1250,null,{"$f":"AL124","v":{"v":1250,"d":"1,250"}},null,null,{"v":5.681818181818182,"d":"6"},"1x16"]
[null,"TE1P.12",{"$nulls":28},6,250,{"$nulls":5},1500,null,null,{"$f":"AL125","v":{"v":1500,"d":"1,500"}},null,{"v":6.818181818181818,"d":"7"},"1x16"]
[null,"TE1P.13",{"$nulls":28},6,250,{"$nulls":5},1500,{"$f":"AL126","v":{"v":1500,"d":"1,500"}},{"$nulls":3},{"v":6.818181818181818,"d":"7"},"1x16"]
[null,"TE1P.14",{"$nulls":28},6,250,{"$nulls":5},1500,null,{"$f":"AL127","v":{"v":1500,"d":"1,500"}},null,null,{"v":6.818181818181818,"d":"7"},"1x16"]
[null,"TE1P.15",{"$nulls":28},5,250,{"$nulls":5},1250,null,null,{"$f":"AL128","v":{"v":1250,"d":"1,250"}},null,{"v":5.681818181818182,"d":"6"},"1x16"]
[null,"TE1P.16",{"$nulls":28},7,250,{"$nulls":5},1750,{"$f":"AL129","v":{"v":1750,"d":"1,750"}},{"$nulls":3},{"v":7.954545454545454,"d":"8"},"1x16"]
[null,"TE1P.17",{"$nulls":28},7,250,{"$nulls":5},1750,null,{"$f":"AL130","v":{"v":1750,"d":"1,750"}},null,null,{"v":7.954545454545454,"d":"8"},"1x16"]
[null,"TE1P.18",{"$nulls":28},6,250,{"$nulls":5},1500,null,null,{"$f":"AL131","v":{"v":1500,"d":"1,500"}},null,{"v":6.818181818181818,"d":"7"},"1x16"]
[null,"TE1P.19",{"$nulls":28},3,250,{"$nulls":5},750,{"$f":"AL132","v":750},{"$nulls":3},{"v":3.409090909090909,"d":"3"},"1x16"]
[null,"TE1P.20",{"$nulls":24},4,200,{"$nulls":9},800,{"$f":"AL133","v":800},{"$nulls":3},{"v":3.6363636363636362,"d":"4"},"1x16"]
[null,"TE1P.21",{"$nulls":24},1,100,{"$nulls":9},100,null,null,{"$f":"AL134","v":100},null,{"v":0.45454545454545453,"d":"0"},"1x16"]
[null,"TE1P.22",{"$nulls":24},1,100,{"$nulls":9},100,null,null,{"$f":"AL135","v":100},null,{"v":0.45454545454545453,"d":"0"},"1x16"]
[null,"TE1P.23",{"$nulls":24},1,100,{"$nulls":9},100,null,{"$f":"AL136","v":100},null,null,{"v":0.45454545454545453,"d":"0"},"1x16"]
[null,"Rsva.",{"$nulls":32},"Reserva",1,2000,2000,null,null,{"$f":"AL137","v":{"v":2000,"d":"2,000"}},null,{"v":9.090909090909092,"d":"9"},"1x16"]
[null,"Rsva.",{"$nulls":32},"Reserva",1,2000,2000,null,{"$f":"AL138","v":{"v":2000,"d":"2,000"}},null,null,{"v":9.090909090909092,"d":"9"},"1x16"]
[null,"Rsva.",{"$nulls":32},"Reserva",1,2000,2000,{"$f":"AL139","v":{"v":2000,"d":"2,000"}},{"$nulls":3},{"v":9.090909090909092,"d":"9"},"1x16"]
["TOTAL GENERAL",{"$nulls":35},"Σ ",{"$f":"SUM(AL98:AL139)","v":43262},{"$f":"SUM(AM98:AM139)","v":14821},14343,14098,0,{"$f":"AK147","v":{"v":82.16226100553155,"d":"82"}},{"$f":"AK148","v":"3x100"}]
[]
[]
[{"$nulls":34},"Potencia instalada - Σpotencia ","PI",{"$f":"AL140","v":{"v":43262,"d":"43,262"}}]
[{"$nulls":34},"factor de potencia - ","fp",0.8]
[{"$nulls":34},"factor de demanda - Anexo 3 ANDE","fd",1]
[{"$nulls":34},"Potencia Demandada - Pd = PI*fd","Pd",{"$f":"AK143*AK145","v":{"v":43262,"d":"43,262"}}]
[{"$nulls":34},"Corriente - Id = Pd/(√3*380*fp)","Id",{"$f":"AK146/(SQRT(3)*380*AK144)","v":{"v":82.16226100553155,"d":"82"}}]
[{"$nulls":34},"LLave Limitadora","TM","3x100"]
[{"$nulls":34},"Alimentador","S","4x25"]
[{"$nulls":34},"Seccion de Conductor de Proteccion","S_p",{"$f":"_xlfn.CONCAT(\"1x\",IF(VALUE(RIGHT(AK149, LEN(AK149) - FIND(\"x\", AK149))) <= 16, VALUE(RIGHT(AK149, LEN(AK149) - FIND(\"x\", AK149))), IF(AND(VALUE(RIGHT(AK149, LEN(AK149) - FIND(\"x\", AK149))) > 16, VALUE(RIGHT(AK149, LEN(AK149) - FIND(\"x\", AK149))) <= 35), 16, VALUE(RIGHT(AK149, LEN(AK149) - FIND(\"x\", AK149)))/2)))","v":"1x16"}]
[{"$nulls":34},"Corriente admisible Conductor - Iz","Iz",115]
[{"$nulls":34},"Longitud (m)","L",10]

{"sheet":"TSE-TSN-2P","index":5,"n_rows":159,"n_cols":44,"rows_kept":159,"merged":[[0,0,0,43],[1,0,2,0],[1,1,2,1],[1,2,1,3],[1,4,1,5],[1,6,1,7],[1,8,1,9],[1,10,1,11],[1,12,1,13],[1,14,1,15],[1,16,1,17],[1,18,1,19],[1,20,1,21],[1,22,1,23],[1,24,1,25],[1,26,1,27],[1,28,1,29],[1,30,1,31],[1,32,1,33],[1,34,2,34],[1,35,2,35],[1,36,2,36],[1,37,2,37],[1,38,1,41],[1,42,2,42],[1,43,2,43],[81,0,81,34],[95,0,95,43],[96,0,97,0],[96,1,97,1],[96,2,96,3],[96,4,96,5],[96,6,96,7],[96,8,96,9],[96,10,96,11],[96,12,96,13],[96,14,96,15],[96,16,96,17],[96,18,96,19],[96,20,96,21],[96,22,96,23],[96,24,96,25],[96,26,96,27],[96,28,96,29],[96,30,96,31],[96,32,96,33],[96,34,97,34],[96,35,97,35],[96,36,97,36],[96,37,97,37],[96,38,96,41],[96,42,97,42],[96,43,97,43],[146,0,146,34]]}
["CUADRO DE CARGAS ELÉCTRICAS TABLERO-TSN-2P"]
["DEPENDENCIA","CTO.","TIPO 1 - LED 38 W",null,"TIPO 2 - LED Est. Adosar 39 W",null,"TIPO 3 - LED Circular Embutido 25 W",null,"TIPO 4 - Spot LED CIrcular Emb. 6 W",null,"TIPO 5 - Spot Cir. Movil LED 12 W",null,"TIPO 6 - Aplique de Adosar LED 5.5 W",null,"TIPO 7 - Adosar Resina LED 6 W",null,"TIPO 8 - LED Circular Embutido 23 W",null,"TIPO 9 - LED Colgante 35 W",null,"TIPO 10 - Proyector LED 50 W",null,"TIPO 11 - LED  Embutido Uni. 1.7 W",null,"TIPO 12 - LED Colgante 25 W",null,"TOMA SIMPLE",null,"TOMA SCHUKO",null,"ESTACIONES DE TRABAJO",null,"SECAMANOS",null,"DESCRIPCIÓN","CANT.","POTENCIA (W)","POTENCIA TOTAL (W)","FASES",{"$nulls":3},"CORRIENTE (A)","TM (A)"]
[null,null,"CANT.","POTENCIA UNIT. (W)","CANT.","POTENCIA UNIT. (W)","CANT.","POTENCIA UNIT. (W)","CANT.","POTENCIA UNIT. (W)","CANT.","POTENCIA UNIT. (W)","CANT.","POTENCIA UNIT. (W)","CANT.","POTENCIA UNIT. (W)","CANT.","POTENCIA UNIT. (W)","CANT.","POTENCIA UNIT. (W)","CANT.","POTENCIA UNIT. (W)","CANT.","POTENCIA UNIT. (W)","CANT.","POTENCIA UNIT. (W)","CANT.","POTENCIA UNIT. (W)","CANT.","POTENCIA UNIT. (W)","CANT.","POTENCIA UNIT. (W)","CANT.","POTENCIA UNIT. (W)",{"$nulls":4},"R","S","T","RST"]
[null,"TN2P.01",{"$nulls":28},5,250,{"$nulls":5},{"$f":"(AE4*AF4)+(AG4*AH4)+(AJ4*AK4)+(AA4*AB4)+(AC4*AD4)","v":1250},{"$f":"AL4","v":{"v":1250,"d":"1,250"}},{"$nulls":3},{"$f":"AL4/220","v":{"v":5.681818181818182,"d":"6"}},"1x16"]
[null,"TN2P.02",{"$nulls":28},3,250,{"$nulls":5},750,null,{"$f":"AL5","v":750},null,null,{"v":3.409090909090909,"d":"3"},"1x16"]
[null,"TN2P.03",{"$nulls":28},3,250,{"$nulls":5},750,null,null,{"$f":"AL6","v":750},null,{"v":3.409090909090909,"d":"3"},"1x16"]
[null,"TN2P.04",{"$nulls":28},4,250,{"$nulls":5},1000,null,{"$f":"AL7","v":{"v":1000,"d":"1,000"}},null,null,{"v":4.545454545454546,"d":"5"},"1x16"]
[null,"TN2P.05",{"$nulls":28},2,250,{"$nulls":5},500,null,null,{"$f":"AL8","v":500},null,{"v":2.272727272727273,"d":"2"},"1x16"]
[null,"TN2P.06",{"$nulls":28},3,250,{"$nulls":5},750,{"$f":"AL9","v":750},{"$nulls":3},{"v":3.409090909090909,"d":"3"},"1x16"]
[null,"TN2P.07",{"$nulls":28},3,250,{"$nulls":5},750,null,null,{"$f":"AL10","v":750},null,{"v":3.409090909090909,"d":"3"},"1x16"]
[null,"TN2P.08",{"$nulls":28},2,250,{"$nulls":5},500,null,{"$f":"AL11","v":500},null,null,{"v":2.272727272727273,"d":"2"},"1x16"]
[null,"TN2P.09",{"$nulls":28},3,250,{"$nulls":5},750,{"$f":"AL12","v":750},{"$nulls":3},{"v":3.409090909090909,"d":"3"},"1x16"]
[null,"TN2P.10",{"$nulls":28},2,250,{"$nulls":5},500,null,null,{"$f":"AL13","v":500},null,{"v":2.272727272727273,"d":"2"},"1x16"]
[null,"TN2P.11",{"$nulls":28},3,250,{"$nulls":5},750,null,{"$f":"AL14","v":750},null,null,{"v":3.409090909090909,"d":"3"},"1x16"]
[null,"TN2P.12",{"$nulls":28},3,250,{"$nulls":5},750,null,null,{"$f":"AL15","v":750},null,{"v":3.409090909090909,"d":"3"},"1x16"]
[null,"TN2P.13",{"$nulls":28},4,250,{"$nulls":5},1000,{"$f":"AL16","v":{"v":1000,"d":"1,000"}},{"$nulls":3},{"v":4.545454545454546,"d":"5"},"1x16"]
[null,"TN2P.14",{"$nulls":28},4,250,{"$nulls":5},1000,null,{"$f":"AL17","v":{"v":1000,"d":"1,000"}},null,null,{"v":4.545454545454546,"d":"5"},"1x16"]
[null,"TN2P.15",{"$nulls":28},4,250,{"$nulls":5},1000,null,null,{"$f":"AL18","v":{"v":1000,"d":"1,000"}},null,{"v":4.545454545454546,"d":"5"},"1x16"]
[null,"TN2P.16",{"$nulls":28},2,250,{"$nulls":5},500,{"$f":"AL19","v":500},{"$nulls":3},{"v":2.272727272727273,"d":"2"},"1x16"]
[null,"TN2P.17",{"$nulls":28},3,250,{"$nulls":5},750,null,{"$f":"AL20","v":750},null,null,{"v":3.409090909090909,"d":"3"},"1x16"]
[null,"TN2P.18",{"$nulls":28},2,250,{"$nulls":5},500,{"$f":"AL21","v":500},{"$nulls":3},{"v":2.272727272727273,"d":"2"},"1x16"]
[null,"TN2P.19",{"$nulls":28},2,250,{"$nulls":5},500,null,null,{"$f":"AL22","v":500},null,{"v":2.272727272727273,"d":"2"},"1x16"]
[null,"TN2P.20",{"$nulls":28},2,250,{"$nulls":5},500,{"$f":"AL23","v":500},{"$nulls":3},{"v":2.272727272727273,"d":"2"},"1x16"]
[null,"TN2P.21",{"$nulls":28},2,250,{"$nulls":5},500,null,{"$f":"AL24","v":500},null,null,{"v":2.272727272727273,"d":"2"},"1x16"]
[null,"TN2P.22",{"$nulls":28},2,250,{"$nulls":5},500,null,null,{"$f":"AL25","v":500},null,{"v":2.272727272727273,"d":"2"},"1x16"]
[null,"TN2P.23",{"$nulls":28},2,250,{"$nulls":5},500,{"$f":"AL26","v":500},{"$nulls":3},{"v":2.272727272727273,"d":"2"},"1x16"]
[null,"TN2P.24",{"$nulls":24},2,100,{"$nulls":9},200,null,{"$f":"AL27","v":200},null,null,{"v":0.9090909090909091,"d":"1"},"1x16"]
[null,"TN2P.25",{"$nulls":24},9,100,{"$nulls":9},900,null,null,{"$f":"AL28","v":900},null,{"v":4.090909090909091,"d":"4"},"1x16"]
[null,"TN2P.26",{"$nulls":24},4,100,{"$nulls":9},400,null,{"$f":"AL29","v":400},null,null,{"v":1.8181818181818181,"d":"2"},"1x16"]
[null,"TN2P.27",{"$nulls":24},3,100,{"$nulls":9},300,{"$f":"AL30","v":300},{"$nulls":3},{"v":1.3636363636363635,"d":"1"},"1x16"]
[null,"TN2P.28",{"$nulls":24},3,100,{"$nulls":9},300,null,{"$f":"AL31","v":300},null,null,{"v":1.3636363636363635,"d":"1"},"1x16"]
[null,"TN2P.29",{"$nulls":24},2,100,{"$nulls":9},200,{"$f":"AL32","v":200},{"$nulls":3},{"v":0.9090909090909091,"d":"1"},"1x16"]
[null,"TN2P.30",{"$nulls":24},4,100,{"$nulls":9},400,null,{"$f":"AL33","v":400},null,null,{"v":1.8181818181818181,"d":"2"},"1x16"]
[null,"TN2P.31",{"$nulls":24},2,100,{"$nulls":9},200,null,null,{"$f":"AL34","v":200},null,{"v":0.9090909090909091,"d":"1"},"1x16"]
[null,"TN2P.32",{"$nulls":24},12,100,{"$nulls":9},1200,{"$f":"AL35","v":{"v":1200,"d":"1,200"}},{"$nulls":3},{"v":5.454545454545454,"d":"5"},"1x16"]
[null,"TN2P.33",{"$nulls":24},5,100,{"$nulls":9},500,null,null,{"$f":"AL36","v":500},null,{"$f":"AL36/220","v":{"v":2.272727272727273,"d":"2"}},"1x16"]
[null,"TS2P.01",{"$nulls":26},1,1000,{"$nulls":7},1000,null,{"$f":"AL37","v":{"v":1000,"d":"1,000"}},null,null,{"v":4.545454545454546,"d":"5"},"1x16"]
[null,"TS2P.02",{"$nulls":26},1,1000,{"$nulls":7},1000,null,null,{"$f":"AL38","v":{"v":1000,"d":"1,000"}},null,{"v":4.545454545454546,"d":"5"},"1x16"]
[null,"SM2P.01",{"$nulls":30},1,1800,{"$nulls":3},1800,{"$f":"AL39","v":{"v":1800,"d":"1,800"}},{"$nulls":3},{"v":8.181818181818182,"d":"8"},"1x16"]
[null,"SM2P.02",{"$nulls":30},1,1800,{"$nulls":3},1800,null,{"$f":"AL40","v":{"v":1800,"d":"1,800"}},null,null,{"v":8.181818181818182,"d":"8"},"1x16"]
[null,"SM2P.03",{"$nulls":30},1,1800,{"$nulls":3},1800,null,null,{"$f":"AL41","v":{"v":1800,"d":"1,800"}},null,{"v":8.181818181818182,"d":"8"},"1x16"]
[null,"SM2P.04",{"$nulls":30},1,1800,{"$nulls":3},1800,{"$f":"AL42","v":{"v":1800,"d":"1,800"}},{"$nulls":3},{"v":8.181818181818182,"d":"8"},"1x16"]
[null,"SM2P.05",{"$nulls":30},1,1800,{"$nulls":3},1800,null,{"$f":"AL43","v":{"v":1800,"d":"1,800"}},null,null,{"v":8.181818181818182,"d":"8"},"1x16"]
[null,"SM2P.06",{"$nulls":30},1,1800,{"$nulls":3},1800,null,null,{"$f":"AL44","v":{"v":1800,"d":"1,800"}},null,{"v":8.181818181818182,"d":"8"},"1x16"]
[null,"FC2P.01",{"$nulls":32},"Fancoil ",1,1500,1500,{"$f":"AL45","v":{"v":1500,"d":"1,500"}},{"$nulls":3},{"v":6.818181818181818,"d":"7"},"1x16"]
[null,"FC2P.02",{"$nulls":32},"Fancoil ",1,1500,1500,null,{"$f":"AL46","v":{"v":1500,"d":"1,500"}},null,null,{"v":6.818181818181818,"d":"7"},"1x16"]
[null,"FC2P.03",{"$nulls":32},"Fancoil ",1,1500,1500,null,null,{"$f":"AL47","v":{"v":1500,"d":"1,500"}},null,{"v":6.818181818181818,"d":"7"},"1x16"]
[null,"FC2P.04",{"$nulls":32},"Fancoil ",1,1500,1500,{"$f":"AL48","v":{"v":1500,"d":"1,500"}},{"$nulls":3},{"v":6.818181818181818,"d":"7"},"1x16"]
[null,"FC2P.05",{"$nulls":32},"Fancoil ",1,1700,1700,null,{"$f":"AL49","v":{"v":1700,"d":"1,700"}},null,null,{"v":7.7272727272727275,"d":"8"},"1x16"]
[null,"FC2P.06",{"$nulls":32},"Fancoil ",1,1700,1700,null,null,{"$f":"AL50","v":{"v":1700,"d":"1,700"}},null,{"v":7.7272727272727275,"d":"8"},"1x16"]
[null,"FC2P.07",{"$nulls":32},"Fancoil ",1,1700,1700,{"$f":"AL51","v":{"v":1700,"d":"1,700"}},{"$nulls":3},{"v":7.7272727272727275,"d":"8"},"1x16"]
[null,"FC2P.08",{"$nulls":32},"Fancoil ",1,1700,1700,null,{"$f":"AL52","v":{"v":1700,"d":"1,700"}},null,null,{"v":7.7272727272727275,"d":"8"},"1x16"]
[null,"FC2P.09",{"$nulls":32},"Fancoil ",1,1700,1700,null,null,{"$f":"AL53","v":{"v":1700,"d":"1,700"}},null,{"v":7.7272727272727275,"d":"8"},"1x16"]
[null,"FC2P.10",{"$nulls":32},"Fancoil ",1,1700,1700,{"$f":"AL54","v":{"v":1700,"d":"1,700"}},{"$nulls":3},{"v":7.7272727272727275,"d":"8"},"1x16"]
[null,"FC2P.11",{"$nulls":32},"Fancoil ",1,1700,1700,null,{"$f":"AL55","v":{"v":1700,"d":"1,700"}},null,null,{"v":7.7272727272727275,"d":"8"},"1x16"]
[null,"FC2P.12",{"$nulls":32},"Fancoil ",1,1700,1700,null,null,{"$f":"AL56","v":{"v":1700,"d":"1,700"}},null,{"v":7.7272727272727275,"d":"8"},"1x16"]
[null,"FC2P.13",{"$nulls":32},"Fancoil ",1,1700,1700,{"$f":"AL57","v":{"v":1700,"d":"1,700"}},{"$nulls":3},{"v":7.7272727272727275,"d":"8"},"1x16"]
[null,"FC2P.14",{"$nulls":32},"Fancoil ",1,1700,1700,null,{"$f":"AL58","v":{"v":1700,"d":"1,700"}},null,null,{"v":7.7272727272727275,"d":"8"},"1x16"]
[null,"FC2P.15",{"$nulls":32},"Fancoil ",1,1700,1700,null,null,{"$f":"AL59","v":{"v":1700,"d":"1,700"}},null,{"v":7.7272727272727275,"d":"8"},"1x16"]
[null,"FC2P.16",{"$nulls":32},"Fancoil ",1,1700,1700,{"$f":"AL60","v":{"v":1700,"d":"1,700"}},{"$nulls":3},{"v":7.7272727272727275,"d":"8"},"1x16"]
[null,"FC2P.17",{"$nulls":32},"Fancoil ",1,1700,1700,null,{"$f":"AL61","v":{"v":1700,"d":"1,700"}},null,null,{"v":7.7272727272727275,"d":"8"},"1x16"]
[null,"FC2P.18",{"$nulls":32},"Fancoil ",1,1700,1700,null,null,{"$f":"AL62","v":{"v":1700,"d":"1,700"}},null,{"v":7.7272727272727275,"d":"8"},"1x16"]
[null,"FC2P.19",{"$nulls":32},"Fancoil ",1,3500,3500,{"$f":"AL63","v":{"v":3500,"d":"3,500"}},{"$nulls":3},{"v":15.909090909090908,"d":"16"},"1x25"]
[null,"FC2P.20",{"$nulls":32},"Fancoil ",1,3500,3500,null,{"$f":"AL64","v":{"v":3500,"d":"3,500"}},null,null,{"v":15.909090909090908,"d":"16"},"1x25"]
[null,"FC2P.21",{"$nulls":32},"Fancoil ",1,3900,3900,null,null,{"$f":"AL65","v":{"v":3900,"d":"3,900"}},null,{"v":17.727272727272727,"d":"18"},"1x25"]
[null,"FC2P.22",{"$nulls":32},"Fancoil ",1,3900,3900,{"$f":"AL66","v":{"v":3900,"d":"3,900"}},{"$nulls":3},{"v":17.727272727272727,"d":"18"},"1x25"]
[null,"FC2P.23",{"$nulls":32},"Fancoil ",1,3900,3900,null,{"$f":"AL67","v":{"v":3900,"d":"3,900"}},null,null,{"v":17.727272727272727,"d":"18"},"1x25"]
[null,"FC2P.24",{"$nulls":32},"Fancoil ",1,3900,{"$f":"(AE68*AF68)+(AG68*AH68)+(AJ68*AK68)+(AA68*AB68)+(AC68*AD68)","v":3900},null,null,{"$f":"AL68","v":{"v":3900,"d":"3,900"}},null,{"$f":"AL68/220","v":{"v":17.727272727272727,"d":"18"}},"1x25"]
[null,"FC2P.25",{"$nulls":32},"Fancoil ",1,3900,3900,{"$f":"AL69","v":{"v":3900,"d":"3,900"}},{"$nulls":3},{"v":17.727272727272727,"d":"18"},"1x25"]
[null,"FC2P.26",{"$nulls":32},"Fancoil ",1,4200,4200,null,{"$f":"AL70","v":{"v":4200,"d":"4,200"}},null,null,{"v":19.09090909090909,"d":"19"},"1x25"]
[null,"FC2P.27",{"$nulls":32},"Fancoil ",1,4200,4200,null,null,{"$f":"AL71","v":{"v":4200,"d":"4,200"}},null,{"v":19.09090909090909,"d":"19"},"1x25"]
[null,"FC2P.28",{"$nulls":32},"Fancoil ",1,4200,4200,{"$f":"AL72","v":{"v":4200,"d":"4,200"}},{"$nulls":3},{"v":19.09090909090909,"d":"19"},"1x25"]
[null,"FC2P.29",{"$nulls":32},"Fancoil ",1,5000,5000,null,{"$f":"AL73","v":{"v":5000,"d":"5,000"}},null,null,{"v":22.727272727272727,"d":"23"},"1x25"]
[null,"FC2P.30",{"$nulls":32},"Fancoil ",1,1080,1080,null,null,{"$f":"AL74","v":{"v":1080,"d":"1,080"}},null,{"v":4.909090909090909,"d":"5"},"1x16"]
[null,"FC2P.31",{"$nulls":32},"Fancoil ",1,1080,1080,null,null,{"$f":"AL75","v":{"v":1080,"d":"1,080"}},null,{"v":4.909090909090909,"d":"5"},"1x16"]
[null,"FC2P.32",{"$nulls":32},"Fancoil ",1,1080,1080,null,null,{"$f":"AL76","v":{"v":1080,"d":"1,080"}},null,{"v":4.909090909090909,"d":"5"},"1x16"]
[null,"FC2P.33",{"$nulls":32},"Fancoil ",1,1080,1080,{"$f":"AL77","v":{"v":1080,"d":"1,080"}},{"$nulls":3},{"v":4.909090909090909,"d":"5"},"1x16"]
[null,"FC2P.34",{"$nulls":32},"Fancoil ",1,520,520,null,null,{"$f":"AL78","v":520},null,{"v":2.3636363636363638,"d":"2"},"1x16"]
[null,"Rsva.",{"$nulls":32},"Reserva",1,2000,2000,null,null,{"$f":"AL79","v":{"v":2000,"d":"2,000"}},null,{"v":9.090909090909092,"d":"9"},"1x16"]
[null,"Rsva.",{"$nulls":32},"Reserva",1,2000,2000,{"$f":"AL80","v":{"v":2000,"d":"2,000"}},{"$nulls":3},{"v":9.090909090909092,"d":"9"},"1x16"]
[null,"Rsva.",{"$nulls":32},"Reserva",1,2000,2000,null,{"$f":"AL81","v":{"v":2000,"d":"2,000"}},null,null,{"v":9.090909090909092,"d":"9"},"1x16"]
["TOTAL GENERAL",{"$nulls":35},"Σ ",{"$f":"SUM(AL4:AL81)","v":118390},{"$f":"SUM(AM4:AM81)","v":39430},{"$f":"SUM(AN4:AN81)","v":39750},{"$f":"SUM(AO4:AO81)","v":39210},{"$f":"SUM(AP4:AP81)","v":0},{"$f":"AK89","v":{"v":134.90624678163118,"d":"135"}},{"$f":"AK90","v":"3x150"}]
[]
[]
[{"$nulls":34},"Potencia instalada - Σpotencia ","PI",{"$f":"AL82","v":{"v":118390,"d":"118,390"}}]
[{"$nulls":34},"factor de potencia - ","fp",0.8]
[{"$nulls":34},"factor de demanda - Anexo 3 ANDE","fd",{"$f":"IF(AK85<=2700,1,\nIF(AK85<=3800,0.95,\nIF(AK85<=7200,0.9,\nIF(AK85<=12000,0.85,\nIF(AK85<=20000,0.8,\nIF(AK85<=30000,0.75,\nIF(AK85<=50000,0.7,\nIF(AK85<=80000,0.65,\nIF(AK85<=120000,0.6,\nIF(AK85<=170000,0.55,\nIF(AK85<=250000,0.5,\n0.45)))))))))))","v":0.6}]
[{"$nulls":34},"Potencia Demandada - Pd = PI*fd","Pd",{"$f":"AK85*AK87","v":{"v":71034,"d":"71,034"}}]
[{"$nulls":34},"Corriente - Id = Pd/(√3*380*fp)","Id",{"$f":"AK88/(SQRT(3)*380*AK86)","v":{"v":134.90624678163118,"d":"135"}}]
[{"$nulls":34},"LLave Limitadora","TM","3x150"]
[{"$nulls":34},"Alimentador","S","4x50"]
[{"$nulls":34},"Seccion de Conductor de Proteccion","S_p",{"$f":"_xlfn.CONCAT(\"1x\",IF(VALUE(RIGHT(AK91, LEN(AK91) - FIND(\"x\", AK91))) <= 16, VALUE(RIGHT(AK91, LEN(AK91) - FIND(\"x\", AK91))), IF(AND(VALUE(RIGHT(AK91, LEN(AK91) - FIND(\"x\", AK91))) > 16, VALUE(RIGHT(AK91, LEN(AK91) - FIND(\"x\", AK91))) <= 35), 16, VALUE(RIGHT(AK91, LEN(AK91) - FIND(\"x\", AK91)))/2)))","v":"1x25"}]
[{"$nulls":34},"Corriente admisible Conductor - Iz","Iz",163]
[{"$nulls":34},"Longitud (m)","L",15]
[]
["CUADRO DE CARGAS ELÉCTRICAS TABLERO-TSE-2P"]
["DEPENDENCIA","CTO.","TIPO 1 - LED 38 W",null,"TIPO 2 - LED Est. Adosar 39 W",null,"TIPO 3 - LED Circular Embutido 25 W",null,"TIPO 4 - Spot LED CIrcular Emb. 6 W",null,"TIPO 5 - Spot Cir. Movil LED 12 W",null,"TIPO 6 - Aplique de Adosar LED 5.5 W",null,"TIPO 7 - Adosar Resina LED 6 W",null,"TIPO 8 - LED Circular Embutido 23 W",null,"TIPO 9 - LED Colgante 35 W",null,"TIPO 10 - Proyector LED 50 W",null,"TIPO 11 - LED  Embutido Uni. 1.7 W",null,"TIPO 12 - LED Colgante 25 W",null,"TOMA SIMPLE",null,"TOMA SCHUKO",null,"ESTACIONES DE TRABAJO",null,"SECAMANOS",null,"DESCRIPCIÓN","CANT.","POTENCIA (W)","POTENCIA TOTAL (W)","FASES",{"$nulls":3},"CORRIENTE (A)","TM (A)"]
[null,null,"CANT.","POTENCIA UNIT. (W)","CANT.","POTENCIA UNIT. (W)","CANT.","POTENCIA UNIT. (W)","CANT.","POTENCIA UNIT. (W)","CANT.","POTENCIA UNIT. (W)","CANT.","POTENCIA UNIT. (W)","CANT.","POTENCIA UNIT. (W)","CANT.","POTENCIA UNIT. (W)","CANT.","POTENCIA UNIT. (W)","CANT.","POTENCIA UNIT. (W)","CANT.","POTENCIA UNIT. (W)","CANT.","POTENCIA UNIT. (W)","CANT.","POTENCIA UNIT. (W)","CANT.","POTENCIA UNIT. (W)","CANT.","POTENCIA UNIT. (W)","CANT.","POTENCIA UNIT. (W)",{"$nulls":4},"R","S","T","RST"]
[null,"IE2P.01",22,38,null,null,2,25,2,6,{"$nulls":27},{"$f":"(C99*D99)+(E99*F99)+(G99*H99)+(I99*J99)+(K99*L99)+(M99*N99)+(O99*P99)+(Q99*R99)+(S99*T99)+(U99*V99)+(W99*X99)+(Y99*Z99)+(AA99*AB99)+(AC99*AD99)+(AE99*AF99)+(AG99*AH99)+(AJ99*AK99)","v":898},{"$f":"AL99","v":898},{"$nulls":3},{"$f":"AL99/220","v":{"v":4.081818181818182,"d":"4"}},"1x10"]
[null,"IE2P.02",29,38,null,null,1,25,1,6,{"$nulls":27},{"$f":"(C100*D100)+(E100*F100)+(G100*H100)+(I100*J100)+(K100*L100)+(M100*N100)+(O100*P100)+(Q100*R100)+(S100*T100)+(U100*V100)+(W100*X100)+(Y100*Z100)+(AA100*AB100)+(AC100*AD100)+(AE100*AF100)+(AG100*AH100)+(AJ100*AK100)","v":1133},null,{"$f":"AL100","v":{"v":1133,"d":"1,133"}},null,null,{"v":5.15,"d":"5"},"1x10"]
[null,"IE2P.03",18,38,null,null,2,25,2,6,{"$nulls":27},746,null,null,{"$f":"AL101","v":746},null,{"v":3.390909090909091,"d":"3"},"1x10"]
[null,"IE2P.04",21,38,null,null,1,25,1,6,{"$nulls":27},829,null,null,{"$f":"AL102","v":829},null,{"v":3.768181818181818,"d":"4"},"1x10"]
[null,"IE2P.05",22,38,null,null,2,25,2,6,{"$nulls":27},898,{"$f":"AL103","v":898},{"$nulls":3},{"v":4.081818181818182,"d":"4"},"1x10"]
[null,"IE2P.06",22,38,null,null,2,25,2,6,{"$nulls":27},898,null,{"$f":"AL104","v":898},null,null,{"v":4.081818181818182,"d":"4"},"1x10"]
[null,"IE2P.07",18,38,{"$nulls":33},684,null,null,{"$f":"AL105","v":684},null,{"v":3.109090909090909,"d":"3"},"1x10"]
[null,"IE2P.08",22,38,{"$nulls":33},836,{"$f":"AL106","v":836},{"$nulls":3},{"v":3.8,"d":"4"},"1x10"]
[null,"IE2P.09",12,38,null,null,2,25,{"$nulls":29},506,null,{"$f":"AL107","v":506},null,null,{"v":2.3,"d":"2"},"1x10"]
[null,"IE2P.10",null,null,3,39,11,25,9,6,{"$nulls":27},446,null,null,{"$f":"AL108","v":446},null,{"v":2.0272727272727273,"d":"2"},"1x10"]
[null,"IE2P.11",{"$nulls":4},4,25,4,6,{"$nulls":27},124,null,{"$f":"AL109","v":124},null,null,{"v":0.5636363636363636,"d":"1"},"1x10"]
[null,"IE2P.12",null,null,2,39,{"$nulls":8},2,6,{"$nulls":21},90,{"$f":"AL110","v":90},{"$nulls":3},{"v":0.4090909090909091,"d":"0"},"1x10"]
[null,"IE2P.13",{"$nulls":4},16,25,{"$nulls":29},400,null,{"$f":"AL111","v":400},null,null,{"v":1.8181818181818181,"d":"2"},"1x10"]
[null,"IE2P.14",{"$nulls":4},20,25,{"$nulls":29},500,null,null,{"$f":"AL112","v":500},null,{"v":2.272727272727273,"d":"2"},"1x10"]
[null,"IE2P.15",{"$nulls":4},29,25,1,6,{"$nulls":27},731,{"$f":"AL113","v":731},{"$nulls":3},{"v":3.3227272727272728,"d":"3"},"1x10"]
[null,"IE2P.16",{"$nulls":4},16,25,{"$nulls":29},400,null,{"$f":"AL114","v":400},null,null,{"v":1.8181818181818181,"d":"2"},"1x10"]
[null,"TE2P.01",{"$nulls":28},6,250,{"$nulls":5},1500,null,null,{"$f":"AL115","v":{"v":1500,"d":"1,500"}},null,{"v":6.818181818181818,"d":"7"},"1x16"]
[null,"TE2P.02",{"$nulls":28},4,250,{"$nulls":5},1000,{"$f":"AL116","v":{"v":1000,"d":"1,000"}},{"$nulls":3},{"v":4.545454545454546,"d":"5"},"1x16"]
[null,"TE2P.03",{"$nulls":28},4,250,{"$nulls":5},1000,null,{"$f":"AL117","v":{"v":1000,"d":"1,000"}},null,null,{"v":4.545454545454546,"d":"5"},"1x16"]
[null,"TE2P.04",{"$nulls":28},6,250,{"$nulls":5},1500,{"$f":"AL118","v":{"v":1500,"d":"1,500"}},{"$nulls":3},{"v":6.818181818181818,"d":"7"},"1x16"]
[null,"TE2P.05",{"$nulls":28},6,250,{"$nulls":5},1500,null,{"$f":"AL119","v":{"v":1500,"d":"1,500"}},null,null,{"v":6.818181818181818,"d":"7"},"1x16"]
[null,"TE2P.06",{"$nulls":28},7,250,{"$nulls":5},1750,null,null,{"$f":"AL120","v":{"v":1750,"d":"1,750"}},null,{"v":7.954545454545454,"d":"8"},"1x16"]
[null,"TE2P.07",{"$nulls":28},6,250,{"$nulls":5},1500,{"$f":"AL121","v":{"v":1500,"d":"1,500"}},{"$nulls":3},{"v":6.818181818181818,"d":"7"},"1x16"]
[null,"TE2P.08",{"$nulls":28},6,250,{"$nulls":5},1500,null,{"$f":"AL122","v":{"v":1500,"d":"1,500"}},null,null,{"v":6.818181818181818,"d":"7"},"1x16"]
[null,"TE2P.09",{"$nulls":28},6,250,{"$nulls":5},1500,null,null,{"$f":"AL123","v":{"v":1500,"d":"1,500"}},null,{"v":6.818181818181818,"d":"7"},"1x16"]
[null,"TE2P.10",{"$nulls":28},6,250,{"$nulls":5},1500,{"$f":"AL124","v":{"v":1500,"d":"1,500"}},{"$nulls":3},{"v":6.818181818181818,"d":"7"},"1x16"]
[null,"TE2P.11",{"$nulls":28},4,250,{"$nulls":5},1000,null,{"$f":"AL125","v":{"v":1000,"d":"1,000"}},null,null,{"v":4.545454545454546,"d":"5"},"1x16"]
[null,"TE2P.12",{"$nulls":28},5,250,{"$nulls":5},1250,null,null,{"$f":"AL126","v":{"v":1250,"d":"1,250"}},null,{"v":5.681818181818182,"d":"6"},"1x16"]
[null,"TE2P.13",{"$nulls":28},4,250,{"$nulls":5},1000,null,{"$f":"AL127","v":{"v":1000,"d":"1,000"}},null,null,{"v":4.545454545454546,"d":"5"},"1x16"]
[null,"TE2P.14",{"$nulls":28},4,250,{"$nulls":5},1000,{"$f":"AL128","v":{"v":1000,"d":"1,000"}},{"$nulls":3},{"v":4.545454545454546,"d":"5"},"1x16"]
[null,"TE2P.15",{"$nulls":28},4,250,{"$nulls":5},1000,null,null,{"$f":"AL129","v":{"v":1000,"d":"1,000"}},null,{"v":4.545454545454546,"d":"5"},"1x16"]
[null,"TE2P.16",{"$nulls":28},2,250,{"$nulls":5},500,null,{"$f":"AL130","v":500},null,null,{"v":2.272727272727273,"d":"2"},"1x16"]
[null,"TE2P.17",{"$nulls":28},3,250,{"$nulls":5},750,{"$f":"AL131","v":750},{"$nulls":3},{"v":3.409090909090909,"d":"3"},"1x16"]
[null,"TE2P.18",{"$nulls":28},6,250,{"$nulls":5},1500,null,{"$f":"AL132","v":{"v":1500,"d":"1,500"}},null,null,{"v":6.818181818181818,"d":"7"},"1x16"]
[null,"TE2P.19",{"$nulls":28},2,250,{"$nulls":5},500,null,null,{"$f":"AL133","v":500},null,{"v":2.272727272727273,"d":"2"},"1x16"]
[null,"TE2P.20",{"$nulls":28},6,250,{"$nulls":5},1500,{"$f":"AL134","v":{"v":1500,"d":"1,500"}},{"$nulls":3},{"v":6.818181818181818,"d":"7"},"1x16"]
[null,"TE2P.21",{"$nulls":28},5,250,{"$nulls":5},1250,null,null,{"$f":"AL135","v":{"v":1250,"d":"1,250"}},null,{"v":5.681818181818182,"d":"6"},"1x16"]
[null,"TE2P.22",{"$nulls":28},2,250,{"$nulls":5},500,null,{"$f":"AL136","v":500},null,null,{"v":2.272727272727273,"d":"2"},"1x16"]
[null,"TE2P.23",{"$nulls":28},6,250,{"$nulls":5},1500,null,null,{"$f":"AL137","v":{"v":1500,"d":"1,500"}},null,{"v":6.818181818181818,"d":"7"},"1x16"]
[null,"TE2P.24",{"$nulls":28},2,250,{"$nulls":5},500,null,{"$f":"AL138","v":500},null,null,{"v":2.272727272727273,"d":"2"},"1x16"]
[null,"TE2P.25",{"$nulls":24},4,200,{"$nulls":9},800,{"$f":"AL139","v":800},{"$nulls":3},{"v":3.6363636363636362,"d":"4"},"1x16"]
[null,"TE2P.26",{"$nulls":24},1,100,{"$nulls":9},100,null,{"$f":"AL140","v":100},null,null,{"v":0.45454545454545453,"d":"0"},"1x16"]
[null,"TE2P.27",{"$nulls":24},1,100,{"$nulls":9},100,null,{"$f":"AL141","v":100},null,null,{"v":0.45454545454545453,"d":"0"},"1x16"]
[null,"TE2P.28",{"$nulls":24},1,100,{"$nulls":9},100,null,{"$f":"AL142","v":100},null,null,{"v":0.45454545454545453,"d":"0"},"1x16"]
[null,"Rsva.",{"$nulls":32},"Reserva",1,2000,{"$f":"(C143*D143)+(E143*F143)+(G143*H143)+(I143*J143)+(K143*L143)+(M143*N143)+(O143*P143)+(Q143*R143)+(S143*T143)+(U143*V143)+(W143*X143)+(Y143*Z143)+(AA143*AB143)+(AC143*AD143)+(AE143*AF143)+(AG143*AH143)+(AJ143*AK143)","v":2000},null,{"$f":"AL143","v":{"v":2000,"d":"2,000"}},null,null,{"$f":"AL143/220","v":{"v":9.090909090909092,"d":"9"}},"1x16"]
[null,"Rsva.",{"$nulls":32},"Reserva",1,2000,2000,{"$f":"AL144","v":{"v":2000,"d":"2,000"}},{"$nulls":3},{"v":9.090909090909092,"d":"9"},"1x16"]
[null,"Rsva.",{"$nulls":32},"Reserva",1,2000,2000,null,null,{"$f":"AL145","v":{"v":2000,"d":"2,000"}},null,{"v":9.090909090909092,"d":"9"},"1x16"]
[null,"TSE-ASC2",{"$nulls":32},"Tablero Seccional TSE-ASC2",1,{"$f":"'TSE-ASC2'!F6","v":4533},4533,{"$f":"'TSE-ASC2'!G6","v":{"v":1533,"d":"1,533"}},{"$f":"'TSE-ASC2'!H6","v":{"v":1500,"d":"1,500"}},{"$f":"'TSE-ASC2'!I6","v":{"v":1500,"d":"1,500"}},{"$f":"'TSE-ASC2'!J6","v":{"v":4500,"d":"4,500"}},{"$f":"'TSE-ASC2'!K6","v":{"v":8.608976217883466,"d":"9"}},{"$f":"'TSE-ASC2'!L6","v":"3x25"}]
["TOTAL GENERAL",{"$nulls":35},"Σ ",{"$f":"SUM(AL99:AL146)","v":49752},{"$f":"SUM(AM99:AM146)","v":16536},16261,16955,4500,{"$f":"AK154","v":{"v":94.48792958132323,"d":"94"}},{"$f":"AK155","v":"3x100"}]
[]
[]
[{"$nulls":34},"Potencia instalada - Σpotencia ","PI",{"$f":"AL147","v":{"v":49752,"d":"49,752"}}]
[{"$nulls":34},"factor de potencia - ","fp",0.8]
[{"$nulls":34},"factor de demanda - Anexo 3 ANDE","fd",1]
[{"$nulls":34},"Potencia Demandada - Pd = PI*fd","Pd",{"$f":"AK150*AK152","v":{"v":49752,"d":"49,752"}}]
[{"$nulls":34},"Corriente - Id = Pd/(√3*380*fp)","Id",{"$f":"AK153/(SQRT(3)*380*AK151)","v":{"v":94.48792958132323,"d":"94"}}]
[{"$nulls":34},"LLave Limitadora","TM","3x100"]
[{"$nulls":34},"Alimentador","S","4x25"]
[{"$nulls":34},"Seccion de Conductor de Proteccion","S_p",{"$f":"_xlfn.CONCAT(\"1x\",IF(VALUE(RIGHT(AK156, LEN(AK156) - FIND(\"x\", AK156))) <= 16, VALUE(RIGHT(AK156, LEN(AK156) - FIND(\"x\", AK156))), IF(AND(VALUE(RIGHT(AK156, LEN(AK156) - FIND(\"x\", AK156))) > 16, VALUE(RIGHT(AK156, LEN(AK156) - FIND(\"x\", AK156))) <= 35), 16, VALUE(RIGHT(AK156, LEN(AK156) - FIND(\"x\", AK156)))/2)))","v":"1x16"}]
[{"$nulls":34},"Corriente admisible Conductor - Iz","Iz",115]
[{"$nulls":34},"Longitud (m)","L",15]

{"sheet":"TSE-TSN-3P","index":6,"n_rows":133,"n_cols":44,"rows_kept":133,"merged":[[0,0,0,43],[1,0,2,0],[1,1,2,1],[1,2,1,3],[1,4,1,5],[1,6,1,7],[1,8,1,9],[1,10,1,11],[1,12,1,13],[1,14,1,15],[1,16,1,17],[1,18,1,19],[1,20,1,21],[1,22,1,23],[1,24,1,25],[1,26,1,27],[1,28,1,29],[1,30,1,31],[1,32,1,33],[1,34,2,34],[1,35,2,35],[1,36,2,36],[1,37,2,37],[1,38,1,41],[1,42,2,42],[1,43,2,43],[69,0,69,34],[83,0,83,43],[84,0,85,0],[84,1,85,1],[84,2,84,3],[84,4,84,5],[84,6,84,7],[84,8,84,9],[84,10,84,11],[84,12,84,13],[84,14,84,15],[84,16,84,17],[84,18,84,19],[84,20,84,21],[84,22,84,23],[84,24,84,25],[84,26,84,27],[84,28,84,29],[84,30,84,31],[84,32,84,33],[84,34,85,34],[84,35,85,35],[84,36,85,36],[84,37,85,37],[84,38,84,41],[84,42,85,42],[84,43,85,43],[120,0,120,34]]}
["CUADRO DE CARGAS ELÉCTRICAS TABLERO-TSN-3P"]
["DEPENDENCIA","CTO.","TIPO 1 - LED 38 W",null,"TIPO 2 - LED Est. Adosar 39 W",null,"TIPO 3 - LED Circular Embutido 25 W",null,"TIPO 4 - Spot LED CIrcular Emb. 6 W",null,"TIPO 5 - Spot Cir. Movil LED 12 W",null,"TIPO 6 - Aplique de Adosar LED 5.5 W",null,"TIPO 7 - Adosar Resina LED 6 W",null,"TIPO 8 - LED Circular Embutido 23 W",null,"TIPO 9 - LED Colgante 35 W",null,"TIPO 10 - Proyector LED 50 W",null,"TIPO 11 - LED  Embutido Uni. 1.7 W",null,"TIPO 12 - LED Colgante 25 W",null,"TOMA SIMPLE",null,"TOMA SCHUKO",null,"ESTACIONES DE TRABAJO",null,"SECAMANOS",null,"DESCRIPCIÓN","CANT.","POTENCIA (W)","POTENCIA TOTAL (W)","FASES",{"$nulls":3},"CORRIENTE (A)","TM (A)"]
[null,null,"CANT.","POTENCIA UNIT. (W)","CANT.","POTENCIA UNIT. (W)","CANT.","POTENCIA UNIT. (W)","CANT.","POTENCIA UNIT. (W)","CANT.","POTENCIA UNIT. (W)","CANT.","POTENCIA UNIT. (W)","CANT.","POTENCIA UNIT. (W)","CANT.","POTENCIA UNIT. (W)","CANT.","POTENCIA UNIT. (W)","CANT.","POTENCIA UNIT. (W)","CANT.","POTENCIA UNIT. (W)","CANT.","POTENCIA UNIT. (W)","CANT.","POTENCIA UNIT. (W)","CANT.","POTENCIA UNIT. (W)","CANT.","POTENCIA UNIT. (W)","CANT.","POTENCIA UNIT. (W)",{"$nulls":4},"R","S","T","RST"]
[null,"TN3P.01",{"$nulls":28},3,250,{"$nulls":5},{"$f":"(AE4*AF4)+(AG4*AH4)+(AJ4*AK4)+(AA4*AB4)+(AC4*AD4)","v":750},{"$f":"AL4","v":750},{"$nulls":3},{"$f":"AL4/220","v":{"v":3.409090909090909,"d":"3"}},"1x16"]
[null,"TN3P.02",{"$nulls":28},3,250,{"$nulls":5},{"$f":"(AE5*AF5)+(AG5*AH5)+(AJ5*AK5)+(AA5*AB5)+(AC5*AD5)","v":750},null,{"$f":"AL5","v":750},null,null,{"v":3.409090909090909,"d":"3"},"1x16"]
[null,"TN3P.03",{"$nulls":28},3,250,{"$nulls":5},750,null,null,{"$f":"AL6","v":750},null,{"v":3.409090909090909,"d":"3"},"1x16"]
[null,"TN3P.04",{"$nulls":28},3,250,{"$nulls":5},750,{"$f":"AL7","v":750},{"$nulls":3},{"v":3.409090909090909,"d":"3"},"1x16"]
[null,"TN3P.05",{"$nulls":28},6,250,{"$nulls":5},1500,null,{"$f":"AL8","v":{"v":1500,"d":"1,500"}},null,null,{"v":6.818181818181818,"d":"7"},"1x16"]
[null,"TN3P.06",{"$nulls":28},6,250,{"$nulls":5},1500,null,null,{"$f":"AL9","v":{"v":1500,"d":"1,500"}},null,{"v":6.818181818181818,"d":"7"},"1x16"]
[null,"TN3P.07",{"$nulls":28},6,250,{"$nulls":5},1500,{"$f":"AL10","v":{"v":1500,"d":"1,500"}},{"$nulls":3},{"v":6.818181818181818,"d":"7"},"1x16"]
[null,"TN3P.08",{"$nulls":28},3,250,{"$nulls":5},750,null,{"$f":"AL11","v":750},null,null,{"v":3.409090909090909,"d":"3"},"1x16"]
[null,"TN3P.09",{"$nulls":28},2,250,{"$nulls":5},500,null,null,{"$f":"AL12","v":500},null,{"v":2.272727272727273,"d":"2"},"1x16"]
[null,"TN3P.10",{"$nulls":28},2,250,{"$nulls":5},500,null,null,{"$f":"AL13","v":500},null,{"v":2.272727272727273,"d":"2"},"1x16"]
[null,"TN3P.11",{"$nulls":28},4,250,{"$nulls":5},1000,{"$f":"AL14","v":{"v":1000,"d":"1,000"}},{"$nulls":3},{"v":4.545454545454546,"d":"5"},"1x16"]
[null,"TN3P.12",{"$nulls":28},2,250,{"$nulls":5},500,null,{"$f":"AL15","v":500},null,null,{"v":2.272727272727273,"d":"2"},"1x16"]
[null,"TN3P.13",{"$nulls":24},8,100,{"$nulls":9},800,null,null,{"$f":"AL16","v":800},null,{"v":3.6363636363636362,"d":"4"},"1x16"]
[null,"TN3P.14",{"$nulls":24},3,100,{"$nulls":9},300,null,{"$f":"AL17","v":300},null,null,{"v":1.3636363636363635,"d":"1"},"1x16"]
[null,"TN3P.15",{"$nulls":24},3,100,{"$nulls":9},300,null,{"$f":"AL18","v":300},null,null,{"v":1.3636363636363635,"d":"1"},"1x16"]
[null,"TN3P.16",{"$nulls":24},2,100,{"$nulls":9},200,{"$f":"AL19","v":200},{"$nulls":3},{"v":0.9090909090909091,"d":"1"},"1x16"]
[null,"TN3P.17",{"$nulls":24},2,100,{"$nulls":9},200,null,null,{"$f":"AL20","v":200},null,{"v":0.9090909090909091,"d":"1"},"1x16"]
[null,"TN3P.18",{"$nulls":24},2,100,{"$nulls":9},200,null,{"$f":"AL21","v":200},null,null,{"v":0.9090909090909091,"d":"1"},"1x16"]
[null,"TN3P.19",{"$nulls":24},9,100,{"$nulls":9},900,{"$f":"AL22","v":900},{"$nulls":3},{"v":4.090909090909091,"d":"4"},"1x16"]
[null,"TN3P.20",{"$nulls":24},4,100,{"$nulls":9},400,null,null,{"$f":"AL23","v":400},null,{"v":1.8181818181818181,"d":"2"},"1x16"]
[null,"TN3P.21",{"$nulls":24},5,100,{"$nulls":9},500,null,{"$f":"AL24","v":500},null,null,{"v":2.272727272727273,"d":"2"},"1x16"]
[null,"TN3P.22",{"$nulls":24},4,100,{"$nulls":9},400,null,null,{"$f":"AL25","v":400},null,{"v":1.8181818181818181,"d":"2"},"1x16"]
[null,"TS3P.01",{"$nulls":26},1,1000,{"$nulls":7},1000,null,{"$f":"AL26","v":{"v":1000,"d":"1,000"}},null,null,{"v":4.545454545454546,"d":"5"},"1x16"]
[null,"TS3P.02",{"$nulls":26},1,1000,{"$nulls":7},1000,null,null,{"$f":"AL27","v":{"v":1000,"d":"1,000"}},null,{"v":4.545454545454546,"d":"5"},"1x16"]
[null,"SM3P.01",{"$nulls":30},1,1800,{"$nulls":3},1800,{"$f":"AL28","v":{"v":1800,"d":"1,800"}},{"$nulls":3},{"v":8.181818181818182,"d":"8"},"1x16"]
[null,"SM3P.02",{"$nulls":30},1,1800,{"$nulls":3},1800,null,{"$f":"AL29","v":{"v":1800,"d":"1,800"}},null,null,{"v":8.181818181818182,"d":"8"},"1x16"]
[null,"SM3P.03",{"$nulls":30},1,1800,{"$nulls":3},1800,null,null,{"$f":"AL30","v":{"v":1800,"d":"1,800"}},null,{"v":8.181818181818182,"d":"8"},"1x16"]
[null,"SM3P.04",{"$nulls":30},1,1800,{"$nulls":3},1800,{"$f":"AL31","v":{"v":1800,"d":"1,800"}},{"$nulls":3},{"v":8.181818181818182,"d":"8"},"1x16"]
[null,"SM3P.05",{"$nulls":30},1,1800,{"$nulls":3},1800,null,{"$f":"AL32","v":{"v":1800,"d":"1,800"}},null,null,{"v":8.181818181818182,"d":"8"},"1x16"]
[null,"SM3P.06",{"$nulls":30},1,1800,{"$nulls":3},1800,null,null,{"$f":"AL33","v":{"v":1800,"d":"1,800"}},null,{"v":8.181818181818182,"d":"8"},"1x16"]
[null,"SM3P.07",{"$nulls":30},1,1800,{"$nulls":3},1800,{"$f":"AL34","v":{"v":1800,"d":"1,800"}},{"$nulls":3},{"v":8.181818181818182,"d":"8"},"1x16"]
[null,"FC3P.01",{"$nulls":32},"Fancoil ",1,1500,1500,null,{"$f":"AL35","v":{"v":1500,"d":"1,500"}},null,null,{"v":6.818181818181818,"d":"7"},"1x16"]
[null,"FC3P.02",{"$nulls":32},"Fancoil ",1,1500,1500,null,null,{"$f":"AL36","v":{"v":1500,"d":"1,500"}},null,{"$f":"AL36/220","v":{"v":6.818181818181818,"d":"7"}},"1x16"]
[null,"FC3P.03",{"$nulls":32},"Fancoil ",1,1500,1500,{"$f":"AL37","v":{"v":1500,"d":"1,500"}},{"$nulls":3},{"v":6.818181818181818,"d":"7"},"1x16"]
[null,"FC3P.04",{"$nulls":32},"Fancoil ",1,1700,1700,null,{"$f":"AL38","v":{"v":1700,"d":"1,700"}},null,null,{"v":7.7272727272727275,"d":"8"},"1x16"]
[null,"FC3P.05",{"$nulls":32},"Fancoil ",1,1700,1700,null,null,{"$f":"AL39","v":{"v":1700,"d":"1,700"}},null,{"v":7.7272727272727275,"d":"8"},"1x16"]
[null,"FC3P.06",{"$nulls":32},"Fancoil ",1,1700,1700,{"$f":"AL40","v":{"v":1700,"d":"1,700"}},{"$nulls":3},{"v":7.7272727272727275,"d":"8"},"1x16"]
[null,"FC3P.07",{"$nulls":32},"Fancoil ",1,1700,1700,null,{"$f":"AL41","v":{"v":1700,"d":"1,700"}},null,null,{"v":7.7272727272727275,"d":"8"},"1x16"]
[null,"FC3P.08",{"$nulls":32},"Fancoil ",1,1700,1700,null,null,{"$f":"AL42","v":{"v":1700,"d":"1,700"}},null,{"v":7.7272727272727275,"d":"8"},"1x16"]
[null,"FC3P.09",{"$nulls":32},"Fancoil ",1,1700,1700,{"$f":"AL43","v":{"v":1700,"d":"1,700"}},{"$nulls":3},{"v":7.7272727272727275,"d":"8"},"1x16"]
[null,"FC3P.10",{"$nulls":32},"Fancoil ",1,1700,1700,null,{"$f":"AL44","v":{"v":1700,"d":"1,700"}},null,null,{"v":7.7272727272727275,"d":"8"},"1x16"]
[null,"FC3P.11",{"$nulls":32},"Fancoil ",1,1700,1700,null,null,{"$f":"AL45","v":{"v":1700,"d":"1,700"}},null,{"v":7.7272727272727275,"d":"8"},"1x16"]
[null,"FC3P.12",{"$nulls":32},"Fancoil ",1,1700,1700,{"$f":"AL46","v":{"v":1700,"d":"1,700"}},{"$nulls":3},{"v":7.7272727272727275,"d":"8"},"1x16"]
[null,"FC3P.13",{"$nulls":32},"Fancoil ",1,1700,1700,null,{"$f":"AL47","v":{"v":1700,"d":"1,700"}},null,null,{"v":7.7272727272727275,"d":"8"},"1x16"]
[null,"FC3P.14",{"$nulls":32},"Fancoil ",1,1700,1700,null,null,{"$f":"AL48","v":{"v":1700,"d":"1,700"}},null,{"v":7.7272727272727275,"d":"8"},"1x16"]
[null,"FC3P.15",{"$nulls":32},"Fancoil ",1,1700,1700,{"$f":"AL49","v":{"v":1700,"d":"1,700"}},{"$nulls":3},{"v":7.7272727272727275,"d":"8"},"1x16"]
[null,"FC3P.16",{"$nulls":32},"Fancoil ",1,1700,1700,null,{"$f":"AL50","v":{"v":1700,"d":"1,700"}},null,null,{"v":7.7272727272727275,"d":"8"},"1x16"]
[null,"FC3P.17",{"$nulls":32},"Fancoil ",1,1700,1700,null,null,{"$f":"AL51","v":{"v":1700,"d":"1,700"}},null,{"v":7.7272727272727275,"d":"8"},"1x16"]
[null,"FC3P.18",{"$nulls":32},"Fancoil ",1,1700,1700,{"$f":"AL52","v":{"v":1700,"d":"1,700"}},{"$nulls":3},{"v":7.7272727272727275,"d":"8"},"1x16"]
[null,"FC3P.19",{"$nulls":32},"Fancoil ",1,1700,1700,null,{"$f":"AL53","v":{"v":1700,"d":"1,700"}},null,null,{"v":7.7272727272727275,"d":"8"},"1x16"]
[null,"FC3P.20",{"$nulls":32},"Fancoil ",1,1700,1700,null,null,{"$f":"AL54","v":{"v":1700,"d":"1,700"}},null,{"v":7.7272727272727275,"d":"8"},"1x16"]
[null,"FC3P.21",{"$nulls":32},"Fancoil ",1,3500,3500,{"$f":"AL55","v":{"v":3500,"d":"3,500"}},{"$nulls":3},{"v":15.909090909090908,"d":"16"},"1x25"]
[null,"FC3P.22",{"$nulls":32},"Fancoil ",1,3500,3500,null,{"$f":"AL56","v":{"v":3500,"d":"3,500"}},null,null,{"v":15.909090909090908,"d":"16"},"1x25"]
[null,"FC3P.23",{"$nulls":32},"Fancoil ",1,3500,3500,null,null,{"$f":"AL57","v":{"v":3500,"d":"3,500"}},null,{"v":15.909090909090908,"d":"16"},"1x25"]
[null,"FC3P.24",{"$nulls":32},"Fancoil ",1,3900,3900,{"$f":"AL58","v":{"v":3900,"d":"3,900"}},{"$nulls":3},{"v":17.727272727272727,"d":"18"},"1x25"]
[null,"FC3P.25",{"$nulls":32},"Fancoil ",1,3900,3900,null,{"$f":"AL59","v":{"v":3900,"d":"3,900"}},null,null,{"v":17.727272727272727,"d":"18"},"1x25"]
[null,"FC3P.26",{"$nulls":32},"Fancoil ",1,3900,3900,null,null,{"$f":"AL60","v":{"v":3900,"d":"3,900"}},null,{"v":17.727272727272727,"d":"18"},"1x25"]
[null,"FC3P.27",{"$nulls":32},"Fancoil ",1,4200,4200,{"$f":"AL61","v":{"v":4200,"d":"4,200"}},{"$nulls":3},{"v":19.09090909090909,"d":"19"},"1x25"]
[null,"FC3P.28",{"$nulls":32},"Fancoil ",1,4200,4200,null,{"$f":"AL62","v":{"v":4200,"d":"4,200"}},null,null,{"v":19.09090909090909,"d":"19"},"1x25"]
[null,"FC3P.29",{"$nulls":32},"Fancoil ",1,4200,4200,null,null,{"$f":"AL63","v":{"v":4200,"d":"4,200"}},null,{"v":19.09090909090909,"d":"19"},"1x25"]
[null,"FC3P.30",{"$nulls":32},"Fancoil ",1,1080,1080,{"$f":"AL64","v":{"v":1080,"d":"1,080"}},{"$nulls":3},{"v":4.909090909090909,"d":"5"},"1x16"]
[null,"FC3P.31",{"$nulls":32},"Fancoil ",1,1080,1080,null,{"$f":"AL65","v":{"v":1080,"d":"1,080"}},null,null,{"v":4.909090909090909,"d":"5"},"1x16"]
[null,"FC3P.32",{"$nulls":32},"Fancoil ",1,1080,1080,null,null,{"$f":"AL66","v":{"v":1080,"d":"1,080"}},null,{"v":4.909090909090909,"d":"5"},"1x16"]
[null,"Rsva.",{"$nulls":32},"Reserva",1,2000,2000,{"$f":"AL67","v":{"v":2000,"d":"2,000"}},{"$nulls":3},{"v":9.090909090909092,"d":"9"},"1x16"]
[null,"Rsva.",{"$nulls":32},"Reserva",1,2000,2000,null,{"$f":"AL68","v":{"v":2000,"d":"2,000"}},null,null,{"v":9.090909090909092,"d":"9"},"1x16"]
[null,"Rsva.",{"$nulls":32},"Reserva",1,2000,{"$f":"(AE69*AF69)+(AG69*AH69)+(AJ69*AK69)+(AA69*AB69)+(AC69*AD69)","v":2000},null,null,{"$f":"AL69","v":{"v":2000,"d":"2,000"}},null,{"v":9.090909090909092,"d":"9"},"1x16"]
["TOTAL GENERAL",{"$nulls":35},"Σ ",{"$f":"SUM(AL4:AL69)","v":106990},{"$f":"SUM(AM4:AM69)","v":35180},35780,36030,0,{"$f":"AK77","v":{"v":121.9158657248646,"d":"122"}},{"$f":"AK78","v":"3x150"}]
[]
[]
[{"$nulls":34},"Potencia instalada - Σpotencia ","PI",{"$f":"AL70","v":{"v":106990,"d":"106,990"}}]
[{"$nulls":34},"factor de potencia - ","fp",0.8]
[{"$nulls":34},"factor de demanda - Anexo 3 ANDE","fd",{"$f":"IF(AK73<=2700,1,\nIF(AK73<=3800,0.95,\nIF(AK73<=7200,0.9,\nIF(AK73<=12000,0.85,\nIF(AK73<=20000,0.8,\nIF(AK73<=30000,0.75,\nIF(AK73<=50000,0.7,\nIF(AK73<=80000,0.65,\nIF(AK73<=120000,0.6,\nIF(AK73<=170000,0.55,\nIF(AK73<=250000,0.5,\n0.45)))))))))))","v":0.6}]
[{"$nulls":34},"Potencia Demandada - Pd = PI*fd","Pd",{"$f":"AK73*AK75","v":{"v":64194,"d":"64,194"}}]
[{"$nulls":34},"Corriente - Id = Pd/(√3*380*fp)","Id",{"$f":"AK76/(SQRT(3)*380*AK74)","v":{"v":121.9158657248646,"d":"122"}}]
[{"$nulls":34},"LLave Limitadora","TM","3x150"]
[{"$nulls":34},"Alimentador","S","4x50"]
[{"$nulls":34},"Seccion de Conductor de Proteccion","S_p",{"$f":"_xlfn.CONCAT(\"1x\",IF(VALUE(RIGHT(AK79, LEN(AK79) - FIND(\"x\", AK79))) <= 16, VALUE(RIGHT(AK79, LEN(AK79) - FIND(\"x\", AK79))), IF(AND(VALUE(RIGHT(AK79, LEN(AK79) - FIND(\"x\", AK79))) > 16, VALUE(RIGHT(AK79, LEN(AK79) - FIND(\"x\", AK79))) <= 35), 16, VALUE(RIGHT(AK79, LEN(AK79) - FIND(\"x\", AK79)))/2)))","v":"1x25"}]
[{"$nulls":34},"Corriente admisible Conductor - Iz","Iz",163]
[{"$nulls":34},"Longitud (m)","L",20]
[]
["CUADRO DE CARGAS ELÉCTRICAS TABLERO-TSE-3P"]
["DEPENDENCIA","CTO.","TIPO 1 - LED 38 W",null,"TIPO 2 - LED Est. Adosar 39 W",null,"TIPO 3 - LED Circular Embutido 25 W",null,"TIPO 4 - Spot LED CIrcular Emb. 6 W",null,"TIPO 13 - Aplique de Adosar",null,"TIPO 6 - Aplique de Adosar LED 5.5 W",null,"TIPO 7 - Adosar Resina LED 6 W",null,"TIPO 8 - LED Circular Embutido 23 W",null,"TIPO 9 - LED Colgante 35 W",null,"TIPO 10 - Proyector LED 50 W",null,"TIPO 11 - LED  Embutido Uni. 1.7 W",null,"TIPO 12 - LED Colgante 25 W",null,"TOMA SIMPLE",null,"TOMA SCHUKO",null,"ESTACIONES DE TRABAJO",null,"SECAMANOS",null,"DESCRIPCIÓN","CANT.","POTENCIA (W)","POTENCIA TOTAL (W)","FASES",{"$nulls":3},"CORRIENTE (A)","TM (A)"]
[null,null,"CANT.","POTENCIA UNIT. (W)","CANT.","POTENCIA UNIT. (W)","CANT.","POTENCIA UNIT. (W)","CANT.","POTENCIA UNIT. (W)","CANT.","POTENCIA UNIT. (W)","CANT.","POTENCIA UNIT. (W)","CANT.","POTENCIA UNIT. (W)","CANT.","POTENCIA UNIT. (W)","CANT.","POTENCIA UNIT. (W)","CANT.","POTENCIA UNIT. (W)","CANT.","POTENCIA UNIT. (W)","CANT.","POTENCIA UNIT. (W)","CANT.","POTENCIA UNIT. (W)","CANT.","POTENCIA UNIT. (W)","CANT.","POTENCIA UNIT. (W)","CANT.","POTENCIA UNIT. (W)",{"$nulls":4},"R","S","T","RST"]
[null,"IE3P.01",null,null,7,39,{"$nulls":31},{"$f":"(C87*D87)+(E87*F87)+(G87*H87)+(I87*J87)+(K87*L87)+(M87*N87)+(O87*P87)+(Q87*R87)+(S87*T87)+(U87*V87)+(W87*X87)+(Y87*Z87)+(AA87*AB87)+(AC87*AD87)+(AE87*AF87)+(AG87*AH87)+(AJ87*AK87)","v":273},{"$f":"AL87","v":273},{"$nulls":3},{"$f":"AL87/220","v":{"v":1.240909090909091,"d":"1"}},"1x10"]
[null,"IE3P.02",null,null,5,39,{"$nulls":31},{"$f":"(C88*D88)+(E88*F88)+(G88*H88)+(I88*J88)+(K88*L88)+(M88*N88)+(O88*P88)+(Q88*R88)+(S88*T88)+(U88*V88)+(W88*X88)+(Y88*Z88)+(AA88*AB88)+(AC88*AD88)+(AE88*AF88)+(AG88*AH88)+(AJ88*AK88)","v":195},null,{"$f":"AL88","v":195},null,null,{"v":0.8863636363636364,"d":"1"},"1x10"]
[null,"IE3P.03",null,null,16,39,{"$nulls":31},624,null,null,{"$f":"AL89","v":624},null,{"v":2.8363636363636364,"d":"3"},"1x10"]
[null,"IE3P.04",null,null,11,39,{"$nulls":31},429,null,{"$f":"AL90","v":429},null,null,{"v":1.95,"d":"2"},"1x10"]
[null,"IE3P.05",25,38,{"$nulls":33},950,{"$f":"AL91","v":950},{"$nulls":3},{"v":4.318181818181818,"d":"4"},"1x10"]
[null,"IE3P.06",20,38,{"$nulls":33},760,null,{"$f":"AL92","v":760},null,null,{"v":3.4545454545454546,"d":"3"},"1x10"]
[null,"IE3P.07",17,38,null,null,4,25,{"$nulls":29},746,null,null,{"$f":"AL93","v":746},null,{"v":3.390909090909091,"d":"3"},"1x10"]
[null,"IE3P.08",16,38,null,null,2,25,{"$nulls":29},658,{"$f":"AL94","v":658},{"$nulls":3},{"v":2.9909090909090907,"d":"3"},"1x10"]
[null,"IE3P.09",12,38,{"$nulls":33},456,null,null,{"$f":"AL95","v":456},null,{"v":2.0727272727272728,"d":"2"},"1x10"]
[null,"IE3P.10",null,null,3,39,10,25,9,6,{"$nulls":27},421,null,{"$f":"AL96","v":421},null,null,{"v":1.9136363636363636,"d":"2"},"1x10"]
[null,"IE3P.11",null,null,1,39,4,25,4,6,{"$nulls":27},163,null,{"$f":"AL97","v":163},null,null,{"v":0.740909090909091,"d":"1"},"1x10"]
[null,"IE3P.12",{"$nulls":4},20,25,{"$nulls":29},500,null,null,{"$f":"AL98","v":500},null,{"v":2.272727272727273,"d":"2"},"1x10"]
[null,"IE3P.13",{"$nulls":4},13,25,{"$nulls":29},325,{"$f":"AL99","v":325},{"$nulls":3},{"v":1.4772727272727273,"d":"1"},"1x10"]
[null,"IE3P.14",{"$nulls":4},31,25,1,6,{"$nulls":27},781,null,{"$f":"AL100","v":781},null,null,{"v":3.55,"d":"4"},"1x10"]
[null,"IE3P.15",{"$nulls":8},21,39,{"$nulls":25},819,{"$f":"AL101","v":819},{"$nulls":3},{"v":3.7227272727272727,"d":"4"},"1x10"]
[null,"TE3P.01",{"$nulls":28},4,250,{"$nulls":5},1000,null,null,{"$f":"AL102","v":{"v":1000,"d":"1,000"}},null,{"v":4.545454545454546,"d":"5"},"1x16"]
[null,"TE3P.02",{"$nulls":28},6,250,{"$nulls":5},1500,null,{"$f":"AL103","v":{"v":1500,"d":"1,500"}},null,null,{"v":6.818181818181818,"d":"7"},"1x16"]
[null,"TE3P.03",{"$nulls":28},6,250,{"$nulls":5},1500,{"$f":"AL104","v":{"v":1500,"d":"1,500"}},{"$nulls":3},{"v":6.818181818181818,"d":"7"},"1x16"]
[null,"TE3P.04",{"$nulls":28},4,250,{"$nulls":5},1000,null,null,{"$f":"AL105","v":{"v":1000,"d":"1,000"}},null,{"v":4.545454545454546,"d":"5"},"1x16"]
[null,"TE3P.05",{"$nulls":28},6,250,{"$nulls":5},1500,null,{"$f":"AL106","v":{"v":1500,"d":"1,500"}},null,null,{"v":6.818181818181818,"d":"7"},"1x16"]
[null,"TE3P.06",{"$nulls":28},6,250,{"$nulls":5},1500,null,null,{"$f":"AL107","v":{"v":1500,"d":"1,500"}},null,{"v":6.818181818181818,"d":"7"},"1x16"]
[null,"TE3P.07",{"$nulls":28},6,250,{"$nulls":5},1500,{"$f":"AL108","v":{"v":1500,"d":"1,500"}},{"$nulls":3},{"v":6.818181818181818,"d":"7"},"1x16"]
[null,"TE3P.08",{"$nulls":28},6,250,{"$nulls":5},1500,null,{"$f":"AL109","v":{"v":1500,"d":"1,500"}},null,null,{"v":6.818181818181818,"d":"7"},"1x16"]
[null,"TE3P.09",{"$nulls":28},6,250,{"$nulls":5},1500,null,null,{"$f":"AL110","v":{"v":1500,"d":"1,500"}},null,{"v":6.818181818181818,"d":"7"},"1x16"]
[null,"TE3P.10",{"$nulls":28},6,250,{"$nulls":5},1500,{"$f":"AL111","v":{"v":1500,"d":"1,500"}},{"$nulls":3},{"v":6.818181818181818,"d":"7"},"1x16"]
[null,"TE3P.11",{"$nulls":28},4,250,{"$nulls":5},1000,null,{"$f":"AL112","v":{"v":1000,"d":"1,000"}},null,null,{"v":4.545454545454546,"d":"5"},"1x16"]
[null,"TE3P.12",{"$nulls":28},6,250,{"$nulls":5},1500,null,null,{"$f":"AL113","v":{"v":1500,"d":"1,500"}},null,{"v":6.818181818181818,"d":"7"},"1x16"]
[null,"TE3P.13",{"$nulls":24},3,200,{"$nulls":9},600,{"$f":"AL114","v":600},{"$nulls":3},{"v":2.727272727272727,"d":"3"},"1x16"]
[null,"TE3P.14",{"$nulls":24},1,100,{"$nulls":9},100,{"$f":"AL115","v":100},{"$nulls":3},{"v":0.45454545454545453,"d":"0"},"1x16"]
[null,"TE3P.15",{"$nulls":24},1,100,{"$nulls":9},100,{"$f":"AL116","v":100},{"$nulls":3},{"v":0.45454545454545453,"d":"0"},"1x16"]
[null,"TE3P.16",{"$nulls":24},1,100,{"$nulls":9},100,{"$f":"AL117","v":100},{"$nulls":3},{"v":0.45454545454545453,"d":"0"},"1x16"]
[null,"Rsva.",{"$nulls":32},"Reserva",1,2000,2000,{"$f":"AL118","v":{"v":2000,"d":"2,000"}},{"$nulls":3},{"v":9.090909090909092,"d":"9"},"1x16"]
[null,"Rsva.",{"$nulls":32},"Reserva",1,2000,2000,null,{"$f":"AL119","v":{"v":2000,"d":"2,000"}},null,null,{"v":9.090909090909092,"d":"9"},"1x16"]
[null,"Rsva.",{"$nulls":32},"Reserva",1,2000,2000,null,null,{"$f":"AL120","v":{"v":2000,"d":"2,000"}},null,{"v":9.090909090909092,"d":"9"},"1x16"]
["TOTAL GENERAL",{"$nulls":35},"Σ ",{"$f":"SUM(AL87:AL120)","v":31500},{"$f":"SUM(AM87:AM120)","v":10425},10249,10826,0,{"$f":"AK128","v":{"v":59.82412328774083,"d":"60"}},{"$f":"AK129","v":"3x63"}]
[]
[]
[{"$nulls":34},"Potencia instalada - Σpotencia ","PI",{"$f":"AL121","v":{"v":31500,"d":"31,500"}}]
[{"$nulls":34},"factor de potencia - ","fp",0.8]
[{"$nulls":34},"factor de demanda - Anexo 3 ANDE","fd",1]
[{"$nulls":34},"Potencia Demandada - Pd = PI*fd","Pd",{"$f":"AK124*AK126","v":{"v":31500,"d":"31,500"}}]
[{"$nulls":34},"Corriente - Id = Pd/(√3*380*fp)","Id",{"$f":"AK127/(SQRT(3)*380*AK125)","v":{"v":59.82412328774083,"d":"60"}}]
[{"$nulls":34},"LLave Limitadora","TM","3x63"]
[{"$nulls":34},"Alimentador","S","4x16"]
[{"$nulls":34},"Seccion de Conductor de Proteccion","S_p",{"$f":"_xlfn.CONCAT(\"1x\",IF(VALUE(RIGHT(AK130, LEN(AK130) - FIND(\"x\", AK130))) <= 16, VALUE(RIGHT(AK130, LEN(AK130) - FIND(\"x\", AK130))), IF(AND(VALUE(RIGHT(AK130, LEN(AK130) - FIND(\"x\", AK130))) > 16, VALUE(RIGHT(AK130, LEN(AK130) - FIND(\"x\", AK130))) <= 35), 16, VALUE(RIGHT(AK130, LEN(AK130) - FIND(\"x\", AK130)))/2)))","v":"1x16"}]
[{"$nulls":34},"Corriente admisible Conductor - Iz","Iz",90]
[{"$nulls":34},"Longitud (m)","L",20]

{"sheet":"TSE-TSN-AZ","index":7,"n_rows":81,"n_cols":44,"rows_kept":81,"merged":[[0,0,0,43],[1,0,2,0],[1,1,2,1],[1,2,1,3],[1,4,1,5],[1,6,1,7],[1,8,1,9],[1,10,1,11],[1,12,1,13],[1,14,1,15],[1,16,1,17],[1,18,1,19],[1,20,1,21],[1,22,1,23],[1,24,1,25],[1,26,1,27],[1,28,1,29],[1,30,1,31],[1,32,1,33],[1,34,2,34],[1,35,2,35],[1,36,2,36],[1,37,2,37],[1,38,1,41],[1,42,2,42],[1,43,2,43],[28,0,28,34],[43,0,43,43],[44,0,45,0],[44,1,45,1],[44,2,44,3],[44,4,44,5],[44,6,44,7],[44,8,44,9],[44,10,44,11],[44,12,44,13],[44,14,44,15],[44,16,44,17],[44,18,44,19],[44,20,44,21],[44,22,44,23],[44,24,44,25],[44,26,44,27],[44,28,44,29],[44,30,44,31],[44,32,44,33],[44,34,45,34],[44,35,45,35],[44,36,45,36],[44,37,45,37],[44,38,44,41],[44,42,45,42],[44,43,45,43],[68,0,68,34]]}
["CUADRO DE CARGAS ELÉCTRICAS TABLERO-TSN-AZ"]
["DEPENDENCIA","CTO.","TIPO 1 - LED 38 W",null,"TIPO 2 - LED Est. Adosar 39 W",null,"TIPO 3 - LED Circular Embutido 25 W",null,"TIPO 4 - Spot LED CIrcular Emb. 6 W",null,"TIPO 5 - Spot Cir. Movil LED 12 W",null,"TIPO 6 - Aplique de Adosar LED 5.5 W",null,"TIPO 7 - Adosar Resina LED 6 W",null,"TIPO 8 - LED Circular Embutido 23 W",null,"TIPO 9 - LED Colgante 35 W",null,"TIPO 10 - Proyector LED 50 W",null,"TIPO 11 - LED  Embutido Uni. 1.7 W",null,"TIPO 13 - Aplique de Adosar",null,"TOMA SIMPLE",null,"TOMA SCHUKO",null,"ESTACIONES DE TRABAJO",null,"SECAMANOS",null,"DESCRIPCIÓN","CANT.","POTENCIA (W)","POTENCIA TOTAL (W)","FASES",{"$nulls":3},"CORRIENTE (A)","TM (A)"]
[null,null,"CANT.","POTENCIA UNIT. (W)","CANT.","POTENCIA UNIT. (W)","CANT.","POTENCIA UNIT. (W)","CANT.","POTENCIA UNIT. (W)","CANT.","POTENCIA UNIT. (W)","CANT.","POTENCIA UNIT. (W)","CANT.","POTENCIA UNIT. (W)","CANT.","POTENCIA UNIT. (W)","CANT.","POTENCIA UNIT. (W)","CANT.","POTENCIA UNIT. (W)","CANT.","POTENCIA UNIT. (W)","CANT.","POTENCIA UNIT. (W)","CANT.","POTENCIA UNIT. (W)","CANT.","POTENCIA UNIT. (W)","CANT.","POTENCIA UNIT. (W)","CANT.","POTENCIA UNIT. (W)",{"$nulls":4},"R","S","T","RST"]
[null,"TNAZ.01",{"$nulls":28},3,250,{"$nulls":5},{"$f":"(C4*D4)+(E4*F4)+(G4*H4)+(I4*J4)+(K4*L4)+(M4*N4)+(O4*P4)+(Q4*R4)+(S4*T4)+(U4*V4)+(W4*X4)+(Y4*Z4)+(AA4*AB4)+(AC4*AD4)+(AE4*AF4)+(AG4*AH4)+(AJ4*AK4)","v":750},{"$f":"AL4","v":750},{"$nulls":3},{"$f":"AL4/220","v":{"v":3.409090909090909,"d":"3"}},"1x16"]
[null,"TNAZ.02",{"$nulls":28},2,250,{"$nulls":5},{"$f":"(C5*D5)+(E5*F5)+(G5*H5)+(I5*J5)+(K5*L5)+(M5*N5)+(O5*P5)+(Q5*R5)+(S5*T5)+(U5*V5)+(W5*X5)+(Y5*Z5)+(AA5*AB5)+(AC5*AD5)+(AE5*AF5)+(AG5*AH5)+(AJ5*AK5)","v":500},null,{"$f":"AL5","v":500},null,null,{"v":2.272727272727273,"d":"2"},"1x16"]
[null,"TNAZ.03",{"$nulls":28},2,250,{"$nulls":5},500,null,null,{"$f":"AL6","v":500},null,{"v":2.272727272727273,"d":"2"},"1x16"]
[null,"TNAZ.04",{"$nulls":28},3,250,{"$nulls":5},750,null,{"$f":"AL7","v":750},null,null,{"v":3.409090909090909,"d":"3"},"1x16"]
[null,"TNAZ.05",{"$nulls":28},4,250,{"$nulls":5},1000,null,null,{"$f":"AL8","v":{"v":1000,"d":"1,000"}},null,{"v":4.545454545454546,"d":"5"},"1x16"]
[null,"TNAZ.06",{"$nulls":28},2,250,{"$nulls":5},500,{"$f":"AL9","v":500},{"$nulls":3},{"v":2.272727272727273,"d":"2"},"1x16"]
[null,"TNAZ.07",{"$nulls":24},2,100,{"$nulls":9},200,{"$f":"AL10","v":200},{"$nulls":3},{"v":0.9090909090909091,"d":"1"},"1x16"]
[null,"TNAZ.08",{"$nulls":24},2,100,{"$nulls":9},200,null,{"$f":"AL11","v":200},null,null,{"v":0.9090909090909091,"d":"1"},"1x16"]
[null,"TNAZ.09",{"$nulls":24},7,100,{"$nulls":9},700,{"$f":"AL12","v":700},{"$nulls":3},{"v":3.1818181818181817,"d":"3"},"1x16"]
[null,"TNAZ.10",{"$nulls":24},4,100,{"$nulls":9},400,null,{"$f":"AL13","v":400},null,null,{"v":1.8181818181818181,"d":"2"},"1x16"]
[null,"TSAZ.01",{"$nulls":26},1,1000,{"$nulls":7},1000,null,null,{"$f":"AL14","v":{"v":1000,"d":"1,000"}},null,{"v":4.545454545454546,"d":"5"},"1x16"]
[null,"SMAZ.01",{"$nulls":30},1,1800,{"$nulls":3},1800,null,{"$f":"AL15","v":{"v":1800,"d":"1,800"}},null,null,{"v":8.181818181818182,"d":"8"},"1x16"]
[null,"SMAZ.02",{"$nulls":30},1,1800,{"$nulls":3},1800,{"$f":"AL16","v":{"v":1800,"d":"1,800"}},{"$nulls":3},{"v":8.181818181818182,"d":"8"},"1x16"]
[null,"FCAZ.01",{"$nulls":32},"Fancoil ",1,1500,1500,null,null,{"$f":"AL17","v":{"v":1500,"d":"1,500"}},null,{"v":6.818181818181818,"d":"7"},"1x16"]
[null,"FCAZ.02",{"$nulls":32},"Fancoil ",1,1500,1500,null,{"$f":"AL18","v":{"v":1500,"d":"1,500"}},null,null,{"v":6.818181818181818,"d":"7"},"1x16"]
[null,"FCAZ.03",{"$nulls":32},"Fancoil ",1,1700,1700,{"$f":"AL19","v":{"v":1700,"d":"1,700"}},{"$nulls":3},{"v":7.7272727272727275,"d":"8"},"1x16"]
[null,"FCAZ.04",{"$nulls":32},"Fancoil ",1,3500,3500,null,null,{"$f":"AL20","v":{"v":3500,"d":"3,500"}},null,{"v":15.909090909090908,"d":"16"},"1x25"]
[null,"FCAZ.05",{"$nulls":32},"Fancoil ",1,3900,3900,null,{"$f":"AL21","v":{"v":3900,"d":"3,900"}},null,null,{"v":17.727272727272727,"d":"18"},"1x25"]
[null,"FCAZ.06",{"$nulls":32},"Fancoil ",1,4200,4200,{"$f":"AL22","v":{"v":4200,"d":"4,200"}},{"$nulls":3},{"v":19.09090909090909,"d":"19"},"1x25"]
[null,"FCAZ.07",{"$nulls":32},"Fancoil ",1,4200,4200,null,null,{"$f":"AL23","v":{"v":4200,"d":"4,200"}},null,{"v":19.09090909090909,"d":"19"},"1x25"]
[null,"FCAZ.08",{"$nulls":32},"Fancoil ",1,4200,4200,null,{"$f":"AL24","v":{"v":4200,"d":"4,200"}},null,null,{"v":19.09090909090909,"d":"19"},"1x25"]
[null,"FCAZ.09",{"$nulls":32},"Recuperador de Calor",1,1080,1080,{"$f":"AL25","v":{"v":1080,"d":"1,080"}},{"$nulls":3},{"v":4.909090909090909,"d":"5"},"1x16"]
[null,"Rsva.",{"$nulls":32},"Reserva",1,2000,2000,{"$f":"AL26","v":{"v":2000,"d":"2,000"}},{"$nulls":3},{"v":9.090909090909092,"d":"9"},"1x16"]
[null,"Rsva.",{"$nulls":32},"Reserva",1,2000,2000,null,{"$f":"AL27","v":{"v":2000,"d":"2,000"}},null,null,{"v":9.090909090909092,"d":"9"},"1x16"]
[null,"Rsva.",{"$nulls":32},"Reserva",1,2000,2000,null,null,{"$f":"AL28","v":{"v":2000,"d":"2,000"}},null,{"v":9.090909090909092,"d":"9"},"1x16"]
["TOTAL GENERAL",{"$nulls":35},"Σ ",{"$f":"SUM(AL4:AL28)","v":41880},{"$f":"SUM(AM4:AM28)","v":12930},15250,13700,0,{"$f":"AK36","v":{"v":55.67631740645746,"d":"56"}},{"$f":"AK37","v":"3x63"}]
[]
[]
[{"$nulls":34},"Potencia instalada - Σpotencia ","PI",{"$f":"AL29","v":{"v":41880,"d":"41,880"}}]
[{"$nulls":34},"factor de potencia - ","fp",0.8]
[{"$nulls":34},"factor de demanda - Anexo 3 ANDE","fd",{"$f":"IF(AK32<=2700,1,\nIF(AK32<=3800,0.95,\nIF(AK32<=7200,0.9,\nIF(AK32<=12000,0.85,\nIF(AK32<=20000,0.8,\nIF(AK32<=30000,0.75,\nIF(AK32<=50000,0.7,\nIF(AK32<=80000,0.65,\nIF(AK32<=120000,0.6,\nIF(AK32<=170000,0.55,\nIF(AK32<=250000,0.5,\n0.45)))))))))))","v":0.7}]
[{"$nulls":34},"Potencia Demandada - Pd = PI*fd","Pd",{"$f":"AK32*AK34","v":{"v":29315.999999999996,"d":"29,316"}}]
[{"$nulls":34},"Corriente - Id = Pd/(√3*380*fp)","Id",{"$f":"AK35/(SQRT(3)*380*AK33)","v":{"v":55.67631740645746,"d":"56"}}]
[{"$nulls":34},"LLave Limitadora","TM","3x63"]
[{"$nulls":34},"Alimentador","S","4x16"]
[{"$nulls":34},"Seccion de Conductor de Proteccion","S_p",{"$f":"_xlfn.CONCAT(\"1x\",IF(VALUE(RIGHT(AK38, LEN(AK38) - FIND(\"x\", AK38))) <= 16, VALUE(RIGHT(AK38, LEN(AK38) - FIND(\"x\", AK38))), IF(AND(VALUE(RIGHT(AK38, LEN(AK38) - FIND(\"x\", AK38))) > 16, VALUE(RIGHT(AK38, LEN(AK38) - FIND(\"x\", AK38))) <= 35), 16, VALUE(RIGHT(AK38, LEN(AK38) - FIND(\"x\", AK38)))/2)))","v":"1x16"}]
[{"$nulls":34},"Corriente admisible Conductor - Iz","Iz",90]
[{"$nulls":34},"Longitud (m)","L",25]
[]
[]
["CUADRO DE CARGAS ELÉCTRICAS TABLERO-TSE-AZ"]
["DEPENDENCIA","CTO.","TIPO 1 - LED 38 W",null,"TIPO 2 - LED Est. Adosar 39 W",null,"TIPO 3 - LED Circular Embutido 25 W",null,"TIPO 4 - Spot LED CIrcular Emb. 6 W",null,"TIPO 5 - Spot Cir. Movil LED 12 W",null,"TIPO 6 - Aplique de Adosar LED 5.5 W",null,"TIPO 7 - Adosar Resina LED 6 W",null,"TIPO 8 - LED Circular Embutido 23 W",null,"TIPO 9 - LED Colgante 35 W",null,"TIPO 10 - Proyector LED 50 W",null,"TIPO 11 - LED  Embutido Uni. 1.7 W",null,"TIPO 13 - Aplique de Adosar",null,"TOMA SIMPLE",null,"TOMA SCHUKO",null,"ESTACIONES DE TRABAJO",null,"SECAMANOS",null,"DESCRIPCIÓN","CANT.","POTENCIA (W)","POTENCIA TOTAL (W)","FASES",{"$nulls":3},"CORRIENTE (A)","TM (A)"]
[null,null,"CANT.","POTENCIA UNIT. (W)","CANT.","POTENCIA UNIT. (W)","CANT.","POTENCIA UNIT. (W)","CANT.","POTENCIA UNIT. (W)","CANT.","POTENCIA UNIT. (W)","CANT.","POTENCIA UNIT. (W)","CANT.","POTENCIA UNIT. (W)","CANT.","POTENCIA UNIT. (W)","CANT.","POTENCIA UNIT. (W)","CANT.","POTENCIA UNIT. (W)","CANT.","POTENCIA UNIT. (W)","CANT.","POTENCIA UNIT. (W)","CANT.","POTENCIA UNIT. (W)","CANT.","POTENCIA UNIT. (W)","CANT.","POTENCIA UNIT. (W)","CANT.","POTENCIA UNIT. (W)",{"$nulls":4},"R","S","T","RST"]
[null,"IEAZ.01",null,null,13,39,{"$nulls":31},{"$f":"(C47*D47)+(E47*F47)+(G47*H47)+(I47*J47)+(K47*L47)+(M47*N47)+(O47*P47)+(Q47*R47)+(S47*T47)+(U47*V47)+(W47*X47)+(Y47*Z47)+(AA47*AB47)+(AC47*AD47)+(AE47*AF47)+(AG47*AH47)+(AJ47*AK47)","v":507},{"$f":"AL47","v":507},{"$nulls":3},{"$f":"AL47/220","v":{"v":2.3045454545454547,"d":"2"}},"1x10"]
[null,"IEAZ.02",null,null,14,39,{"$nulls":31},{"$f":"(C48*D48)+(E48*F48)+(G48*H48)+(I48*J48)+(K48*L48)+(M48*N48)+(O48*P48)+(Q48*R48)+(S48*T48)+(U48*V48)+(W48*X48)+(Y48*Z48)+(AA48*AB48)+(AC48*AD48)+(AE48*AF48)+(AG48*AH48)+(AJ48*AK48)","v":546},null,{"$f":"AL48","v":546},null,null,{"v":2.481818181818182,"d":"2"},"1x10"]
[null,"IEAZ.03",null,null,21,39,{"$nulls":31},819,null,null,{"$f":"AL49","v":819},null,{"v":3.7227272727272727,"d":"4"},"1x10"]
[null,"IEAZ.04",{"$nulls":4},15,25,{"$nulls":29},375,{"$f":"AL50","v":375},{"$nulls":3},{"v":1.7045454545454546,"d":"2"},"1x10"]
[null,"IEAZ.05",18,38,{"$nulls":33},684,null,{"$f":"AL51","v":684},null,null,{"v":3.109090909090909,"d":"3"},"1x10"]
[null,"IEAZ.06",null,null,1,39,5,25,4,6,{"$nulls":27},188,null,null,{"$f":"AL52","v":188},null,{"v":0.8545454545454545,"d":"1"},"1x10"]
[null,"IEAZ.07",null,null,2,39,{"$nulls":31},78,{"$f":"AL53","v":78},{"$nulls":3},{"v":0.35454545454545455,"d":"0"},"1x10"]
[null,"IEAZ.08",{"$nulls":22},21,39,{"$nulls":11},819,{"$f":"AL54","v":819},{"$nulls":3},{"v":3.7227272727272727,"d":"4"},"1x10"]
[null,"IEAZ.09",{"$nulls":22},7,39,{"$nulls":11},273,null,null,{"$f":"AL55","v":273},null,{"v":1.240909090909091,"d":"1"},"1x10"]
[null,"TEAZ.01",{"$nulls":28},7,250,{"$nulls":5},1750,null,{"$f":"AL56","v":{"v":1750,"d":"1,750"}},null,null,{"v":7.954545454545454,"d":"8"},"1x16"]
[null,"TEAZ.02",{"$nulls":28},3,250,{"$nulls":5},750,null,null,{"$f":"AL57","v":750},null,{"v":3.409090909090909,"d":"3"},"1x16"]
[null,"TEAZ.03",{"$nulls":28},4,250,{"$nulls":5},1000,{"$f":"AL58","v":{"v":1000,"d":"1,000"}},{"$nulls":3},{"v":4.545454545454546,"d":"5"},"1x16"]
[null,"TEAZ.04",{"$nulls":28},5,250,{"$nulls":5},1250,null,null,{"$f":"AL59","v":{"v":1250,"d":"1,250"}},null,{"v":5.681818181818182,"d":"6"},"1x16"]
[null,"TEAZ.05",{"$nulls":28},6,250,{"$nulls":5},1500,{"$f":"AL60","v":{"v":1500,"d":"1,500"}},{"$nulls":3},{"v":6.818181818181818,"d":"7"},"1x16"]
[null,"TEAZ.06",{"$nulls":28},2,250,{"$nulls":5},500,null,{"$f":"AL61","v":500},null,null,{"v":2.272727272727273,"d":"2"},"1x16"]
[null,"TEAZ.07",{"$nulls":24},1,200,{"$nulls":9},200,null,null,{"$f":"AL62","v":200},null,{"v":0.9090909090909091,"d":"1"},"1x16"]
[null,"TEAZ.08",{"$nulls":24},2,200,{"$nulls":9},400,null,null,{"$f":"AL63","v":400},null,{"v":1.8181818181818181,"d":"2"},"1x16"]
[null,"TEAZ.09",{"$nulls":24},2,200,{"$nulls":9},400,null,{"$f":"AL64","v":400},null,null,{"v":1.8181818181818181,"d":"2"},"1x16"]
[null,"Rsva.",{"$nulls":32},"Reserva",1,2000,2000,{"$f":"AL65","v":{"v":2000,"d":"2,000"}},{"$nulls":3},{"$f":"AL65/220","v":{"v":9.090909090909092,"d":"9"}},"1x16"]
[null,"Rsva.",{"$nulls":32},"Reserva",1,2000,2000,null,{"$f":"AL66","v":{"v":2000,"d":"2,000"}},null,null,{"$f":"AL66/220","v":{"v":9.090909090909092,"d":"9"}},"1x16"]
[null,"Rsva.",{"$nulls":32},"Reserva",1,2000,2000,null,null,{"$f":"AL67","v":{"v":2000,"d":"2,000"}},null,{"$f":"AL67/220","v":{"v":9.090909090909092,"d":"9"}},"1x16"]
[null,"TSE-ASC1",{"$nulls":32},"Tablero Seccional TSE-ASC1",1,{"$f":"'TSE-ASC1'!F10","v":18521},18521,{"$f":"'TSE-ASC1'!G10","v":{"v":6121,"d":"6,121"}},{"$f":"'TSE-ASC1'!H10","v":{"v":6400,"d":"6,400"}},{"$f":"'TSE-ASC1'!I10","v":{"v":6000,"d":"6,000"}},{"$f":"'TSE-ASC1'!J10","v":{"v":18000,"d":"18,000"}},{"$f":"'TSE-ASC1'!K10","v":{"v":35.174685314674534,"d":"35"}},{"$f":"'TSE-ASC1'!L10","v":"3x40"}]
["TOTAL GENERAL",{"$nulls":35},"Σ ",{"$f":"SUM(AL47:AL68)","v":36560},{"$f":"SUM(AM47:AM68)","v":12400},12280,11880,18000,{"$f":"AK76","v":{"v":69.43396658412078,"d":"69"}},{"$f":"AK77","v":"3x100"}]
[]
[]
[{"$nulls":34},"Potencia instalada - Σpotencia ","PI",{"$f":"AL69","v":{"v":36560,"d":"36,560"}}]
[{"$nulls":34},"factor de potencia - ","fp",0.8]
[{"$nulls":34},"factor de demanda - Anexo 3 ANDE","fd",1]
[{"$nulls":34},"Potencia Demandada - Pd = PI*fd","Pd",{"$f":"AK72*AK74","v":{"v":36560,"d":"36,560"}}]
[{"$nulls":34},"Corriente - Id = Pd/(√3*380*fp)","Id",{"$f":"AK75/(SQRT(3)*380*AK73)","v":{"v":69.43396658412078,"d":"69"}}]
[{"$nulls":34},"LLave Limitadora","TM","3x100"]
[{"$nulls":34},"Alimentador","S","4x25"]
[{"$nulls":34},"Seccion de Conductor de Proteccion","S_p",{"$f":"_xlfn.CONCAT(\"1x\",IF(VALUE(RIGHT(AK78, LEN(AK78) - FIND(\"x\", AK78))) <= 16, VALUE(RIGHT(AK78, LEN(AK78) - FIND(\"x\", AK78))), IF(AND(VALUE(RIGHT(AK78, LEN(AK78) - FIND(\"x\", AK78))) > 16, VALUE(RIGHT(AK78, LEN(AK78) - FIND(\"x\", AK78))) <= 35), 16, VALUE(RIGHT(AK78, LEN(AK78) - FIND(\"x\", AK78)))/2)))","v":"1x16"}]
[{"$nulls":34},"Corriente admisible Conductor - Iz","Iz",115]
[{"$nulls":34},"Longitud (m)","L",25]

{"sheet":"TSE-ASC1","index":8,"n_rows":22,"n_cols":12,"rows_kept":22,"merged":[[0,0,0,11],[1,0,2,0],[1,1,2,1],[1,2,2,2],[1,3,2,3],[1,4,2,4],[1,5,2,5],[1,6,1,9],[1,10,2,10],[1,11,2,11],[9,0,9,2]]}
["CUADRO DE CARGAS ELÉCTRICAS TABLERO-TSE-ASC 1"]
[null,"CTO.","DESCRIPCIÓN","CANT.","POTENCIA (W)","POTENCIA TOTAL (W)","FASES",{"$nulls":3},"CORRIENTE (A)","TM (A)"]
[{"$nulls":6},"R","S","T","RST"]
[null,"#Asc.01","motor de Ascensor 01",1,4500,{"$f":"+(D4*E4)","v":4500},{"$f":"J4/3","v":{"v":1500,"d":"1,500"}},{"$f":"J4/3","v":{"v":1500,"d":"1,500"}},{"$f":"J4/3","v":{"v":1500,"d":"1,500"}},{"$f":"F4","v":{"v":4500,"d":"4,500"}},{"$f":"F4/660","v":{"v":6.818181818181818,"d":"7"}},"3x25"]
[null,"#Asc.02","motor de Ascensor 02",1,4500,{"$f":"+(D5*E5)","v":4500},{"$f":"J5/3","v":{"v":1500,"d":"1,500"}},{"$f":"J5/3","v":{"v":1500,"d":"1,500"}},{"$f":"J5/3","v":{"v":1500,"d":"1,500"}},{"$f":"F5","v":{"v":4500,"d":"4,500"}},{"$f":"F5/660","v":{"v":6.818181818181818,"d":"7"}},"3x25"]
[null,"#Asc.03","motor de Ascensor 03",1,4500,4500,{"v":1500,"d":"1,500"},{"v":1500,"d":"1,500"},{"v":1500,"d":"1,500"},{"v":4500,"d":"4,500"},{"v":6.818181818181818,"d":"7"},"3x25"]
[null,"#Asc.04","motor de Ascensor 04",1,4500,4500,{"v":1500,"d":"1,500"},{"v":1500,"d":"1,500"},{"v":1500,"d":"1,500"},{"v":4500,"d":"4,500"},{"v":6.818181818181818,"d":"7"},"3x25"]
[null,"IEAsc.01","Lum. 16 - 11 W",11,11,121,{"$f":"F8","v":121},{"$nulls":3},{"$f":"F8/220","v":{"v":0.55,"d":"1"}},"1x10"]
[null,"TEAsc.01","Tomacorrientes",4,100,400,null,{"$f":"F9","v":400},null,null,{"$f":"F9/220","v":{"v":1.8181818181818181,"d":"2"}},"1x16"]
["TOTAL GENERAL",{"$nulls":3},"Σ ",{"$f":"SUM(F4:F9)","v":18521},{"$f":"SUM(G4:G9)","v":6121},{"$f":"SUM(H4:H9)","v":6400},{"$f":"SUM(I4:I9)","v":6000},{"$f":"SUM(J4:J9)","v":18000},{"$f":"E17","v":{"v":35.174685314674534,"d":"35"}},{"$f":"E18","v":"3x40"}]
[]
[]
[null,null,"Potencia instalada - Σpotencia ","PI",{"$f":"F10","v":{"v":18521,"d":"18,521"}}]
[null,null,"factor de potencia - ","fp",0.8]
[null,null,"factor de demanda - Anexo 3 ANDE","fd",1]
[null,null,"Potencia Demandada - Pd = PI*fd","Pd",{"$f":"E13*E15","v":{"v":18521,"d":"18,521"}}]
[null,null,"Corriente - Id = Pd/(√3*380*fp)","Id",{"$f":"E16/(SQRT(3)*380*E14)","v":{"v":35.174685314674534,"d":"35"}}]
[null,null,"LLave Limitadora","TM","3x40"]
[null,null,"Alimentador","S","4x10"]
[null,null,"Seccion de Conductor de Proteccion","S_p",{"$f":"_xlfn.CONCAT(\"1x\",IF(VALUE(RIGHT(E19, LEN(E19) - FIND(\"x\", E19))) <= 16, VALUE(RIGHT(E19, LEN(E19) - FIND(\"x\", E19))), IF(AND(VALUE(RIGHT(E19, LEN(E19) - FIND(\"x\", E19))) > 16, VALUE(RIGHT(E19, LEN(E19) - FIND(\"x\", E19))) <= 35), 16, VALUE(RIGHT(E19, LEN(E19) - FIND(\"x\", E19)))/2)))","v":"1x10"}]
[null,null,"Corriente admisible Conductor - Iz","Iz",68]
[null,null,"Longitud (m)","L",5]

{"sheet":"TSE-ASC2","index":9,"n_rows":18,"n_cols":12,"rows_kept":18,"merged":[[0,0,0,11],[1,0,2,0],[1,1,2,1],[1,2,2,2],[1,3,2,3],[1,4,2,4],[1,5,2,5],[1,6,1,9],[1,10,2,10],[1,11,2,11],[5,0,5,2]]}
["CUADRO DE CARGAS ELÉCTRICAS TABLERO-TSE-ASC 2"]
[null,"CTO.","DESCRIPCIÓN","CANT.","POTENCIA (W)","POTENCIA TOTAL (W)","FASES",{"$nulls":3},"CORRIENTE (A)","TM (A)"]
[{"$nulls":6},"R","S","T","RST"]
[null,"#Asc.01","motor de Ascensor 02",1,4500,{"$f":"+(D4*E4)","v":4500},{"$f":"J4/3","v":{"v":1500,"d":"1,500"}},{"$f":"J4/3","v":{"v":1500,"d":"1,500"}},{"$f":"J4/3","v":{"v":1500,"d":"1,500"}},{"$f":"F4","v":{"v":4500,"d":"4,500"}},{"$f":"F4/660","v":{"v":6.818181818181818,"d":"7"}},"3x25"]
[null,"IEAsc.01","Lum. 16 - 11 W",3,11,{"$f":"+(D5*E5)","v":33},{"$f":"F5","v":33},{"$nulls":3},{"$f":"F5/220","v":{"v":0.15,"d":"0"}},"1x10"]
["TOTAL GENERAL",{"$nulls":3},"Σ ",{"$f":"SUM(F4:F5)","v":4533},{"$f":"SUM(G4:G5)","v":1533},{"$f":"SUM(H4:H5)","v":1500},{"$f":"SUM(I4:I5)","v":1500},{"$f":"SUM(J4:J5)","v":4500},{"$f":"E13","v":{"v":8.608976217883466,"d":"9"}},{"$f":"E14","v":"3x25"}]
[]
[]
[null,null,"Potencia instalada - Σpotencia ","PI",{"$f":"F6","v":{"v":4533,"d":"4,533"}}]
[null,null,"factor de potencia - ","fp",0.8]
[null,null,"factor de demanda - Anexo 3 ANDE","fd",1]
[null,null,"Potencia Demandada - Pd = PI*fd","Pd",{"$f":"E9*E11","v":{"v":4533,"d":"4,533"}}]
[null,null,"Corriente - Id = Pd/(√3*380*fp)","Id",{"$f":"E12/(SQRT(3)*380*E10)","v":{"v":8.608976217883466,"d":"9"}}]
[null,null,"LLave Limitadora","TM","3x25"]
[null,null,"Alimentador","S","4x4"]
[null,null,"Seccion de Conductor de Proteccion","S_p",{"$f":"_xlfn.CONCAT(\"1x\",IF(VALUE(RIGHT(E15, LEN(E15) - FIND(\"x\", E15))) <= 16, VALUE(RIGHT(E15, LEN(E15) - FIND(\"x\", E15))), IF(AND(VALUE(RIGHT(E15, LEN(E15) - FIND(\"x\", E15))) > 16, VALUE(RIGHT(E15, LEN(E15) - FIND(\"x\", E15))) <= 35), 16, VALUE(RIGHT(E15, LEN(E15) - FIND(\"x\", E15)))/2)))","v":"1x4"}]
[null,null,"Corriente admisible Conductor - Iz","Iz",42]
[null,null,"Longitud (m)","L",5]

{"sheet":"TSN-CLI","index":10,"n_rows":21,"n_cols":12,"rows_kept":21,"merged":[[0,0,0,11],[1,0,2,0],[1,1,2,1],[1,2,2,2],[1,3,2,3],[1,4,2,4],[1,5,2,5],[1,6,1,9],[1,10,2,10],[1,11,2,11],[8,0,8,2]]}
["CUADRO DE CARGAS ELÉCTRICAS TABLERO-TSN-CLI"]
[null,"CTO.","DESCRIPCIÓN","CANT.","POTENCIA (W)","POTENCIA TOTAL (W)","FASES",{"$nulls":3},"CORRIENTE (A)","TM (A)"]
[{"$nulls":6},"R","S","T","RST"]
[null,"CHILLER.01","Chiller",1,{"v":100000,"d":"100,000"},{"$f":"+(D4*E4)","v":{"v":100000,"d":"100,000"}},{"$f":"F4/3","v":{"v":33333.333333333336,"d":"33,333"}},{"$f":"F4/3","v":{"v":33333.333333333336,"d":"33,333"}},{"$f":"F4/3","v":{"v":33333.333333333336,"d":"33,333"}},{"$f":"F4","v":{"v":100000,"d":"100,000"}},{"$f":"F4/(SQRT(3)*380*0.8)","v":{"v":189.91785170711375,"d":"190"}},"3x200"]
[null,"CHILLER.02","Chiller",1,{"v":100000,"d":"100,000"},{"$f":"+(D5*E5)","v":{"v":100000,"d":"100,000"}},{"$f":"F5/3","v":{"v":33333.333333333336,"d":"33,333"}},{"$f":"F5/3","v":{"v":33333.333333333336,"d":"33,333"}},{"$f":"F5/3","v":{"v":33333.333333333336,"d":"33,333"}},{"$f":"F5","v":{"v":100000,"d":"100,000"}},{"$f":"F5/(SQRT(3)*380*0.8)","v":{"v":189.91785170711375,"d":"190"}},"3x200"]
[null,"CHILLER.03","Chiller",1,{"v":100000,"d":"100,000"},{"v":100000,"d":"100,000"},{"$f":"F6/3","v":{"v":33333.333333333336,"d":"33,333"}},{"$f":"F6/3","v":{"v":33333.333333333336,"d":"33,333"}},{"$f":"F6/3","v":{"v":33333.333333333336,"d":"33,333"}},{"v":100000,"d":"100,000"},{"v":189.91785170711375,"d":"190"},"3x200"]
[null,"BOMBA.01","Bomba Climatizacion",1,{"v":22380,"d":"22,380"},{"v":22380,"d":"22,380"},{"$f":"F7/3","v":{"v":7460,"d":"7,460"}},{"$f":"F7/3","v":{"v":7460,"d":"7,460"}},{"$f":"F7/3","v":{"v":7460,"d":"7,460"}},{"v":22380,"d":"22,380"},{"v":42.503615212052054,"d":"43"},"3x50"]
[null,"BOMBA.02","Bomba Climatizacion",1,{"v":22380,"d":"22,380"},{"v":22380,"d":"22,380"},{"$f":"F8/3","v":{"v":7460,"d":"7,460"}},{"$f":"F8/3","v":{"v":7460,"d":"7,460"}},{"$f":"F8/3","v":{"v":7460,"d":"7,460"}},{"v":22380,"d":"22,380"},{"v":42.503615212052054,"d":"43"},"3x50"]
["TOTAL GENERAL",{"$nulls":3},"Σ ",{"$f":"SUM(F4:F8)","v":{"v":344760,"d":"344,760"}},{"$f":"SUM(G4:G8)","v":114920},114920,114920,344760,{"$f":"E16","v":{"v":622.0227462681731,"d":"622"}},{"$f":"E17","v":"3x630"}]
[]
[]
[null,null,"Potencia instalada - Σpotencia ","PI",{"$f":"F9","v":{"v":344760,"d":"344,760"}}]
[null,null,"factor de potencia - ","fp",0.8]
[null,null,"factor de demanda -","fd",0.95]
[null,null,"Potencia Demandada - Pd = PI*fd","Pd",{"$f":"E12*E14","v":{"v":327522,"d":"327,522"}}]
[null,null,"Corriente - Id = Pd/(√3*380*fp)","Id",{"$f":"E15/(SQRT(3)*380*E13)","v":{"v":622.0227462681731,"d":"622"}}]
[null,null,"LLave Limitadora","TM","3x630"]
[null,null,"Alimentador","S","4x2x(1x120)"]
[null,null,"Seccion de Conductor de Proteccion","S_p","1x50"]
[null,null,"Corriente admisible Conductor - Iz","Iz",{"$f":"364*2","v":728}]
[null,null,"Longitud (m)","L",35]

{"sheet":"ALIM.TSE-BAC","index":11,"n_rows":22,"n_cols":12,"rows_kept":22,"merged":[[0,0,0,11],[1,0,2,0],[1,1,2,1],[1,2,2,2],[1,3,2,3],[1,4,2,4],[1,5,2,5],[1,6,1,9],[1,10,2,10],[1,11,2,11],[9,0,9,2]]}
["CUADRO DE CARGAS ELÉCTRICAS TABLERO-TSE-BAC"]
[null,"CTO.","DESCRIPCIÓN","CANT.","POTENCIA (W)","POTENCIA TOTAL (W)","FASES",{"$nulls":3},"CORRIENTE (A)","TM (A)"]
[{"$nulls":6},"R","S","T","RST"]
[null,"BAC.01","Bomba Agua Corriente",1,2611,{"$f":"+(D4*E4)","v":2611},{"$f":"F4/3","v":{"v":870.3333333333334,"d":"870"}},{"$f":"F4/3","v":{"v":870.3333333333334,"d":"870"}},{"$f":"F4/3","v":{"v":870.3333333333334,"d":"870"}},{"$f":"F4","v":{"v":2611,"d":"2,611"}},{"$f":"F4/660","v":{"v":3.956060606060606,"d":"4"}},"3x25"]
[null,"BAC.02","Bomba Agua Corriente",1,2611,{"$f":"+(D5*E5)","v":2611},{"$f":"F5/3","v":{"v":870.3333333333334,"d":"870"}},{"$f":"F5/3","v":{"v":870.3333333333334,"d":"870"}},{"$f":"F5/3","v":{"v":870.3333333333334,"d":"870"}},{"$f":"F5","v":{"v":2611,"d":"2,611"}},{"$f":"F5/660","v":{"v":3.956060606060606,"d":"4"}},"3x25"]
[null,"BAC.03","Bomba Agua Corriente",1,2611,2611,{"$f":"F6/3","v":{"v":870.3333333333334,"d":"870"}},{"$f":"F6/3","v":{"v":870.3333333333334,"d":"870"}},{"$f":"F6/3","v":{"v":870.3333333333334,"d":"870"}},{"v":2611,"d":"2,611"},{"$f":"F6/660","v":{"v":3.956060606060606,"d":"4"}},"3x25"]
[null,"BAC.04","Bomba Agua Corriente",1,2611,2611,{"$f":"F7/3","v":{"v":870.3333333333334,"d":"870"}},{"$f":"F7/3","v":{"v":870.3333333333334,"d":"870"}},{"$f":"F7/3","v":{"v":870.3333333333334,"d":"870"}},{"v":2611,"d":"2,611"},{"$f":"F7/660","v":{"v":3.956060606060606,"d":"4"}},"3x25"]
[null,"BAC.05","Bomba de drenaje o desagote de sala de bombas",1,746,{"$f":"+(D8*E8)","v":746},{"$f":"F8","v":746},{"$nulls":3},{"$f":"F8/220","v":{"v":3.390909090909091,"d":"3"}},"1x25"]
[null,"BAC.06","Bomba Dosificadora de cloro",1,373,373,{"$f":"F9","v":373},{"$nulls":3},{"$f":"F9/220","v":{"v":1.6954545454545455,"d":"2"}},"1x25"]
["TOTAL GENERAL",{"$nulls":3},"Σ ",{"$f":"SUM(F4:F9)","v":11563},{"$f":"SUM(G4:G9)","v":4600.333333333334},{"$f":"SUM(H4:H9)","v":3481.3333333333335},{"$f":"SUM(I4:I9)","v":3481.3333333333335},{"$f":"SUM(J4:J9)","v":10444},{"$f":"E17","v":{"v":21.960201192893564,"d":"22"}},{"$f":"E18","v":"3x32"}]
[]
[]
[null,null,"Potencia instalada - Σpotencia ","PI",{"$f":"F10","v":{"v":11563,"d":"11,563"}}]
[null,null,"factor de potencia - ","fp",0.8]
[null,null,"factor de demanda - Anexo 3 ANDE","fd",1]
[null,null,"Potencia Demandada - Pd = PI*fd","Pd",{"$f":"E13*E15","v":{"v":11563,"d":"11,563"}}]
[null,null,"Corriente - Id = Pd/(√3*380*fp)","Id",{"$f":"E16/(SQRT(3)*380*E14)","v":{"v":21.960201192893564,"d":"22"}}]
[null,null,"LLave Limitadora","TM","3x32"]
[null,null,"Alimentador","S","4x10"]
[null,null,"Seccion de Conductor de Proteccion","S_p",{"$f":"_xlfn.CONCAT(\"1x\",IF(VALUE(RIGHT(E19, LEN(E19) - FIND(\"x\", E19))) <= 16, VALUE(RIGHT(E19, LEN(E19) - FIND(\"x\", E19))), IF(AND(VALUE(RIGHT(E19, LEN(E19) - FIND(\"x\", E19))) > 16, VALUE(RIGHT(E19, LEN(E19) - FIND(\"x\", E19))) <= 35), 16, VALUE(RIGHT(E19, LEN(E19) - FIND(\"x\", E19)))/2)))","v":"1x10"}]
[null,null,"Corriente admisible Conductor - Iz","Iz",69]
[null,null,"Longitud (m)","L",35]

{"sheet":"ALIM.TSN-PAT","index":12,"n_rows":17,"n_cols":12,"rows_kept":17,"merged":[[0,0,0,11],[1,0,2,0],[1,1,2,1],[1,2,2,2],[1,3,2,3],[1,4,2,4],[1,5,2,5],[1,6,1,9],[1,10,2,10],[1,11,2,11],[4,0,4,2]]}
["CUADRO DE CARGAS ELÉCTRICAS TABLERO-TSN-PAT"]
[null,"CTO.","DESCRIPCIÓN","CANT.","POTENCIA (W)","POTENCIA TOTAL (W)","FASES",{"$nulls":3},"CORRIENTE (A)","TM (A)"]
[{"$nulls":6},"R","S","T","RST"]
[null,"Bomb.03","Motobomba Planta de Tratamiento",1,{"$f":"1*746","v":746},{"$f":"+(D4*E4)","v":746},null,{"$f":"F4","v":746},null,null,{"$f":"F4/220","v":{"v":3.390909090909091,"d":"3"}},"1x25"]
["TOTAL GENERAL",{"$nulls":3},"Σ ",{"$f":"SUM(F4:F4)","v":746},{"$f":"SUM(G4:G4)","v":0},{"$f":"SUM(H4:H4)","v":746},{"$f":"SUM(I4:I4)","v":0},{"$f":"SUM(J4:J4)","v":0},{"$f":"E12","v":{"v":3.390909090909091,"d":"3"}},{"$f":"E13","v":"1x25"}]
[]
[]
[null,null,"Potencia instalada - Σpotencia ","PI",{"$f":"F5","v":746}]
[null,null,"factor de potencia - ","fp",0.8]
[null,null,"factor de demanda - Anexo 3 ANDE","fd",{"$f":"IF(E8<=2700,1,\nIF(E8<=3800,0.95,\nIF(E8<=7200,0.9,\nIF(E8<=12000,0.85,\nIF(E8<=20000,0.8,\nIF(E8<=30000,0.75,\nIF(E8<=50000,0.7,\nIF(E8<=80000,0.65,\nIF(E8<=120000,0.6,\nIF(E8<=170000,0.55,\nIF(E8<=250000,0.5,\n0.45)))))))))))","v":1}]
[null,null,"Potencia Demandada - Pd = PI*fd","Pd",{"$f":"E8*E10","v":746}]
[null,null,"Corriente - Id = Pd/(√3*380*fp)","Id",{"$f":"E11/(220)","v":{"v":3.390909090909091,"d":"3"}}]
[null,null,"LLave Limitadora","TM","1x25"]
[null,null,"Alimentador","S","2x4"]
[null,null,"Seccion de Conductor de Proteccion","S_p",{"$f":"_xlfn.CONCAT(\"1x\",IF(VALUE(RIGHT(E14, LEN(E14) - FIND(\"x\", E14))) <= 16, VALUE(RIGHT(E14, LEN(E14) - FIND(\"x\", E14))), IF(AND(VALUE(RIGHT(E14, LEN(E14) - FIND(\"x\", E14))) > 16, VALUE(RIGHT(E14, LEN(E14) - FIND(\"x\", E14))) <= 35), 16, VALUE(RIGHT(E14, LEN(E14) - FIND(\"x\", E14)))/2)))","v":"1x4"}]
[null,null,"Corriente admisible Conductor - Iz","Iz",50]
[null,null,"Longitud (m)","L",130]

{"sheet":"ALIM.-RIEGO","index":13,"n_rows":17,"n_cols":12,"rows_kept":17,"merged":[[0,0,0,11],[1,0,2,0],[1,1,2,1],[1,2,2,2],[1,3,2,3],[1,4,2,4],[1,5,2,5],[1,6,1,9],[1,10,2,10],[1,11,2,11],[4,0,4,2]]}
["CUADRO DE CARGAS ELÉCTRICAS TABLERO-TSN-RIEGO"]
[null,"CTO.","DESCRIPCIÓN","CANT.","POTENCIA (W)","POTENCIA TOTAL (W)","FASES",{"$nulls":3},"CORRIENTE (A)","TM (A)"]
[{"$nulls":6},"R","S","T","RST"]
[null,"Bomb.03","Motobomba Riego",1,{"$f":"2*746","v":1492},{"$f":"+(D4*E4)","v":1492},{"$f":"F4","v":{"v":1492,"d":"1,492"}},{"$nulls":3},{"$f":"F4/220","v":{"v":6.781818181818182,"d":"7"}},"1x25"]
["TOTAL GENERAL",{"$nulls":3},"Σ ",{"$f":"SUM(F4:F4)","v":1492},{"$f":"SUM(G4:G4)","v":1492},{"$f":"SUM(H4:H4)","v":0},{"$f":"SUM(I4:I4)","v":0},{"$f":"SUM(J4:J4)","v":0},{"$f":"E12","v":{"v":6.781818181818182,"d":"7"}},{"$f":"E13","v":"1x25"}]
[]
[]
[null,null,"Potencia instalada - Σpotencia ","PI",{"$f":"F5","v":{"v":1492,"d":"1,492"}}]
[null,null,"factor de potencia - ","fp",0.8]
[null,null,"factor de demanda - Anexo 3 ANDE","fd",{"$f":"IF(E8<=2700,1,\nIF(E8<=3800,0.95,\nIF(E8<=7200,0.9,\nIF(E8<=12000,0.85,\nIF(E8<=20000,0.8,\nIF(E8<=30000,0.75,\nIF(E8<=50000,0.7,\nIF(E8<=80000,0.65,\nIF(E8<=120000,0.6,\nIF(E8<=170000,0.55,\nIF(E8<=250000,0.5,\n0.45)))))))))))","v":1}]
[null,null,"Potencia Demandada - Pd = PI*fd","Pd",{"$f":"E8*E10","v":{"v":1492,"d":"1,492"}}]
[null,null,"Corriente - Id = Pd/(√3*380*fp)","Id",{"$f":"E11/(220)","v":{"v":6.781818181818182,"d":"7"}}]
[null,null,"LLave Limitadora","TM","1x25"]
[null,null,"Alimentador","S","2x4"]
[null,null,"Seccion de Conductor de Proteccion","S_p",{"$f":"_xlfn.CONCAT(\"1x\",IF(VALUE(RIGHT(E14, LEN(E14) - FIND(\"x\", E14))) <= 16, VALUE(RIGHT(E14, LEN(E14) - FIND(\"x\", E14))), IF(AND(VALUE(RIGHT(E14, LEN(E14) - FIND(\"x\", E14))) > 16, VALUE(RIGHT(E14, LEN(E14) - FIND(\"x\", E14))) <= 35), 16, VALUE(RIGHT(E14, LEN(E14) - FIND(\"x\", E14)))/2)))","v":"1x4"}]
[null,null,"Corriente admisible Conductor - Iz","Iz",50]
[null,null,"Longitud (m)","L",110]

{"sheet":"ALIM.-FUENTE SECA","index":14,"n_rows":17,"n_cols":12,"rows_kept":17,"merged":[[0,0,0,11],[1,0,2,0],[1,1,2,1],[1,2,2,2],[1,3,2,3],[1,4,2,4],[1,5,2,5],[1,6,1,9],[1,10,2,10],[1,11,2,11],[4,0,4,2]]}
["CUADRO DE CARGAS ELÉCTRICAS TABLERO-TSN-RIEGO"]
[null,"CTO.","DESCRIPCIÓN","CANT.","POTENCIA (W)","POTENCIA TOTAL (W)","FASES",{"$nulls":3},"CORRIENTE (A)","TM (A)"]
[{"$nulls":6},"R","S","T","RST"]
[null,null,"Fuente seca",1,{"$f":"746*9","v":6714},{"$f":"+(D4*E4)","v":6714},{"$f":"+F4/3","v":{"v":2238,"d":"2,238"}},{"$f":"+G4","v":{"v":2238,"d":"2,238"}},{"$f":"+H4","v":{"v":2238,"d":"2,238"}},null,{"$f":"+E12","v":{"v":12.751084563615617,"d":"13"}},"1x25"]
["TOTAL GENERAL",{"$nulls":3},"Σ ",{"$f":"SUM(F4:F4)","v":6714},{"$f":"SUM(G4:G4)","v":2238},{"$f":"SUM(H4:H4)","v":2238},{"$f":"SUM(I4:I4)","v":2238},{"$f":"SUM(J4:J4)","v":0},{"$f":"E12","v":{"v":12.751084563615617,"d":"13"}},{"$f":"E13","v":"3x25"}]
[]
[]
[null,null,"Potencia instalada - Σpotencia ","PI",{"$f":"F5","v":{"v":6714,"d":"6,714"}}]
[null,null,"factor de potencia - ","fp",0.8]
[null,null,"factor de demanda - Anexo 3 ANDE","fd",1]
[null,null,"Potencia Demandada - Pd = PI*fd","Pd",{"$f":"E8*E10","v":{"v":6714,"d":"6,714"}}]
[null,null,"Corriente - Id = Pd/(√3*380*fp)","Id",{"$f":"E11/(SQRT(3)*380*E9)","v":{"v":12.751084563615617,"d":"13"}}]
[null,null,"LLave Limitadora","TM","3x25"]
[null,null,"Alimentador","S","2x6"]
[null,null,"Seccion de Conductor de Proteccion","S_p",{"$f":"_xlfn.CONCAT(\"1x\",IF(VALUE(RIGHT(E14, LEN(E14) - FIND(\"x\", E14))) <= 16, VALUE(RIGHT(E14, LEN(E14) - FIND(\"x\", E14))), IF(AND(VALUE(RIGHT(E14, LEN(E14) - FIND(\"x\", E14))) > 16, VALUE(RIGHT(E14, LEN(E14) - FIND(\"x\", E14))) <= 35), 16, VALUE(RIGHT(E14, LEN(E14) - FIND(\"x\", E14)))/2)))","v":"1x6"}]
[null,null,"Corriente admisible Conductor - Iz","Iz",42]
[null,null,"Longitud (m)","L",110]

{"sheet":"TSE-TSN-GU","index":15,"n_rows":59,"n_cols":44,"rows_kept":59,"merged":[[0,0,0,43],[1,0,2,0],[1,1,2,1],[1,2,1,3],[1,4,1,5],[1,6,1,7],[1,8,1,9],[1,10,1,11],[1,12,1,13],[1,14,1,15],[1,16,1,17],[1,18,1,19],[1,20,1,21],[1,22,1,23],[1,24,1,25],[1,26,1,27],[1,28,1,29],[1,30,1,31],[1,32,1,33],[1,34,2,34],[1,35,2,35],[1,36,2,36],[1,37,2,37],[1,38,1,41],[1,42,2,42],[1,43,2,43],[17,0,17,34],[31,0,31,43],[32,0,33,0],[32,1,33,1],[32,2,32,3],[32,4,32,5],[32,6,32,7],[32,8,32,9],[32,10,32,11],[32,12,32,13],[32,14,32,15],[32,16,32,17],[32,18,32,19],[32,20,32,21],[32,22,32,23],[32,24,32,25],[32,26,32,27],[32,28,32,29],[32,30,32,31],[32,32,32,33],[32,34,33,34],[32,35,33,35],[32,36,33,36],[32,37,33,37],[32,38,32,41],[32,42,33,42],[32,43,33,43],[46,0,46,34]]}
["CUADRO DE CARGAS ELÉCTRICAS TABLERO-TSN-GU"]
["DEPENDENCIA","CTO.","TIPO 1 - LED 38 W",null,"TIPO 2 - LED Est. Adosar 39 W",null,"TIPO 3 - LED Circular Embutido 25 W",null,"TIPO 4 - Spot LED CIrcular Emb. 6 W",null,"TIPO 5 - Spot Cir. Movil LED 12 W",null,"TIPO 6 - Aplique de Adosar LED 5.5 W",null,"TIPO 7 - Adosar Resina LED 6 W",null,"TIPO 8 - LED Circular Embutido 23 W",null,"TIPO 9 - LED Colgante 35 W",null,"TIPO 10 - Proyector LED 50 W",null,"TIPO 11 - LED  Embutido Uni. 1.7 W",null,"TIPO 12 - LED Colgante 25 W",null,"TOMA SIMPLE",null,"TOMA SCHUKO",null,"ESTACIONES DE TRABAJO",null,"SECAMANOS",null,"DESCRIPCIÓN","CANT.","POTENCIA (W)","POTENCIA TOTAL (W)","FASES",{"$nulls":3},"CORRIENTE (A)","TM (A)"]
[null,null,"CANT.","POTENCIA UNIT. (W)","CANT.","POTENCIA UNIT. (W)","CANT.","POTENCIA UNIT. (W)","CANT.","POTENCIA UNIT. (W)","CANT.","POTENCIA UNIT. (W)","CANT.","POTENCIA UNIT. (W)","CANT.","POTENCIA UNIT. (W)","CANT.","POTENCIA UNIT. (W)","CANT.","POTENCIA UNIT. (W)","CANT.","POTENCIA UNIT. (W)","CANT.","POTENCIA UNIT. (W)","CANT.","POTENCIA UNIT. (W)","CANT.","POTENCIA UNIT. (W)","CANT.","POTENCIA UNIT. (W)","CANT.","POTENCIA UNIT. (W)","CANT.","POTENCIA UNIT. (W)",{"$nulls":4},"R","S","T","RST"]
[null,"TNGU.01",{"$nulls":24},12,100,{"$nulls":9},{"$f":"(C4*D4)+(E4*F4)+(G4*H4)+(I4*J4)+(K4*L4)+(M4*N4)+(O4*P4)+(Q4*R4)+(S4*T4)+(U4*V4)+(W4*X4)+(Y4*Z4)+(AA4*AB4)+(AC4*AD4)+(AE4*AF4)+(AG4*AH4)+(AJ4*AK4)","v":1200},{"$f":"AL4","v":{"v":1200,"d":"1,200"}},{"$nulls":3},{"$f":"AL4/220","v":{"v":5.454545454545454,"d":"5"}},"1x16"]
[null,"TSNGU.01",{"$nulls":26},1,2000,{"$nulls":7},{"$f":"(C5*D5)+(E5*F5)+(G5*H5)+(I5*J5)+(K5*L5)+(M5*N5)+(O5*P5)+(Q5*R5)+(S5*T5)+(U5*V5)+(W5*X5)+(Y5*Z5)+(AA5*AB5)+(AC5*AD5)+(AE5*AF5)+(AG5*AH5)+(AJ5*AK5)","v":2000},null,{"$f":"AL5","v":{"v":2000,"d":"2,000"}},null,null,{"v":9.090909090909092,"d":"9"},"1x16"]
[null,"SmNGU.01",{"$nulls":30},1,1800,{"$nulls":3},1800,null,null,{"$f":"AL6","v":{"v":1800,"d":"1,800"}},null,{"v":8.181818181818182,"d":"8"},"1x16"]
[null,"FCGU.01",{"$nulls":32},"Fancoil ",1,1500,1500,{"$f":"AL7","v":{"v":1500,"d":"1,500"}},{"$nulls":3},{"v":6.818181818181818,"d":"7"},"1x16"]
[null,"FCGU.02",{"$nulls":32},"Fancoil ",1,1500,1500,{"$f":"+AL8","v":{"v":1500,"d":"1,500"}},{"$nulls":3},{"v":6.818181818181818,"d":"7"},"1x16"]
[null,"FCGU.03",{"$nulls":32},"Fancoil ",1,1500,1500,null,{"$f":"AL9","v":{"v":1500,"d":"1,500"}},null,null,{"v":6.818181818181818,"d":"7"},"1x16"]
[null,"FCGU.04",{"$nulls":32},"Fancoil ",1,1500,1500,{"$f":"AL10","v":{"v":1500,"d":"1,500"}},{"$nulls":3},{"v":6.818181818181818,"d":"7"},"1x16"]
[null,"FCGU.05",{"$nulls":32},"Fancoil ",1,3500,3500,null,null,{"$f":"AL11","v":{"v":3500,"d":"3,500"}},null,{"v":15.909090909090908,"d":"16"},"1x25"]
[null,"FCGU.06",{"$nulls":32},"Fancoil ",1,3500,3500,null,{"$f":"AL12","v":{"v":3500,"d":"3,500"}},null,null,{"v":15.909090909090908,"d":"16"},"1x25"]
[null,"FCGU.07",{"$nulls":32},"Fancoil ",1,1080,1080,{"$f":"AL13","v":{"v":1080,"d":"1,080"}},{"$nulls":3},{"v":4.909090909090909,"d":"5"},"1x16"]
[null,"FCGU.08",{"$nulls":32},"Fancoil ",1,1080,1080,{"$f":"AL14","v":{"v":1080,"d":"1,080"}},{"$nulls":3},{"v":4.909090909090909,"d":"5"},"1x16"]
[null,"FCGU.09",{"$nulls":32},"Fancoil ",1,520,520,{"$f":"AL15","v":520},{"$nulls":3},{"v":2.3636363636363638,"d":"2"},"1x16"]
[null,"TSN.SUM",{"$nulls":32},"Tablero Seccional TSN-SUM",1,{"$f":"'TSE-TSN-SUM'!AL12","v":15300},15300,{"$f":"'TSE-TSN-SUM'!AM12","v":{"v":4100,"d":"4,100"}},{"$f":"'TSE-TSN-SUM'!AN12","v":{"v":5300,"d":"5,300"}},{"$f":"'TSE-TSN-SUM'!AO12","v":{"v":5900,"d":"5,900"}},{"$f":"'TSE-TSN-SUM'!AP12","v":0},{"$f":"'TSE-TSN-SUM'!AQ12","v":{"v":29.057431311188402,"d":"29"}},{"$f":"'TSE-TSN-SUM'!AR12","v":"3x32"}]
[null,"TSN.Caf",{"$nulls":32},"Tablero Seccional TSN-CAF",1,{"$f":"'TSE-TSN-CAF'!AL16","v":26326},26326,{"$f":"'TSE-TSN-CAF'!AM16","v":{"v":8200,"d":"8,200"}},{"$f":"'TSE-TSN-CAF'!AN16","v":{"v":8226,"d":"8,226"}},{"$f":"'TSE-TSN-CAF'!AO16","v":{"v":9900,"d":"9,900"}},{"$f":"'TSE-TSN-CAF'!AP16","v":0},{"$f":"'TSE-TSN-CAF'!AQ16","v":{"v":37.498330230311076,"d":"37"}},{"$f":"'TSE-TSN-CAF'!AR16","v":"3x40"}]
["TOTAL GENERAL",{"$nulls":35},"Σ ",{"$f":"SUM(AL4:AL17)","v":62306},{"$f":"SUM(AM4:AM17)","v":20680},{"$f":"SUM(AN4:AN17)","v":20526},{"$f":"SUM(AO4:AO17)","v":21100},{"$f":"SUM(AP4:AP17)","v":0},{"$f":"AK25","v":{"v":82.831151679244,"d":"83"}},{"$f":"AK26","v":"3x100"}]
[]
[]
[{"$nulls":34},"Potencia instalada - Σpotencia ","PI",{"$f":"AL18","v":{"v":62306,"d":"62,306"}}]
[{"$nulls":34},"factor de potencia - ","fp",0.8]
[{"$nulls":34},"factor de demanda - Anexo 3 ANDE","fd",0.7]
[{"$nulls":34},"Potencia Demandada - Pd = PI*fd","Pd",{"$f":"AK21*AK23","v":{"v":43614.2,"d":"43,614"}}]
[{"$nulls":34},"Corriente - Id = Pd/(√3*380*fp)","Id",{"$f":"AK24/(SQRT(3)*380*AK22)","v":{"v":82.831151679244,"d":"83"}}]
[{"$nulls":34},"LLave Limitadora","TM","3x100"]
[{"$nulls":34},"Alimentador","S","4x35"]
[{"$nulls":34},"Seccion de Conductor de Proteccion","S_p",{"$f":"_xlfn.CONCAT(\"1x\",IF(VALUE(RIGHT(AK27, LEN(AK27) - FIND(\"x\", AK27))) <= 16, VALUE(RIGHT(AK27, LEN(AK27) - FIND(\"x\", AK27))), IF(AND(VALUE(RIGHT(AK27, LEN(AK27) - FIND(\"x\", AK27))) > 16, VALUE(RIGHT(AK27, LEN(AK27) - FIND(\"x\", AK27))) <= 35), 16, VALUE(RIGHT(AK27, LEN(AK27) - FIND(\"x\", AK27)))/2)))","v":"1x16"}]
[{"$nulls":34},"Corriente admisible Conductor - Iz","Iz",138]
[{"$nulls":34},"Longitud (m)","L",100]
[]
["CUADRO DE CARGAS ELÉCTRICAS TABLERO-TSE-GU"]
[",","CTO.","TIPO 1 - LED 38 W",null,"TIPO 2 - LED Est. Adosar 39 W",null,"TIPO 3 - LED Circular Embutido 25 W",null,"TIPO 4 - Spot LED CIrcular Emb. 6 W",null,"TIPO 5 - Spot Cir. Movil LED 12 W",null,"TIPO 6 - Aplique de Adosar LED 5.5 W",null,"TIPO 7 - Adosar Resina LED 6 W",null,"TIPO 8 - LED Circular Embutido 23 W",null,"TIPO 9 - LED Colgante 35 W",null,"TIPO 10 - Proyector LED 50 W",null,"TIPO 11 - LED  Embutido Uni. 1.7 W",null,"TIPO 12 - LED Colgante 25 W",null,"TOMA SIMPLE",null,"TOMA SCHUKO",null,"ESTACIONES DE TRABAJO",null,"SECAMANOS",null,"DESCRIPCIÓN","CANT.","POTENCIA (W)","POTENCIA TOTAL (W)","FASES",{"$nulls":3},"CORRIENTE (A)","TM (A)"]
[null,null,"CANT.","POTENCIA UNIT. (W)","CANT.","POTENCIA UNIT. (W)","CANT.","POTENCIA UNIT. (W)","CANT.","POTENCIA UNIT. (W)","CANT.","POTENCIA UNIT. (W)","CANT.","POTENCIA UNIT. (W)","CANT.","POTENCIA UNIT. (W)","CANT.","POTENCIA UNIT. (W)","CANT.","POTENCIA UNIT. (W)","CANT.","POTENCIA UNIT. (W)","CANT.","POTENCIA UNIT. (W)","CANT.","POTENCIA UNIT. (W)","CANT.","POTENCIA UNIT. (W)","CANT.","POTENCIA UNIT. (W)","CANT.","POTENCIA UNIT. (W)","CANT.","POTENCIA UNIT. (W)",{"$nulls":4},"R","S","T","RST"]
[null,"IEGU.00",{"$nulls":12},4,6,{"$nulls":21},{"$f":"(C35*D35)+(E35*F35)+(G35*H35)+(I35*J35)+(K35*L35)+(M35*N35)+(O35*P35)+(Q35*R35)+(S35*T35)+(U35*V35)+(W35*X35)+(Y35*Z35)+(AA35*AB35)+(AC35*AD35)+(AE35*AF35)+(AG35*AH35)+(AJ35*AK35)","v":24},{"$f":"AL35","v":24},{"$nulls":3},{"$f":"AL35/220","v":{"v":0.10909090909090909,"d":"0"}},"1x10"]
[null,"IEGU.01",{"$nulls":4},6,25,{"$nulls":29},{"$f":"(C36*D36)+(E36*F36)+(G36*H36)+(I36*J36)+(K36*L36)+(M36*N36)+(O36*P36)+(Q36*R36)+(S36*T36)+(U36*V36)+(W36*X36)+(Y36*Z36)+(AA36*AB36)+(AC36*AD36)+(AE36*AF36)+(AG36*AH36)+(AJ36*AK36)","v":150},null,{"$f":"AL36","v":150},null,null,{"v":0.6818181818181818,"d":"1"},"1x10"]
[null,"IEGU.02",{"$nulls":18},5,25,{"$nulls":15},125,null,null,{"$f":"AL37","v":125},null,{"v":0.5681818181818182,"d":"1"},"1x10"]
[null,"IEGU.03",{"$nulls":4},6,25,{"$nulls":29},150,{"$f":"AL38","v":150},{"$nulls":3},{"v":0.6818181818181818,"d":"1"},"1x10"]
[null,"IEGU.04",2,38,null,null,6,25,{"$nulls":29},226,null,null,{"$f":"AL39","v":226},null,{"v":1.0272727272727273,"d":"1"},"1x10"]
[null,"IEGU.05",{"$nulls":4},2,25,{"$nulls":29},50,null,{"$f":"AL40","v":50},null,null,{"v":0.22727272727272727,"d":"0"},"1x10"]
[null,"IEGU.06",8,38,{"$nulls":33},304,{"$f":"AL41","v":304},{"$nulls":3},{"v":1.3818181818181818,"d":"1"},"1x10"]
[null,"TEGU.01",{"$nulls":28},4,250,{"$nulls":5},1000,null,{"$f":"AL42","v":{"v":1000,"d":"1,000"}},null,null,{"v":4.545454545454546,"d":"5"},"1x16"]
[null,"TEGU.02",{"$nulls":28},3,250,{"$nulls":5},750,null,null,{"$f":"AL43","v":750},null,{"v":3.409090909090909,"d":"3"},"1x16"]
[null,"TSE ASC3",{"$nulls":32},"Tablero Seccional TSE-ASC3",1,{"$f":"'TSE-ASC3'!F7","v":5122},5122,{"$f":"'TSE-ASC3'!G7","v":{"v":1522,"d":"1,522"}},{"$f":"'TSE-ASC3'!H7","v":{"v":2100,"d":"2,100"}},{"$f":"'TSE-ASC3'!I7","v":{"v":1500,"d":"1,500"}},{"$f":"'TSE-ASC3'!J7","v":{"v":4500,"d":"4,500"}},{"$f":"'TSE-ASC3'!K7","v":{"v":9.727592364438365,"d":"10"}},{"$f":"'TSE-ASC3'!L7","v":"3x32"}]
[null,"TSE SUM",{"$nulls":32},"Tablero Seccional TSE-SUM",1,{"$f":"'TSE-TSN-SUM'!AL39","v":9956},9956,{"$f":"'TSE-TSN-SUM'!AM39","v":{"v":2827,"d":"2,827"}},{"$f":"'TSE-TSN-SUM'!AN39","v":{"v":3011,"d":"3,011"}},{"$f":"'TSE-TSN-SUM'!AO39","v":{"v":4118,"d":"4,118"}},{"$f":"'TSE-TSN-SUM'!AP39","v":0},{"$f":"'TSE-TSN-SUM'!AQ39","v":{"v":18.908221315960244,"d":"19"}},{"$f":"'TSE-TSN-SUM'!AR39","v":"3x25"}]
[null,"TSE Caf",{"$nulls":32},"Tablero Seccional TSE-CAF",1,{"$f":"'TSE-TSN-CAF'!AL44","v":8633},8633,{"$f":"'TSE-TSN-CAF'!AM44","v":{"v":3250,"d":"3,250"}},{"$f":"'TSE-TSN-CAF'!AN44","v":{"v":2933,"d":"2,933"}},{"$f":"'TSE-TSN-CAF'!AO44","v":{"v":2450,"d":"2,450"}},{"$f":"'TSE-TSN-CAF'!AP44","v":0},{"$f":"'TSE-TSN-CAF'!AQ44","v":{"v":16.39560813787513,"d":"16"}},{"$f":"'TSE-TSN-CAF'!AR44","v":"3x25"}]
["TOTAL GENERAL",{"$nulls":35},"Σ ",{"$f":"SUM(AL35:AL46)","v":26490},{"$f":"SUM(AM35:AM46)","v":8077},{"$f":"SUM(AN35:AN46)","v":9244},{"$f":"SUM(AO35:AO46)","v":9169},{"$f":"SUM(AP35:AP46)","v":4500},{"$f":"AK54","v":{"v":50.30923891721443,"d":"50"}},{"$f":"AK55","v":"3x63"}]
[]
[]
[{"$nulls":34},"Potencia instalada - Σpotencia ","PI",{"$f":"AL47","v":{"v":26490,"d":"26,490"}}]
[{"$nulls":34},"factor de potencia - ","fp",0.8]
[{"$nulls":34},"factor de demanda - Anexo 3 ANDE","fd",1]
[{"$nulls":34},"Potencia Demandada - Pd = PI*fd","Pd",{"$f":"AK50*AK52","v":{"v":26490,"d":"26,490"}}]
[{"$nulls":34},"Corriente - Id = Pd/(√3*380*fp)","Id",{"$f":"AK53/(SQRT(3)*380*AK51)","v":{"v":50.30923891721443,"d":"50"}}]
[{"$nulls":34},"LLave Limitadora","TM","3x63"]
[{"$nulls":34},"Alimentador","S","4x16"]
[{"$nulls":34},"Seccion de Conductor de Proteccion","S_p",{"$f":"_xlfn.CONCAT(\"1x\",IF(VALUE(RIGHT(AK56, LEN(AK56) - FIND(\"x\", AK56))) <= 16, VALUE(RIGHT(AK56, LEN(AK56) - FIND(\"x\", AK56))), IF(AND(VALUE(RIGHT(AK56, LEN(AK56) - FIND(\"x\", AK56))) > 16, VALUE(RIGHT(AK56, LEN(AK56) - FIND(\"x\", AK56))) <= 35), 16, VALUE(RIGHT(AK56, LEN(AK56) - FIND(\"x\", AK56)))/2)))","v":"1x16"}]
[{"$nulls":34},"Corriente admisible Conductor - Iz","Iz",90]
[{"$nulls":34},"Longitud (m)","L",100]

{"sheet":"TSE-TSN-SUM","index":16,"n_rows":51,"n_cols":44,"rows_kept":51,"merged":[[0,0,0,43],[1,0,2,0],[1,1,2,1],[1,2,1,3],[1,4,1,5],[1,6,1,7],[1,8,1,9],[1,10,1,11],[1,12,1,13],[1,14,1,15],[1,16,1,17],[1,18,1,19],[1,20,1,21],[1,22,1,23],[1,24,1,25],[1,26,1,27],[1,28,1,29],[1,30,1,31],[1,32,1,33],[1,34,2,34],[1,35,2,35],[1,36,2,36],[1,37,2,37],[1,38,1,41],[1,42,2,42],[1,43,2,43],[11,0,11,34],[25,0,25,43],[26,0,27,0],[26,1,27,1],[26,2,26,3],[26,4,26,5],[26,6,26,7],[26,8,26,9],[26,10,26,11],[26,12,26,13],[26,14,26,15],[26,16,26,17],[26,18,26,19],[26,20,26,21],[26,22,26,23],[26,24,26,25],[26,26,26,27],[26,28,26,29],[26,30,26,31],[26,32,26,33],[26,34,27,34],[26,35,27,35],[26,36,27,36],[26,37,27,37],[26,38,26,41],[26,42,27,42],[26,43,27,43],[38,0,38,34]]}
["CUADRO DE CARGAS ELÉCTRICAS TABLERO-TSN-SUM"]
["DEPENDENCIA","CTO.","TIPO 1 - LED 38 W",null,"TIPO 2 - LED Est. Adosar 39 W",null,"TIPO 3 - LED Circular Embutido 25 W",null,"TIPO 4 - Spot LED CIrcular Emb. 6 W",null,"TIPO 5 - Spot Cir. Movil LED 12 W",null,"TIPO 6 - Aplique de Adosar LED 5.5 W",null,"TIPO 7 - Adosar Resina LED 6 W",null,"TIPO 8 - LED Circular Embutido 23 W",null,"TIPO 9 - LED Colgante 35 W",null,"TIPO 10 - Proyector LED 50 W",null,"TIPO 11 - LED  Embutido Uni. 1.7 W",null,"TIPO 12 - LED Colgante 25 W",null,"TOMA SIMPLE",null,"TOMA SCHUKO",null,"ESTACIONES DE TRABAJO",null,"SECAMANOS",null,"DESCRIPCIÓN","CANT.","POTENCIA (W)","POTENCIA TOTAL (W)","FASES",{"$nulls":3},"CORRIENTE (A)","TM (A)"]
[null,null,"CANT.","POTENCIA UNIT. (W)","CANT.","POTENCIA UNIT. (W)","CANT.","POTENCIA UNIT. (W)","CANT.","POTENCIA UNIT. (W)","CANT.","POTENCIA UNIT. (W)","CANT.","POTENCIA UNIT. (W)","CANT.","POTENCIA UNIT. (W)","CANT.","POTENCIA UNIT. (W)","CANT.","POTENCIA UNIT. (W)","CANT.","POTENCIA UNIT. (W)","CANT.","POTENCIA UNIT. (W)","CANT.","POTENCIA UNIT. (W)","CANT.","POTENCIA UNIT. (W)","CANT.","POTENCIA UNIT. (W)","CANT.","POTENCIA UNIT. (W)","CANT.","POTENCIA UNIT. (W)",{"$nulls":4},"R","S","T","RST"]
[null,"TNSUM.01",{"$nulls":24},6,100,{"$nulls":9},{"$f":"(AE4*AF4)+(AG4*AH4)+(AJ4*AK4)+(AA4*AB4)+(AC4*AD4)","v":600},{"$f":"AL4","v":600},{"$nulls":3},{"$f":"AL4/220","v":{"v":2.727272727272727,"d":"3"}},"1x16"]
[null,"SMSUM.01",{"$nulls":30},1,1800,{"$nulls":3},{"$f":"(AE5*AF5)+(AG5*AH5)+(AJ5*AK5)+(AA5*AB5)+(AC5*AD5)","v":1800},null,{"$f":"AL5","v":{"v":1800,"d":"1,800"}},null,null,{"v":8.181818181818182,"d":"8"},"1x16"]
[null,"FCSUM.01",{"$nulls":32},"Fancoil ",1,3900,3900,null,null,{"$f":"AL6","v":{"v":3900,"d":"3,900"}},null,{"v":17.727272727272727,"d":"18"},"1x25"]
[null,"FCSUM.02",{"$nulls":32},"Fancoil ",1,1500,1500,{"$f":"AL7","v":{"v":1500,"d":"1,500"}},{"$nulls":3},{"v":6.818181818181818,"d":"7"},"1x16"]
[null,"FCSUM.03",{"$nulls":32},"Recuperador de Calor",1,1500,1500,null,{"$f":"AL8","v":{"v":1500,"d":"1,500"}},null,null,{"v":6.818181818181818,"d":"7"},"1x16"]
[null,"Rsva.",{"$nulls":32},"Reserva",1,2000,2000,{"$f":"AL9","v":{"v":2000,"d":"2,000"}},{"$nulls":3},{"v":9.090909090909092,"d":"9"},"1x16"]
[null,"Rsva.",{"$nulls":32},"Reserva",1,2000,2000,null,{"$f":"AL10","v":{"v":2000,"d":"2,000"}},null,null,{"v":9.090909090909092,"d":"9"},"1x16"]
[null,"Rsva.",{"$nulls":32},"Reserva",1,2000,2000,null,null,{"$f":"AL11","v":{"v":2000,"d":"2,000"}},null,{"v":9.090909090909092,"d":"9"},"1x16"]
["TOTAL GENERAL",{"$nulls":35},"Σ ",{"$f":"SUM(AL4:AL11)","v":15300},{"$f":"SUM(AM4:AM11)","v":4100},5300,5900,0,{"$f":"AK19","v":{"v":29.057431311188402,"d":"29"}},{"$f":"AK20","v":"3x32"}]
[]
[]
[{"$nulls":34},"Potencia instalada - Σpotencia ","PI",{"$f":"AL12","v":{"v":15300,"d":"15,300"}}]
[{"$nulls":34},"factor de potencia - ","fp",0.8]
[{"$nulls":34},"factor de demanda - Anexo 3 ANDE","fd",1]
[{"$nulls":34},"Potencia Demandada - Pd = PI*fd","Pd",{"$f":"AK15*AK17","v":{"v":15300,"d":"15,300"}}]
[{"$nulls":34},"Corriente - Id = Pd/(√3*380*fp)","Id",{"$f":"AK18/(SQRT(3)*380*AK16)","v":{"v":29.057431311188402,"d":"29"}}]
[{"$nulls":34},"LLave Limitadora","TM","3x32"]
[{"$nulls":34},"Alimentador","S","4x6"]
[{"$nulls":34},"Seccion de Conductor de Proteccion","S_p",{"$f":"_xlfn.CONCAT(\"1x\",IF(VALUE(RIGHT(AK21, LEN(AK21) - FIND(\"x\", AK21))) <= 16, VALUE(RIGHT(AK21, LEN(AK21) - FIND(\"x\", AK21))), IF(AND(VALUE(RIGHT(AK21, LEN(AK21) - FIND(\"x\", AK21))) > 16, VALUE(RIGHT(AK21, LEN(AK21) - FIND(\"x\", AK21))) <= 35), 16, VALUE(RIGHT(AK21, LEN(AK21) - FIND(\"x\", AK21)))/2)))","v":"1x6"}]
[{"$nulls":34},"Corriente admisible Conductor - Iz","Iz",52]
[{"$nulls":34},"Longitud (m)","L",5]
[]
["CUADRO DE CARGAS ELÉCTRICAS TABLERO-TSE-SUM"]
[",","CTO.","TIPO 1 - LED 38 W",null,"TIPO 2 - LED Est. Adosar 39 W",null,"TIPO 3 - LED Circular Embutido 25 W",null,"TIPO 4 - Spot LED CIrcular Emb. 6 W",null,"TIPO 5 - Spot Cir. Movil LED 12 W",null,"TIPO 6 - Aplique de Adosar LED 5.5 W",null,"TIPO 7 - Adosar Resina LED 6 W",null,"TIPO 8 - LED Circular Embutido 23 W",null,"TIPO 9 - LED Colgante 35 W",null,"TIPO 10 - Proyector LED 50 W",null,"TIPO 11 - LED  Embutido Uni. 1.7 W",null,"TIPO 12 - LED Colgante 25 W",null,"TOMA SIMPLE",null,"TOMA SCHUKO",null,"ESTACIONES DE TRABAJO",null,"SECAMANOS",null,"DESCRIPCIÓN","CANT.","POTENCIA (W)","POTENCIA TOTAL (W)","FASES",{"$nulls":3},"CORRIENTE (A)","TM (A)"]
[null,null,"CANT.","POTENCIA UNIT. (W)","CANT.","POTENCIA UNIT. (W)","CANT.","POTENCIA UNIT. (W)","CANT.","POTENCIA UNIT. (W)","CANT.","POTENCIA UNIT. (W)","CANT.","POTENCIA UNIT. (W)","CANT.","POTENCIA UNIT. (W)","CANT.","POTENCIA UNIT. (W)","CANT.","POTENCIA UNIT. (W)","CANT.","POTENCIA UNIT. (W)","CANT.","POTENCIA UNIT. (W)","CANT.","POTENCIA UNIT. (W)","CANT.","POTENCIA UNIT. (W)","CANT.","POTENCIA UNIT. (W)","CANT.","POTENCIA UNIT. (W)","CANT.","POTENCIA UNIT. (W)",{"$nulls":4},"R","S","T","RST"]
[null,"IESUM.01",{"$nulls":4},7,25,{"$nulls":29},{"$f":"(C29*D29)+(E29*F29)+(G29*H29)+(I29*J29)+(K29*L29)+(M29*N29)+(O29*P29)+(Q29*R29)+(S29*T29)+(U29*V29)+(W29*X29)+(Y29*Z29)+(AA29*AB29)+(AC29*AD29)+(AE29*AF29)+(AG29*AH29)+(AJ29*AK29)","v":175},{"$f":"AL29","v":175},{"$nulls":3},{"$f":"AL29/220","v":{"v":0.7954545454545454,"d":"1"}},"1x10"]
[null,"IESUM.02",{"$nulls":4},5,25,2,6,{"$nulls":27},{"$f":"(C30*D30)+(E30*F30)+(G30*H30)+(I30*J30)+(K30*L30)+(M30*N30)+(O30*P30)+(Q30*R30)+(S30*T30)+(U30*V30)+(W30*X30)+(Y30*Z30)+(AA30*AB30)+(AC30*AD30)+(AE30*AF30)+(AG30*AH30)+(AJ30*AK30)","v":137},null,{"$f":"AL30","v":137},null,null,{"v":0.6227272727272727,"d":"1"},"1x10"]
[null,"IESUM.03",{"$nulls":14},16,23,{"$nulls":19},368,null,null,{"$f":"AL31","v":368},null,{"v":1.6727272727272726,"d":"2"},"1x10"]
[null,"IESUM.04",{"$nulls":14},38,23,{"$nulls":19},874,null,{"$f":"AL32","v":874},null,null,{"v":3.9727272727272727,"d":"4"},"1x10"]
[null,"IESUM.05",{"$nulls":14},24,23,{"$nulls":19},552,{"$f":"AL33","v":552},{"$nulls":3},{"v":2.5090909090909093,"d":"3"},"1x10"]
[null,"TESUM.01",{"$nulls":28},7,250,{"$nulls":5},1750,null,null,{"$f":"AL34","v":{"v":1750,"d":"1,750"}},null,{"v":7.954545454545454,"d":"8"},"1x10"]
[null,"TESUM.02",{"$nulls":24},1,100,{"$nulls":9},100,{"$f":"AL35","v":100},{"$nulls":3},{"v":0.45454545454545453,"d":"0"},"1x10"]
[null,"Rsva.",{"$nulls":32},"Reserva",1,2000,2000,{"$f":"AL36","v":{"v":2000,"d":"2,000"}},{"$nulls":3},{"v":9.090909090909092,"d":"9"},"1x10"]
[null,"Rsva.",{"$nulls":32},"Reserva",1,2000,2000,null,{"$f":"AL37","v":{"v":2000,"d":"2,000"}},null,null,{"v":9.090909090909092,"d":"9"},"1x10"]
[null,"Rsva.",{"$nulls":32},"Reserva",1,2000,2000,null,null,{"$f":"AL38","v":{"v":2000,"d":"2,000"}},null,{"v":9.090909090909092,"d":"9"},"1x10"]
["TOTAL GENERAL",{"$nulls":35},"Σ ",{"$f":"SUM(AL29:AL38)","v":9956},{"$f":"SUM(AM29:AM38)","v":2827},3011,4118,0,{"$f":"AK46","v":{"v":18.908221315960244,"d":"19"}},{"$f":"AK47","v":"3x25"}]
[]
[]
[{"$nulls":34},"Potencia instalada - Σpotencia ","PI",{"$f":"AL39","v":{"v":9956,"d":"9,956"}}]
[{"$nulls":34},"factor de potencia - ","fp",0.8]
[{"$nulls":34},"factor de demanda - Anexo 3 ANDE","fd",1]
[{"$nulls":34},"Potencia Demandada - Pd = PI*fd","Pd",{"$f":"AK42*AK44","v":{"v":9956,"d":"9,956"}}]
[{"$nulls":34},"Corriente - Id = Pd/(√3*380*fp)","Id",{"$f":"AK45/(SQRT(3)*380*AK43)","v":{"v":18.908221315960244,"d":"19"}}]
[{"$nulls":34},"LLave Limitadora","TM","3x25"]
[{"$nulls":34},"Alimentador","S","4x4"]
[{"$nulls":34},"Seccion de Conductor de Proteccion","S_p",{"$f":"_xlfn.CONCAT(\"1x\",IF(VALUE(RIGHT(AK48, LEN(AK48) - FIND(\"x\", AK48))) <= 16, VALUE(RIGHT(AK48, LEN(AK48) - FIND(\"x\", AK48))), IF(AND(VALUE(RIGHT(AK48, LEN(AK48) - FIND(\"x\", AK48))) > 16, VALUE(RIGHT(AK48, LEN(AK48) - FIND(\"x\", AK48))) <= 35), 16, VALUE(RIGHT(AK48, LEN(AK48) - FIND(\"x\", AK48)))/2)))","v":"1x4"}]
[{"$nulls":34},"Corriente admisible Conductor - Iz","Iz",42]
[{"$nulls":34},"Longitud (m)","L",5]

{"sheet":"TSE-TSN-CAF","index":17,"n_rows":56,"n_cols":44,"rows_kept":56,"merged":[[0,0,0,43],[1,0,2,0],[1,1,2,1],[1,2,1,3],[1,4,1,5],[1,6,1,7],[1,8,1,9],[1,10,1,11],[1,12,1,13],[1,14,1,15],[1,16,1,17],[1,18,1,19],[1,20,1,21],[1,22,1,23],[1,24,1,25],[1,26,1,27],[1,28,1,29],[1,30,1,31],[1,32,1,33],[1,34,2,34],[1,35,2,35],[1,36,2,36],[1,37,2,37],[1,38,1,41],[1,42,2,42],[1,43,2,43],[15,0,15,34],[29,0,29,43],[30,0,31,0],[30,1,31,1],[30,2,30,3],[30,4,30,5],[30,6,30,7],[30,8,30,9],[30,10,30,11],[30,12,30,13],[30,14,30,15],[30,16,30,17],[30,18,30,19],[30,20,30,21],[30,22,30,23],[30,24,30,25],[30,26,30,27],[30,28,30,29],[30,30,30,31],[30,32,30,33],[30,34,31,34],[30,35,31,35],[30,36,31,36],[30,37,31,37],[30,38,30,41],[30,42,31,42],[30,43,31,43],[43,0,43,34]]}
["CUADRO DE CARGAS ELÉCTRICAS TABLERO-TSN-CAF"]
["DEPENDENCIA","CTO.","TIPO 1 - LED 38 W",null,"TIPO 2 - LED Est. Adosar 39 W",null,"TIPO 3 - LED Circular Embutido 25 W",null,"TIPO 4 - Spot LED CIrcular Emb. 6 W",null,"TIPO 11 - LED Colgante 11 W",null,"TIPO 6 - Aplique de Adosar LED 5.5 W",null,"TIPO 7 - Adosar Resina LED 6 W",null,"TIPO 8 - LED Circular Embutido 23 W",null,"TIPO 9 - LED Colgante 35 W",null,"TIPO 10 - Proyector LED 50 W",null,"TIPO 11 - LED  Embutido Uni. 1.7 W",null,"TIPO 12 - LED Colgante 25 W",null,"TOMA SIMPLE",null,"TOMA SCHUKO",null,"ESTACIONES DE TRABAJO",null,"SECAMANOS",null,"DESCRIPCIÓN","CANT.","POTENCIA (W)","POTENCIA TOTAL (W)","FASES",{"$nulls":3},"CORRIENTE (A)","TM (A)"]
[null,null,"CANT.","POTENCIA UNIT. (W)","CANT.","POTENCIA UNIT. (W)","CANT.","POTENCIA UNIT. (W)","CANT.","POTENCIA UNIT. (W)","CANT.","POTENCIA UNIT. (W)","CANT.","POTENCIA UNIT. (W)","CANT.","POTENCIA UNIT. (W)","CANT.","POTENCIA UNIT. (W)","CANT.","POTENCIA UNIT. (W)","CANT.","POTENCIA UNIT. (W)","CANT.","POTENCIA UNIT. (W)","CANT.","POTENCIA UNIT. (W)","CANT.","POTENCIA UNIT. (W)","CANT.","POTENCIA UNIT. (W)","CANT.","POTENCIA UNIT. (W)","CANT.","POTENCIA UNIT. (W)",{"$nulls":4},"R","S","T","RST"]
[null,"TNCaf.01",{"$nulls":24},5,100,{"$nulls":9},{"$f":"(AE4*AF4)+(AG4*AH4)+(AJ4*AK4)+(AA4*AB4)+(AC4*AD4)","v":500},{"$f":"AL4","v":500},{"$nulls":3},{"$f":"AL4/220","v":{"v":2.272727272727273,"d":"2"}},"1x16"]
[null,"ScNCaf.01",{"$nulls":26},1,2000,{"$nulls":7},{"$f":"(AE5*AF5)+(AG5*AH5)+(AJ5*AK5)+(AA5*AB5)+(AC5*AD5)","v":2000},null,{"$f":"AL5","v":{"v":2000,"d":"2,000"}},null,null,{"v":9.090909090909092,"d":"9"},"1x16"]
[null,"ScNCaf.02",{"$nulls":26},1,2000,{"$nulls":7},2000,null,null,{"$f":"AL6","v":{"v":2000,"d":"2,000"}},null,{"v":9.090909090909092,"d":"9"},"1x16"]
[null,"SmNCaf.01",{"$nulls":30},1,1800,{"$nulls":3},1800,{"$f":"AL7","v":{"v":1800,"d":"1,800"}},{"$nulls":3},{"v":8.181818181818182,"d":"8"},"1x16"]
[null,"SmNCaf.02",{"$nulls":30},1,1800,{"$nulls":3},1800,null,{"$f":"AL8","v":{"v":1800,"d":"1,800"}},null,null,{"v":8.181818181818182,"d":"8"},"1x16"]
[null,"FCCAF.01",{"$nulls":32},"FC 10.55 Kw",1,3900,3900,null,null,{"$f":"AL9","v":{"v":3900,"d":"3,900"}},null,{"v":17.727272727272727,"d":"18"},"1x25"]
[null,"FCCAF.02",{"$nulls":32},"FC 10.55 Kw",1,3900,3900,{"$f":"AL10","v":{"v":3900,"d":"3,900"}},{"$nulls":3},{"v":17.727272727272727,"d":"18"},"1x25"]
[null,"FCCAF.03",{"$nulls":32},"FC 5.20 Kw",1,1926,1926,null,{"$f":"AL11","v":{"v":1926,"d":"1,926"}},null,null,{"v":8.754545454545454,"d":"9"},"1x16"]
[null,"EXTCO.001",{"$nulls":32},"Extractor Campana 2.000 m3/h",1,2500,{"$f":"(AE12*AF12)+(AG12*AH12)+(AJ12*AK12)+(AA12*AB12)+(AC12*AD12)","v":2500},null,{"$f":"AL12","v":{"v":2500,"d":"2,500"}},null,null,{"v":11.363636363636363,"d":"11"},"1x16"]
[null,"Rsva.",{"$nulls":33},1,2000,{"$f":"(C13*D13)+(E13*F13)+(G13*H13)+(I13*J13)+(K13*L13)+(M13*N13)+(O13*P13)+(Q13*R13)+(S13*T13)+(U13*V13)+(W13*X13)+(Y13*Z13)+(AA13*AB13)+(AC13*AD13)+(AE13*AF13)+(AG13*AH13)+(AJ13*AK13)","v":2000},null,null,{"$f":"AL13","v":{"v":2000,"d":"2,000"}},null,{"v":9.090909090909092,"d":"9"},"1x16"]
[null,"Rsva.",{"$nulls":33},1,2000,2000,{"$f":"AL14","v":{"v":2000,"d":"2,000"}},{"$nulls":3},{"v":9.090909090909092,"d":"9"},"1x16"]
[null,"Rsva.",{"$nulls":33},1,2000,2000,null,null,{"$f":"AL15","v":{"v":2000,"d":"2,000"}},null,{"v":9.090909090909092,"d":"9"},"1x16"]
["TOTAL GENERAL",{"$nulls":35},"Σ ",{"$f":"SUM(AL4:AL15)","v":26326},{"$f":"SUM(AM4:AM15)","v":8200},{"$f":"SUM(AN4:AN15)","v":8226},{"$f":"SUM(AO4:AO15)","v":9900},{"$f":"SUM(AP4:AP15)","v":0},{"$f":"AK23","v":{"v":37.498330230311076,"d":"37"}},{"$f":"AK24","v":"3x40"}]
[]
[]
[{"$nulls":34},"Potencia instalada - Σpotencia ","PI",{"$f":"AL16","v":{"v":26326,"d":"26,326"}}]
[{"$nulls":34},"factor de potencia - ","fp",0.8]
[{"$nulls":34},"factor de demanda - Anexo 3 ANDE","fd",{"$f":"IF(AK19<=2700,1,\nIF(AK19<=3800,0.95,\nIF(AK19<=7200,0.9,\nIF(AK19<=12000,0.85,\nIF(AK19<=20000,0.8,\nIF(AK19<=30000,0.75,\nIF(AK19<=50000,0.7,\nIF(AK19<=80000,0.65,\nIF(AK19<=120000,0.6,\nIF(AK19<=170000,0.55,\nIF(AK19<=250000,0.5,\n0.45)))))))))))","v":0.75}]
[{"$nulls":34},"Potencia Demandada - Pd = PI*fd","Pd",{"$f":"AK19*AK21","v":{"v":19744.5,"d":"19,745"}}]
[{"$nulls":34},"Corriente - Id = Pd/(√3*380*fp)","Id",{"$f":"AK22/(SQRT(3)*380*AK20)","v":{"v":37.498330230311076,"d":"37"}}]
[{"$nulls":34},"LLave Limitadora","TM","3x40"]
[{"$nulls":34},"Alimentador","S","4x10"]
[{"$nulls":34},"Seccion de Conductor de Proteccion","S_p",{"$f":"_xlfn.CONCAT(\"1x\",IF(VALUE(RIGHT(AK25, LEN(AK25) - FIND(\"x\", AK25))) <= 16, VALUE(RIGHT(AK25, LEN(AK25) - FIND(\"x\", AK25))), IF(AND(VALUE(RIGHT(AK25, LEN(AK25) - FIND(\"x\", AK25))) > 16, VALUE(RIGHT(AK25, LEN(AK25) - FIND(\"x\", AK25))) <= 35), 16, VALUE(RIGHT(AK25, LEN(AK25) - FIND(\"x\", AK25)))/2)))","v":"1x10"}]
[{"$nulls":34},"Corriente admisible Conductor - Iz","Iz",69]
[{"$nulls":34},"Longitud (m)","L",12]
[]
["CUADRO DE CARGAS ELÉCTRICAS TABLERO-TSE-CAF"]
[",","CTO.","TIPO 1 - LED 38 W",null,"TIPO 2 - LED Est. Adosar 39 W",null,"TIPO 3 - LED Circular Embutido 25 W",null,"TIPO 4 - Spot LED CIrcular Emb. 6 W",null,"TIPO 11 - LED Colgante 11 W",null,"TIPO 6 - Aplique de Adosar LED 5.5 W",null,"TIPO 7 - Adosar Resina LED 6 W",null,"TIPO 8 - LED Circular Embutido 23 W",null,"TIPO 9 - LED Colgante 35 W",null,"TIPO 10 - Proyector LED 50 W",null,"TIPO 11 - LED  Embutido Uni. 1.7 W",null,"TIPO 12 - LED Colgante 25 W",null,"TOMA SIMPLE",null,"TOMA SCHUKO",null,"ESTACIONES DE TRABAJO",null,"SECAMANOS",null,"DESCRIPCIÓN","CANT.","POTENCIA (W)","POTENCIA TOTAL (W)","FASES",{"$nulls":3},"CORRIENTE (A)","TM (A)"]
[null,null,"CANT.","POTENCIA UNIT. (W)","CANT.","POTENCIA UNIT. (W)","CANT.","POTENCIA UNIT. (W)","CANT.","POTENCIA UNIT. (W)","CANT.","POTENCIA UNIT. (W)","CANT.","POTENCIA UNIT. (W)","CANT.","POTENCIA UNIT. (W)","CANT.","POTENCIA UNIT. (W)","CANT.","POTENCIA UNIT. (W)","CANT.","POTENCIA UNIT. (W)","CANT.","POTENCIA UNIT. (W)","CANT.","POTENCIA UNIT. (W)","CANT.","POTENCIA UNIT. (W)","CANT.","POTENCIA UNIT. (W)","CANT.","POTENCIA UNIT. (W)","CANT.","POTENCIA UNIT. (W)",{"$nulls":4},"R","S","T","RST"]
[null,"IECaf.01",{"$nulls":4},10,25,{"$nulls":29},{"$f":"(C33*D33)+(E33*F33)+(G33*H33)+(I33*J33)+(K33*L33)+(M33*N33)+(O33*P33)+(Q33*R33)+(S33*T33)+(U33*V33)+(W33*X33)+(Y33*Z33)+(AA33*AB33)+(AC33*AD33)+(AE33*AF33)+(AG33*AH33)+(AJ33*AK33)","v":250},{"$f":"AL33","v":250},{"$nulls":3},{"$f":"AL33/220","v":{"v":1.1363636363636365,"d":"1"}},"1x10"]
[null,"IECaf.02",{"$nulls":8},3,11,{"$nulls":25},{"$f":"(C34*D34)+(E34*F34)+(G34*H34)+(I34*J34)+(K34*L34)+(M34*N34)+(O34*P34)+(Q34*R34)+(S34*T34)+(U34*V34)+(W34*X34)+(Y34*Z34)+(AA34*AB34)+(AC34*AD34)+(AE34*AF34)+(AG34*AH34)+(AJ34*AK34)","v":33},null,{"$f":"AL34","v":33},null,null,{"v":0.15,"d":"0"},"1x10"]
[null,"IECaf.03",{"$nulls":4},3,25,{"$nulls":29},75,null,null,{"$f":"AL35","v":75},null,{"v":0.3409090909090909,"d":"0"},"1x10"]
[null,"IECaf.04",{"$nulls":4},6,25,{"$nulls":29},150,null,{"$f":"AL36","v":150},null,null,{"v":0.6818181818181818,"d":"1"},"1x10"]
[null,"IECaf.05",{"$nulls":4},7,25,{"$nulls":29},175,null,null,{"$f":"AL37","v":175},null,{"v":0.7954545454545454,"d":"1"},"1x10"]
[null,"TECaf.01",{"$nulls":28},3,250,{"$nulls":5},750,null,{"$f":"AL38","v":750},null,null,{"v":3.409090909090909,"d":"3"},"1x16"]
[null,"TECaf.02",{"$nulls":28},4,250,{"$nulls":5},1000,{"$f":"AL39","v":{"v":1000,"d":"1,000"}},{"$nulls":3},{"v":4.545454545454546,"d":"5"},"1x16"]
[null,"TECaf.03",{"$nulls":24},2,100,{"$nulls":9},200,null,null,{"$f":"AL40","v":200},null,{"v":0.9090909090909091,"d":"1"},"1x16"]
[null,"Rsva.",{"$nulls":33},1,2000,2000,null,null,{"$f":"AL41","v":{"v":2000,"d":"2,000"}},null,{"v":9.090909090909092,"d":"9"},"1x16"]
[null,"Rsva.",{"$nulls":33},1,2000,2000,null,{"$f":"AL42","v":{"v":2000,"d":"2,000"}},null,null,{"v":9.090909090909092,"d":"9"},"1x16"]
[null,"Rsva.",{"$nulls":33},1,2000,2000,{"$f":"AL43","v":{"v":2000,"d":"2,000"}},{"$nulls":3},{"v":9.090909090909092,"d":"9"},"1x16"]
["TOTAL GENERAL",{"$nulls":35},"Σ ",{"$f":"SUM(AL33:AL43)","v":8633},{"$f":"SUM(AM33:AM43)","v":3250},2933,2450,0,{"$f":"AK51","v":{"v":16.39560813787513,"d":"16"}},{"$f":"AK52","v":"3x25"}]
[]
[]
[{"$nulls":34},"Potencia instalada - Σpotencia ","PI",{"$f":"AL44","v":{"v":8633,"d":"8,633"}}]
[{"$nulls":34},"factor de potencia - ","fp",0.8]
[{"$nulls":34},"factor de demanda - Anexo 3 ANDE","fd",1]
[{"$nulls":34},"Potencia Demandada - Pd = PI*fd","Pd",{"$f":"AK47*AK49","v":{"v":8633,"d":"8,633"}}]
[{"$nulls":34},"Corriente - Id = Pd/(√3*380*fp)","Id",{"$f":"AK50/(SQRT(3)*380*AK48)","v":{"v":16.39560813787513,"d":"16"}}]
[{"$nulls":34},"LLave Limitadora","TM","3x25"]
[{"$nulls":34},"Alimentador","S","4x6"]
[{"$nulls":34},"Seccion de Conductor de Proteccion","S_p",{"$f":"_xlfn.CONCAT(\"1x\",IF(VALUE(RIGHT(AK53, LEN(AK53) - FIND(\"x\", AK53))) <= 16, VALUE(RIGHT(AK53, LEN(AK53) - FIND(\"x\", AK53))), IF(AND(VALUE(RIGHT(AK53, LEN(AK53) - FIND(\"x\", AK53))) > 16, VALUE(RIGHT(AK53, LEN(AK53) - FIND(\"x\", AK53))) <= 35), 16, VALUE(RIGHT(AK53, LEN(AK53) - FIND(\"x\", AK53)))/2)))","v":"1x6"}]
[{"$nulls":34},"Corriente admisible Conductor - Iz","Iz",52]
[{"$nulls":34},"Longitud (m)","L",12]

{"sheet":"TSE-ASC3","index":18,"n_rows":19,"n_cols":12,"rows_kept":19,"merged":[[0,0,0,11],[1,0,2,0],[1,1,2,1],[1,2,2,2],[1,3,2,3],[1,4,2,4],[1,5,2,5],[1,6,1,9],[1,10,2,10],[1,11,2,11],[6,0,6,2]]}
["CUADRO DE CARGAS ELÉCTRICAS TABLERO-TSE-ASC 3"]
[null,"CTO.","DESCRIPCIÓN","CANT.","POTENCIA (W)","POTENCIA TOTAL (W)","FASES",{"$nulls":3},"CORRIENTE (A)","TM (A)"]
[{"$nulls":6},"R","S","T","RST"]
[null,"#Asc.03","motor de Ascensor 03",1,4500,{"$f":"+(D4*E4)","v":4500},{"$f":"F4/3","v":{"v":1500,"d":"1,500"}},{"$f":"F4/3","v":{"v":1500,"d":"1,500"}},{"$f":"F4/3","v":{"v":1500,"d":"1,500"}},{"$f":"F4","v":{"v":4500,"d":"4,500"}},{"$f":"F4/660","v":{"v":6.818181818181818,"d":"7"}},"3x25"]
[null,"IEAsc.01","Lum. 16 - 11 W",2,11,{"$f":"+(D5*E5)","v":22},{"$f":"F5","v":22},{"$nulls":3},{"$f":"F5/220","v":{"v":0.1,"d":"0"}},"1x10"]
[null,"TEAsc.01","Tomacorrientes",2,300,600,null,{"$f":"F6","v":600},null,null,{"$f":"F6/220","v":{"v":2.727272727272727,"d":"3"}},"1x16"]
["TOTAL GENERAL",{"$nulls":3},"Σ ",{"$f":"SUM(F4:F6)","v":5122},{"$f":"SUM(G4:G6)","v":1522},{"$f":"SUM(H4:H6)","v":2100},{"$f":"SUM(I4:I6)","v":1500},{"$f":"SUM(J4:J6)","v":4500},{"$f":"E14","v":{"v":9.727592364438365,"d":"10"}},{"$f":"E15","v":"3x32"}]
[]
[]
[null,null,"Potencia instalada - Σpotencia ","PI",{"$f":"F7","v":{"v":5122,"d":"5,122"}}]
[null,null,"factor de potencia - ","fp",0.8]
[null,null,"factor de demanda - Anexo 3 ANDE","fd",1]
[null,null,"Potencia Demandada - Pd = PI*fd","Pd",{"$f":"E10*E12","v":{"v":5122,"d":"5,122"}}]
[null,null,"Corriente - Id = Pd/(√3*380*fp)","Id",{"$f":"E13/(SQRT(3)*380*E11)","v":{"v":9.727592364438365,"d":"10"}}]
[null,null,"LLave Limitadora","TM","3x32"]
[null,null,"Alimentador","S","4x6"]
[null,null,"Seccion de Conductor de Proteccion","S_p",{"$f":"_xlfn.CONCAT(\"1x\",IF(VALUE(RIGHT(E16, LEN(E16) - FIND(\"x\", E16))) <= 16, VALUE(RIGHT(E16, LEN(E16) - FIND(\"x\", E16))), IF(AND(VALUE(RIGHT(E16, LEN(E16) - FIND(\"x\", E16))) > 16, VALUE(RIGHT(E16, LEN(E16) - FIND(\"x\", E16))) <= 35), 16, VALUE(RIGHT(E16, LEN(E16) - FIND(\"x\", E16)))/2)))","v":"1x6"}]
[null,null,"Corriente admisible Conductor - Iz","Iz",52]
[null,null,"Longitud (m)","L",5]

{"sheet":"TSE-IE","index":19,"n_rows":31,"n_cols":24,"rows_kept":31,"merged":[[0,0,0,23],[1,0,2,0],[1,1,2,1],[1,2,1,3],[1,4,1,5],[1,6,1,7],[1,8,1,9],[1,10,1,11],[1,12,1,13],[1,14,2,14],[1,15,2,15],[1,16,2,16],[1,17,2,17],[1,18,1,21],[1,22,2,22],[1,23,2,23],[18,0,18,14]]}
["CUADRO DE CARGAS ELÉCTRICAS TABLERO-TSE-IE"]
[null,"CTO.","TIPO 2 - LED 39 W",null,"TIPO 9 - Proyector LED 50W",null,"TIPO 14 - Farola LED 42 W",null,"TIPO 15 - Aplique LED Bi. 12 W",null,"TIPO 16 - Banador 39W",null,"TIPO 17 - Farola LED de Resina 35W",null,"DESCRIPCIÓN","CANT.","POTENCIA (W)","POTENCIA TOTAL (W)","FASES",{"$nulls":3},"CORRIENTE (A)","TM (A)"]
[null,null,"CANT.","POTENCIA UNIT. (W)","CANT.","POTENCIA UNIT. (W)","CANT.","POTENCIA UNIT. (W)","CANT.","POTENCIA UNIT. (W)","CANT.","POTENCIA UNIT. (W)","CANT.","POTENCIA UNIT. (W)",{"$nulls":4},"R","S","T","RST"]
[null,"IeEPB.01",{"$nulls":4},12,42,{"$nulls":9},{"$f":"(C4*D4)+(E4*F4)+(G4*H4)+(I4*J4)+(K4*L4)+(M4*N4)+(P4*Q4)","v":504},{"$f":"R4","v":504},{"$nulls":3},{"$f":"R4/220","v":{"v":2.290909090909091,"d":"2"}},"1x10"]
[null,"IeEPB.02",{"$nulls":10},10,35,{"$nulls":3},{"$f":"(C5*D5)+(E5*F5)+(G5*H5)+(I5*J5)+(K5*L5)+(M5*N5)+(P5*Q5)","v":350},null,{"$f":"R5","v":350},null,null,{"v":1.5909090909090908,"d":"2"},"1x10"]
[null,"IeEPB.03",{"$nulls":10},7,35,{"$nulls":3},245,null,null,{"$f":"R6","v":245},null,{"v":1.1136363636363635,"d":"1"},"1x10"]
[null,"IeEPB.04",{"$nulls":6},6,12,{"$nulls":7},72,null,null,{"$f":"R7","v":72},null,{"v":0.32727272727272727,"d":"0"},"1x10"]
[null,"IeEPB.05",{"$nulls":4},14,42,{"$nulls":9},588,null,null,{"$f":"R8","v":588},null,{"v":2.672727272727273,"d":"3"},"1x10"]
[null,"IeEPB.06",34,39,{"$nulls":13},1326,null,{"$f":"R9","v":{"v":1326,"d":"1,326"}},null,null,{"v":6.027272727272727,"d":"6"},"1x10"]
[null,"IeEPB.07",null,null,4,50,{"$nulls":11},200,{"$f":"R10","v":200},{"$nulls":3},{"v":0.9090909090909091,"d":"1"},"1x10"]
[null,"IeEPB.08",{"$nulls":4},12,42,{"$nulls":9},504,{"$f":"R11","v":504},{"$nulls":3},{"v":2.290909090909091,"d":"2"},"1x10"]
[null,"IeEPB.09",{"$nulls":4},14,42,{"$nulls":9},588,null,null,{"$f":"R12","v":588},null,{"v":2.672727272727273,"d":"3"},"1x10"]
[null,"IeEPB.10",{"$nulls":6},6,12,{"$nulls":7},72,{"$f":"R13","v":72},{"$nulls":3},{"v":0.32727272727272727,"d":"0"},"1x10"]
[null,"IeEPB.11",{"$nulls":10},15,35,{"$nulls":3},525,{"$f":"R14","v":525},{"$nulls":3},{"v":2.3863636363636362,"d":"2"},"1x10"]
[null,"IeEPB.12",{"$nulls":8},8,39,{"$nulls":5},312,null,null,{"$f":"R15","v":312},null,{"v":1.4181818181818182,"d":"1"},"1x10"]
[null,"IeEPB.13",{"$nulls":8},4,39,{"$nulls":5},156,null,{"$f":"R16","v":156},null,null,{"v":0.7090909090909091,"d":"1"},"1x10"]
[null,"IeEPB.14",{"$nulls":8},8,39,{"$nulls":5},312,{"$f":"R17","v":312},{"$nulls":3},{"v":1.4181818181818182,"d":"1"},"1x10"]
[null,"IeEPB.15",{"$nulls":8},4,39,{"$nulls":5},156,null,null,{"$f":"R18","v":156},null,{"v":0.7090909090909091,"d":"1"},"1x10"]
["TOTAL GENERAL",{"$nulls":15},"Σ ",{"$f":"SUM(R4:R18)","v":5910},{"$f":"SUM(S4:S18)","v":2117},{"$f":"SUM(T4:T18)","v":1832},{"$f":"SUM(U4:U18)","v":1961},{"$f":"SUM(V4:V18)","v":0},{"$f":"Q26","v":{"v":11.224145035890423,"d":"11"}},{"$f":"Q27","v":"3x32"}]
[]
[]
[{"$nulls":14},"Potencia instalada - Σpotencia ","PI",{"$f":"R19","v":{"v":5910,"d":"5,910"}}]
[{"$nulls":14},"factor de potencia - ","fp",0.8]
[{"$nulls":14},"factor de demanda - Anexo 3 ANDE","fd",1]
[{"$nulls":14},"Potencia Demandada - Pd = PI*fd","Pd",{"$f":"Q22*Q24","v":{"v":5910,"d":"5,910"}}]
[{"$nulls":14},"Corriente - Id = Pd/(√3*380*fp)","Id",{"$f":"Q25/(SQRT(3)*380*Q23)","v":{"v":11.224145035890423,"d":"11"}}]
[{"$nulls":14},"LLave Limitadora","TM","3x32"]
[{"$nulls":14},"Alimentador","S","4x6"]
[{"$nulls":14},"Seccion de Conductor de Proteccion","S_p",{"$f":"_xlfn.CONCAT(\"1x\",IF(VALUE(RIGHT(Q28, LEN(Q28) - FIND(\"x\", Q28))) <= 16, VALUE(RIGHT(Q28, LEN(Q28) - FIND(\"x\", Q28))), IF(AND(VALUE(RIGHT(Q28, LEN(Q28) - FIND(\"x\", Q28))) > 16, VALUE(RIGHT(Q28, LEN(Q28) - FIND(\"x\", Q28))) <= 35), 16, VALUE(RIGHT(Q28, LEN(Q28) - FIND(\"x\", Q28)))/2)))","v":"1x6"}]
[{"$nulls":14},"Corriente admisible Conductor - Iz","Iz",38]
[{"$nulls":14},"Longitud (m)","L",5]

{"sheet":"ALIM.TE-PCI","index":20,"n_rows":20,"n_cols":12,"rows_kept":20,"merged":[[0,0,0,11],[1,0,2,0],[1,1,2,1],[1,2,2,2],[1,3,2,3],[1,4,2,4],[1,5,2,5],[1,6,1,9],[1,10,2,10],[1,11,2,11],[7,0,7,2]]}
["CUADRO DE CARGAS ELÉCTRICAS TABLERO-TE-PCI"]
[null,"CTO.","DESCRIPCIÓN","CANT.","POTENCIA (W)","POTENCIA TOTAL (W)","FASES",{"$nulls":3},"CORRIENTE (A)","TM (A)"]
[{"$nulls":6},"R","S","T","RST"]
[null,"PCI.01","Bomba de Impusion - PCI",1,22380,{"$f":"+(D4*E4)","v":22380},{"$f":"J4/3","v":{"v":7460,"d":"7,460"}},{"$f":"J4/3","v":{"v":7460,"d":"7,460"}},{"$f":"J4/3","v":{"v":7460,"d":"7,460"}},{"$f":"F4","v":{"v":22380,"d":"22,380"}},{"$f":"J4/660","v":{"v":33.90909090909091,"d":"34"}},"3x50"]
[null,"PCI.02","Bomba de Impusion - PCI",1,22380,{"$f":"+(D5*E5)","v":22380},{"$f":"J5/3","v":{"v":7460,"d":"7,460"}},{"$f":"J5/3","v":{"v":7460,"d":"7,460"}},{"$f":"J5/3","v":{"v":7460,"d":"7,460"}},{"$f":"F5","v":{"v":22380,"d":"22,380"}},{"$f":"J5/660","v":{"v":33.90909090909091,"d":"34"}},"3x50"]
[null,"PCI.03","Bomba de Presurizacion - PCI",1,2238,2238,{"$f":"F6","v":{"v":2238,"d":"2,238"}},{"$nulls":3},{"$f":"F6/220","v":{"v":10.172727272727272,"d":"10"}},"1x16"]
[null,"TSE-PresAZ","Tablero Seccional TSE-PresAz",1,{"$f":"'ALIM.TSE-PRESAZ'!F6","v":2984},2984,{"$f":"'ALIM.TSE-PRESAZ'!G6","v":{"v":2984,"d":"2,984"}},{"$f":"'ALIM.TSE-PRESAZ'!H6","v":0},{"$f":"'ALIM.TSE-PRESAZ'!I6","v":0},{"$f":"'ALIM.TSE-PRESAZ'!J6","v":0},{"$f":"'ALIM.TSE-PRESAZ'!K6","v":{"v":5.667148694940274,"d":"6"}},{"$f":"'ALIM.TSE-PRESAZ'!L6","v":"1x25"}]
["TOTAL GENERAL",{"$nulls":3},"Σ ",{"$f":"SUM(F4:F7)","v":49982},{"$f":"SUM(G4:G7)","v":20142},14920,14920,44760,{"$f":"E15","v":{"v":94.9247406402496,"d":"95"}},{"$f":"E16","v":"3x150"}]
[]
[]
[null,null,"Potencia instalada - Σpotencia ","PI",{"$f":"F8","v":{"v":49982,"d":"49,982"}}]
[null,null,"factor de potencia - ","fp",0.8]
[null,null,"factor de demanda - Anexo 3 ANDE","fd",1]
[null,null,"Potencia Demandada - Pd = PI*fd","Pd",{"$f":"E11*E13","v":{"v":49982,"d":"49,982"}}]
[null,null,"Corriente - Id = Pd/(√3*380*fp)","Id",{"$f":"E14/(SQRT(3)*380*E12)","v":{"v":94.9247406402496,"d":"95"}}]
[null,null,"LLave Limitadora","TM","3x150"]
[null,null,"Alimentador","S","4x50"]
[null,null,"Seccion de Conductor de Proteccion","S_p","1x50"]
[null,null,"Corriente admisible Conductor - Iz","Iz",175]
[null,null,"Longitud (m)","L",30]

{"sheet":"ALIM.TSE-PRESAZ","index":21,"n_rows":18,"n_cols":12,"rows_kept":18,"merged":[[0,0,0,11],[1,0,2,0],[1,1,2,1],[1,2,2,2],[1,3,2,3],[1,4,2,4],[1,5,2,5],[1,6,1,9],[1,10,2,10],[1,11,2,11],[5,0,5,2]]}
["CUADRO DE CARGAS ELÉCTRICAS TABLERO-TSE-PRESAZ"]
[null,"CTO.","DESCRIPCIÓN","CANT.","POTENCIA (W)","POTENCIA TOTAL (W)","FASES",{"$nulls":3},"CORRIENTE (A)","TM (A)"]
[{"$nulls":6},"R","S","T","RST"]
[null,"BAZ.01","Bomba Presurizadora Azotea",1,{"$f":"2*746","v":1492},{"$f":"+(D4*E4)","v":1492},{"$f":"F4","v":{"v":1492,"d":"1,492"}},{"$nulls":3},{"$f":"F4/220","v":{"v":6.781818181818182,"d":"7"}},"1x25"]
[null,"BAZ.02","Bomba Presurizadora Azotea",1,{"$f":"2*746","v":1492},{"$f":"+(D5*E5)","v":1492},{"$f":"F5","v":{"v":1492,"d":"1,492"}},{"$nulls":3},{"$f":"F5/220","v":{"v":6.781818181818182,"d":"7"}},"1x25"]
["TOTAL GENERAL",{"$nulls":3},"Σ ",{"$f":"SUM(F4:F5)","v":2984},{"$f":"SUM(G4:G5)","v":2984},{"$f":"SUM(H4:H5)","v":0},{"$f":"SUM(I4:I5)","v":0},{"$f":"SUM(J4:J5)","v":0},{"$f":"E13","v":{"v":5.667148694940274,"d":"6"}},{"$f":"E14","v":"1x25"}]
[]
[]
[null,null,"Potencia instalada - Σpotencia ","PI",{"$f":"F6","v":{"v":2984,"d":"2,984"}}]
[null,null,"factor de potencia - ","fp",0.8]
[null,null,"factor de demanda - Anexo 3 ANDE","fd",1]
[null,null,"Potencia Demandada - Pd = PI*fd","Pd",{"$f":"E9*E11","v":{"v":2984,"d":"2,984"}}]
[null,null,"Corriente - Id = Pd/(√3*380*fp)","Id",{"$f":"E12/(SQRT(3)*380*E10)","v":{"v":5.667148694940274,"d":"6"}}]
[null,null,"LLave Limitadora","TM","1x25"]
[null,null,"Alimentador","S","2x4"]
[null,null,"Seccion de Conductor de Proteccion","S_p",{"$f":"_xlfn.CONCAT(\"1x\",IF(VALUE(RIGHT(E15, LEN(E15) - FIND(\"x\", E15))) <= 16, VALUE(RIGHT(E15, LEN(E15) - FIND(\"x\", E15))), IF(AND(VALUE(RIGHT(E15, LEN(E15) - FIND(\"x\", E15))) > 16, VALUE(RIGHT(E15, LEN(E15) - FIND(\"x\", E15))) <= 35), 16, VALUE(RIGHT(E15, LEN(E15) - FIND(\"x\", E15)))/2)))","v":"1x4"}]
[null,null,"Corriente admisible Conductor - Iz","Iz",28]
[null,null,"Longitud (m)","L",5]